{"text_format":"1","workbook":"xlsx","n_sheets":34,"sheets":["INFO","Skillserleuterungen_FTEM","Spieler Blatt","Selektionsblatt","1","2","3","4","5","6","7","8","9","10","11","12","13","14","15","16","17","18","19","20","21","22","23","24","25","26","27","28","29","30"],"not_rendered":{"charts":0,"images":1,"macros":1,"external_links":0,"defined_names":38,"comments":33,"pivot_tables":0},"unopened":[],"bounds":{"document_bytes":16777216,"sheet_cells":100000,"rows_first":2000,"rows_last":500,"rows_between":2000,"halvings":0,"cell_chars":16384,"cell_head_chars":4096},"cells_cut":0,"cells_raw":0,"read":"whole","date_system":"1900"}

{"sheet":"INFO","index":0,"n_rows":77,"n_cols":13,"rows_kept":77,"cut":false,"hidden":false,"merged":[[62,1,62,2],[62,3,62,11],[63,1,63,2],[63,3,63,11],[64,1,64,2],[64,3,64,11],[45,1,45,2],[45,3,45,11],[46,1,46,2],[46,3,46,11],[47,1,47,2],[47,3,47,11],[0,0,0,13],[1,7,1,13],[30,1,30,2],[30,3,30,11],[12,1,12,2],[12,3,12,11],[13,1,13,2],[13,3,13,11],[28,1,28,2],[28,3,28,11],[11,1,11,2],[11,3,11,11],[29,1,29,2],[29,3,29,11],[9,0,9,13],[8,0,8,13],[6,5,6,6],[7,5,7,6],[2,7,2,13],[3,7,3,13],[4,7,4,13],[5,7,5,13],[6,7,6,13],[7,7,7,13],[6,0,6,1],[7,0,7,1],[6,3,6,4],[7,3,7,4],[1,3,1,4],[1,0,1,1],[2,0,2,1],[3,0,3,1],[4,0,4,1],[5,0,5,1],[2,3,2,4],[3,3,3,4],[4,3,4,4],[5,3,5,4],[1,5,1,6],[2,5,2,6],[3,5,3,6],[4,5,4,6],[5,5,5,6]]}
["U12-U15: Nur GANZE NOTEN, ab U16: HALBE NOTEN SIND MÖGLICH"]
[null,null,null,null,null,null,null,"Vergleich zu Erwartungen Altersklasse gemäss Talentförderung:\nTOP LEVEL = die Beste/das Beste auf dieser  Altersstufe"]
["Rating",null,"Symbole","Prädikat",null,"Vergleich\n100% Altersstufe",null,"Erwartung=Ausgangslage der altersmässigen Entwicklung als Talent mit Potential / Aussicht auf einen Spitzenspieler à Profispieler (NLA/Nati)"]
[1,null,"--","ungenügend",null,"<30 %",null,"Entspricht der Talententwicklung kaum bis nicht"]
[2,null,"-","mangelhaft",null,"30-50 %",null,"Entspricht der Talententwicklung knapp, weist in einzelnen Komponenten Mängel auf, welche das Gesamtbild negativ beeinflussen"]
[3,null,0,"genügend",null,"50-70 %",null,"Entspricht dem Durchschnitt der Erwartungen, grundsätzlich erfüllt ohne besondere Fähigkeiten / Fertigkeiten"]
[4,null,"+","gut",null,"70-85 %",null,"Übertrifft die Erwartungen und zeigt in einzelnen Komponenten auffallende Fähigkeiten / Fertigkeiten"]
[5,null,"++","ausgezeichnet",null,"85-100 %",null,"Übertrifft die Erwartungen mit ausgezeichneten Komponenten – gehört zu den Spitzenkönnern in Bezug auf die Erwartungen"]
["Die Scouts/Trainer sollen den Mut zeigen ALLE Werte zu verwenden!"]
["Gewichtungen nach Rolle / Alter / Geschlecht"]
[]
[null,"Disziplin",null,"Eishockey"]
[null,"Kat.",null,"Spieler"]
[null,"Kader",null,"Kader U12-20"]
[]
[null,null,"SKILL","SKATING","hockey SENSE","PERSON","POWER","TEAM","ALTER","PHYSE","UMFELD","VERANLAGUNG"]
[null,"Alter","Gewichtung","Gewichtung","Gewichtung","Gewichtung","Gewichtung","Gewichtung","Gewichtung","Gewichtung","Gewichtung","Gewichtung","Total"]
[null,12,15,16,20,17,10,0,12,0,5,5,{"$f":"SUM(C18:L18)","v":100}]
[null,13,15,16,20,17,10,0,12,0,5,5,100]
[null,14,12,12,20,17,10,5,10,4,5,5,100]
[null,15,12,12,20,17,10,5,10,4,5,5,100]
[null,16,10,10,20,15,10,8,4,8,5,10,100]
[null,17,10,10,20,15,10,8,4,8,5,10,100]
[null,18,10,10,20,15,10,10,0,15,0,10,100]
[null,19,10,10,20,15,10,10,0,15,0,10,100]
[null,20,10,10,20,15,10,10,0,15,0,10,100]
[]
[]
[null,"Disziplin",null,"Eishockey"]
[null,"Kat.",null,"Torhüter"]
[null,"Kader",null,"Kader U12-20"]
[]
[null,null,"SKILL","SKATING","hockey SENSE","PERSON","POWER","TEAM","ALTER","PHYSE","UMFELD","VERANLAGUNG"]
[null,"Alter","Gewichtung","Gewichtung","Gewichtung","Gewichtung","Gewichtung","Gewichtung","Gewichtung","Gewichtung","Gewichtung","Gewichtung","Total"]
[null,12,15,18,13,15,10,3,9,5,5,7,{"$f":"SUM(C35:L35)","v":100}]
[null,13,15,18,13,15,10,3,9,5,5,7,100]
[null,14,15,18,13,15,10,3,9,5,5,7,100]
[null,15,15,18,13,15,10,3,9,5,5,7,100]
[null,16,17,15,14,15,12,5,3,8,6,5,100]
[null,17,17,15,14,15,12,5,3,8,6,5,100]
[null,18,14,14,14,16,10,8,0,12,7,5,100]
[null,19,14,14,14,16,10,8,0,12,7,5,100]
[null,20,14,14,14,16,10,8,0,12,7,5,100]
[]
[]
[null,"Disziplin",null,"Frauen Eishockey"]
[null,"Kat.",null,"Spieler"]
[null,"Kader",null,"Spieler: Kader U12-20"]
[]
[null,null,"SKILL","SKATING","hockey SENSE","PERSON","POWER","TEAM","ALTER","PHYSE","UMFELD","VERANLAGUNG"]
[null,"Alter","Gewichtung","Gewichtung","Gewichtung","Gewichtung","Gewichtung","Gewichtung","Gewichtung","Gewichtung","Gewichtung","Gewichtung","Total"]
[null,12,15,16,20,17,10,null,12,null,5,5,{"$f":"SUM(C52:L52)","v":100}]
[null,13,15,16,20,17,10,null,12,null,5,5,100]
[null,14,12,12,20,17,10,5,10,4,5,5,100]
[null,15,12,12,20,17,10,5,10,4,5,5,100]
[null,16,10,10,20,15,10,8,4,8,5,10,100]
[null,17,10,10,20,15,10,8,4,8,5,10,100]
[null,18,10,10,20,15,10,10,null,15,null,10,100]
[null,19,10,10,20,15,10,10,null,15,null,10,100]
[null,20,10,10,20,15,10,10,null,15,null,10,100]
[]
[]
[null,"Disziplin",null,"Frauen Eishockey"]
[null,"Kat.",null,"Torhüter"]
[null,"Kader",null,"Kader U12-20"]
[]
[null,null,"SKILL","SKATING","hockey SENSE","PERSON","POWER","TEAM","ALTER","PHYSE","UMFELD","VERANLAGUNG"]
[null,"Alter","Gewichtung","Gewichtung","Gewichtung","Gewichtung","Gewichtung","Gewichtung","Gewichtung","Gewichtung","Gewichtung","Gewichtung","Total"]
[null,12,16,18,16,18,10,null,10,null,6,6,{"$f":"SUM(C69:L69)","v":100}]
[null,13,16,18,16,18,10,null,10,null,6,6,100]
[null,14,15,15,16,17,9,3,10,4,5,6,100]
[null,15,15,15,16,17,9,3,10,4,5,6,100]
[null,16,13,13,17,17,9,7,4,8,5,7,100]
[null,17,13,13,17,17,9,7,4,8,5,7,100]
[null,18,12,12,18,17,9,9,null,15,null,8,100]
[null,19,12,12,18,17,9,9,null,15,null,8,100]
[null,20,12,12,18,17,9,9,null,15,null,8,100]

{"sheet":"Skillserleuterungen_FTEM","index":1,"n_rows":43,"n_cols":20,"rows_kept":43,"cut":false,"hidden":false,"merged":[[12,3,12,5],[12,6,12,11],[25,3,25,5],[25,6,25,11],[12,16,12,18],[12,19,12,24],[25,16,25,18],[25,19,25,24],[39,0,42,2],[39,3,39,5],[39,6,39,11],[39,13,42,15],[39,16,39,18],[39,19,39,24],[40,3,40,5],[40,6,40,11],[40,16,40,18],[40,19,40,24],[41,3,41,5],[41,6,41,11],[41,16,41,18],[41,19,41,24],[42,3,42,5],[42,6,42,11],[42,16,42,18],[42,19,42,24],[35,0,38,2],[35,3,35,5],[35,6,35,11],[35,13,38,15],[35,16,35,18],[35,19,35,24],[36,3,36,5],[36,6,36,11],[36,16,36,18],[36,19,36,24],[37,3,37,5],[37,6,37,11],[37,16,37,18],[37,19,37,24],[38,3,38,5],[38,6,38,11],[38,16,38,18],[38,19,38,24],[31,0,34,2],[31,3,31,5],[31,6,31,11],[31,13,34,15],[31,16,31,18],[31,19,31,24],[32,3,32,5],[32,6,32,11],[32,16,32,18],[32,19,32,24],[33,3,33,5],[33,6,33,11],[33,16,33,18],[33,19,33,24],[34,3,34,5],[34,6,34,11],[34,16,34,18],[34,19,34,24],[27,0,30,2],[27,3,27,5],[27,6,27,11],[27,13,30,15],[27,16,27,18],[27,19,27,24],[28,3,28,5],[28,6,28,11],[28,16,28,18],[28,19,28,24],[29,3,29,5],[29,6,29,11],[29,16,29,18],[29,19,29,24],[30,3,30,5],[30,6,30,11],[30,16,30,18],[30,19,30,24],[5,0,5,2],[5,3,5,5],[5,6,5,11],[2,6,2,11],[6,0,9,2],[6,3,6,5],[6,6,6,11],[7,3,7,5],[7,6,7,11],[8,3,8,5],[8,6,8,11],[9,3,9,5],[9,6,9,11],[10,0,13,2],[10,3,10,5],[10,6,10,11],[11,3,11,5],[11,6,11,11],[13,3,13,5],[13,6,13,11],[20,3,20,5],[20,6,20,11],[18,0,18,2],[18,3,18,5],[18,6,18,11],[19,0,22,2],[19,3,19,5],[19,6,19,11],[21,3,21,5],[21,6,21,11],[14,0,17,2],[14,3,14,5],[14,6,14,11],[15,3,15,5],[15,6,15,11],[16,3,16,5],[16,6,16,11],[17,3,17,5],[17,6,17,11],[22,3,22,5],[22,6,22,11],[23,0,26,2],[23,3,23,5],[23,6,23,11],[24,3,24,5],[24,6,24,11],[26,3,26,5],[26,6,26,11],[0,0,0,11],[0,13,0,24],[2,13,2,15],[2,16,2,18],[3,13,4,15],[3,16,3,18],[3,19,3,24],[4,16,4,18],[4,19,4,24],[2,0,2,2],[2,3,2,5],[3,0,4,2],[3,3,3,5],[3,6,3,11],[4,3,4,5],[4,6,4,11],[2,19,2,24],[5,13,5,15],[5,16,5,18],[5,19,5,24],[6,13,9,15],[6,16,6,18],[6,19,6,24],[7,16,7,18],[7,19,7,24],[8,16,8,18],[8,19,8,24],[9,16,9,18],[9,19,9,24],[11,19,11,24],[13,16,13,18],[13,19,13,24],[14,13,17,15],[14,16,14,18],[14,19,14,24],[15,16,15,18],[15,19,15,24],[16,16,16,18],[16,19,16,24],[17,16,17,18],[17,19,17,24],[10,13,13,15],[10,16,10,18],[10,19,10,24],[11,16,11,18],[23,13,26,15],[23,16,23,18],[23,19,23,24],[24,16,24,18],[24,19,24,24],[26,16,26,18],[26,19,26,24],[18,13,18,15],[18,16,18,18],[18,19,18,24],[19,13,22,15],[19,16,19,18],[19,19,19,24],[20,16,20,18],[20,19,20,24],[21,16,21,18],[21,19,21,24],[22,16,22,18],[22,19,22,24]]}
["PLAYER",null,null,null,null,null,null,null,null,null,null,null,null,"Goalie"]
[]
["TEAM",null,null,"FÄHIGKEIT",null,null,"BEOBACHTUNG",null,null,null,null,null,null,"TEAM",null,null,"FÄHIGKEIT",null,null,"BEOBACHTUNG"]
["ROLLE, SOZIAL",null,null,"TEAMDENKEN",null,null,"Identifikation zur Rolle, Umgang mit Kameraden (sozial integriert)",null,null,null,null,null,null,"ROLLE, SOZIAL",null,null,"TEAMDENKEN",null,null,"Indetifikation zur Rolle, Umgang mit Kameraden (sozial integriert)"]
[null,null,null,"LEADERSHIP",null,null,"Übernimmt Verantwortung, macht Mitspieler besser",null,null,null,null,null,null,null,null,null,"LEADERSHIP",null,null,"Übernimmt Verantwortung, macht Mitspieler besser"]
["ON ICE",null,null,"FÄHIGKEIT",null,null,"BEOBACHTUNG",null,null,null,null,null,null,"ON ICE",null,null,"FÄHIGKEIT",null,null,"BEOBACHTUNG"]
["SKILL",null,null,"SCHIESSEN",null,null,"Effizienz / Variantenreichtum, Überraschungsgrad (Quick Release), Präzision, Härte, (taktische Abschlüsse)\nschnell, hart, unter Druck",null,null,null,null,null,null,"SKILL",null,null,"GRUNDPOSITION",null,null,"Position Füsse/Knie/Schulter, Gewicht leicht vorne auf den Füssen ,Hände vor dem Körper, kompakt"]
[null,null,null,"PASSEN",null,null,"Passabgabe (Distanz, Flippass Backhand), Passannahme (Präzision, Timing, Vorhand, Rückhand, Schlittschuh,Puckspeed",null,null,null,null,null,null,null,null,null,"GRUNDABWEHR STEHEND",null,null,"Hat die Fähigkeit aktiv mit den Händen und dem Stock zu arbeiten"]
[null,null,null,"KÖRPERSPIEL",null,null,"Phyisches Durchsetzungsvermögen, Zweikampf (offenes Eis/Bande), Checks nehmen/Head up, Battle Level, Hart aber fair, mit dem Körper Schüsse blockieren",null,null,null,null,null,null,null,null,null,"GRUNDABWEHR BUTTERFLY",null,null,"Kompakte Position, Gewicht vorne auf den Knien, \nkann gut mit Händen, Schoner und Stock arbeiten"]
[null,null,null,"SCHEIBENKONTROLLE",null,null,"Puckmanagmenet auf engem Raum, Puck Protection,  schwer kontrollierbare Scheiben ",null,null,null,null,null,null,null,null,null,"REBOUNDMANAGEMENT",null,null,"Hat jederzeit Kontrolle über die Schüsse, vermag Pucks zu steuern (mit Stock oder Schoner), reagiert schnell auf zweite Scheiben"]
["SKATING",null,null,"FOOTSPEED",null,null,"Beschleunigung, Antritt, erste 3 Schritte Explosivität, Frequenz",null,null,null,null,null,null,"SKATING",null,null,"VORWÄRTS, RÜCKWÄRTS, SEITWÄRTS",null,null,"Bleibt lange auf den Füssen und ist fähig, sich immer wieder richtig in max. Tempo zum Puck zu positionieren "]
[null,null,null,"AGILITÄT",null,null,"Richtungsänderung, Drehung, Stop und Start, «Nummelin»",null,null,null,null,null,null,null,null,null,"BUTTERFLY-SLIDE\nPOWERSLIDE AUS BUTTERFLY",null,null,"Schnelle, kompakte Slides im richtigen Winkel (90 Grad zum Puck) ist fähig sich richtig zu positionieren, sowie den nötigen Druck auf den Puck auszuüben"]
[null,null,null,"BACKWARDS SKATING",null,null,"Beschleunigung, Geschwindigkeit, Balance",null,null,null,null,null,null,null,null,null,"PRÄZISION / TIMING",null,null,"Bewegt sich immer auf der Pucklinie (imaginäre Linie zwischen Puck und Tormitte), "]
[null,null,null,"TOPSPEED",null,null,"Schnelligkeit, Gleitfähigkeit, vorwärts und rückwärts, Ökonomie",null,null,null,null,null,null,null,null,null,"SPEED",null,null,"Kann sich kontrolliert und schnell auf den Skates bewegen"]
["HOCKEY SENSE",null,null,"SCORING",null,null,"Effizienz, variantentreich, überraschend, schnell, hart - Schussvarianten",null,null,null,null,null,null,"HOCKEY SENSE",null,null,"WINKELSPIEL (BOX-CONTROL)",null,null,"Weiss, wann er Druck auf den Puck machen kann und versteht die Vorteile vom Winkelspiel"]
[null,null,null,"MIT SCHEIBE",null,null,"Kreativ, performing, batteling, frech, Transition",null,null,null,null,null,null,null,null,null,"SPIEL LESEN",null,null,"Erkennt die verschiedenen Abschluss-Situationen, weiss wo sich Gegenspieler befinden und welche Stockseite sie spielen"]
[null,null,null,"OHNE SCHEIBE",null,null,"Anspielbar (Support), 1:1, Gap",null,null,null,null,null,null,null,null,null,"GAMEPLAN UMSETZEN",null,null,"Umsetzen vom Gameplan (Einteilung der defensiven Zone in verschiedene Bereiche)"]
[null,null,null,"DEFENSIV",null,null,"Verlässlichkeit,  1:1, Gap, Zuordnung",null,null,null,null,null,null,null,null,null,"AKTIVES MITSPIELEN",null,null,"Aktiv im Stoppen der Pucks, vermag Pässe zum Mitspieler zu spielen und Pässe durch den Torraum zu unterbinden, sein taktisches Wissen hilft ihm, angemessen mit zu spielen"]
["PERSONALITY",null,null,"FÄHIGKEIT",null,null,"BEOBACHTUNG",null,null,null,null,null,null,"PERSONALITY",null,null,"FÄHIGKEIT",null,null,"BEOBACHTUNG"]
["PERSÖNLICHKEIT",null,null,"MOTIVATION",null,null,"Intrinsischer Antrieb, will sich ständig weiterentwickeln, will der Erste sein und Erfolg haben",null,null,null,null,null,null,"PERSÖNLICHKEIT\n",null,null,"MOTIVATION",null,null,"Intrinsischer Antrieb, will sich ständig weiterentwickeln, will der Erste sein und Erfolg haben"]
[null,null,null,"SELBSBEWUSSTSEIN",null,null,"Hat das nötige Selbstvertrauen \"I can do it\" haltung, kann eigenen Fähigkeiten einschätzen und agiert mutig",null,null,null,null,null,null,null,null,null,"SELBSBEWUSSTSEIN",null,null,"Hat das nötige Selbstvertrauen \"I can do it\" haltung, kann eigenen Fähigkeiten einschätzen und agiert mutig"]
[null,null,null,"LERNFÄHIGKEIT",null,null,"Gute Auffassungsgabe (nimmt auf und kann umsetzen), reflektiert eigenes Handeln, versucht aus Fehlern zu lernen und kann Massnahmen ableiten und sich selber coachen",null,null,null,null,null,null,null,null,null,"LERNFÄHIGKEIT",null,null,"Gute Auffassungsgabe (nimmt auf und kann umsetzen), reflektiert eigenes Handeln, versucht aus Fehlern zu lernen und kann Massnahmen ableiten und sich selber coachen."]
[null,null,null,"PERFORMANCE LIFESTYLE",null,null,"Managt Alltag und Umfeld nach dem Leistungsprinzip, kann sich gegen Wiederstände durchsetzten",null,null,null,null,null,null,null,null,null,"PERFORMANCE LIFESTYLE",null,null,"Managt Alltag und Umfeld nach dem Leistungsprinzip, kann sich gegen Wiederstände durchsetzten"]
["Mental\nPOWER",null,null,"ENERGIEMANAGEMENT",null,null,"Kann eigene Energie regulieren, bereit zur Regeneration, weiss, wann er \"Vollgas\" geben muss und wann ab-schalten, On/Off-Schalter",null,null,null,null,null,null,"Mental\nPOWER",null,null,"ENERGIEMANAGEMENT",null,null,"Kann eigene Energie regulieren, bereit zur Regeneration, weiss, wann er \"Vollgas\" geben muss und wann ab-schalten, On/Off-Schalter"]
[null,null,null,"EINSATZBEREITSCHAFT",null,null,"Hohe intensität im Spiel und Training, gibt immer sein Maximum, will seine Limiten pushen",null,null,null,null,null,null,null,null,null,"EINSATZBEREITSCHAFT",null,null,"Hohe intensität im Spiel und Training, gibt immer sein Maximum, will seine Limiten pushen"]
[null,null,null,"EMOTIONSKONTROLLE",null,null,"Emotionen und Impulse regulieren, unter Druck die Kontrolle behalten, in emotional ansprucksvollen Situationen angemessen agieren können",null,null,null,null,null,null,null,null,null,"EMOTIONSKONTROLLE",null,null,"Emotionen und Impulse regulieren, unter Druck die Kontrolle behalten, in emotional ansprucksvollen Situationen angemessen agieren können"]
[null,null,null,"VORBEREITUNG",null,null,"Fokus, ILZ, Regeneration, Selbststiumlation, Ernährung",null,null,null,null,null,null,null,null,null,"VORBEREITUNG",null,null,"Fokus, ILZ, Regeneration, Selbststiumlation, Ernährung"]
["PYHSE (Athletik)",null,null,"LEISTUNGSERZEUGUNG (neuromuskuläre Faktoren /Leistungserzeugung)",null,null,"Verfügt über die nötige Power/ Kraft/ Schnelligkeit in den Beinen un im Oberkörper ",null,null,null,null,null,null,"PYHSE (Athletik)",null,null,"LEISTUNGSERZEUGUNG (neuromuskuläre Faktoren /Leistungserzeugung)",null,null,"Verfügt über die nötige Power/ Kraft/ Schnelligkeit in den Beinen un im Oberkörper "]
[null,null,null,"SPEZ. ERMÜDUNGSRESISTENZ (metabolische, kardiovaskuläre Faktoren)",null,null,"Ist fähig die Power/ Kraft/ Schnelligkeit innerhalb des Einsatzes lange aufrechtzuerhalten und kann sich zwischen den Einsätzen jeweils vollkommen erholen (auch von Spiel zu Spiel).",null,null,null,null,null,null,null,null,null,"SPEZ. ERMÜDUNGSRESISTENZ (metabolische, kardiovaskuläre Faktoren)",null,null,"Ist fähig die Power/ Kraft/ Schnelligkeit innerhalb des Einsatzes lange aufrechtzuerhalten und kann sich zwischen den Einsätzen jeweils vollkommen erholen (auch von Spiel zu Spiel)."]
[null,null,null,"BEWEGUNGSKOMPETENZ/ KOORDINATION ",null,null,"Beherrscht die grundlegenden Bewegungsfertigkeiten, die eine unerlässliche Zubringerfunktion für die sportspezifischen \"Skills\" darstellt sowie zur nötigen Bewegungseffizienz führt. ",null,null,null,null,null,null,null,null,null,"BEWEGUNGSKOMPETENZ/ KOORDINATION",null,null,"Beherrscht die grundlegenden Bewegungsfertigkeiten, die eine unerlässliche Zubringerfunktion für die sportspezifischen \"Skills\" darstellt sowie zu erhöhter Bewegungseffizienz führt."]
[null,null,null,"ROBUSTHEIT/ PRÄVENTION",null,null,"Verletzungsanfälligkeit, Stabilität (Verfügt über die nötige Stabilität, Grundkraft (Körperspannung) \"z.B. Beinachsenstabilität\" und Beweglichkeit in den zentralen Gelenken \"Hüfte, Wirbelsäule\"), Standfestigkeit",null,null,null,null,null,null,null,null,null,"ROBUSHEIT/ PRÄVENTION",null,null,"Verletzungsanfälligkeit, Stabilität (Verfügt über die nötige Stabilität, Grundkraft (Körperspannung) \"z.B. Beinachsenstabilität\" und Beweglichkeit in den zentralen Gelenken \"Hüfte, Wirbelsäule\")"]
["VERANLAGUNG",null,null,"BELASTBARKTEIT",null,null,"Kann - physisch und mental - hohe Trainings- und Spielbelastungen ertragen und sich schnell regenerieren",null,null,null,null,null,null,"VERANLAGUNG",null,null,"BELASTBARKTEIT",null,null,"Kann - physisch und mental - hohe Trainings- und Spielbelastungen ertragen und sich schnell regenerieren"]
[null,null,null,"GRÖSSE / GEWICHT",null,null,"Grösse und Gewicht kommt dem Spielstil entgegen; Grösse der Eltern, erwartete Grösse und aktuelle Grösse abschätzen",null,null,null,null,null,null,null,null,null,"GRÖSSE / GEWICHT",null,null,"Grösse und Gewicht kommt dem Spielstil entgegen; Grösse der Eltern, erwartete Grösse und aktuelle Grösse abschätzen"]
[null,null,null,"KÖRPERFETTGEHALT",null,null,"Nationalteam, National League 8%, U20 Elit 10%, U17 Elit 10-12%, U15 Elit 12-15% ",null,null,null,null,null,null,null,null,null,"KÖRPERFETTGEHALT",null,null,"Nationalteam, National League 8%, U20 Elit 10%, U17 Elit 10-12%, U15 Elit 12-15% "]
[null,null,null,"SOMATOTYP",null,null,"Ektomorph (dünner Athlet, wenig Muskelmasse), mesomorph(Athletischer Körperbau), endomorph(solider weicher Körperbau)",null,null,null,null,null,null,null,null,null,"SOMATOTYP",null,null,"Ektomorph (dünner Athlet, wenig Muskelmasse), mesomorph(Athletischer Körperbau), endomorph(solider weicher Körperbau)"]
["ALTER",null,null,"RELATIVES ALTER",null,null,"Hohes relatives Alter (weiter entwickelt, höhere Leistung, Selektion, bessere Förderung/positives Feedback, höhere Leistung), niedriges relatives Alter (weniger entwickelt,\nniedrige Leistung, keine Selektion > Drop out, keine spezielle Förderung, nidrige Leistung)",null,null,null,null,null,null,"ALTER",null,null,"RELATIVES ALTER",null,null,"Hohes relatives Alter (weiter entwickelt, höhere Leistung, Selektion, bessere Förderung/positives Feedback, höhere Leistung), niedriges relatives Alter (weniger entwickelt,\nniedrige Leistung, keine Selektion > Drop out, keine spezielle Förderung, nidrige Leistung)"]
[null,null,null,"BIOLOGISCHES ALTER",null,null,"Alter gemäss der biologischen Entwicklung im Vergleich zur Durchschnittsbevölkerung (Tatsächlicher Entwicklungsstand)",null,null,null,null,null,null,null,null,null,"BIOLOGISCHES ALTER",null,null,"Alter gemäss der biologischen Entwicklung im Vergleich zur Durchschnittsbevölkerung (Tatsächlicher Entwicklungsstand)"]
[null,null,null,"ENTWICKLUNGSSTAND",null,null,"Biologisches Alter (BA) - Chronologisches Alter (CA), Früh entwickelt: BA > CA, Spät entwickelt: BA < CA",null,null,null,null,null,null,null,null,null,"ENTWICKLUNGSSTAND",null,null,"Biologisches Alter (BA) - Chronologisches Alter (CA), Früh entwickelt: BA > CA, Spät entwickelt: BA < CA"]
[null,null,null,"RELATIVE AGE EFFECT",null,null,"Einteilung in Jahrgänge führt zu relativen Altersunterschieden, Geburtsmonat",null,null,null,null,null,null,null,null,null,"RELATIVE AGE EFFECT",null,null,"Einteilung in Jahrgänge führt zu relativen Altersunterschieden, Geburtsmonat"]
["UMFELD",null,null,"FAMILIE",null,null,"Stabile Familienverhältnisse; Eltern, Verwandte, Geschwister unterstützen den Spieler in allen Bereichen; Engagement und Einfluss der Eltern ist adäquat, Eltern üben keinen übermässigen Druck aus. Das Umfeld kann die finanziellen Kosten für den Sport tragen oder es bestehen finanzielle Unterstützungsmöglichkeiten",null,null,null,null,null,null,"UMFELD",null,null,"FAMILIE",null,null,"Stabile Familienverhältnisse; Eltern, Verwandte, Geschwister unterstützen den Spieler in allen Bereichen; Engagement und Einfluss der Eltern ist adäquat, Eltern üben keinen übermässigen Druck aus. Das Umfeld kann die finanziellen Kosten für den Sport tragen oder es bestehen finanzielle Unterstützungsmöglichkeiten"]
[null,null,null,"SCHULE/AUSBILDUNG",null,null,"Schule/Beruf und Sport sind abgestimmt und koordiniert, es sind ausreichend Trainingszeitfenster gewährleistet (Team/Individuell); die Belastung für den Spieler ist\nausgeglichen und tragbar",null,null,null,null,null,null,null,null,null,"SCHULE/AUSBILDUNG",null,null,"Schule/Beruf und Sport sind abgestimmt und koordiniert, es sind ausreichend Trainingszeitfenster gewährleistet (Team/Individuell); die Belastung für den Spieler ist\nausgeglichen und tragbar"]
[null,null,null,"GEOGRAPHISCHE LAGE",null,null,"Trainings-, Wohn- und Ausbildungsort befinden sich in der Nähe (kleines Dreieck), Distanz; weniger als 1h Fahrzeit pro Tag, Familie oder Gastfamilie",null,null,null,null,null,null,null,null,null,"GEOGRAPHISCHE LAGE",null,null,"Trainings-, Wohn- und Ausbildungsort befinden sich in der Nähe (kleines Dreieck), Distanz; weniger als 1h Fahrzeit pro Tag, Familie oder Gastfamilie"]
[null,null,null,"VEREIN",null,null,"Hohe Qualität von Trainings und Trainern, Club ermöglicht dem Spieler ausreichende Spielzeit auf sinnvoller Stufe/Niveau; Club gewährt eine qualitativ hochstehende Betreuung (Koordination Spiele/Training, Karriereplanung, Ausbildung), optimal: Talent Manager",null,null,null,null,null,null,null,null,null,"VEREIN",null,null,"Hohe Qualität von Trainings und Trainern, Club ermöglicht dem Spieler ausreichende Spielzeit auf sinnvoller Stufe/Niveau; Club gewährt eine qualitativ hochstehende Betreuung (Koordination Spiele/Training, Karriereplanung, Ausbildung), optimal: Talent Manager"]

{"sheet":"Spieler Blatt","index":2,"n_rows":40,"n_cols":25,"rows_kept":40,"cut":false,"hidden":false,"merged":[[32,23,35,23],[22,6,22,11],[19,12,22,12],[19,14,22,14],[19,15,22,21],[33,3,33,5],[33,6,33,11],[35,3,35,5],[35,6,35,11],[32,12,35,12],[32,14,35,14],[32,15,35,21],[23,15,26,21],[28,23,31,23],[29,3,29,5],[29,6,29,11],[36,14,39,14],[36,15,39,21],[36,23,39,23],[36,25,39,25],[36,26,39,32],[36,34,39,34],[37,3,37,5],[37,6,37,11],[38,3,38,5],[38,6,38,11],[39,3,39,5],[39,6,39,11],[36,0,39,2],[36,3,36,5],[36,6,36,11],[36,12,39,12],[0,0,0,13],[0,14,0,15],[0,16,0,21],[0,22,0,24],[1,0,1,1],[1,2,1,5],[1,10,1,13],[6,0,6,1],[6,2,6,24],[7,0,7,1],[7,2,7,24],[8,0,8,1],[8,2,8,24],[2,0,2,1],[2,2,2,5],[2,11,2,13],[3,0,3,1],[3,10,3,13],[4,0,4,1],[4,2,4,5],[4,10,4,13],[12,23,13,23],[13,3,13,5],[13,6,13,11],[11,12,11,13],[11,15,11,21],[12,0,13,2],[12,3,12,5],[12,6,12,11],[10,0,10,13],[10,14,10,24],[11,0,11,2],[11,3,11,5],[11,6,11,11],[14,12,14,13],[14,15,14,21],[15,0,18,2],[15,3,15,5],[15,6,15,11],[14,0,14,2],[14,3,14,5],[14,6,14,11],[12,12,13,12],[12,14,13,14],[12,15,13,21],[19,0,22,2],[19,3,19,5],[19,6,19,11],[24,3,24,5],[23,6,23,11],[24,6,24,11],[21,3,21,5],[15,23,18,23],[16,3,16,5],[16,6,16,11],[17,3,17,5],[17,6,17,11],[18,3,18,5],[18,6,18,11],[15,12,18,12],[15,14,18,14],[15,15,18,21],[19,23,22,23],[20,3,20,5],[20,6,20,11],[22,3,22,5],[21,6,21,11],[23,23,26,23],[28,12,31,12],[28,14,31,14],[28,15,31,21],[23,12,26,12],[23,14,26,14],[23,0,26,2],[23,3,23,5],[25,3,25,5],[25,6,25,11],[26,3,26,5],[26,6,26,11],[27,12,27,13],[27,15,27,21],[32,0,35,2],[32,3,32,5],[32,6,32,11],[34,3,34,5],[34,6,34,11],[28,0,31,2],[28,3,28,5],[28,6,28,11],[27,0,27,2],[27,3,27,5],[27,6,27,11],[30,3,30,5],[30,6,30,11],[31,3,31,5],[31,6,31,11]]}
["Personalien",null,null,null,null,null,null,null,null,null,null,null,null,null,"Vorausetzungen",null,"Evaluationen",null,null,null,null,null,"Rating"]
["VORNAME",null,null,null,null,null,"POSITION","C",null,"ADRESSE",null,null,null,null,"\"Alter\" (Biologisch/Relative Age)",null,"Datum 1",null,null,"cm",null,"Kg",null,"AUSGEZEICHNET",5]
["NAME",null,null,null,null,null,"STOCK",null,null,"WOHNORT",null,null,null,null,"Veranlagung",null,"Datum 2",null,null,"cm",null,"Kg",null,"GUT",4]
["GEB. DATUM",null,null,null,null,null,"GRÖSSE",null,"cm (Final)","PHONE",null,null,null,null,"Umfeld",null,"Datum 3",null,null,"cm",null,"Kg",null,"DURCHSCHNITT",3]
["SEX",null,null,null,null,null,"GEWICHT",null,"Kg (Final)","E-Mail",null,null,null,null,null,null,"Datum 4",null,null,"cm",null,"Kg",null,"MANGELHAFT",2]
[null,null,null,null,null,null,null,null,null,null,null,null,null,null,null,null,"Datum 5",null,null,"cm",null,"Kg",null,"UNGENÜGEND",1]
["Vision",null,"xxx"]
["Next step",null,"xxx"]
["Stärkenprofil",null,"xxx"]
[]
["EVALUATION (COACH / SPIELER)",null,null,null,null,null,null,null,null,null,null,null,null,null,"SMART"]
["TEAM",null,null,"FÄHIGKEIT",null,null,"BEOBACHTUNG",null,null,null,null,null,"Player",null,"ZIEL","MASSNAHME:\nSPEZIFISCH,  MESSBAR, REALISITISCH",null,null,null,null,null,null,"TERMIN","ZIEL-KONTROLLE","Datum"]
["ROLLE, SOZIAL",null,null,{"$f":"IF($H$2=\"G\",Skillserleuterungen_FTEM!Q4,Skillserleuterungen_FTEM!D4)","v":"TEAMDENKEN"},null,null,{"$f":"IF($H$2=\"G\",Skillserleuterungen_FTEM!T4,Skillserleuterungen_FTEM!G4)","v":"Identifikation zur Rolle, Umgang mit Kameraden (sozial integriert)"},null,null,{"$f":"IF($H$2=\"G\",Skillserleuterungen_FTEM!W4,Skillserleuterungen_FTEM!J4)","v":0},null,null,{"$f":"IFERROR(AVERAGE(N13:N14),\"-\")","v":"-"}]
[null,null,null,{"$f":"IF($H$2=\"G\",Skillserleuterungen_FTEM!Q5,Skillserleuterungen_FTEM!D5)","v":"LEADERSHIP"},null,null,{"$f":"IF($H$2=\"G\",Skillserleuterungen_FTEM!T5,Skillserleuterungen_FTEM!G5)","v":"Übernimmt Verantwortung, macht Mitspieler besser"},null,null,{"$f":"IF($H$2=\"G\",Skillserleuterungen_FTEM!W5,Skillserleuterungen_FTEM!J5)","v":0}]
["ON ICE",null,null,"FÄHIGKEIT",null,null,"BEOBACHTUNG",null,null,null,null,null,"Player",null,"ZIEL","MASSNAHME:\nSPEZIFISCH,  MESSBAR, REALISITISCH",null,null,null,null,null,null,"TERMIN","ZIEL-KONTROLLE","Datum"]
["SKILL",null,null,{"$f":"IF($H$2=\"G\",Skillserleuterungen_FTEM!Q7,Skillserleuterungen_FTEM!D7)","v":"SCHIESSEN"},null,null,{"$f":"IF($H$2=\"G\",Skillserleuterungen_FTEM!T7,Skillserleuterungen_FTEM!G7)","v":"Effizienz / Variantenreichtum, Überraschungsgrad (Quick Release), Präzision, Härte, (taktische Abschlüsse)\nschnell, hart, unter Druck"},null,null,{"$f":"IF($H$2=\"G\",Skillserleuterungen_FTEM!W7,Skillserleuterungen_FTEM!J7)","v":0},null,null,{"$f":"IFERROR(AVERAGE(N16:N19),\"-\")","v":"-"}]
[null,null,null,{"$f":"IF($H$2=\"G\",Skillserleuterungen_FTEM!Q8,Skillserleuterungen_FTEM!D8)","v":"PASSEN"},null,null,{"$f":"IF($H$2=\"G\",Skillserleuterungen_FTEM!T8,Skillserleuterungen_FTEM!G8)","v":"Passabgabe (Distanz, Flippass Backhand), Passannahme (Präzision, Timing, Vorhand, Rückhand, Schlittschuh,Puckspeed"},null,null,{"$f":"IF($H$2=\"G\",Skillserleuterungen_FTEM!W8,Skillserleuterungen_FTEM!J8)","v":0}]
[null,null,null,{"$f":"IF($H$2=\"G\",Skillserleuterungen_FTEM!Q9,Skillserleuterungen_FTEM!D9)","v":"KÖRPERSPIEL"},null,null,{"$f":"IF($H$2=\"G\",Skillserleuterungen_FTEM!T9,Skillserleuterungen_FTEM!G9)","v":"Phyisches Durchsetzungsvermögen, Zweikampf (offenes Eis/Bande), Checks nehmen/Head up, Battle Level, Hart aber fair, mit dem Körper Schüsse blockieren"},null,null,{"$f":"IF($H$2=\"G\",Skillserleuterungen_FTEM!W9,Skillserleuterungen_FTEM!J9)","v":0},null,null,{"$f":"IFERROR(AVERAGE(N18:N19),\"-\")","v":"-"}]
[null,null,null,{"$f":"IF($H$2=\"G\",Skillserleuterungen_FTEM!Q10,Skillserleuterungen_FTEM!D10)","v":"SCHEIBENKONTROLLE"},null,null,{"$f":"IF($H$2=\"G\",Skillserleuterungen_FTEM!T10,Skillserleuterungen_FTEM!G10)","v":"Puckmanagmenet auf engem Raum, Puck Protection,  schwer kontrollierbare Scheiben "},null,null,{"$f":"IF($H$2=\"G\",Skillserleuterungen_FTEM!W10,Skillserleuterungen_FTEM!J10)","v":0}]
["SKATING",null,null,{"$f":"IF($H$2=\"G\",Skillserleuterungen_FTEM!Q11,Skillserleuterungen_FTEM!D11)","v":"FOOTSPEED"},null,null,{"$f":"IF($H$2=\"G\",Skillserleuterungen_FTEM!T11,Skillserleuterungen_FTEM!G11)","v":"Beschleunigung, Antritt, erste 3 Schritte Explosivität, Frequenz"},null,null,{"$f":"IF($H$2=\"G\",Skillserleuterungen_FTEM!W11,Skillserleuterungen_FTEM!J11)","v":0},null,null,{"$f":"IFERROR(AVERAGE(N20:N23),\"-\")","v":"-"}]
[null,null,null,{"$f":"IF($H$2=\"G\",Skillserleuterungen_FTEM!Q12,Skillserleuterungen_FTEM!D12)","v":"AGILITÄT"},null,null,{"$f":"IF($H$2=\"G\",Skillserleuterungen_FTEM!T12,Skillserleuterungen_FTEM!G12)","v":"Richtungsänderung, Drehung, Stop und Start, «Nummelin»"},null,null,{"$f":"IF($H$2=\"G\",Skillserleuterungen_FTEM!W12,Skillserleuterungen_FTEM!J12)","v":0}]
[null,null,null,{"$f":"IF($H$2=\"G\",Skillserleuterungen_FTEM!Q13,Skillserleuterungen_FTEM!D13)","v":"BACKWARDS SKATING"},null,null,{"$f":"IF($H$2=\"G\",Skillserleuterungen_FTEM!T13,Skillserleuterungen_FTEM!G13)","v":"Beschleunigung, Geschwindigkeit, Balance"},null,null,{"$f":"IF($H$2=\"G\",Skillserleuterungen_FTEM!W13,Skillserleuterungen_FTEM!J13)","v":0}]
[null,null,null,{"$f":"IF($H$2=\"G\",Skillserleuterungen_FTEM!Q14,Skillserleuterungen_FTEM!D14)","v":"TOPSPEED"},null,null,{"$f":"IF($H$2=\"G\",Skillserleuterungen_FTEM!T14,Skillserleuterungen_FTEM!G14)","v":"Schnelligkeit, Gleitfähigkeit, vorwärts und rückwärts, Ökonomie"},null,null,{"$f":"IF($H$2=\"G\",Skillserleuterungen_FTEM!W14,Skillserleuterungen_FTEM!J14)","v":0}]
["HOCKEY SENSE",null,null,{"$f":"IF($H$2=\"G\",Skillserleuterungen_FTEM!Q15,Skillserleuterungen_FTEM!D15)","v":"SCORING"},null,null,{"$f":"IF($H$2=\"G\",Skillserleuterungen_FTEM!T15,Skillserleuterungen_FTEM!G15)","v":"Effizienz, variantentreich, überraschend, schnell, hart - Schussvarianten"},null,null,{"$f":"IF($H$2=\"G\",Skillserleuterungen_FTEM!W15,Skillserleuterungen_FTEM!J15)","v":0},null,null,{"$f":"IFERROR(AVERAGE(N24:N27),\"-\")","v":"-"}]
[null,null,null,{"$f":"IF($H$2=\"G\",Skillserleuterungen_FTEM!Q16,Skillserleuterungen_FTEM!D16)","v":"MIT SCHEIBE"},null,null,{"$f":"IF($H$2=\"G\",Skillserleuterungen_FTEM!T16,Skillserleuterungen_FTEM!G16)","v":"Kreativ, performing, batteling, frech, Transition"},null,null,{"$f":"IF($H$2=\"G\",Skillserleuterungen_FTEM!W16,Skillserleuterungen_FTEM!J16)","v":0}]
[null,null,null,{"$f":"IF($H$2=\"G\",Skillserleuterungen_FTEM!Q17,Skillserleuterungen_FTEM!D17)","v":"OHNE SCHEIBE"},null,null,{"$f":"IF($H$2=\"G\",Skillserleuterungen_FTEM!T17,Skillserleuterungen_FTEM!G17)","v":"Anspielbar (Support), 1:1, Gap"},null,null,{"$f":"IF($H$2=\"G\",Skillserleuterungen_FTEM!W17,Skillserleuterungen_FTEM!J17)","v":0}]
[null,null,null,{"$f":"IF($H$2=\"G\",Skillserleuterungen_FTEM!Q18,Skillserleuterungen_FTEM!D18)","v":"DEFENSIV"},null,null,{"$f":"IF($H$2=\"G\",Skillserleuterungen_FTEM!T18,Skillserleuterungen_FTEM!G18)","v":"Verlässlichkeit,  1:1, Gap, Zuordnung"},null,null,{"$f":"IF($H$2=\"G\",Skillserleuterungen_FTEM!W18,Skillserleuterungen_FTEM!J18)","v":0}]
["PERSONALITY",null,null,"FÄHIGKEIT",null,null,"BEOBACHTUNG",null,null,null,null,null,"Player",null,"ZIEL","MASSNAHME:\nSPEZIFISCH,  MESSBAR, REALISITISCH",null,null,null,null,null,null,"TERMIN","ZIEL-KONTROLLE","Datum"]
["PERSON",null,null,{"$f":"IF($H$2=\"G\",Skillserleuterungen_FTEM!Q20,Skillserleuterungen_FTEM!D20)","v":"MOTIVATION"},null,null,{"$f":"IF($H$2=\"G\",Skillserleuterungen_FTEM!T20,Skillserleuterungen_FTEM!G20)","v":"Intrinsischer Antrieb, will sich ständig weiterentwickeln, will der Erste sein und Erfolg haben"},null,null,{"$f":"IF($H$2=\"G\",Skillserleuterungen_FTEM!W20,Skillserleuterungen_FTEM!J20)","v":0},null,null,{"$f":"IFERROR(AVERAGE(N29:N32),\"-\")","v":"-"}]
[null,null,null,{"$f":"IF($H$2=\"G\",Skillserleuterungen_FTEM!Q21,Skillserleuterungen_FTEM!D21)","v":"SELBSBEWUSSTSEIN"},null,null,{"$f":"IF($H$2=\"G\",Skillserleuterungen_FTEM!T21,Skillserleuterungen_FTEM!G21)","v":"Hat das nötige Selbstvertrauen \"I can do it\" haltung, kann eigenen Fähigkeiten einschätzen und agiert mutig"},null,null,{"$f":"IF($H$2=\"G\",Skillserleuterungen_FTEM!W21,Skillserleuterungen_FTEM!J21)","v":0}]
[null,null,null,{"$f":"IF($H$2=\"G\",Skillserleuterungen_FTEM!Q22,Skillserleuterungen_FTEM!D22)","v":"LERNFÄHIGKEIT"},null,null,{"$f":"IF($H$2=\"G\",Skillserleuterungen_FTEM!T22,Skillserleuterungen_FTEM!G22)","v":"Gute Auffassungsgabe (nimmt auf und kann umsetzen), reflektiert eigenes Handeln, versucht aus Fehlern zu lernen und kann Massnahmen ableiten und sich selber coachen"},null,null,{"$f":"IF($H$2=\"G\",Skillserleuterungen_FTEM!W22,Skillserleuterungen_FTEM!J22)","v":0}]
[null,null,null,{"$f":"IF($H$2=\"G\",Skillserleuterungen_FTEM!Q23,Skillserleuterungen_FTEM!D23)","v":"PERFORMANCE LIFESTYLE"},null,null,{"$f":"IF($H$2=\"G\",Skillserleuterungen_FTEM!T23,Skillserleuterungen_FTEM!G23)","v":"Managt Alltag und Umfeld nach dem Leistungsprinzip, kann sich gegen Wiederstände durchsetzten"},null,null,{"$f":"IF($H$2=\"G\",Skillserleuterungen_FTEM!W23,Skillserleuterungen_FTEM!J23)","v":0}]
["POWER",null,null,{"$f":"IF($H$2=\"G\",Skillserleuterungen_FTEM!Q24,Skillserleuterungen_FTEM!D24)","v":"ENERGIEMANAGEMENT"},null,null,{"$f":"IF($H$2=\"G\",Skillserleuterungen_FTEM!T24,Skillserleuterungen_FTEM!G24)","v":"Kann eigene Energie regulieren, bereit zur Regeneration, weiss, wann er \"Vollgas\" geben muss und wann ab-schalten, On/Off-Schalter"},null,null,{"$f":"IF($H$2=\"G\",Skillserleuterungen_FTEM!W24,Skillserleuterungen_FTEM!J24)","v":0},null,null,{"$f":"IFERROR(AVERAGE(N33:N36),\"-\")","v":"-"}]
[null,null,null,{"$f":"IF($H$2=\"G\",Skillserleuterungen_FTEM!Q25,Skillserleuterungen_FTEM!D25)","v":"EINSATZBEREITSCHAFT"},null,null,{"$f":"IF($H$2=\"G\",Skillserleuterungen_FTEM!T25,Skillserleuterungen_FTEM!G25)","v":"Hohe intensität im Spiel und Training, gibt immer sein Maximum, will seine Limiten pushen"},null,null,{"$f":"IF($H$2=\"G\",Skillserleuterungen_FTEM!W25,Skillserleuterungen_FTEM!J25)","v":0}]
[null,null,null,{"$f":"IF($H$2=\"G\",Skillserleuterungen_FTEM!Q26,Skillserleuterungen_FTEM!D26)","v":"EMOTIONSKONTROLLE"},null,null,{"$f":"IF($H$2=\"G\",Skillserleuterungen_FTEM!T26,Skillserleuterungen_FTEM!G26)","v":"Emotionen und Impulse regulieren, unter Druck die Kontrolle behalten, in emotional ansprucksvollen Situationen angemessen agieren können"},null,null,{"$f":"IF($H$2=\"G\",Skillserleuterungen_FTEM!W26,Skillserleuterungen_FTEM!J26)","v":0}]
[null,null,null,{"$f":"IF($H$2=\"G\",Skillserleuterungen_FTEM!Q27,Skillserleuterungen_FTEM!D27)","v":"VORBEREITUNG"},null,null,{"$f":"IF($H$2=\"G\",Skillserleuterungen_FTEM!T27,Skillserleuterungen_FTEM!G27)","v":"Fokus, ILZ, Regeneration, Selbststiumlation, Ernährung"},null,null,{"$f":"IF($H$2=\"G\",Skillserleuterungen_FTEM!W27,Skillserleuterungen_FTEM!J27)","v":0}]
["PYHSE (Athletik)",null,null,{"$f":"IF($H$2=\"G\",Skillserleuterungen_FTEM!Q28,Skillserleuterungen_FTEM!D28)","v":"LEISTUNGSERZEUGUNG (neuromuskuläre Faktoren /Leistungserzeugung)"},null,null,{"$f":"IF($H$2=\"G\",Skillserleuterungen_FTEM!T28,Skillserleuterungen_FTEM!G28)","v":"Verfügt über die nötige Power/ Kraft/ Schnelligkeit in den Beinen un im Oberkörper "},null,null,{"$f":"IF($H$2=\"G\",Skillserleuterungen_FTEM!W28,Skillserleuterungen_FTEM!J28)","v":0},null,null,{"$f":"IFERROR(AVERAGE(N37:N40),\"-\")","v":"-"}]
[null,null,null,{"$f":"IF($H$2=\"G\",Skillserleuterungen_FTEM!Q29,Skillserleuterungen_FTEM!D29)","v":"SPEZ. ERMÜDUNGSRESISTENZ (metabolische, kardiovaskuläre Faktoren)"},null,null,{"$f":"IF($H$2=\"G\",Skillserleuterungen_FTEM!T29,Skillserleuterungen_FTEM!G29)","v":"Ist fähig die Power/ Kraft/ Schnelligkeit innerhalb des Einsatzes lange aufrechtzuerhalten und kann sich zwischen den Einsätzen jeweils vollkommen erholen (auch von Spiel zu Spiel)."},null,null,{"$f":"IF($H$2=\"G\",Skillserleuterungen_FTEM!W29,Skillserleuterungen_FTEM!J29)","v":0}]
[null,null,null,{"$f":"IF($H$2=\"G\",Skillserleuterungen_FTEM!Q30,Skillserleuterungen_FTEM!D30)","v":"BEWEGUNGSKOMPETENZ/ KOORDINATION "},null,null,{"$f":"IF($H$2=\"G\",Skillserleuterungen_FTEM!T30,Skillserleuterungen_FTEM!G30)","v":"Beherrscht die grundlegenden Bewegungsfertigkeiten, die eine unerlässliche Zubringerfunktion für die sportspezifischen \"Skills\" darstellt sowie zur nötigen Bewegungseffizienz führt. "},null,null,{"$f":"IF($H$2=\"G\",Skillserleuterungen_FTEM!W30,Skillserleuterungen_FTEM!J30)","v":0}]
[null,null,null,{"$f":"IF($H$2=\"G\",Skillserleuterungen_FTEM!Q31,Skillserleuterungen_FTEM!D31)","v":"ROBUSTHEIT/ PRÄVENTION"},null,null,{"$f":"IF($H$2=\"G\",Skillserleuterungen_FTEM!T31,Skillserleuterungen_FTEM!G31)","v":"Verletzungsanfälligkeit, Stabilität (Verfügt über die nötige Stabilität, Grundkraft (Körperspannung) \"z.B. Beinachsenstabilität\" und Beweglichkeit in den zentralen Gelenken \"Hüfte, Wirbelsäule\"), Standfestigkeit"},null,null,{"$f":"IF($H$2=\"G\",Skillserleuterungen_FTEM!W31,Skillserleuterungen_FTEM!J31)","v":0}]

{"sheet":"Selektionsblatt","index":3,"n_rows":40,"n_cols":55,"rows_kept":40,"cut":false,"hidden":false,"merged":[[2,10,2,13],[6,10,6,13],[0,0,0,34],[8,35,8,44],[4,12,4,13],[2,33,2,34],[4,33,4,34],[6,33,6,34],[8,0,8,34]]}
["SIHF STAR PROFILE"]
[null,null,null,null,null,null,"SEX",null,null,null,null,null,null,null,null,null,null,null,null,"G"]
[null,null,null,null,null,null,"M",null,null,"CLUB","HC Musterclub",null,null,null,null,null,null,null,null,null,null,null,null,null,null,null,null,null,null,null,null,null,"TEAM","U15-Elit"]
[]
[null,null,null,null,null,null,"W",null,null,"SAISON",2019,"-",2020,null,null,null,null,null,null,null,null,null,null,null,null,null,null,null,null,null,null,null,"JAHRGANG",2006]
[]
[null,null,null,null,null,null,null,null,null,"STAND","2019-05-31",null,null,null,null,null,null,null,null,null,null,null,null,null,null,null,null,null,null,null,null,null,"COACH","Daniele Celio"]
[]
["SCHLUSSWERTUNGEN"]
["Spielre ID","Name\nNom","Vorname\nPrénom","Club","Strasse\nRue","Ort\nLieu","PLZ","Phone\n(Natel / Home)","EMAIL","Grösse\nGrandeur","Gewicht\nPoid","Position\nG / D / FC / FW","Sex","Geburtsdatum\nDate de naissance","Monat\nmois","Jahr\nannée","Testdatum\nDate du test","Monat","Jahr","SKILL","SKATING","hockey SENSE","PERSON","Mental\nPOWER","PYHSE (Athletik)","TEAM","ALTER\nAGE","UMFELD\nENTOURAGE","VERANLAGUNG\nPREDISPOSITION","TOTAL ","RANG","Verletzt\nBlessé?","Selektionsentscheid\nDécision de sélection","Tendenz / Tendance:\nLEISTUNGSENTWICKLUNG\nDévelop. de la performance","Bemerkung\nRemarques","Gewichtung\nSkills","Gewichtung\nSkating","Gewichtung\nHockey Sense","Gewichtung\nPerson","Gewichtung\nPower","Gewichtung\nPhyse","Gewichtung\nTeam","Gewichtung\nAlter","Gewichtung\nUmfeld","Gewichtung\nVeranlagung","Gewichtung\nSkills2","Gewichtung\nSkating3","Gewichtung\nHockey Sense4","Gewichtung\nPerson5","Gewichtung\nPower6","Gewichtung\nPhyse9","Gewichtung\nTeam7","Gewichtung\nAlter8","Gewichtung\nUmfeld10","Gewichtung\nVeranlagung11"]
[1,null,null,{"$f":"IF(ISBLANK(B11),\"-\",$K$3)","v":"-"},null,null,null,null,null,{"$f":"IF(ISBLANK('1'!$H$4),\"-\",'1'!$H$4)","v":"-"},{"$f":"IF(ISBLANK('1'!$H$5),\"-\",'1'!$H$5)","v":"-"},{"$f":"IF(ISBLANK('1'!$H$2),\"-\",'1'!$H$2)","v":"-"},null,null,null,null,null,null,null,{"$f":"'1'!$M$16","v":0},{"$f":"'1'!$M$20","v":0},{"$f":"'1'!$M$24","v":0},{"$f":"'1'!$M$29","v":0},{"$f":"'1'!$M$33","v":0},{"$f":"'1'!$M$37","v":0},{"$f":"'1'!$M$13","v":0},{"$f":"'1'!$AA$2","v":0},{"$f":"'1'!$AA$4","v":0},{"$f":"'1'!$AA$3","v":0},{"$f":"IF(Tabelle3[[#This Row],[SKILL]]=0,\"-\",IF(Tabelle3[[#This Row],[Sex]]=\"M\",SUMPRODUCT(Tabelle3[[#This Row],[SKILL]:[VERANLAGUNG\nPREDISPOSITION]],AJ11:AS11),SUMPRODUCT(Tabelle3[[#This Row],[SKILL]:[VERANLAGUNG\nPREDISPOSITION]],AT11:BC11)))","v":"-"},{"$f":"IFERROR(RANK(Tabelle3[[#This Row],[TOTAL ]],Tabelle3[[TOTAL ]],0),\"-\")","v":"-"},null,null,null,null,{"$f":"IF(Tabelle3[[#This Row],[Position\nG / D / FC / FW]]=\"G\",VLOOKUP($M$5-Tabelle3[[#This Row],[Jahr\nannée]],GOALI,2),VLOOKUP($M$5-Tabelle3[[#This Row],[Jahr\nannée]],SPIELER,2))","v":10},{"$f":"IF(Tabelle3[[#This Row],[Position\nG / D / FC / FW]]=\"G\",VLOOKUP($M$5-Tabelle3[[#This Row],[Jahr\nannée]],GOALI,3),VLOOKUP($M$5-Tabelle3[[#This Row],[Jahr\nannée]],SPIELER,3))","v":10},{"$f":"IF(Tabelle3[[#This Row],[Position\nG / D / FC / FW]]=\"G\",VLOOKUP($M$5-Tabelle3[[#This Row],[Jahr\nannée]],GOALI,4),VLOOKUP($M$5-Tabelle3[[#This Row],[Jahr\nannée]],SPIELER,4))","v":20},{"$f":"IF(Tabelle3[[#This Row],[Position\nG / D / FC / FW]]=\"G\",VLOOKUP($M$5-Tabelle3[[#This Row],[Jahr\nannée]],GOALI,5),VLOOKUP($M$5-Tabelle3[[#This Row],[Jahr\nannée]],SPIELER,5))","v":15},{"$f":"IF(Tabelle3[[#This Row],[Position\nG / D / FC / FW]]=\"G\",VLOOKUP($M$5-Tabelle3[[#This Row],[Jahr\nannée]],GOALI,6),VLOOKUP($M$5-Tabelle3[[#This Row],[Jahr\nannée]],SPIELER,6))","v":10},{"$f":"IF(Tabelle3[[#This Row],[Position\nG / D / FC / FW]]=\"G\",VLOOKUP($M$5-Tabelle3[[#This Row],[Jahr\nannée]],GOALI,9),VLOOKUP($M$5-Tabelle3[[#This Row],[Jahr\nannée]],SPIELER,9))","v":15},{"$f":"IF(Tabelle3[[#This Row],[Position\nG / D / FC / FW]]=\"G\",VLOOKUP($M$5-Tabelle3[[#This Row],[Jahr\nannée]],GOALI,7),VLOOKUP($M$5-Tabelle3[[#This Row],[Jahr\nannée]],SPIELER,7))","v":10},{"$f":"IF(Tabelle3[[#This Row],[Position\nG / D / FC / FW]]=\"G\",VLOOKUP($M$5-Tabelle3[[#This Row],[Jahr\nannée]],GOALI,8),VLOOKUP($M$5-Tabelle3[[#This Row],[Jahr\nannée]],SPIELER,8))","v":0},{"$f":"IF(Tabelle3[[#This Row],[Position\nG / D / FC / FW]]=\"G\",VLOOKUP($M$5-Tabelle3[[#This Row],[Jahr\nannée]],GOALI,10),VLOOKUP($M$5-Tabelle3[[#This Row],[Jahr\nannée]],SPIELER,10))","v":0},{"$f":"IF(Tabelle3[[#This Row],[Position\nG / D / FC / FW]]=\"G\",VLOOKUP($M$5-Tabelle3[[#This Row],[Jahr\nannée]],GOALI,11),VLOOKUP($M$5-Tabelle3[[#This Row],[Jahr\nannée]],SPIELER,11))","v":10},{"$f":"IF(Tabelle3[[#This Row],[Position\nG / D / FC / FW]]=\"G\",VLOOKUP($M$5-Tabelle3[[#This Row],[Jahr\nannée]],FGOALIE,2),VLOOKUP($M$5-Tabelle3[[#This Row],[Jahr\nannée]],FSPIELER,2))","v":10},{"$f":"IF(Tabelle3[[#This Row],[Position\nG / D / FC / FW]]=\"G\",VLOOKUP($M$5-Tabelle3[[#This Row],[Jahr\nannée]],FGOALIE,3),VLOOKUP($M$5-Tabelle3[[#This Row],[Jahr\nannée]],FSPIELER,3))","v":10},{"$f":"IF(Tabelle3[[#This Row],[Position\nG / D / FC / FW]]=\"G\",VLOOKUP($M$5-Tabelle3[[#This Row],[Jahr\nannée]],FGOALIE,4),VLOOKUP($M$5-Tabelle3[[#This Row],[Jahr\nannée]],FSPIELER,4))","v":20},{"$f":"IF(Tabelle3[[#This Row],[Position\nG / D / FC / FW]]=\"G\",VLOOKUP($M$5-Tabelle3[[#This Row],[Jahr\nannée]],FGOALIE,5),VLOOKUP($M$5-Tabelle3[[#This Row],[Jahr\nannée]],FSPIELER,5))","v":15},{"$f":"IF(Tabelle3[[#This Row],[Position\nG / D / FC / FW]]=\"G\",VLOOKUP($M$5-Tabelle3[[#This Row],[Jahr\nannée]],FGOALIE,6),VLOOKUP($M$5-Tabelle3[[#This Row],[Jahr\nannée]],FSPIELER,6))","v":10},{"$f":"IF(Tabelle3[[#This Row],[Position\nG / D / FC / FW]]=\"G\",VLOOKUP($M$5-Tabelle3[[#This Row],[Jahr\nannée]],FGOALIE,9),VLOOKUP($M$5-Tabelle3[[#This Row],[Jahr\nannée]],FSPIELER,9))","v":15},{"$f":"IF(Tabelle3[[#This Row],[Position\nG / D / FC / FW]]=\"G\",VLOOKUP($M$5-Tabelle3[[#This Row],[Jahr\nannée]],FGOALIE,7),VLOOKUP($M$5-Tabelle3[[#This Row],[Jahr\nannée]],FSPIELER,7))","v":10},{"$f":"IF(Tabelle3[[#This Row],[Position\nG / D / FC / FW]]=\"G\",VLOOKUP($M$5-Tabelle3[[#This Row],[Jahr\nannée]],FGOALIE,8),VLOOKUP($M$5-Tabelle3[[#This Row],[Jahr\nannée]],FSPIELER,8))","v":0},{"$f":"IF(Tabelle3[[#This Row],[Position\nG / D / FC / FW]]=\"G\",VLOOKUP($M$5-Tabelle3[[#This Row],[Jahr\nannée]],FGOALIE,10),VLOOKUP($M$5-Tabelle3[[#This Row],[Jahr\nannée]],FSPIELER,10))","v":0},{"$f":"IF(Tabelle3[[#This Row],[Position\nG / D / FC / FW]]=\"G\",VLOOKUP($M$5-Tabelle3[[#This Row],[Jahr\nannée]],FGOALIE,11),VLOOKUP($M$5-Tabelle3[[#This Row],[Jahr\nannée]],FSPIELER,11))","v":10}]
[2,null,null,"-",null,null,null,null,null,{"$f":"IF(ISBLANK('2'!$H$4),\"-\",'2'!$H$4)","v":"-"},{"$f":"IF(ISBLANK('2'!$H$5),\"-\",'2'!$H$5)","v":"-"},{"$f":"IF(ISBLANK('2'!$H$2),\"-\",'2'!$H$2)","v":"-"},null,null,null,null,null,null,null,{"$f":"'2'!$M$16","v":0},{"$f":"'2'!$M$20","v":0},{"$f":"'2'!$M$24","v":0},{"$f":"'2'!$M$29","v":0},{"$f":"'2'!$M$33","v":0},{"$f":"'2'!$M$37","v":0},{"$f":"'2'!$M$13","v":0},{"$f":"'2'!$AA$2","v":0},{"$f":"'2'!$AA$4","v":0},{"$f":"'2'!$AA$3","v":0},{"$f":"IF(Tabelle3[[#This Row],[SKILL]]=0,\"-\",IF(Tabelle3[[#This Row],[Sex]]=\"M\",SUMPRODUCT(Tabelle3[[#This Row],[SKILL]:[VERANLAGUNG\nPREDISPOSITION]],AJ12:AS12),SUMPRODUCT(Tabelle3[[#This Row],[SKILL]:[VERANLAGUNG\nPREDISPOSITION]],AT12:BC12)))","v":"-"},{"$f":"IFERROR(RANK(Tabelle3[[#This Row],[TOTAL ]],Tabelle3[[TOTAL ]],0),\"-\")","v":"-"},null,null,null,null,{"$f":"IF(Tabelle3[[#This Row],[Position\nG / D / FC / FW]]=\"G\",VLOOKUP($M$5-Tabelle3[[#This Row],[Jahr\nannée]],GOALI,2),VLOOKUP($M$5-Tabelle3[[#This Row],[Jahr\nannée]],SPIELER,2))","v":10},{"$f":"IF(Tabelle3[[#This Row],[Position\nG / D / FC / FW]]=\"G\",VLOOKUP($M$5-Tabelle3[[#This Row],[Jahr\nannée]],GOALI,3),VLOOKUP($M$5-Tabelle3[[#This Row],[Jahr\nannée]],SPIELER,3))","v":10},{"$f":"IF(Tabelle3[[#This Row],[Position\nG / D / FC / FW]]=\"G\",VLOOKUP($M$5-Tabelle3[[#This Row],[Jahr\nannée]],GOALI,4),VLOOKUP($M$5-Tabelle3[[#This Row],[Jahr\nannée]],SPIELER,4))","v":20},{"$f":"IF(Tabelle3[[#This Row],[Position\nG / D / FC / FW]]=\"G\",VLOOKUP($M$5-Tabelle3[[#This Row],[Jahr\nannée]],GOALI,5),VLOOKUP($M$5-Tabelle3[[#This Row],[Jahr\nannée]],SPIELER,5))","v":15},{"$f":"IF(Tabelle3[[#This Row],[Position\nG / D / FC / FW]]=\"G\",VLOOKUP($M$5-Tabelle3[[#This Row],[Jahr\nannée]],GOALI,6),VLOOKUP($M$5-Tabelle3[[#This Row],[Jahr\nannée]],SPIELER,6))","v":10},{"$f":"IF(Tabelle3[[#This Row],[Position\nG / D / FC / FW]]=\"G\",VLOOKUP($M$5-Tabelle3[[#This Row],[Jahr\nannée]],GOALI,9),VLOOKUP($M$5-Tabelle3[[#This Row],[Jahr\nannée]],SPIELER,9))","v":15},{"$f":"IF(Tabelle3[[#This Row],[Position\nG / D / FC / FW]]=\"G\",VLOOKUP($M$5-Tabelle3[[#This Row],[Jahr\nannée]],GOALI,7),VLOOKUP($M$5-Tabelle3[[#This Row],[Jahr\nannée]],SPIELER,7))","v":10},{"$f":"IF(Tabelle3[[#This Row],[Position\nG / D / FC / FW]]=\"G\",VLOOKUP($M$5-Tabelle3[[#This Row],[Jahr\nannée]],GOALI,8),VLOOKUP($M$5-Tabelle3[[#This Row],[Jahr\nannée]],SPIELER,8))","v":0},{"$f":"IF(Tabelle3[[#This Row],[Position\nG / D / FC / FW]]=\"G\",VLOOKUP($M$5-Tabelle3[[#This Row],[Jahr\nannée]],GOALI,10),VLOOKUP($M$5-Tabelle3[[#This Row],[Jahr\nannée]],SPIELER,10))","v":0},{"$f":"IF(Tabelle3[[#This Row],[Position\nG / D / FC / FW]]=\"G\",VLOOKUP($M$5-Tabelle3[[#This Row],[Jahr\nannée]],GOALI,11),VLOOKUP($M$5-Tabelle3[[#This Row],[Jahr\nannée]],SPIELER,11))","v":10},{"$f":"IF(Tabelle3[[#This Row],[Position\nG / D / FC / FW]]=\"G\",VLOOKUP($M$5-Tabelle3[[#This Row],[Jahr\nannée]],FGOALIE,2),VLOOKUP($M$5-Tabelle3[[#This Row],[Jahr\nannée]],FSPIELER,2))","v":10},{"$f":"IF(Tabelle3[[#This Row],[Position\nG / D / FC / FW]]=\"G\",VLOOKUP($M$5-Tabelle3[[#This Row],[Jahr\nannée]],FGOALIE,3),VLOOKUP($M$5-Tabelle3[[#This Row],[Jahr\nannée]],FSPIELER,3))","v":10},{"$f":"IF(Tabelle3[[#This Row],[Position\nG / D / FC / FW]]=\"G\",VLOOKUP($M$5-Tabelle3[[#This Row],[Jahr\nannée]],FGOALIE,4),VLOOKUP($M$5-Tabelle3[[#This Row],[Jahr\nannée]],FSPIELER,4))","v":20},{"$f":"IF(Tabelle3[[#This Row],[Position\nG / D / FC / FW]]=\"G\",VLOOKUP($M$5-Tabelle3[[#This Row],[Jahr\nannée]],FGOALIE,5),VLOOKUP($M$5-Tabelle3[[#This Row],[Jahr\nannée]],FSPIELER,5))","v":15},{"$f":"IF(Tabelle3[[#This Row],[Position\nG / D / FC / FW]]=\"G\",VLOOKUP($M$5-Tabelle3[[#This Row],[Jahr\nannée]],FGOALIE,6),VLOOKUP($M$5-Tabelle3[[#This Row],[Jahr\nannée]],FSPIELER,6))","v":10},{"$f":"IF(Tabelle3[[#This Row],[Position\nG / D / FC / FW]]=\"G\",VLOOKUP($M$5-Tabelle3[[#This Row],[Jahr\nannée]],FGOALIE,9),VLOOKUP($M$5-Tabelle3[[#This Row],[Jahr\nannée]],FSPIELER,9))","v":15},{"$f":"IF(Tabelle3[[#This Row],[Position\nG / D / FC / FW]]=\"G\",VLOOKUP($M$5-Tabelle3[[#This Row],[Jahr\nannée]],FGOALIE,7),VLOOKUP($M$5-Tabelle3[[#This Row],[Jahr\nannée]],FSPIELER,7))","v":10},{"$f":"IF(Tabelle3[[#This Row],[Position\nG / D / FC / FW]]=\"G\",VLOOKUP($M$5-Tabelle3[[#This Row],[Jahr\nannée]],FGOALIE,8),VLOOKUP($M$5-Tabelle3[[#This Row],[Jahr\nannée]],FSPIELER,8))","v":0},{"$f":"IF(Tabelle3[[#This Row],[Position\nG / D / FC / FW]]=\"G\",VLOOKUP($M$5-Tabelle3[[#This Row],[Jahr\nannée]],FGOALIE,10),VLOOKUP($M$5-Tabelle3[[#This Row],[Jahr\nannée]],FSPIELER,10))","v":0},{"$f":"IF(Tabelle3[[#This Row],[Position\nG / D / FC / FW]]=\"G\",VLOOKUP($M$5-Tabelle3[[#This Row],[Jahr\nannée]],FGOALIE,11),VLOOKUP($M$5-Tabelle3[[#This Row],[Jahr\nannée]],FSPIELER,11))","v":10}]
[3,null,null,"-",null,null,null,null,null,{"$f":"IF(ISBLANK('3'!$H$4),\"-\",'3'!$H$4)","v":"-"},{"$f":"IF(ISBLANK('3'!$H$5),\"-\",'3'!$H$5)","v":"-"},{"$f":"IF(ISBLANK('3'!$H$2),\"-\",'3'!$H$2)","v":"-"},null,null,null,null,null,null,null,{"$f":"'3'!$M$16","v":0},{"$f":"'3'!$M$20","v":0},{"$f":"'3'!$M$24","v":0},{"$f":"'3'!$M$29","v":0},{"$f":"'3'!$M$33","v":0},{"$f":"'3'!$M$37","v":0},{"$f":"'3'!$M$13","v":0},{"$f":"'3'!$AA$2","v":0},{"$f":"'3'!$AA$4","v":0},{"$f":"'3'!$AA$3","v":0},{"$f":"IF(Tabelle3[[#This Row],[SKILL]]=0,\"-\",IF(Tabelle3[[#This Row],[Sex]]=\"M\",SUMPRODUCT(Tabelle3[[#This Row],[SKILL]:[VERANLAGUNG\nPREDISPOSITION]],AJ13:AS13),SUMPRODUCT(Tabelle3[[#This Row],[SKILL]:[VERANLAGUNG\nPREDISPOSITION]],AT13:BC13)))","v":"-"},{"$f":"IFERROR(RANK(Tabelle3[[#This Row],[TOTAL ]],Tabelle3[[TOTAL ]],0),\"-\")","v":"-"},null,null,null,null,{"$f":"IF(Tabelle3[[#This Row],[Position\nG / D / FC / FW]]=\"G\",VLOOKUP($M$5-Tabelle3[[#This Row],[Jahr\nannée]],GOALI,2),VLOOKUP($M$5-Tabelle3[[#This Row],[Jahr\nannée]],SPIELER,2))","v":10},{"$f":"IF(Tabelle3[[#This Row],[Position\nG / D / FC / FW]]=\"G\",VLOOKUP($M$5-Tabelle3[[#This Row],[Jahr\nannée]],GOALI,3),VLOOKUP($M$5-Tabelle3[[#This Row],[Jahr\nannée]],SPIELER,3))","v":10},{"$f":"IF(Tabelle3[[#This Row],[Position\nG / D / FC / FW]]=\"G\",VLOOKUP($M$5-Tabelle3[[#This Row],[Jahr\nannée]],GOALI,4),VLOOKUP($M$5-Tabelle3[[#This Row],[Jahr\nannée]],SPIELER,4))","v":20},{"$f":"IF(Tabelle3[[#This Row],[Position\nG / D / FC / FW]]=\"G\",VLOOKUP($M$5-Tabelle3[[#This Row],[Jahr\nannée]],GOALI,5),VLOOKUP($M$5-Tabelle3[[#This Row],[Jahr\nannée]],SPIELER,5))","v":15},{"$f":"IF(Tabelle3[[#This Row],[Position\nG / D / FC / FW]]=\"G\",VLOOKUP($M$5-Tabelle3[[#This Row],[Jahr\nannée]],GOALI,6),VLOOKUP($M$5-Tabelle3[[#This Row],[Jahr\nannée]],SPIELER,6))","v":10},{"$f":"IF(Tabelle3[[#This Row],[Position\nG / D / FC / FW]]=\"G\",VLOOKUP($M$5-Tabelle3[[#This Row],[Jahr\nannée]],GOALI,9),VLOOKUP($M$5-Tabelle3[[#This Row],[Jahr\nannée]],SPIELER,9))","v":15},{"$f":"IF(Tabelle3[[#This Row],[Position\nG / D / FC / FW]]=\"G\",VLOOKUP($M$5-Tabelle3[[#This Row],[Jahr\nannée]],GOALI,7),VLOOKUP($M$5-Tabelle3[[#This Row],[Jahr\nannée]],SPIELER,7))","v":10},{"$f":"IF(Tabelle3[[#This Row],[Position\nG / D / FC / FW]]=\"G\",VLOOKUP($M$5-Tabelle3[[#This Row],[Jahr\nannée]],GOALI,8),VLOOKUP($M$5-Tabelle3[[#This Row],[Jahr\nannée]],SPIELER,8))","v":0},{"$f":"IF(Tabelle3[[#This Row],[Position\nG / D / FC / FW]]=\"G\",VLOOKUP($M$5-Tabelle3[[#This Row],[Jahr\nannée]],GOALI,10),VLOOKUP($M$5-Tabelle3[[#This Row],[Jahr\nannée]],SPIELER,10))","v":0},{"$f":"IF(Tabelle3[[#This Row],[Position\nG / D / FC / FW]]=\"G\",VLOOKUP($M$5-Tabelle3[[#This Row],[Jahr\nannée]],GOALI,11),VLOOKUP($M$5-Tabelle3[[#This Row],[Jahr\nannée]],SPIELER,11))","v":10},{"$f":"IF(Tabelle3[[#This Row],[Position\nG / D / FC / FW]]=\"G\",VLOOKUP($M$5-Tabelle3[[#This Row],[Jahr\nannée]],FGOALIE,2),VLOOKUP($M$5-Tabelle3[[#This Row],[Jahr\nannée]],FSPIELER,2))","v":10},{"$f":"IF(Tabelle3[[#This Row],[Position\nG / D / FC / FW]]=\"G\",VLOOKUP($M$5-Tabelle3[[#This Row],[Jahr\nannée]],FGOALIE,3),VLOOKUP($M$5-Tabelle3[[#This Row],[Jahr\nannée]],FSPIELER,3))","v":10},{"$f":"IF(Tabelle3[[#This Row],[Position\nG / D / FC / FW]]=\"G\",VLOOKUP($M$5-Tabelle3[[#This Row],[Jahr\nannée]],FGOALIE,4),VLOOKUP($M$5-Tabelle3[[#This Row],[Jahr\nannée]],FSPIELER,4))","v":20},{"$f":"IF(Tabelle3[[#This Row],[Position\nG / D / FC / FW]]=\"G\",VLOOKUP($M$5-Tabelle3[[#This Row],[Jahr\nannée]],FGOALIE,5),VLOOKUP($M$5-Tabelle3[[#This Row],[Jahr\nannée]],FSPIELER,5))","v":15},{"$f":"IF(Tabelle3[[#This Row],[Position\nG / D / FC / FW]]=\"G\",VLOOKUP($M$5-Tabelle3[[#This Row],[Jahr\nannée]],FGOALIE,6),VLOOKUP($M$5-Tabelle3[[#This Row],[Jahr\nannée]],FSPIELER,6))","v":10},{"$f":"IF(Tabelle3[[#This Row],[Position\nG / D / FC / FW]]=\"G\",VLOOKUP($M$5-Tabelle3[[#This Row],[Jahr\nannée]],FGOALIE,9),VLOOKUP($M$5-Tabelle3[[#This Row],[Jahr\nannée]],FSPIELER,9))","v":15},{"$f":"IF(Tabelle3[[#This Row],[Position\nG / D / FC / FW]]=\"G\",VLOOKUP($M$5-Tabelle3[[#This Row],[Jahr\nannée]],FGOALIE,7),VLOOKUP($M$5-Tabelle3[[#This Row],[Jahr\nannée]],FSPIELER,7))","v":10},{"$f":"IF(Tabelle3[[#This Row],[Position\nG / D / FC / FW]]=\"G\",VLOOKUP($M$5-Tabelle3[[#This Row],[Jahr\nannée]],FGOALIE,8),VLOOKUP($M$5-Tabelle3[[#This Row],[Jahr\nannée]],FSPIELER,8))","v":0},{"$f":"IF(Tabelle3[[#This Row],[Position\nG / D / FC / FW]]=\"G\",VLOOKUP($M$5-Tabelle3[[#This Row],[Jahr\nannée]],FGOALIE,10),VLOOKUP($M$5-Tabelle3[[#This Row],[Jahr\nannée]],FSPIELER,10))","v":0},{"$f":"IF(Tabelle3[[#This Row],[Position\nG / D / FC / FW]]=\"G\",VLOOKUP($M$5-Tabelle3[[#This Row],[Jahr\nannée]],FGOALIE,11),VLOOKUP($M$5-Tabelle3[[#This Row],[Jahr\nannée]],FSPIELER,11))","v":10}]
[4,null,null,"-",null,null,null,null,null,{"$f":"IF(ISBLANK('4'!$H$4),\"-\",'4'!$H$4)","v":"-"},{"$f":"IF(ISBLANK('4'!$H$5),\"-\",'4'!$H$5)","v":"-"},{"$f":"IF(ISBLANK('4'!$H$2),\"-\",'4'!$H$2)","v":"-"},null,null,null,null,null,null,null,{"$f":"'4'!$M$16","v":0},{"$f":"'4'!$M$20","v":0},{"$f":"'4'!$M$24","v":0},{"$f":"'4'!$M$29","v":0},{"$f":"'4'!$M$33","v":0},{"$f":"'4'!$M$37","v":0},{"$f":"'4'!$M$13","v":0},{"$f":"'4'!$AA$2","v":0},{"$f":"'4'!$AA$4","v":0},{"$f":"'4'!$AA$3","v":0},{"$f":"IF(Tabelle3[[#This Row],[SKILL]]=0,\"-\",IF(Tabelle3[[#This Row],[Sex]]=\"M\",SUMPRODUCT(Tabelle3[[#This Row],[SKILL]:[VERANLAGUNG\nPREDISPOSITION]],AJ14:AS14),SUMPRODUCT(Tabelle3[[#This Row],[SKILL]:[VERANLAGUNG\nPREDISPOSITION]],AT14:BC14)))","v":"-"},{"$f":"IFERROR(RANK(Tabelle3[[#This Row],[TOTAL ]],Tabelle3[[TOTAL ]],0),\"-\")","v":"-"},null,null,null,null,{"$f":"IF(Tabelle3[[#This Row],[Position\nG / D / FC / FW]]=\"G\",VLOOKUP($M$5-Tabelle3[[#This Row],[Jahr\nannée]],GOALI,2),VLOOKUP($M$5-Tabelle3[[#This Row],[Jahr\nannée]],SPIELER,2))","v":10},{"$f":"IF(Tabelle3[[#This Row],[Position\nG / D / FC / FW]]=\"G\",VLOOKUP($M$5-Tabelle3[[#This Row],[Jahr\nannée]],GOALI,3),VLOOKUP($M$5-Tabelle3[[#This Row],[Jahr\nannée]],SPIELER,3))","v":10},{"$f":"IF(Tabelle3[[#This Row],[Position\nG / D / FC / FW]]=\"G\",VLOOKUP($M$5-Tabelle3[[#This Row],[Jahr\nannée]],GOALI,4),VLOOKUP($M$5-Tabelle3[[#This Row],[Jahr\nannée]],SPIELER,4))","v":20},{"$f":"IF(Tabelle3[[#This Row],[Position\nG / D / FC / FW]]=\"G\",VLOOKUP($M$5-Tabelle3[[#This Row],[Jahr\nannée]],GOALI,5),VLOOKUP($M$5-Tabelle3[[#This Row],[Jahr\nannée]],SPIELER,5))","v":15},{"$f":"IF(Tabelle3[[#This Row],[Position\nG / D / FC / FW]]=\"G\",VLOOKUP($M$5-Tabelle3[[#This Row],[Jahr\nannée]],GOALI,6),VLOOKUP($M$5-Tabelle3[[#This Row],[Jahr\nannée]],SPIELER,6))","v":10},{"$f":"IF(Tabelle3[[#This Row],[Position\nG / D / FC / FW]]=\"G\",VLOOKUP($M$5-Tabelle3[[#This Row],[Jahr\nannée]],GOALI,9),VLOOKUP($M$5-Tabelle3[[#This Row],[Jahr\nannée]],SPIELER,9))","v":15},{"$f":"IF(Tabelle3[[#This Row],[Position\nG / D / FC / FW]]=\"G\",VLOOKUP($M$5-Tabelle3[[#This Row],[Jahr\nannée]],GOALI,7),VLOOKUP($M$5-Tabelle3[[#This Row],[Jahr\nannée]],SPIELER,7))","v":10},{"$f":"IF(Tabelle3[[#This Row],[Position\nG / D / FC / FW]]=\"G\",VLOOKUP($M$5-Tabelle3[[#This Row],[Jahr\nannée]],GOALI,8),VLOOKUP($M$5-Tabelle3[[#This Row],[Jahr\nannée]],SPIELER,8))","v":0},{"$f":"IF(Tabelle3[[#This Row],[Position\nG / D / FC / FW]]=\"G\",VLOOKUP($M$5-Tabelle3[[#This Row],[Jahr\nannée]],GOALI,10),VLOOKUP($M$5-Tabelle3[[#This Row],[Jahr\nannée]],SPIELER,10))","v":0},{"$f":"IF(Tabelle3[[#This Row],[Position\nG / D / FC / FW]]=\"G\",VLOOKUP($M$5-Tabelle3[[#This Row],[Jahr\nannée]],GOALI,11),VLOOKUP($M$5-Tabelle3[[#This Row],[Jahr\nannée]],SPIELER,11))","v":10},{"$f":"IF(Tabelle3[[#This Row],[Position\nG / D / FC / FW]]=\"G\",VLOOKUP($M$5-Tabelle3[[#This Row],[Jahr\nannée]],FGOALIE,2),VLOOKUP($M$5-Tabelle3[[#This Row],[Jahr\nannée]],FSPIELER,2))","v":10},{"$f":"IF(Tabelle3[[#This Row],[Position\nG / D / FC / FW]]=\"G\",VLOOKUP($M$5-Tabelle3[[#This Row],[Jahr\nannée]],FGOALIE,3),VLOOKUP($M$5-Tabelle3[[#This Row],[Jahr\nannée]],FSPIELER,3))","v":10},{"$f":"IF(Tabelle3[[#This Row],[Position\nG / D / FC / FW]]=\"G\",VLOOKUP($M$5-Tabelle3[[#This Row],[Jahr\nannée]],FGOALIE,4),VLOOKUP($M$5-Tabelle3[[#This Row],[Jahr\nannée]],FSPIELER,4))","v":20},{"$f":"IF(Tabelle3[[#This Row],[Position\nG / D / FC / FW]]=\"G\",VLOOKUP($M$5-Tabelle3[[#This Row],[Jahr\nannée]],FGOALIE,5),VLOOKUP($M$5-Tabelle3[[#This Row],[Jahr\nannée]],FSPIELER,5))","v":15},{"$f":"IF(Tabelle3[[#This Row],[Position\nG / D / FC / FW]]=\"G\",VLOOKUP($M$5-Tabelle3[[#This Row],[Jahr\nannée]],FGOALIE,6),VLOOKUP($M$5-Tabelle3[[#This Row],[Jahr\nannée]],FSPIELER,6))","v":10},{"$f":"IF(Tabelle3[[#This Row],[Position\nG / D / FC / FW]]=\"G\",VLOOKUP($M$5-Tabelle3[[#This Row],[Jahr\nannée]],FGOALIE,9),VLOOKUP($M$5-Tabelle3[[#This Row],[Jahr\nannée]],FSPIELER,9))","v":15},{"$f":"IF(Tabelle3[[#This Row],[Position\nG / D / FC / FW]]=\"G\",VLOOKUP($M$5-Tabelle3[[#This Row],[Jahr\nannée]],FGOALIE,7),VLOOKUP($M$5-Tabelle3[[#This Row],[Jahr\nannée]],FSPIELER,7))","v":10},{"$f":"IF(Tabelle3[[#This Row],[Position\nG / D / FC / FW]]=\"G\",VLOOKUP($M$5-Tabelle3[[#This Row],[Jahr\nannée]],FGOALIE,8),VLOOKUP($M$5-Tabelle3[[#This Row],[Jahr\nannée]],FSPIELER,8))","v":0},{"$f":"IF(Tabelle3[[#This Row],[Position\nG / D / FC / FW]]=\"G\",VLOOKUP($M$5-Tabelle3[[#This Row],[Jahr\nannée]],FGOALIE,10),VLOOKUP($M$5-Tabelle3[[#This Row],[Jahr\nannée]],FSPIELER,10))","v":0},{"$f":"IF(Tabelle3[[#This Row],[Position\nG / D / FC / FW]]=\"G\",VLOOKUP($M$5-Tabelle3[[#This Row],[Jahr\nannée]],FGOALIE,11),VLOOKUP($M$5-Tabelle3[[#This Row],[Jahr\nannée]],FSPIELER,11))","v":10}]
[5,null,null,"-",null,null,null,null,null,{"$f":"IF(ISBLANK('5'!$H$4),\"-\",'5'!$H$4)","v":"-"},{"$f":"IF(ISBLANK('5'!$H$5),\"-\",'5'!$H$5)","v":"-"},{"$f":"IF(ISBLANK('5'!$H$2),\"-\",'5'!$H$2)","v":"-"},null,null,null,null,null,null,null,{"$f":"'5'!$M$16","v":0},{"$f":"'5'!$M$20","v":0},{"$f":"'5'!$M$24","v":0},{"$f":"'5'!$M$29","v":0},{"$f":"'5'!$M$33","v":0},{"$f":"'5'!$M$37","v":0},{"$f":"'5'!$M$13","v":0},{"$f":"'5'!$AA$2","v":0},{"$f":"'5'!$AA$4","v":0},{"$f":"'5'!$AA$3","v":0},{"$f":"IF(Tabelle3[[#This Row],[SKILL]]=0,\"-\",IF(Tabelle3[[#This Row],[Sex]]=\"M\",SUMPRODUCT(Tabelle3[[#This Row],[SKILL]:[VERANLAGUNG\nPREDISPOSITION]],AJ15:AS15),SUMPRODUCT(Tabelle3[[#This Row],[SKILL]:[VERANLAGUNG\nPREDISPOSITION]],AT15:BC15)))","v":"-"},{"$f":"IFERROR(RANK(Tabelle3[[#This Row],[TOTAL ]],Tabelle3[[TOTAL ]],0),\"-\")","v":"-"},null,null,null,null,{"$f":"IF(Tabelle3[[#This Row],[Position\nG / D / FC / FW]]=\"G\",VLOOKUP($M$5-Tabelle3[[#This Row],[Jahr\nannée]],GOALI,2),VLOOKUP($M$5-Tabelle3[[#This Row],[Jahr\nannée]],SPIELER,2))","v":10},{"$f":"IF(Tabelle3[[#This Row],[Position\nG / D / FC / FW]]=\"G\",VLOOKUP($M$5-Tabelle3[[#This Row],[Jahr\nannée]],GOALI,3),VLOOKUP($M$5-Tabelle3[[#This Row],[Jahr\nannée]],SPIELER,3))","v":10},{"$f":"IF(Tabelle3[[#This Row],[Position\nG / D / FC / FW]]=\"G\",VLOOKUP($M$5-Tabelle3[[#This Row],[Jahr\nannée]],GOALI,4),VLOOKUP($M$5-Tabelle3[[#This Row],[Jahr\nannée]],SPIELER,4))","v":20},{"$f":"IF(Tabelle3[[#This Row],[Position\nG / D / FC / FW]]=\"G\",VLOOKUP($M$5-Tabelle3[[#This Row],[Jahr\nannée]],GOALI,5),VLOOKUP($M$5-Tabelle3[[#This Row],[Jahr\nannée]],SPIELER,5))","v":15},{"$f":"IF(Tabelle3[[#This Row],[Position\nG / D / FC / FW]]=\"G\",VLOOKUP($M$5-Tabelle3[[#This Row],[Jahr\nannée]],GOALI,6),VLOOKUP($M$5-Tabelle3[[#This Row],[Jahr\nannée]],SPIELER,6))","v":10},{"$f":"IF(Tabelle3[[#This Row],[Position\nG / D / FC / FW]]=\"G\",VLOOKUP($M$5-Tabelle3[[#This Row],[Jahr\nannée]],GOALI,9),VLOOKUP($M$5-Tabelle3[[#This Row],[Jahr\nannée]],SPIELER,9))","v":15},{"$f":"IF(Tabelle3[[#This Row],[Position\nG / D / FC / FW]]=\"G\",VLOOKUP($M$5-Tabelle3[[#This Row],[Jahr\nannée]],GOALI,7),VLOOKUP($M$5-Tabelle3[[#This Row],[Jahr\nannée]],SPIELER,7))","v":10},{"$f":"IF(Tabelle3[[#This Row],[Position\nG / D / FC / FW]]=\"G\",VLOOKUP($M$5-Tabelle3[[#This Row],[Jahr\nannée]],GOALI,8),VLOOKUP($M$5-Tabelle3[[#This Row],[Jahr\nannée]],SPIELER,8))","v":0},{"$f":"IF(Tabelle3[[#This Row],[Position\nG / D / FC / FW]]=\"G\",VLOOKUP($M$5-Tabelle3[[#This Row],[Jahr\nannée]],GOALI,10),VLOOKUP($M$5-Tabelle3[[#This Row],[Jahr\nannée]],SPIELER,10))","v":0},{"$f":"IF(Tabelle3[[#This Row],[Position\nG / D / FC / FW]]=\"G\",VLOOKUP($M$5-Tabelle3[[#This Row],[Jahr\nannée]],GOALI,11),VLOOKUP($M$5-Tabelle3[[#This Row],[Jahr\nannée]],SPIELER,11))","v":10},{"$f":"IF(Tabelle3[[#This Row],[Position\nG / D / FC / FW]]=\"G\",VLOOKUP($M$5-Tabelle3[[#This Row],[Jahr\nannée]],FGOALIE,2),VLOOKUP($M$5-Tabelle3[[#This Row],[Jahr\nannée]],FSPIELER,2))","v":10},{"$f":"IF(Tabelle3[[#This Row],[Position\nG / D / FC / FW]]=\"G\",VLOOKUP($M$5-Tabelle3[[#This Row],[Jahr\nannée]],FGOALIE,3),VLOOKUP($M$5-Tabelle3[[#This Row],[Jahr\nannée]],FSPIELER,3))","v":10},{"$f":"IF(Tabelle3[[#This Row],[Position\nG / D / FC / FW]]=\"G\",VLOOKUP($M$5-Tabelle3[[#This Row],[Jahr\nannée]],FGOALIE,4),VLOOKUP($M$5-Tabelle3[[#This Row],[Jahr\nannée]],FSPIELER,4))","v":20},{"$f":"IF(Tabelle3[[#This Row],[Position\nG / D / FC / FW]]=\"G\",VLOOKUP($M$5-Tabelle3[[#This Row],[Jahr\nannée]],FGOALIE,5),VLOOKUP($M$5-Tabelle3[[#This Row],[Jahr\nannée]],FSPIELER,5))","v":15},{"$f":"IF(Tabelle3[[#This Row],[Position\nG / D / FC / FW]]=\"G\",VLOOKUP($M$5-Tabelle3[[#This Row],[Jahr\nannée]],FGOALIE,6),VLOOKUP($M$5-Tabelle3[[#This Row],[Jahr\nannée]],FSPIELER,6))","v":10},{"$f":"IF(Tabelle3[[#This Row],[Position\nG / D / FC / FW]]=\"G\",VLOOKUP($M$5-Tabelle3[[#This Row],[Jahr\nannée]],FGOALIE,9),VLOOKUP($M$5-Tabelle3[[#This Row],[Jahr\nannée]],FSPIELER,9))","v":15},{"$f":"IF(Tabelle3[[#This Row],[Position\nG / D / FC / FW]]=\"G\",VLOOKUP($M$5-Tabelle3[[#This Row],[Jahr\nannée]],FGOALIE,7),VLOOKUP($M$5-Tabelle3[[#This Row],[Jahr\nannée]],FSPIELER,7))","v":10},{"$f":"IF(Tabelle3[[#This Row],[Position\nG / D / FC / FW]]=\"G\",VLOOKUP($M$5-Tabelle3[[#This Row],[Jahr\nannée]],FGOALIE,8),VLOOKUP($M$5-Tabelle3[[#This Row],[Jahr\nannée]],FSPIELER,8))","v":0},{"$f":"IF(Tabelle3[[#This Row],[Position\nG / D / FC / FW]]=\"G\",VLOOKUP($M$5-Tabelle3[[#This Row],[Jahr\nannée]],FGOALIE,10),VLOOKUP($M$5-Tabelle3[[#This Row],[Jahr\nannée]],FSPIELER,10))","v":0},{"$f":"IF(Tabelle3[[#This Row],[Position\nG / D / FC / FW]]=\"G\",VLOOKUP($M$5-Tabelle3[[#This Row],[Jahr\nannée]],FGOALIE,11),VLOOKUP($M$5-Tabelle3[[#This Row],[Jahr\nannée]],FSPIELER,11))","v":10}]
[6,null,null,"-",null,null,null,null,null,{"$f":"IF(ISBLANK('6'!$H$4),\"-\",'6'!$H$4)","v":"-"},{"$f":"IF(ISBLANK('6'!$H$5),\"-\",'6'!$H$5)","v":"-"},{"$f":"IF(ISBLANK('6'!$H$2),\"-\",'6'!$H$2)","v":"-"},null,null,null,null,null,null,null,{"$f":"'6'!$M$16","v":0},{"$f":"'6'!$M$20","v":0},{"$f":"'6'!$M$24","v":0},{"$f":"'6'!$M$29","v":0},{"$f":"'6'!$M$33","v":0},{"$f":"'6'!$M$37","v":0},{"$f":"'6'!$M$13","v":0},{"$f":"'6'!$AA$2","v":0},{"$f":"'6'!$AA$4","v":0},{"$f":"'6'!$AA$3","v":0},{"$f":"IF(Tabelle3[[#This Row],[SKILL]]=0,\"-\",IF(Tabelle3[[#This Row],[Sex]]=\"M\",SUMPRODUCT(Tabelle3[[#This Row],[SKILL]:[VERANLAGUNG\nPREDISPOSITION]],AJ16:AS16),SUMPRODUCT(Tabelle3[[#This Row],[SKILL]:[VERANLAGUNG\nPREDISPOSITION]],AT16:BC16)))","v":"-"},{"$f":"IFERROR(RANK(Tabelle3[[#This Row],[TOTAL ]],Tabelle3[[TOTAL ]],0),\"-\")","v":"-"},null,null,null,null,{"$f":"IF(Tabelle3[[#This Row],[Position\nG / D / FC / FW]]=\"G\",VLOOKUP($M$5-Tabelle3[[#This Row],[Jahr\nannée]],GOALI,2),VLOOKUP($M$5-Tabelle3[[#This Row],[Jahr\nannée]],SPIELER,2))","v":10},{"$f":"IF(Tabelle3[[#This Row],[Position\nG / D / FC / FW]]=\"G\",VLOOKUP($M$5-Tabelle3[[#This Row],[Jahr\nannée]],GOALI,3),VLOOKUP($M$5-Tabelle3[[#This Row],[Jahr\nannée]],SPIELER,3))","v":10},{"$f":"IF(Tabelle3[[#This Row],[Position\nG / D / FC / FW]]=\"G\",VLOOKUP($M$5-Tabelle3[[#This Row],[Jahr\nannée]],GOALI,4),VLOOKUP($M$5-Tabelle3[[#This Row],[Jahr\nannée]],SPIELER,4))","v":20},{"$f":"IF(Tabelle3[[#This Row],[Position\nG / D / FC / FW]]=\"G\",VLOOKUP($M$5-Tabelle3[[#This Row],[Jahr\nannée]],GOALI,5),VLOOKUP($M$5-Tabelle3[[#This Row],[Jahr\nannée]],SPIELER,5))","v":15},{"$f":"IF(Tabelle3[[#This Row],[Position\nG / D / FC / FW]]=\"G\",VLOOKUP($M$5-Tabelle3[[#This Row],[Jahr\nannée]],GOALI,6),VLOOKUP($M$5-Tabelle3[[#This Row],[Jahr\nannée]],SPIELER,6))","v":10},{"$f":"IF(Tabelle3[[#This Row],[Position\nG / D / FC / FW]]=\"G\",VLOOKUP($M$5-Tabelle3[[#This Row],[Jahr\nannée]],GOALI,9),VLOOKUP($M$5-Tabelle3[[#This Row],[Jahr\nannée]],SPIELER,9))","v":15},{"$f":"IF(Tabelle3[[#This Row],[Position\nG / D / FC / FW]]=\"G\",VLOOKUP($M$5-Tabelle3[[#This Row],[Jahr\nannée]],GOALI,7),VLOOKUP($M$5-Tabelle3[[#This Row],[Jahr\nannée]],SPIELER,7))","v":10},{"$f":"IF(Tabelle3[[#This Row],[Position\nG / D / FC / FW]]=\"G\",VLOOKUP($M$5-Tabelle3[[#This Row],[Jahr\nannée]],GOALI,8),VLOOKUP($M$5-Tabelle3[[#This Row],[Jahr\nannée]],SPIELER,8))","v":0},{"$f":"IF(Tabelle3[[#This Row],[Position\nG / D / FC / FW]]=\"G\",VLOOKUP($M$5-Tabelle3[[#This Row],[Jahr\nannée]],GOALI,10),VLOOKUP($M$5-Tabelle3[[#This Row],[Jahr\nannée]],SPIELER,10))","v":0},{"$f":"IF(Tabelle3[[#This Row],[Position\nG / D / FC / FW]]=\"G\",VLOOKUP($M$5-Tabelle3[[#This Row],[Jahr\nannée]],GOALI,11),VLOOKUP($M$5-Tabelle3[[#This Row],[Jahr\nannée]],SPIELER,11))","v":10},{"$f":"IF(Tabelle3[[#This Row],[Position\nG / D / FC / FW]]=\"G\",VLOOKUP($M$5-Tabelle3[[#This Row],[Jahr\nannée]],FGOALIE,2),VLOOKUP($M$5-Tabelle3[[#This Row],[Jahr\nannée]],FSPIELER,2))","v":10},{"$f":"IF(Tabelle3[[#This Row],[Position\nG / D / FC / FW]]=\"G\",VLOOKUP($M$5-Tabelle3[[#This Row],[Jahr\nannée]],FGOALIE,3),VLOOKUP($M$5-Tabelle3[[#This Row],[Jahr\nannée]],FSPIELER,3))","v":10},{"$f":"IF(Tabelle3[[#This Row],[Position\nG / D / FC / FW]]=\"G\",VLOOKUP($M$5-Tabelle3[[#This Row],[Jahr\nannée]],FGOALIE,4),VLOOKUP($M$5-Tabelle3[[#This Row],[Jahr\nannée]],FSPIELER,4))","v":20},{"$f":"IF(Tabelle3[[#This Row],[Position\nG / D / FC / FW]]=\"G\",VLOOKUP($M$5-Tabelle3[[#This Row],[Jahr\nannée]],FGOALIE,5),VLOOKUP($M$5-Tabelle3[[#This Row],[Jahr\nannée]],FSPIELER,5))","v":15},{"$f":"IF(Tabelle3[[#This Row],[Position\nG / D / FC / FW]]=\"G\",VLOOKUP($M$5-Tabelle3[[#This Row],[Jahr\nannée]],FGOALIE,6),VLOOKUP($M$5-Tabelle3[[#This Row],[Jahr\nannée]],FSPIELER,6))","v":10},{"$f":"IF(Tabelle3[[#This Row],[Position\nG / D / FC / FW]]=\"G\",VLOOKUP($M$5-Tabelle3[[#This Row],[Jahr\nannée]],FGOALIE,9),VLOOKUP($M$5-Tabelle3[[#This Row],[Jahr\nannée]],FSPIELER,9))","v":15},{"$f":"IF(Tabelle3[[#This Row],[Position\nG / D / FC / FW]]=\"G\",VLOOKUP($M$5-Tabelle3[[#This Row],[Jahr\nannée]],FGOALIE,7),VLOOKUP($M$5-Tabelle3[[#This Row],[Jahr\nannée]],FSPIELER,7))","v":10},{"$f":"IF(Tabelle3[[#This Row],[Position\nG / D / FC / FW]]=\"G\",VLOOKUP($M$5-Tabelle3[[#This Row],[Jahr\nannée]],FGOALIE,8),VLOOKUP($M$5-Tabelle3[[#This Row],[Jahr\nannée]],FSPIELER,8))","v":0},{"$f":"IF(Tabelle3[[#This Row],[Position\nG / D / FC / FW]]=\"G\",VLOOKUP($M$5-Tabelle3[[#This Row],[Jahr\nannée]],FGOALIE,10),VLOOKUP($M$5-Tabelle3[[#This Row],[Jahr\nannée]],FSPIELER,10))","v":0},{"$f":"IF(Tabelle3[[#This Row],[Position\nG / D / FC / FW]]=\"G\",VLOOKUP($M$5-Tabelle3[[#This Row],[Jahr\nannée]],FGOALIE,11),VLOOKUP($M$5-Tabelle3[[#This Row],[Jahr\nannée]],FSPIELER,11))","v":10}]
[7,null,null,"-",null,null,null,null,null,{"$f":"IF(ISBLANK('7'!$H$4),\"-\",'7'!$H$4)","v":"-"},{"$f":"IF(ISBLANK('7'!$H$5),\"-\",'7'!$H$5)","v":"-"},{"$f":"IF(ISBLANK('7'!$H$2),\"-\",'7'!$H$2)","v":"-"},null,null,null,null,null,null,null,{"$f":"'7'!$M$16","v":0},{"$f":"'7'!$M$20","v":0},{"$f":"'7'!$M$24","v":0},{"$f":"'7'!$M$29","v":0},{"$f":"'7'!$M$33","v":0},{"$f":"'7'!$M$37","v":0},{"$f":"'7'!$M$13","v":0},{"$f":"'7'!$AA$2","v":0},{"$f":"'7'!$AA$4","v":0},{"$f":"'7'!$AA$3","v":0},{"$f":"IF(Tabelle3[[#This Row],[SKILL]]=0,\"-\",IF(Tabelle3[[#This Row],[Sex]]=\"M\",SUMPRODUCT(Tabelle3[[#This Row],[SKILL]:[VERANLAGUNG\nPREDISPOSITION]],AJ17:AS17),SUMPRODUCT(Tabelle3[[#This Row],[SKILL]:[VERANLAGUNG\nPREDISPOSITION]],AT17:BC17)))","v":"-"},{"$f":"IFERROR(RANK(Tabelle3[[#This Row],[TOTAL ]],Tabelle3[[TOTAL ]],0),\"-\")","v":"-"},null,null,null,null,{"$f":"IF(Tabelle3[[#This Row],[Position\nG / D / FC / FW]]=\"G\",VLOOKUP($M$5-Tabelle3[[#This Row],[Jahr\nannée]],GOALI,2),VLOOKUP($M$5-Tabelle3[[#This Row],[Jahr\nannée]],SPIELER,2))","v":10},{"$f":"IF(Tabelle3[[#This Row],[Position\nG / D / FC / FW]]=\"G\",VLOOKUP($M$5-Tabelle3[[#This Row],[Jahr\nannée]],GOALI,3),VLOOKUP($M$5-Tabelle3[[#This Row],[Jahr\nannée]],SPIELER,3))","v":10},{"$f":"IF(Tabelle3[[#This Row],[Position\nG / D / FC / FW]]=\"G\",VLOOKUP($M$5-Tabelle3[[#This Row],[Jahr\nannée]],GOALI,4),VLOOKUP($M$5-Tabelle3[[#This Row],[Jahr\nannée]],SPIELER,4))","v":20},{"$f":"IF(Tabelle3[[#This Row],[Position\nG / D / FC / FW]]=\"G\",VLOOKUP($M$5-Tabelle3[[#This Row],[Jahr\nannée]],GOALI,5),VLOOKUP($M$5-Tabelle3[[#This Row],[Jahr\nannée]],SPIELER,5))","v":15},{"$f":"IF(Tabelle3[[#This Row],[Position\nG / D / FC / FW]]=\"G\",VLOOKUP($M$5-Tabelle3[[#This Row],[Jahr\nannée]],GOALI,6),VLOOKUP($M$5-Tabelle3[[#This Row],[Jahr\nannée]],SPIELER,6))","v":10},{"$f":"IF(Tabelle3[[#This Row],[Position\nG / D / FC / FW]]=\"G\",VLOOKUP($M$5-Tabelle3[[#This Row],[Jahr\nannée]],GOALI,9),VLOOKUP($M$5-Tabelle3[[#This Row],[Jahr\nannée]],SPIELER,9))","v":15},{"$f":"IF(Tabelle3[[#This Row],[Position\nG / D / FC / FW]]=\"G\",VLOOKUP($M$5-Tabelle3[[#This Row],[Jahr\nannée]],GOALI,7),VLOOKUP($M$5-Tabelle3[[#This Row],[Jahr\nannée]],SPIELER,7))","v":10},{"$f":"IF(Tabelle3[[#This Row],[Position\nG / D / FC / FW]]=\"G\",VLOOKUP($M$5-Tabelle3[[#This Row],[Jahr\nannée]],GOALI,8),VLOOKUP($M$5-Tabelle3[[#This Row],[Jahr\nannée]],SPIELER,8))","v":0},{"$f":"IF(Tabelle3[[#This Row],[Position\nG / D / FC / FW]]=\"G\",VLOOKUP($M$5-Tabelle3[[#This Row],[Jahr\nannée]],GOALI,10),VLOOKUP($M$5-Tabelle3[[#This Row],[Jahr\nannée]],SPIELER,10))","v":0},{"$f":"IF(Tabelle3[[#This Row],[Position\nG / D / FC / FW]]=\"G\",VLOOKUP($M$5-Tabelle3[[#This Row],[Jahr\nannée]],GOALI,11),VLOOKUP($M$5-Tabelle3[[#This Row],[Jahr\nannée]],SPIELER,11))","v":10},{"$f":"IF(Tabelle3[[#This Row],[Position\nG / D / FC / FW]]=\"G\",VLOOKUP($M$5-Tabelle3[[#This Row],[Jahr\nannée]],FGOALIE,2),VLOOKUP($M$5-Tabelle3[[#This Row],[Jahr\nannée]],FSPIELER,2))","v":10},{"$f":"IF(Tabelle3[[#This Row],[Position\nG / D / FC / FW]]=\"G\",VLOOKUP($M$5-Tabelle3[[#This Row],[Jahr\nannée]],FGOALIE,3),VLOOKUP($M$5-Tabelle3[[#This Row],[Jahr\nannée]],FSPIELER,3))","v":10},{"$f":"IF(Tabelle3[[#This Row],[Position\nG / D / FC / FW]]=\"G\",VLOOKUP($M$5-Tabelle3[[#This Row],[Jahr\nannée]],FGOALIE,4),VLOOKUP($M$5-Tabelle3[[#This Row],[Jahr\nannée]],FSPIELER,4))","v":20},{"$f":"IF(Tabelle3[[#This Row],[Position\nG / D / FC / FW]]=\"G\",VLOOKUP($M$5-Tabelle3[[#This Row],[Jahr\nannée]],FGOALIE,5),VLOOKUP($M$5-Tabelle3[[#This Row],[Jahr\nannée]],FSPIELER,5))","v":15},{"$f":"IF(Tabelle3[[#This Row],[Position\nG / D / FC / FW]]=\"G\",VLOOKUP($M$5-Tabelle3[[#This Row],[Jahr\nannée]],FGOALIE,6),VLOOKUP($M$5-Tabelle3[[#This Row],[Jahr\nannée]],FSPIELER,6))","v":10},{"$f":"IF(Tabelle3[[#This Row],[Position\nG / D / FC / FW]]=\"G\",VLOOKUP($M$5-Tabelle3[[#This Row],[Jahr\nannée]],FGOALIE,9),VLOOKUP($M$5-Tabelle3[[#This Row],[Jahr\nannée]],FSPIELER,9))","v":15},{"$f":"IF(Tabelle3[[#This Row],[Position\nG / D / FC / FW]]=\"G\",VLOOKUP($M$5-Tabelle3[[#This Row],[Jahr\nannée]],FGOALIE,7),VLOOKUP($M$5-Tabelle3[[#This Row],[Jahr\nannée]],FSPIELER,7))","v":10},{"$f":"IF(Tabelle3[[#This Row],[Position\nG / D / FC / FW]]=\"G\",VLOOKUP($M$5-Tabelle3[[#This Row],[Jahr\nannée]],FGOALIE,8),VLOOKUP($M$5-Tabelle3[[#This Row],[Jahr\nannée]],FSPIELER,8))","v":0},{"$f":"IF(Tabelle3[[#This Row],[Position\nG / D / FC / FW]]=\"G\",VLOOKUP($M$5-Tabelle3[[#This Row],[Jahr\nannée]],FGOALIE,10),VLOOKUP($M$5-Tabelle3[[#This Row],[Jahr\nannée]],FSPIELER,10))","v":0},{"$f":"IF(Tabelle3[[#This Row],[Position\nG / D / FC / FW]]=\"G\",VLOOKUP($M$5-Tabelle3[[#This Row],[Jahr\nannée]],FGOALIE,11),VLOOKUP($M$5-Tabelle3[[#This Row],[Jahr\nannée]],FSPIELER,11))","v":10}]
[8,null,null,"-",null,null,null,null,null,{"$f":"IF(ISBLANK('8'!$H$4),\"-\",'8'!$H$4)","v":"-"},{"$f":"IF(ISBLANK('8'!$H$5),\"-\",'8'!$H$5)","v":"-"},{"$f":"IF(ISBLANK('8'!$H$2),\"-\",'8'!$H$2)","v":"-"},null,null,null,null,null,null,null,{"$f":"'8'!$M$16","v":0},{"$f":"'8'!$M$20","v":0},{"$f":"'8'!$M$24","v":0},{"$f":"'8'!$M$29","v":0},{"$f":"'8'!$M$33","v":0},{"$f":"'8'!$M$37","v":0},{"$f":"'8'!$M$13","v":0},{"$f":"'8'!$AA$2","v":0},{"$f":"'8'!$AA$4","v":0},{"$f":"'8'!$AA$3","v":0},{"$f":"IF(Tabelle3[[#This Row],[SKILL]]=0,\"-\",IF(Tabelle3[[#This Row],[Sex]]=\"M\",SUMPRODUCT(Tabelle3[[#This Row],[SKILL]:[VERANLAGUNG\nPREDISPOSITION]],AJ18:AS18),SUMPRODUCT(Tabelle3[[#This Row],[SKILL]:[VERANLAGUNG\nPREDISPOSITION]],AT18:BC18)))","v":"-"},{"$f":"IFERROR(RANK(Tabelle3[[#This Row],[TOTAL ]],Tabelle3[[TOTAL ]],0),\"-\")","v":"-"},null,null,null,null,{"$f":"IF(Tabelle3[[#This Row],[Position\nG / D / FC / FW]]=\"G\",VLOOKUP($M$5-Tabelle3[[#This Row],[Jahr\nannée]],GOALI,2),VLOOKUP($M$5-Tabelle3[[#This Row],[Jahr\nannée]],SPIELER,2))","v":10},{"$f":"IF(Tabelle3[[#This Row],[Position\nG / D / FC / FW]]=\"G\",VLOOKUP($M$5-Tabelle3[[#This Row],[Jahr\nannée]],GOALI,3),VLOOKUP($M$5-Tabelle3[[#This Row],[Jahr\nannée]],SPIELER,3))","v":10},{"$f":"IF(Tabelle3[[#This Row],[Position\nG / D / FC / FW]]=\"G\",VLOOKUP($M$5-Tabelle3[[#This Row],[Jahr\nannée]],GOALI,4),VLOOKUP($M$5-Tabelle3[[#This Row],[Jahr\nannée]],SPIELER,4))","v":20},{"$f":"IF(Tabelle3[[#This Row],[Position\nG / D / FC / FW]]=\"G\",VLOOKUP($M$5-Tabelle3[[#This Row],[Jahr\nannée]],GOALI,5),VLOOKUP($M$5-Tabelle3[[#This Row],[Jahr\nannée]],SPIELER,5))","v":15},{"$f":"IF(Tabelle3[[#This Row],[Position\nG / D / FC / FW]]=\"G\",VLOOKUP($M$5-Tabelle3[[#This Row],[Jahr\nannée]],GOALI,6),VLOOKUP($M$5-Tabelle3[[#This Row],[Jahr\nannée]],SPIELER,6))","v":10},{"$f":"IF(Tabelle3[[#This Row],[Position\nG / D / FC / FW]]=\"G\",VLOOKUP($M$5-Tabelle3[[#This Row],[Jahr\nannée]],GOALI,9),VLOOKUP($M$5-Tabelle3[[#This Row],[Jahr\nannée]],SPIELER,9))","v":15},{"$f":"IF(Tabelle3[[#This Row],[Position\nG / D / FC / FW]]=\"G\",VLOOKUP($M$5-Tabelle3[[#This Row],[Jahr\nannée]],GOALI,7),VLOOKUP($M$5-Tabelle3[[#This Row],[Jahr\nannée]],SPIELER,7))","v":10},{"$f":"IF(Tabelle3[[#This Row],[Position\nG / D / FC / FW]]=\"G\",VLOOKUP($M$5-Tabelle3[[#This Row],[Jahr\nannée]],GOALI,8),VLOOKUP($M$5-Tabelle3[[#This Row],[Jahr\nannée]],SPIELER,8))","v":0},{"$f":"IF(Tabelle3[[#This Row],[Position\nG / D / FC / FW]]=\"G\",VLOOKUP($M$5-Tabelle3[[#This Row],[Jahr\nannée]],GOALI,10),VLOOKUP($M$5-Tabelle3[[#This Row],[Jahr\nannée]],SPIELER,10))","v":0},{"$f":"IF(Tabelle3[[#This Row],[Position\nG / D / FC / FW]]=\"G\",VLOOKUP($M$5-Tabelle3[[#This Row],[Jahr\nannée]],GOALI,11),VLOOKUP($M$5-Tabelle3[[#This Row],[Jahr\nannée]],SPIELER,11))","v":10},{"$f":"IF(Tabelle3[[#This Row],[Position\nG / D / FC / FW]]=\"G\",VLOOKUP($M$5-Tabelle3[[#This Row],[Jahr\nannée]],FGOALIE,2),VLOOKUP($M$5-Tabelle3[[#This Row],[Jahr\nannée]],FSPIELER,2))","v":10},{"$f":"IF(Tabelle3[[#This Row],[Position\nG / D / FC / FW]]=\"G\",VLOOKUP($M$5-Tabelle3[[#This Row],[Jahr\nannée]],FGOALIE,3),VLOOKUP($M$5-Tabelle3[[#This Row],[Jahr\nannée]],FSPIELER,3))","v":10},{"$f":"IF(Tabelle3[[#This Row],[Position\nG / D / FC / FW]]=\"G\",VLOOKUP($M$5-Tabelle3[[#This Row],[Jahr\nannée]],FGOALIE,4),VLOOKUP($M$5-Tabelle3[[#This Row],[Jahr\nannée]],FSPIELER,4))","v":20},{"$f":"IF(Tabelle3[[#This Row],[Position\nG / D / FC / FW]]=\"G\",VLOOKUP($M$5-Tabelle3[[#This Row],[Jahr\nannée]],FGOALIE,5),VLOOKUP($M$5-Tabelle3[[#This Row],[Jahr\nannée]],FSPIELER,5))","v":15},{"$f":"IF(Tabelle3[[#This Row],[Position\nG / D / FC / FW]]=\"G\",VLOOKUP($M$5-Tabelle3[[#This Row],[Jahr\nannée]],FGOALIE,6),VLOOKUP($M$5-Tabelle3[[#This Row],[Jahr\nannée]],FSPIELER,6))","v":10},{"$f":"IF(Tabelle3[[#This Row],[Position\nG / D / FC / FW]]=\"G\",VLOOKUP($M$5-Tabelle3[[#This Row],[Jahr\nannée]],FGOALIE,9),VLOOKUP($M$5-Tabelle3[[#This Row],[Jahr\nannée]],FSPIELER,9))","v":15},{"$f":"IF(Tabelle3[[#This Row],[Position\nG / D / FC / FW]]=\"G\",VLOOKUP($M$5-Tabelle3[[#This Row],[Jahr\nannée]],FGOALIE,7),VLOOKUP($M$5-Tabelle3[[#This Row],[Jahr\nannée]],FSPIELER,7))","v":10},{"$f":"IF(Tabelle3[[#This Row],[Position\nG / D / FC / FW]]=\"G\",VLOOKUP($M$5-Tabelle3[[#This Row],[Jahr\nannée]],FGOALIE,8),VLOOKUP($M$5-Tabelle3[[#This Row],[Jahr\nannée]],FSPIELER,8))","v":0},{"$f":"IF(Tabelle3[[#This Row],[Position\nG / D / FC / FW]]=\"G\",VLOOKUP($M$5-Tabelle3[[#This Row],[Jahr\nannée]],FGOALIE,10),VLOOKUP($M$5-Tabelle3[[#This Row],[Jahr\nannée]],FSPIELER,10))","v":0},{"$f":"IF(Tabelle3[[#This Row],[Position\nG / D / FC / FW]]=\"G\",VLOOKUP($M$5-Tabelle3[[#This Row],[Jahr\nannée]],FGOALIE,11),VLOOKUP($M$5-Tabelle3[[#This Row],[Jahr\nannée]],FSPIELER,11))","v":10}]
[9,null,null,"-",null,null,null,null,null,{"$f":"IF(ISBLANK('9'!$H$4),\"-\",'9'!$H$4)","v":"-"},{"$f":"IF(ISBLANK('9'!$H$5),\"-\",'9'!$H$5)","v":"-"},{"$f":"IF(ISBLANK('9'!$H$2),\"-\",'9'!$H$2)","v":"-"},null,null,null,null,null,null,null,{"$f":"'9'!$M$16","v":0},{"$f":"'9'!$M$20","v":0},{"$f":"'9'!$M$24","v":0},{"$f":"'9'!$M$29","v":0},{"$f":"'9'!$M$33","v":0},{"$f":"'9'!$M$37","v":0},{"$f":"'9'!$M$13","v":0},{"$f":"'9'!$AA$2","v":0},{"$f":"'9'!$AA$4","v":0},{"$f":"'9'!$AA$3","v":0},{"$f":"IF(Tabelle3[[#This Row],[SKILL]]=0,\"-\",IF(Tabelle3[[#This Row],[Sex]]=\"M\",SUMPRODUCT(Tabelle3[[#This Row],[SKILL]:[VERANLAGUNG\nPREDISPOSITION]],AJ19:AS19),SUMPRODUCT(Tabelle3[[#This Row],[SKILL]:[VERANLAGUNG\nPREDISPOSITION]],AT19:BC19)))","v":"-"},{"$f":"IFERROR(RANK(Tabelle3[[#This Row],[TOTAL ]],Tabelle3[[TOTAL ]],0),\"-\")","v":"-"},null,null,null,null,{"$f":"IF(Tabelle3[[#This Row],[Position\nG / D / FC / FW]]=\"G\",VLOOKUP($M$5-Tabelle3[[#This Row],[Jahr\nannée]],GOALI,2),VLOOKUP($M$5-Tabelle3[[#This Row],[Jahr\nannée]],SPIELER,2))","v":10},{"$f":"IF(Tabelle3[[#This Row],[Position\nG / D / FC / FW]]=\"G\",VLOOKUP($M$5-Tabelle3[[#This Row],[Jahr\nannée]],GOALI,3),VLOOKUP($M$5-Tabelle3[[#This Row],[Jahr\nannée]],SPIELER,3))","v":10},{"$f":"IF(Tabelle3[[#This Row],[Position\nG / D / FC / FW]]=\"G\",VLOOKUP($M$5-Tabelle3[[#This Row],[Jahr\nannée]],GOALI,4),VLOOKUP($M$5-Tabelle3[[#This Row],[Jahr\nannée]],SPIELER,4))","v":20},{"$f":"IF(Tabelle3[[#This Row],[Position\nG / D / FC / FW]]=\"G\",VLOOKUP($M$5-Tabelle3[[#This Row],[Jahr\nannée]],GOALI,5),VLOOKUP($M$5-Tabelle3[[#This Row],[Jahr\nannée]],SPIELER,5))","v":15},{"$f":"IF(Tabelle3[[#This Row],[Position\nG / D / FC / FW]]=\"G\",VLOOKUP($M$5-Tabelle3[[#This Row],[Jahr\nannée]],GOALI,6),VLOOKUP($M$5-Tabelle3[[#This Row],[Jahr\nannée]],SPIELER,6))","v":10},{"$f":"IF(Tabelle3[[#This Row],[Position\nG / D / FC / FW]]=\"G\",VLOOKUP($M$5-Tabelle3[[#This Row],[Jahr\nannée]],GOALI,9),VLOOKUP($M$5-Tabelle3[[#This Row],[Jahr\nannée]],SPIELER,9))","v":15},{"$f":"IF(Tabelle3[[#This Row],[Position\nG / D / FC / FW]]=\"G\",VLOOKUP($M$5-Tabelle3[[#This Row],[Jahr\nannée]],GOALI,7),VLOOKUP($M$5-Tabelle3[[#This Row],[Jahr\nannée]],SPIELER,7))","v":10},{"$f":"IF(Tabelle3[[#This Row],[Position\nG / D / FC / FW]]=\"G\",VLOOKUP($M$5-Tabelle3[[#This Row],[Jahr\nannée]],GOALI,8),VLOOKUP($M$5-Tabelle3[[#This Row],[Jahr\nannée]],SPIELER,8))","v":0},{"$f":"IF(Tabelle3[[#This Row],[Position\nG / D / FC / FW]]=\"G\",VLOOKUP($M$5-Tabelle3[[#This Row],[Jahr\nannée]],GOALI,10),VLOOKUP($M$5-Tabelle3[[#This Row],[Jahr\nannée]],SPIELER,10))","v":0},{"$f":"IF(Tabelle3[[#This Row],[Position\nG / D / FC / FW]]=\"G\",VLOOKUP($M$5-Tabelle3[[#This Row],[Jahr\nannée]],GOALI,11),VLOOKUP($M$5-Tabelle3[[#This Row],[Jahr\nannée]],SPIELER,11))","v":10},{"$f":"IF(Tabelle3[[#This Row],[Position\nG / D / FC / FW]]=\"G\",VLOOKUP($M$5-Tabelle3[[#This Row],[Jahr\nannée]],FGOALIE,2),VLOOKUP($M$5-Tabelle3[[#This Row],[Jahr\nannée]],FSPIELER,2))","v":10},{"$f":"IF(Tabelle3[[#This Row],[Position\nG / D / FC / FW]]=\"G\",VLOOKUP($M$5-Tabelle3[[#This Row],[Jahr\nannée]],FGOALIE,3),VLOOKUP($M$5-Tabelle3[[#This Row],[Jahr\nannée]],FSPIELER,3))","v":10},{"$f":"IF(Tabelle3[[#This Row],[Position\nG / D / FC / FW]]=\"G\",VLOOKUP($M$5-Tabelle3[[#This Row],[Jahr\nannée]],FGOALIE,4),VLOOKUP($M$5-Tabelle3[[#This Row],[Jahr\nannée]],FSPIELER,4))","v":20},{"$f":"IF(Tabelle3[[#This Row],[Position\nG / D / FC / FW]]=\"G\",VLOOKUP($M$5-Tabelle3[[#This Row],[Jahr\nannée]],FGOALIE,5),VLOOKUP($M$5-Tabelle3[[#This Row],[Jahr\nannée]],FSPIELER,5))","v":15},{"$f":"IF(Tabelle3[[#This Row],[Position\nG / D / FC / FW]]=\"G\",VLOOKUP($M$5-Tabelle3[[#This Row],[Jahr\nannée]],FGOALIE,6),VLOOKUP($M$5-Tabelle3[[#This Row],[Jahr\nannée]],FSPIELER,6))","v":10},{"$f":"IF(Tabelle3[[#This Row],[Position\nG / D / FC / FW]]=\"G\",VLOOKUP($M$5-Tabelle3[[#This Row],[Jahr\nannée]],FGOALIE,9),VLOOKUP($M$5-Tabelle3[[#This Row],[Jahr\nannée]],FSPIELER,9))","v":15},{"$f":"IF(Tabelle3[[#This Row],[Position\nG / D / FC / FW]]=\"G\",VLOOKUP($M$5-Tabelle3[[#This Row],[Jahr\nannée]],FGOALIE,7),VLOOKUP($M$5-Tabelle3[[#This Row],[Jahr\nannée]],FSPIELER,7))","v":10},{"$f":"IF(Tabelle3[[#This Row],[Position\nG / D / FC / FW]]=\"G\",VLOOKUP($M$5-Tabelle3[[#This Row],[Jahr\nannée]],FGOALIE,8),VLOOKUP($M$5-Tabelle3[[#This Row],[Jahr\nannée]],FSPIELER,8))","v":0},{"$f":"IF(Tabelle3[[#This Row],[Position\nG / D / FC / FW]]=\"G\",VLOOKUP($M$5-Tabelle3[[#This Row],[Jahr\nannée]],FGOALIE,10),VLOOKUP($M$5-Tabelle3[[#This Row],[Jahr\nannée]],FSPIELER,10))","v":0},{"$f":"IF(Tabelle3[[#This Row],[Position\nG / D / FC / FW]]=\"G\",VLOOKUP($M$5-Tabelle3[[#This Row],[Jahr\nannée]],FGOALIE,11),VLOOKUP($M$5-Tabelle3[[#This Row],[Jahr\nannée]],FSPIELER,11))","v":10}]
[10,null,null,"-",null,null,null,null,null,{"$f":"IF(ISBLANK('10'!$H$4),\"-\",'10'!$H$4)","v":"-"},{"$f":"IF(ISBLANK('10'!$H$5),\"-\",'10'!$H$5)","v":"-"},{"$f":"IF(ISBLANK('10'!$H$2),\"-\",'10'!$H$2)","v":"-"},null,null,null,null,null,null,null,{"$f":"'10'!$M$16","v":0},{"$f":"'10'!$M$20","v":0},{"$f":"'10'!$M$24","v":0},{"$f":"'10'!$M$29","v":0},{"$f":"'10'!$M$33","v":0},{"$f":"'10'!$M$37","v":0},{"$f":"'10'!$M$13","v":0},{"$f":"'10'!$AA$2","v":0},{"$f":"'10'!$AA$4","v":0},{"$f":"'10'!$AA$3","v":0},{"$f":"IF(Tabelle3[[#This Row],[SKILL]]=0,\"-\",IF(Tabelle3[[#This Row],[Sex]]=\"M\",SUMPRODUCT(Tabelle3[[#This Row],[SKILL]:[VERANLAGUNG\nPREDISPOSITION]],AJ20:AS20),SUMPRODUCT(Tabelle3[[#This Row],[SKILL]:[VERANLAGUNG\nPREDISPOSITION]],AT20:BC20)))","v":"-"},{"$f":"IFERROR(RANK(Tabelle3[[#This Row],[TOTAL ]],Tabelle3[[TOTAL ]],0),\"-\")","v":"-"},null,null,null,null,{"$f":"IF(Tabelle3[[#This Row],[Position\nG / D / FC / FW]]=\"G\",VLOOKUP($M$5-Tabelle3[[#This Row],[Jahr\nannée]],GOALI,2),VLOOKUP($M$5-Tabelle3[[#This Row],[Jahr\nannée]],SPIELER,2))","v":10},{"$f":"IF(Tabelle3[[#This Row],[Position\nG / D / FC / FW]]=\"G\",VLOOKUP($M$5-Tabelle3[[#This Row],[Jahr\nannée]],GOALI,3),VLOOKUP($M$5-Tabelle3[[#This Row],[Jahr\nannée]],SPIELER,3))","v":10},{"$f":"IF(Tabelle3[[#This Row],[Position\nG / D / FC / FW]]=\"G\",VLOOKUP($M$5-Tabelle3[[#This Row],[Jahr\nannée]],GOALI,4),VLOOKUP($M$5-Tabelle3[[#This Row],[Jahr\nannée]],SPIELER,4))","v":20},{"$f":"IF(Tabelle3[[#This Row],[Position\nG / D / FC / FW]]=\"G\",VLOOKUP($M$5-Tabelle3[[#This Row],[Jahr\nannée]],GOALI,5),VLOOKUP($M$5-Tabelle3[[#This Row],[Jahr\nannée]],SPIELER,5))","v":15},{"$f":"IF(Tabelle3[[#This Row],[Position\nG / D / FC / FW]]=\"G\",VLOOKUP($M$5-Tabelle3[[#This Row],[Jahr\nannée]],GOALI,6),VLOOKUP($M$5-Tabelle3[[#This Row],[Jahr\nannée]],SPIELER,6))","v":10},{"$f":"IF(Tabelle3[[#This Row],[Position\nG / D / FC / FW]]=\"G\",VLOOKUP($M$5-Tabelle3[[#This Row],[Jahr\nannée]],GOALI,9),VLOOKUP($M$5-Tabelle3[[#This Row],[Jahr\nannée]],SPIELER,9))","v":15},{"$f":"IF(Tabelle3[[#This Row],[Position\nG / D / FC / FW]]=\"G\",VLOOKUP($M$5-Tabelle3[[#This Row],[Jahr\nannée]],GOALI,7),VLOOKUP($M$5-Tabelle3[[#This Row],[Jahr\nannée]],SPIELER,7))","v":10},{"$f":"IF(Tabelle3[[#This Row],[Position\nG / D / FC / FW]]=\"G\",VLOOKUP($M$5-Tabelle3[[#This Row],[Jahr\nannée]],GOALI,8),VLOOKUP($M$5-Tabelle3[[#This Row],[Jahr\nannée]],SPIELER,8))","v":0},{"$f":"IF(Tabelle3[[#This Row],[Position\nG / D / FC / FW]]=\"G\",VLOOKUP($M$5-Tabelle3[[#This Row],[Jahr\nannée]],GOALI,10),VLOOKUP($M$5-Tabelle3[[#This Row],[Jahr\nannée]],SPIELER,10))","v":0},{"$f":"IF(Tabelle3[[#This Row],[Position\nG / D / FC / FW]]=\"G\",VLOOKUP($M$5-Tabelle3[[#This Row],[Jahr\nannée]],GOALI,11),VLOOKUP($M$5-Tabelle3[[#This Row],[Jahr\nannée]],SPIELER,11))","v":10},{"$f":"IF(Tabelle3[[#This Row],[Position\nG / D / FC / FW]]=\"G\",VLOOKUP($M$5-Tabelle3[[#This Row],[Jahr\nannée]],FGOALIE,2),VLOOKUP($M$5-Tabelle3[[#This Row],[Jahr\nannée]],FSPIELER,2))","v":10},{"$f":"IF(Tabelle3[[#This Row],[Position\nG / D / FC / FW]]=\"G\",VLOOKUP($M$5-Tabelle3[[#This Row],[Jahr\nannée]],FGOALIE,3),VLOOKUP($M$5-Tabelle3[[#This Row],[Jahr\nannée]],FSPIELER,3))","v":10},{"$f":"IF(Tabelle3[[#This Row],[Position\nG / D / FC / FW]]=\"G\",VLOOKUP($M$5-Tabelle3[[#This Row],[Jahr\nannée]],FGOALIE,4),VLOOKUP($M$5-Tabelle3[[#This Row],[Jahr\nannée]],FSPIELER,4))","v":20},{"$f":"IF(Tabelle3[[#This Row],[Position\nG / D / FC / FW]]=\"G\",VLOOKUP($M$5-Tabelle3[[#This Row],[Jahr\nannée]],FGOALIE,5),VLOOKUP($M$5-Tabelle3[[#This Row],[Jahr\nannée]],FSPIELER,5))","v":15},{"$f":"IF(Tabelle3[[#This Row],[Position\nG / D / FC / FW]]=\"G\",VLOOKUP($M$5-Tabelle3[[#This Row],[Jahr\nannée]],FGOALIE,6),VLOOKUP($M$5-Tabelle3[[#This Row],[Jahr\nannée]],FSPIELER,6))","v":10},{"$f":"IF(Tabelle3[[#This Row],[Position\nG / D / FC / FW]]=\"G\",VLOOKUP($M$5-Tabelle3[[#This Row],[Jahr\nannée]],FGOALIE,9),VLOOKUP($M$5-Tabelle3[[#This Row],[Jahr\nannée]],FSPIELER,9))","v":15},{"$f":"IF(Tabelle3[[#This Row],[Position\nG / D / FC / FW]]=\"G\",VLOOKUP($M$5-Tabelle3[[#This Row],[Jahr\nannée]],FGOALIE,7),VLOOKUP($M$5-Tabelle3[[#This Row],[Jahr\nannée]],FSPIELER,7))","v":10},{"$f":"IF(Tabelle3[[#This Row],[Position\nG / D / FC / FW]]=\"G\",VLOOKUP($M$5-Tabelle3[[#This Row],[Jahr\nannée]],FGOALIE,8),VLOOKUP($M$5-Tabelle3[[#This Row],[Jahr\nannée]],FSPIELER,8))","v":0},{"$f":"IF(Tabelle3[[#This Row],[Position\nG / D / FC / FW]]=\"G\",VLOOKUP($M$5-Tabelle3[[#This Row],[Jahr\nannée]],FGOALIE,10),VLOOKUP($M$5-Tabelle3[[#This Row],[Jahr\nannée]],FSPIELER,10))","v":0},{"$f":"IF(Tabelle3[[#This Row],[Position\nG / D / FC / FW]]=\"G\",VLOOKUP($M$5-Tabelle3[[#This Row],[Jahr\nannée]],FGOALIE,11),VLOOKUP($M$5-Tabelle3[[#This Row],[Jahr\nannée]],FSPIELER,11))","v":10}]
[11,null,null,"-",null,null,null,null,null,{"$f":"IF(ISBLANK('11'!$H$4),\"-\",'11'!$H$4)","v":"-"},{"$f":"IF(ISBLANK('11'!$H$5),\"-\",'11'!$H$5)","v":"-"},{"$f":"IF(ISBLANK('11'!$H$2),\"-\",'11'!$H$2)","v":"-"},null,null,null,null,null,null,null,{"$f":"'11'!$M$16","v":0},{"$f":"'11'!$M$20","v":0},{"$f":"'11'!$M$24","v":0},{"$f":"'11'!$M$29","v":0},{"$f":"'11'!$M$33","v":0},{"$f":"'11'!$M$37","v":0},{"$f":"'11'!$M$13","v":0},{"$f":"'11'!$AA$2","v":0},{"$f":"'11'!$AA$4","v":0},{"$f":"'11'!$AA$3","v":0},{"$f":"IF(Tabelle3[[#This Row],[SKILL]]=0,\"-\",IF(Tabelle3[[#This Row],[Sex]]=\"M\",SUMPRODUCT(Tabelle3[[#This Row],[SKILL]:[VERANLAGUNG\nPREDISPOSITION]],AJ21:AS21),SUMPRODUCT(Tabelle3[[#This Row],[SKILL]:[VERANLAGUNG\nPREDISPOSITION]],AT21:BC21)))","v":"-"},{"$f":"IFERROR(RANK(Tabelle3[[#This Row],[TOTAL ]],Tabelle3[[TOTAL ]],0),\"-\")","v":"-"},null,null,null,null,{"$f":"IF(Tabelle3[[#This Row],[Position\nG / D / FC / FW]]=\"G\",VLOOKUP($M$5-Tabelle3[[#This Row],[Jahr\nannée]],GOALI,2),VLOOKUP($M$5-Tabelle3[[#This Row],[Jahr\nannée]],SPIELER,2))","v":10},{"$f":"IF(Tabelle3[[#This Row],[Position\nG / D / FC / FW]]=\"G\",VLOOKUP($M$5-Tabelle3[[#This Row],[Jahr\nannée]],GOALI,3),VLOOKUP($M$5-Tabelle3[[#This Row],[Jahr\nannée]],SPIELER,3))","v":10},{"$f":"IF(Tabelle3[[#This Row],[Position\nG / D / FC / FW]]=\"G\",VLOOKUP($M$5-Tabelle3[[#This Row],[Jahr\nannée]],GOALI,4),VLOOKUP($M$5-Tabelle3[[#This Row],[Jahr\nannée]],SPIELER,4))","v":20},{"$f":"IF(Tabelle3[[#This Row],[Position\nG / D / FC / FW]]=\"G\",VLOOKUP($M$5-Tabelle3[[#This Row],[Jahr\nannée]],GOALI,5),VLOOKUP($M$5-Tabelle3[[#This Row],[Jahr\nannée]],SPIELER,5))","v":15},{"$f":"IF(Tabelle3[[#This Row],[Position\nG / D / FC / FW]]=\"G\",VLOOKUP($M$5-Tabelle3[[#This Row],[Jahr\nannée]],GOALI,6),VLOOKUP($M$5-Tabelle3[[#This Row],[Jahr\nannée]],SPIELER,6))","v":10},{"$f":"IF(Tabelle3[[#This Row],[Position\nG / D / FC / FW]]=\"G\",VLOOKUP($M$5-Tabelle3[[#This Row],[Jahr\nannée]],GOALI,9),VLOOKUP($M$5-Tabelle3[[#This Row],[Jahr\nannée]],SPIELER,9))","v":15},{"$f":"IF(Tabelle3[[#This Row],[Position\nG / D / FC / FW]]=\"G\",VLOOKUP($M$5-Tabelle3[[#This Row],[Jahr\nannée]],GOALI,7),VLOOKUP($M$5-Tabelle3[[#This Row],[Jahr\nannée]],SPIELER,7))","v":10},{"$f":"IF(Tabelle3[[#This Row],[Position\nG / D / FC / FW]]=\"G\",VLOOKUP($M$5-Tabelle3[[#This Row],[Jahr\nannée]],GOALI,8),VLOOKUP($M$5-Tabelle3[[#This Row],[Jahr\nannée]],SPIELER,8))","v":0},{"$f":"IF(Tabelle3[[#This Row],[Position\nG / D / FC / FW]]=\"G\",VLOOKUP($M$5-Tabelle3[[#This Row],[Jahr\nannée]],GOALI,10),VLOOKUP($M$5-Tabelle3[[#This Row],[Jahr\nannée]],SPIELER,10))","v":0},{"$f":"IF(Tabelle3[[#This Row],[Position\nG / D / FC / FW]]=\"G\",VLOOKUP($M$5-Tabelle3[[#This Row],[Jahr\nannée]],GOALI,11),VLOOKUP($M$5-Tabelle3[[#This Row],[Jahr\nannée]],SPIELER,11))","v":10},{"$f":"IF(Tabelle3[[#This Row],[Position\nG / D / FC / FW]]=\"G\",VLOOKUP($M$5-Tabelle3[[#This Row],[Jahr\nannée]],FGOALIE,2),VLOOKUP($M$5-Tabelle3[[#This Row],[Jahr\nannée]],FSPIELER,2))","v":10},{"$f":"IF(Tabelle3[[#This Row],[Position\nG / D / FC / FW]]=\"G\",VLOOKUP($M$5-Tabelle3[[#This Row],[Jahr\nannée]],FGOALIE,3),VLOOKUP($M$5-Tabelle3[[#This Row],[Jahr\nannée]],FSPIELER,3))","v":10},{"$f":"IF(Tabelle3[[#This Row],[Position\nG / D / FC / FW]]=\"G\",VLOOKUP($M$5-Tabelle3[[#This Row],[Jahr\nannée]],FGOALIE,4),VLOOKUP($M$5-Tabelle3[[#This Row],[Jahr\nannée]],FSPIELER,4))","v":20},{"$f":"IF(Tabelle3[[#This Row],[Position\nG / D / FC / FW]]=\"G\",VLOOKUP($M$5-Tabelle3[[#This Row],[Jahr\nannée]],FGOALIE,5),VLOOKUP($M$5-Tabelle3[[#This Row],[Jahr\nannée]],FSPIELER,5))","v":15},{"$f":"IF(Tabelle3[[#This Row],[Position\nG / D / FC / FW]]=\"G\",VLOOKUP($M$5-Tabelle3[[#This Row],[Jahr\nannée]],FGOALIE,6),VLOOKUP($M$5-Tabelle3[[#This Row],[Jahr\nannée]],FSPIELER,6))","v":10},{"$f":"IF(Tabelle3[[#This Row],[Position\nG / D / FC / FW]]=\"G\",VLOOKUP($M$5-Tabelle3[[#This Row],[Jahr\nannée]],FGOALIE,9),VLOOKUP($M$5-Tabelle3[[#This Row],[Jahr\nannée]],FSPIELER,9))","v":15},{"$f":"IF(Tabelle3[[#This Row],[Position\nG / D / FC / FW]]=\"G\",VLOOKUP($M$5-Tabelle3[[#This Row],[Jahr\nannée]],FGOALIE,7),VLOOKUP($M$5-Tabelle3[[#This Row],[Jahr\nannée]],FSPIELER,7))","v":10},{"$f":"IF(Tabelle3[[#This Row],[Position\nG / D / FC / FW]]=\"G\",VLOOKUP($M$5-Tabelle3[[#This Row],[Jahr\nannée]],FGOALIE,8),VLOOKUP($M$5-Tabelle3[[#This Row],[Jahr\nannée]],FSPIELER,8))","v":0},{"$f":"IF(Tabelle3[[#This Row],[Position\nG / D / FC / FW]]=\"G\",VLOOKUP($M$5-Tabelle3[[#This Row],[Jahr\nannée]],FGOALIE,10),VLOOKUP($M$5-Tabelle3[[#This Row],[Jahr\nannée]],FSPIELER,10))","v":0},{"$f":"IF(Tabelle3[[#This Row],[Position\nG / D / FC / FW]]=\"G\",VLOOKUP($M$5-Tabelle3[[#This Row],[Jahr\nannée]],FGOALIE,11),VLOOKUP($M$5-Tabelle3[[#This Row],[Jahr\nannée]],FSPIELER,11))","v":10}]
[12,null,null,"-",null,null,null,null,null,{"$f":"IF(ISBLANK('12'!$H$4),\"-\",'12'!$H$4)","v":"-"},{"$f":"IF(ISBLANK('12'!$H$5),\"-\",'12'!$H$5)","v":"-"},{"$f":"IF(ISBLANK('12'!$H$2),\"-\",'12'!$H$2)","v":"-"},null,null,null,null,null,null,null,{"$f":"'12'!$M$16","v":0},{"$f":"'12'!$M$20","v":0},{"$f":"'12'!$M$24","v":0},{"$f":"'12'!$M$29","v":0},{"$f":"'12'!$M$33","v":0},{"$f":"'12'!$M$37","v":0},{"$f":"'12'!$M$13","v":0},{"$f":"'12'!$AA$2","v":0},{"$f":"'12'!$AA$4","v":0},{"$f":"'12'!$AA$3","v":0},{"$f":"IF(Tabelle3[[#This Row],[SKILL]]=0,\"-\",IF(Tabelle3[[#This Row],[Sex]]=\"M\",SUMPRODUCT(Tabelle3[[#This Row],[SKILL]:[VERANLAGUNG\nPREDISPOSITION]],AJ22:AS22),SUMPRODUCT(Tabelle3[[#This Row],[SKILL]:[VERANLAGUNG\nPREDISPOSITION]],AT22:BC22)))","v":"-"},{"$f":"IFERROR(RANK(Tabelle3[[#This Row],[TOTAL ]],Tabelle3[[TOTAL ]],0),\"-\")","v":"-"},null,null,null,null,{"$f":"IF(Tabelle3[[#This Row],[Position\nG / D / FC / FW]]=\"G\",VLOOKUP($M$5-Tabelle3[[#This Row],[Jahr\nannée]],GOALI,2),VLOOKUP($M$5-Tabelle3[[#This Row],[Jahr\nannée]],SPIELER,2))","v":10},{"$f":"IF(Tabelle3[[#This Row],[Position\nG / D / FC / FW]]=\"G\",VLOOKUP($M$5-Tabelle3[[#This Row],[Jahr\nannée]],GOALI,3),VLOOKUP($M$5-Tabelle3[[#This Row],[Jahr\nannée]],SPIELER,3))","v":10},{"$f":"IF(Tabelle3[[#This Row],[Position\nG / D / FC / FW]]=\"G\",VLOOKUP($M$5-Tabelle3[[#This Row],[Jahr\nannée]],GOALI,4),VLOOKUP($M$5-Tabelle3[[#This Row],[Jahr\nannée]],SPIELER,4))","v":20},{"$f":"IF(Tabelle3[[#This Row],[Position\nG / D / FC / FW]]=\"G\",VLOOKUP($M$5-Tabelle3[[#This Row],[Jahr\nannée]],GOALI,5),VLOOKUP($M$5-Tabelle3[[#This Row],[Jahr\nannée]],SPIELER,5))","v":15},{"$f":"IF(Tabelle3[[#This Row],[Position\nG / D / FC / FW]]=\"G\",VLOOKUP($M$5-Tabelle3[[#This Row],[Jahr\nannée]],GOALI,6),VLOOKUP($M$5-Tabelle3[[#This Row],[Jahr\nannée]],SPIELER,6))","v":10},{"$f":"IF(Tabelle3[[#This Row],[Position\nG / D / FC / FW]]=\"G\",VLOOKUP($M$5-Tabelle3[[#This Row],[Jahr\nannée]],GOALI,9),VLOOKUP($M$5-Tabelle3[[#This Row],[Jahr\nannée]],SPIELER,9))","v":15},{"$f":"IF(Tabelle3[[#This Row],[Position\nG / D / FC / FW]]=\"G\",VLOOKUP($M$5-Tabelle3[[#This Row],[Jahr\nannée]],GOALI,7),VLOOKUP($M$5-Tabelle3[[#This Row],[Jahr\nannée]],SPIELER,7))","v":10},{"$f":"IF(Tabelle3[[#This Row],[Position\nG / D / FC / FW]]=\"G\",VLOOKUP($M$5-Tabelle3[[#This Row],[Jahr\nannée]],GOALI,8),VLOOKUP($M$5-Tabelle3[[#This Row],[Jahr\nannée]],SPIELER,8))","v":0},{"$f":"IF(Tabelle3[[#This Row],[Position\nG / D / FC / FW]]=\"G\",VLOOKUP($M$5-Tabelle3[[#This Row],[Jahr\nannée]],GOALI,10),VLOOKUP($M$5-Tabelle3[[#This Row],[Jahr\nannée]],SPIELER,10))","v":0},{"$f":"IF(Tabelle3[[#This Row],[Position\nG / D / FC / FW]]=\"G\",VLOOKUP($M$5-Tabelle3[[#This Row],[Jahr\nannée]],GOALI,11),VLOOKUP($M$5-Tabelle3[[#This Row],[Jahr\nannée]],SPIELER,11))","v":10},{"$f":"IF(Tabelle3[[#This Row],[Position\nG / D / FC / FW]]=\"G\",VLOOKUP($M$5-Tabelle3[[#This Row],[Jahr\nannée]],FGOALIE,2),VLOOKUP($M$5-Tabelle3[[#This Row],[Jahr\nannée]],FSPIELER,2))","v":10},{"$f":"IF(Tabelle3[[#This Row],[Position\nG / D / FC / FW]]=\"G\",VLOOKUP($M$5-Tabelle3[[#This Row],[Jahr\nannée]],FGOALIE,3),VLOOKUP($M$5-Tabelle3[[#This Row],[Jahr\nannée]],FSPIELER,3))","v":10},{"$f":"IF(Tabelle3[[#This Row],[Position\nG / D / FC / FW]]=\"G\",VLOOKUP($M$5-Tabelle3[[#This Row],[Jahr\nannée]],FGOALIE,4),VLOOKUP($M$5-Tabelle3[[#This Row],[Jahr\nannée]],FSPIELER,4))","v":20},{"$f":"IF(Tabelle3[[#This Row],[Position\nG / D / FC / FW]]=\"G\",VLOOKUP($M$5-Tabelle3[[#This Row],[Jahr\nannée]],FGOALIE,5),VLOOKUP($M$5-Tabelle3[[#This Row],[Jahr\nannée]],FSPIELER,5))","v":15},{"$f":"IF(Tabelle3[[#This Row],[Position\nG / D / FC / FW]]=\"G\",VLOOKUP($M$5-Tabelle3[[#This Row],[Jahr\nannée]],FGOALIE,6),VLOOKUP($M$5-Tabelle3[[#This Row],[Jahr\nannée]],FSPIELER,6))","v":10},{"$f":"IF(Tabelle3[[#This Row],[Position\nG / D / FC / FW]]=\"G\",VLOOKUP($M$5-Tabelle3[[#This Row],[Jahr\nannée]],FGOALIE,9),VLOOKUP($M$5-Tabelle3[[#This Row],[Jahr\nannée]],FSPIELER,9))","v":15},{"$f":"IF(Tabelle3[[#This Row],[Position\nG / D / FC / FW]]=\"G\",VLOOKUP($M$5-Tabelle3[[#This Row],[Jahr\nannée]],FGOALIE,7),VLOOKUP($M$5-Tabelle3[[#This Row],[Jahr\nannée]],FSPIELER,7))","v":10},{"$f":"IF(Tabelle3[[#This Row],[Position\nG / D / FC / FW]]=\"G\",VLOOKUP($M$5-Tabelle3[[#This Row],[Jahr\nannée]],FGOALIE,8),VLOOKUP($M$5-Tabelle3[[#This Row],[Jahr\nannée]],FSPIELER,8))","v":0},{"$f":"IF(Tabelle3[[#This Row],[Position\nG / D / FC / FW]]=\"G\",VLOOKUP($M$5-Tabelle3[[#This Row],[Jahr\nannée]],FGOALIE,10),VLOOKUP($M$5-Tabelle3[[#This Row],[Jahr\nannée]],FSPIELER,10))","v":0},{"$f":"IF(Tabelle3[[#This Row],[Position\nG / D / FC / FW]]=\"G\",VLOOKUP($M$5-Tabelle3[[#This Row],[Jahr\nannée]],FGOALIE,11),VLOOKUP($M$5-Tabelle3[[#This Row],[Jahr\nannée]],FSPIELER,11))","v":10}]
[13,null,null,"-",null,null,null,null,null,{"$f":"IF(ISBLANK('13'!$H$4),\"-\",'13'!$H$4)","v":"-"},{"$f":"IF(ISBLANK('13'!$H$5),\"-\",'13'!$H$5)","v":"-"},{"$f":"IF(ISBLANK('13'!$H$2),\"-\",'13'!$H$2)","v":"-"},null,null,null,null,null,null,null,{"$f":"'13'!$M$16","v":0},{"$f":"'13'!$M$20","v":0},{"$f":"'13'!$M$24","v":0},{"$f":"'13'!$M$29","v":0},{"$f":"'13'!$M$33","v":0},{"$f":"'13'!$M$37","v":0},{"$f":"'13'!$M$13","v":0},{"$f":"'13'!$AA$2","v":0},{"$f":"'13'!$AA$4","v":0},{"$f":"'13'!$AA$3","v":0},{"$f":"IF(Tabelle3[[#This Row],[SKILL]]=0,\"-\",IF(Tabelle3[[#This Row],[Sex]]=\"M\",SUMPRODUCT(Tabelle3[[#This Row],[SKILL]:[VERANLAGUNG\nPREDISPOSITION]],AJ23:AS23),SUMPRODUCT(Tabelle3[[#This Row],[SKILL]:[VERANLAGUNG\nPREDISPOSITION]],AT23:BC23)))","v":"-"},{"$f":"IFERROR(RANK(Tabelle3[[#This Row],[TOTAL ]],Tabelle3[[TOTAL ]],0),\"-\")","v":"-"},null,null,null,null,{"$f":"IF(Tabelle3[[#This Row],[Position\nG / D / FC / FW]]=\"G\",VLOOKUP($M$5-Tabelle3[[#This Row],[Jahr\nannée]],GOALI,2),VLOOKUP($M$5-Tabelle3[[#This Row],[Jahr\nannée]],SPIELER,2))","v":10},{"$f":"IF(Tabelle3[[#This Row],[Position\nG / D / FC / FW]]=\"G\",VLOOKUP($M$5-Tabelle3[[#This Row],[Jahr\nannée]],GOALI,3),VLOOKUP($M$5-Tabelle3[[#This Row],[Jahr\nannée]],SPIELER,3))","v":10},{"$f":"IF(Tabelle3[[#This Row],[Position\nG / D / FC / FW]]=\"G\",VLOOKUP($M$5-Tabelle3[[#This Row],[Jahr\nannée]],GOALI,4),VLOOKUP($M$5-Tabelle3[[#This Row],[Jahr\nannée]],SPIELER,4))","v":20},{"$f":"IF(Tabelle3[[#This Row],[Position\nG / D / FC / FW]]=\"G\",VLOOKUP($M$5-Tabelle3[[#This Row],[Jahr\nannée]],GOALI,5),VLOOKUP($M$5-Tabelle3[[#This Row],[Jahr\nannée]],SPIELER,5))","v":15},{"$f":"IF(Tabelle3[[#This Row],[Position\nG / D / FC / FW]]=\"G\",VLOOKUP($M$5-Tabelle3[[#This Row],[Jahr\nannée]],GOALI,6),VLOOKUP($M$5-Tabelle3[[#This Row],[Jahr\nannée]],SPIELER,6))","v":10},{"$f":"IF(Tabelle3[[#This Row],[Position\nG / D / FC / FW]]=\"G\",VLOOKUP($M$5-Tabelle3[[#This Row],[Jahr\nannée]],GOALI,9),VLOOKUP($M$5-Tabelle3[[#This Row],[Jahr\nannée]],SPIELER,9))","v":15},{"$f":"IF(Tabelle3[[#This Row],[Position\nG / D / FC / FW]]=\"G\",VLOOKUP($M$5-Tabelle3[[#This Row],[Jahr\nannée]],GOALI,7),VLOOKUP($M$5-Tabelle3[[#This Row],[Jahr\nannée]],SPIELER,7))","v":10},{"$f":"IF(Tabelle3[[#This Row],[Position\nG / D / FC / FW]]=\"G\",VLOOKUP($M$5-Tabelle3[[#This Row],[Jahr\nannée]],GOALI,8),VLOOKUP($M$5-Tabelle3[[#This Row],[Jahr\nannée]],SPIELER,8))","v":0},{"$f":"IF(Tabelle3[[#This Row],[Position\nG / D / FC / FW]]=\"G\",VLOOKUP($M$5-Tabelle3[[#This Row],[Jahr\nannée]],GOALI,10),VLOOKUP($M$5-Tabelle3[[#This Row],[Jahr\nannée]],SPIELER,10))","v":0},{"$f":"IF(Tabelle3[[#This Row],[Position\nG / D / FC / FW]]=\"G\",VLOOKUP($M$5-Tabelle3[[#This Row],[Jahr\nannée]],GOALI,11),VLOOKUP($M$5-Tabelle3[[#This Row],[Jahr\nannée]],SPIELER,11))","v":10},{"$f":"IF(Tabelle3[[#This Row],[Position\nG / D / FC / FW]]=\"G\",VLOOKUP($M$5-Tabelle3[[#This Row],[Jahr\nannée]],FGOALIE,2),VLOOKUP($M$5-Tabelle3[[#This Row],[Jahr\nannée]],FSPIELER,2))","v":10},{"$f":"IF(Tabelle3[[#This Row],[Position\nG / D / FC / FW]]=\"G\",VLOOKUP($M$5-Tabelle3[[#This Row],[Jahr\nannée]],FGOALIE,3),VLOOKUP($M$5-Tabelle3[[#This Row],[Jahr\nannée]],FSPIELER,3))","v":10},{"$f":"IF(Tabelle3[[#This Row],[Position\nG / D / FC / FW]]=\"G\",VLOOKUP($M$5-Tabelle3[[#This Row],[Jahr\nannée]],FGOALIE,4),VLOOKUP($M$5-Tabelle3[[#This Row],[Jahr\nannée]],FSPIELER,4))","v":20},{"$f":"IF(Tabelle3[[#This Row],[Position\nG / D / FC / FW]]=\"G\",VLOOKUP($M$5-Tabelle3[[#This Row],[Jahr\nannée]],FGOALIE,5),VLOOKUP($M$5-Tabelle3[[#This Row],[Jahr\nannée]],FSPIELER,5))","v":15},{"$f":"IF(Tabelle3[[#This Row],[Position\nG / D / FC / FW]]=\"G\",VLOOKUP($M$5-Tabelle3[[#This Row],[Jahr\nannée]],FGOALIE,6),VLOOKUP($M$5-Tabelle3[[#This Row],[Jahr\nannée]],FSPIELER,6))","v":10},{"$f":"IF(Tabelle3[[#This Row],[Position\nG / D / FC / FW]]=\"G\",VLOOKUP($M$5-Tabelle3[[#This Row],[Jahr\nannée]],FGOALIE,9),VLOOKUP($M$5-Tabelle3[[#This Row],[Jahr\nannée]],FSPIELER,9))","v":15},{"$f":"IF(Tabelle3[[#This Row],[Position\nG / D / FC / FW]]=\"G\",VLOOKUP($M$5-Tabelle3[[#This Row],[Jahr\nannée]],FGOALIE,7),VLOOKUP($M$5-Tabelle3[[#This Row],[Jahr\nannée]],FSPIELER,7))","v":10},{"$f":"IF(Tabelle3[[#This Row],[Position\nG / D / FC / FW]]=\"G\",VLOOKUP($M$5-Tabelle3[[#This Row],[Jahr\nannée]],FGOALIE,8),VLOOKUP($M$5-Tabelle3[[#This Row],[Jahr\nannée]],FSPIELER,8))","v":0},{"$f":"IF(Tabelle3[[#This Row],[Position\nG / D / FC / FW]]=\"G\",VLOOKUP($M$5-Tabelle3[[#This Row],[Jahr\nannée]],FGOALIE,10),VLOOKUP($M$5-Tabelle3[[#This Row],[Jahr\nannée]],FSPIELER,10))","v":0},{"$f":"IF(Tabelle3[[#This Row],[Position\nG / D / FC / FW]]=\"G\",VLOOKUP($M$5-Tabelle3[[#This Row],[Jahr\nannée]],FGOALIE,11),VLOOKUP($M$5-Tabelle3[[#This Row],[Jahr\nannée]],FSPIELER,11))","v":10}]
[14,null,null,"-",null,null,null,null,null,{"$f":"IF(ISBLANK('14'!$H$4),\"-\",'14'!$H$4)","v":"-"},{"$f":"IF(ISBLANK('14'!$H$5),\"-\",'14'!$H$5)","v":"-"},{"$f":"IF(ISBLANK('14'!$H$2),\"-\",'14'!$H$2)","v":"-"},null,null,null,null,null,null,null,{"$f":"'14'!$M$16","v":0},{"$f":"'14'!$M$20","v":0},{"$f":"'14'!$M$24","v":0},{"$f":"'14'!$M$29","v":0},{"$f":"'14'!$M$33","v":0},{"$f":"'14'!$M$37","v":0},{"$f":"'14'!$M$13","v":0},{"$f":"'14'!$AA$2","v":0},{"$f":"'14'!$AA$4","v":0},{"$f":"'14'!$AA$3","v":0},{"$f":"IF(Tabelle3[[#This Row],[SKILL]]=0,\"-\",IF(Tabelle3[[#This Row],[Sex]]=\"M\",SUMPRODUCT(Tabelle3[[#This Row],[SKILL]:[VERANLAGUNG\nPREDISPOSITION]],AJ24:AS24),SUMPRODUCT(Tabelle3[[#This Row],[SKILL]:[VERANLAGUNG\nPREDISPOSITION]],AT24:BC24)))","v":"-"},{"$f":"IFERROR(RANK(Tabelle3[[#This Row],[TOTAL ]],Tabelle3[[TOTAL ]],0),\"-\")","v":"-"},null,null,null,null,{"$f":"IF(Tabelle3[[#This Row],[Position\nG / D / FC / FW]]=\"G\",VLOOKUP($M$5-Tabelle3[[#This Row],[Jahr\nannée]],GOALI,2),VLOOKUP($M$5-Tabelle3[[#This Row],[Jahr\nannée]],SPIELER,2))","v":10},{"$f":"IF(Tabelle3[[#This Row],[Position\nG / D / FC / FW]]=\"G\",VLOOKUP($M$5-Tabelle3[[#This Row],[Jahr\nannée]],GOALI,3),VLOOKUP($M$5-Tabelle3[[#This Row],[Jahr\nannée]],SPIELER,3))","v":10},{"$f":"IF(Tabelle3[[#This Row],[Position\nG / D / FC / FW]]=\"G\",VLOOKUP($M$5-Tabelle3[[#This Row],[Jahr\nannée]],GOALI,4),VLOOKUP($M$5-Tabelle3[[#This Row],[Jahr\nannée]],SPIELER,4))","v":20},{"$f":"IF(Tabelle3[[#This Row],[Position\nG / D / FC / FW]]=\"G\",VLOOKUP($M$5-Tabelle3[[#This Row],[Jahr\nannée]],GOALI,5),VLOOKUP($M$5-Tabelle3[[#This Row],[Jahr\nannée]],SPIELER,5))","v":15},{"$f":"IF(Tabelle3[[#This Row],[Position\nG / D / FC / FW]]=\"G\",VLOOKUP($M$5-Tabelle3[[#This Row],[Jahr\nannée]],GOALI,6),VLOOKUP($M$5-Tabelle3[[#This Row],[Jahr\nannée]],SPIELER,6))","v":10},{"$f":"IF(Tabelle3[[#This Row],[Position\nG / D / FC / FW]]=\"G\",VLOOKUP($M$5-Tabelle3[[#This Row],[Jahr\nannée]],GOALI,9),VLOOKUP($M$5-Tabelle3[[#This Row],[Jahr\nannée]],SPIELER,9))","v":15},{"$f":"IF(Tabelle3[[#This Row],[Position\nG / D / FC / FW]]=\"G\",VLOOKUP($M$5-Tabelle3[[#This Row],[Jahr\nannée]],GOALI,7),VLOOKUP($M$5-Tabelle3[[#This Row],[Jahr\nannée]],SPIELER,7))","v":10},{"$f":"IF(Tabelle3[[#This Row],[Position\nG / D / FC / FW]]=\"G\",VLOOKUP($M$5-Tabelle3[[#This Row],[Jahr\nannée]],GOALI,8),VLOOKUP($M$5-Tabelle3[[#This Row],[Jahr\nannée]],SPIELER,8))","v":0},{"$f":"IF(Tabelle3[[#This Row],[Position\nG / D / FC / FW]]=\"G\",VLOOKUP($M$5-Tabelle3[[#This Row],[Jahr\nannée]],GOALI,10),VLOOKUP($M$5-Tabelle3[[#This Row],[Jahr\nannée]],SPIELER,10))","v":0},{"$f":"IF(Tabelle3[[#This Row],[Position\nG / D / FC / FW]]=\"G\",VLOOKUP($M$5-Tabelle3[[#This Row],[Jahr\nannée]],GOALI,11),VLOOKUP($M$5-Tabelle3[[#This Row],[Jahr\nannée]],SPIELER,11))","v":10},{"$f":"IF(Tabelle3[[#This Row],[Position\nG / D / FC / FW]]=\"G\",VLOOKUP($M$5-Tabelle3[[#This Row],[Jahr\nannée]],FGOALIE,2),VLOOKUP($M$5-Tabelle3[[#This Row],[Jahr\nannée]],FSPIELER,2))","v":10},{"$f":"IF(Tabelle3[[#This Row],[Position\nG / D / FC / FW]]=\"G\",VLOOKUP($M$5-Tabelle3[[#This Row],[Jahr\nannée]],FGOALIE,3),VLOOKUP($M$5-Tabelle3[[#This Row],[Jahr\nannée]],FSPIELER,3))","v":10},{"$f":"IF(Tabelle3[[#This Row],[Position\nG / D / FC / FW]]=\"G\",VLOOKUP($M$5-Tabelle3[[#This Row],[Jahr\nannée]],FGOALIE,4),VLOOKUP($M$5-Tabelle3[[#This Row],[Jahr\nannée]],FSPIELER,4))","v":20},{"$f":"IF(Tabelle3[[#This Row],[Position\nG / D / FC / FW]]=\"G\",VLOOKUP($M$5-Tabelle3[[#This Row],[Jahr\nannée]],FGOALIE,5),VLOOKUP($M$5-Tabelle3[[#This Row],[Jahr\nannée]],FSPIELER,5))","v":15},{"$f":"IF(Tabelle3[[#This Row],[Position\nG / D / FC / FW]]=\"G\",VLOOKUP($M$5-Tabelle3[[#This Row],[Jahr\nannée]],FGOALIE,6),VLOOKUP($M$5-Tabelle3[[#This Row],[Jahr\nannée]],FSPIELER,6))","v":10},{"$f":"IF(Tabelle3[[#This Row],[Position\nG / D / FC / FW]]=\"G\",VLOOKUP($M$5-Tabelle3[[#This Row],[Jahr\nannée]],FGOALIE,9),VLOOKUP($M$5-Tabelle3[[#This Row],[Jahr\nannée]],FSPIELER,9))","v":15},{"$f":"IF(Tabelle3[[#This Row],[Position\nG / D / FC / FW]]=\"G\",VLOOKUP($M$5-Tabelle3[[#This Row],[Jahr\nannée]],FGOALIE,7),VLOOKUP($M$5-Tabelle3[[#This Row],[Jahr\nannée]],FSPIELER,7))","v":10},{"$f":"IF(Tabelle3[[#This Row],[Position\nG / D / FC / FW]]=\"G\",VLOOKUP($M$5-Tabelle3[[#This Row],[Jahr\nannée]],FGOALIE,8),VLOOKUP($M$5-Tabelle3[[#This Row],[Jahr\nannée]],FSPIELER,8))","v":0},{"$f":"IF(Tabelle3[[#This Row],[Position\nG / D / FC / FW]]=\"G\",VLOOKUP($M$5-Tabelle3[[#This Row],[Jahr\nannée]],FGOALIE,10),VLOOKUP($M$5-Tabelle3[[#This Row],[Jahr\nannée]],FSPIELER,10))","v":0},{"$f":"IF(Tabelle3[[#This Row],[Position\nG / D / FC / FW]]=\"G\",VLOOKUP($M$5-Tabelle3[[#This Row],[Jahr\nannée]],FGOALIE,11),VLOOKUP($M$5-Tabelle3[[#This Row],[Jahr\nannée]],FSPIELER,11))","v":10}]
[15,null,null,"-",null,null,null,null,null,{"$f":"IF(ISBLANK('15'!$H$4),\"-\",'15'!$H$4)","v":"-"},{"$f":"IF(ISBLANK('15'!$H$5),\"-\",'15'!$H$5)","v":"-"},{"$f":"IF(ISBLANK('15'!$H$2),\"-\",'15'!$H$2)","v":"-"},null,null,null,null,null,null,null,{"$f":"'15'!$M$16","v":0},{"$f":"'15'!$M$20","v":0},{"$f":"'15'!$M$24","v":0},{"$f":"'15'!$M$29","v":0},{"$f":"'15'!$M$33","v":0},{"$f":"'15'!$M$37","v":0},{"$f":"'15'!$M$13","v":0},{"$f":"'15'!$AA$2","v":0},{"$f":"'15'!$AA$4","v":0},{"$f":"'15'!$AA$3","v":0},{"$f":"IF(Tabelle3[[#This Row],[SKILL]]=0,\"-\",IF(Tabelle3[[#This Row],[Sex]]=\"M\",SUMPRODUCT(Tabelle3[[#This Row],[SKILL]:[VERANLAGUNG\nPREDISPOSITION]],AJ25:AS25),SUMPRODUCT(Tabelle3[[#This Row],[SKILL]:[VERANLAGUNG\nPREDISPOSITION]],AT25:BC25)))","v":"-"},{"$f":"IFERROR(RANK(Tabelle3[[#This Row],[TOTAL ]],Tabelle3[[TOTAL ]],0),\"-\")","v":"-"},null,null,null,null,{"$f":"IF(Tabelle3[[#This Row],[Position\nG / D / FC / FW]]=\"G\",VLOOKUP($M$5-Tabelle3[[#This Row],[Jahr\nannée]],GOALI,2),VLOOKUP($M$5-Tabelle3[[#This Row],[Jahr\nannée]],SPIELER,2))","v":10},{"$f":"IF(Tabelle3[[#This Row],[Position\nG / D / FC / FW]]=\"G\",VLOOKUP($M$5-Tabelle3[[#This Row],[Jahr\nannée]],GOALI,3),VLOOKUP($M$5-Tabelle3[[#This Row],[Jahr\nannée]],SPIELER,3))","v":10},{"$f":"IF(Tabelle3[[#This Row],[Position\nG / D / FC / FW]]=\"G\",VLOOKUP($M$5-Tabelle3[[#This Row],[Jahr\nannée]],GOALI,4),VLOOKUP($M$5-Tabelle3[[#This Row],[Jahr\nannée]],SPIELER,4))","v":20},{"$f":"IF(Tabelle3[[#This Row],[Position\nG / D / FC / FW]]=\"G\",VLOOKUP($M$5-Tabelle3[[#This Row],[Jahr\nannée]],GOALI,5),VLOOKUP($M$5-Tabelle3[[#This Row],[Jahr\nannée]],SPIELER,5))","v":15},{"$f":"IF(Tabelle3[[#This Row],[Position\nG / D / FC / FW]]=\"G\",VLOOKUP($M$5-Tabelle3[[#This Row],[Jahr\nannée]],GOALI,6),VLOOKUP($M$5-Tabelle3[[#This Row],[Jahr\nannée]],SPIELER,6))","v":10},{"$f":"IF(Tabelle3[[#This Row],[Position\nG / D / FC / FW]]=\"G\",VLOOKUP($M$5-Tabelle3[[#This Row],[Jahr\nannée]],GOALI,9),VLOOKUP($M$5-Tabelle3[[#This Row],[Jahr\nannée]],SPIELER,9))","v":15},{"$f":"IF(Tabelle3[[#This Row],[Position\nG / D / FC / FW]]=\"G\",VLOOKUP($M$5-Tabelle3[[#This Row],[Jahr\nannée]],GOALI,7),VLOOKUP($M$5-Tabelle3[[#This Row],[Jahr\nannée]],SPIELER,7))","v":10},{"$f":"IF(Tabelle3[[#This Row],[Position\nG / D / FC / FW]]=\"G\",VLOOKUP($M$5-Tabelle3[[#This Row],[Jahr\nannée]],GOALI,8),VLOOKUP($M$5-Tabelle3[[#This Row],[Jahr\nannée]],SPIELER,8))","v":0},{"$f":"IF(Tabelle3[[#This Row],[Position\nG / D / FC / FW]]=\"G\",VLOOKUP($M$5-Tabelle3[[#This Row],[Jahr\nannée]],GOALI,10),VLOOKUP($M$5-Tabelle3[[#This Row],[Jahr\nannée]],SPIELER,10))","v":0},{"$f":"IF(Tabelle3[[#This Row],[Position\nG / D / FC / FW]]=\"G\",VLOOKUP($M$5-Tabelle3[[#This Row],[Jahr\nannée]],GOALI,11),VLOOKUP($M$5-Tabelle3[[#This Row],[Jahr\nannée]],SPIELER,11))","v":10},{"$f":"IF(Tabelle3[[#This Row],[Position\nG / D / FC / FW]]=\"G\",VLOOKUP($M$5-Tabelle3[[#This Row],[Jahr\nannée]],FGOALIE,2),VLOOKUP($M$5-Tabelle3[[#This Row],[Jahr\nannée]],FSPIELER,2))","v":10},{"$f":"IF(Tabelle3[[#This Row],[Position\nG / D / FC / FW]]=\"G\",VLOOKUP($M$5-Tabelle3[[#This Row],[Jahr\nannée]],FGOALIE,3),VLOOKUP($M$5-Tabelle3[[#This Row],[Jahr\nannée]],FSPIELER,3))","v":10},{"$f":"IF(Tabelle3[[#This Row],[Position\nG / D / FC / FW]]=\"G\",VLOOKUP($M$5-Tabelle3[[#This Row],[Jahr\nannée]],FGOALIE,4),VLOOKUP($M$5-Tabelle3[[#This Row],[Jahr\nannée]],FSPIELER,4))","v":20},{"$f":"IF(Tabelle3[[#This Row],[Position\nG / D / FC / FW]]=\"G\",VLOOKUP($M$5-Tabelle3[[#This Row],[Jahr\nannée]],FGOALIE,5),VLOOKUP($M$5-Tabelle3[[#This Row],[Jahr\nannée]],FSPIELER,5))","v":15},{"$f":"IF(Tabelle3[[#This Row],[Position\nG / D / FC / FW]]=\"G\",VLOOKUP($M$5-Tabelle3[[#This Row],[Jahr\nannée]],FGOALIE,6),VLOOKUP($M$5-Tabelle3[[#This Row],[Jahr\nannée]],FSPIELER,6))","v":10},{"$f":"IF(Tabelle3[[#This Row],[Position\nG / D / FC / FW]]=\"G\",VLOOKUP($M$5-Tabelle3[[#This Row],[Jahr\nannée]],FGOALIE,9),VLOOKUP($M$5-Tabelle3[[#This Row],[Jahr\nannée]],FSPIELER,9))","v":15},{"$f":"IF(Tabelle3[[#This Row],[Position\nG / D / FC / FW]]=\"G\",VLOOKUP($M$5-Tabelle3[[#This Row],[Jahr\nannée]],FGOALIE,7),VLOOKUP($M$5-Tabelle3[[#This Row],[Jahr\nannée]],FSPIELER,7))","v":10},{"$f":"IF(Tabelle3[[#This Row],[Position\nG / D / FC / FW]]=\"G\",VLOOKUP($M$5-Tabelle3[[#This Row],[Jahr\nannée]],FGOALIE,8),VLOOKUP($M$5-Tabelle3[[#This Row],[Jahr\nannée]],FSPIELER,8))","v":0},{"$f":"IF(Tabelle3[[#This Row],[Position\nG / D / FC / FW]]=\"G\",VLOOKUP($M$5-Tabelle3[[#This Row],[Jahr\nannée]],FGOALIE,10),VLOOKUP($M$5-Tabelle3[[#This Row],[Jahr\nannée]],FSPIELER,10))","v":0},{"$f":"IF(Tabelle3[[#This Row],[Position\nG / D / FC / FW]]=\"G\",VLOOKUP($M$5-Tabelle3[[#This Row],[Jahr\nannée]],FGOALIE,11),VLOOKUP($M$5-Tabelle3[[#This Row],[Jahr\nannée]],FSPIELER,11))","v":10}]
[16,null,null,"-",null,null,null,null,null,{"$f":"IF(ISBLANK('16'!$H$4),\"-\",'16'!$H$4)","v":"-"},{"$f":"IF(ISBLANK('16'!$H$5),\"-\",'16'!$H$5)","v":"-"},{"$f":"IF(ISBLANK('16'!$H$2),\"-\",'16'!$H$2)","v":"-"},null,null,null,null,null,null,null,{"$f":"'16'!$M$16","v":0},{"$f":"'16'!$M$20","v":0},{"$f":"'16'!$M$24","v":0},{"$f":"'16'!$M$29","v":0},{"$f":"'16'!$M$33","v":0},{"$f":"'16'!$M$37","v":0},{"$f":"'16'!$M$13","v":0},{"$f":"'16'!$AA$2","v":0},{"$f":"'16'!$AA$4","v":0},{"$f":"'16'!$AA$3","v":0},{"$f":"IF(Tabelle3[[#This Row],[SKILL]]=0,\"-\",IF(Tabelle3[[#This Row],[Sex]]=\"M\",SUMPRODUCT(Tabelle3[[#This Row],[SKILL]:[VERANLAGUNG\nPREDISPOSITION]],AJ26:AS26),SUMPRODUCT(Tabelle3[[#This Row],[SKILL]:[VERANLAGUNG\nPREDISPOSITION]],AT26:BC26)))","v":"-"},{"$f":"IFERROR(RANK(Tabelle3[[#This Row],[TOTAL ]],Tabelle3[[TOTAL ]],0),\"-\")","v":"-"},null,null,null,null,{"$f":"IF(Tabelle3[[#This Row],[Position\nG / D / FC / FW]]=\"G\",VLOOKUP($M$5-Tabelle3[[#This Row],[Jahr\nannée]],GOALI,2),VLOOKUP($M$5-Tabelle3[[#This Row],[Jahr\nannée]],SPIELER,2))","v":10},{"$f":"IF(Tabelle3[[#This Row],[Position\nG / D / FC / FW]]=\"G\",VLOOKUP($M$5-Tabelle3[[#This Row],[Jahr\nannée]],GOALI,3),VLOOKUP($M$5-Tabelle3[[#This Row],[Jahr\nannée]],SPIELER,3))","v":10},{"$f":"IF(Tabelle3[[#This Row],[Position\nG / D / FC / FW]]=\"G\",VLOOKUP($M$5-Tabelle3[[#This Row],[Jahr\nannée]],GOALI,4),VLOOKUP($M$5-Tabelle3[[#This Row],[Jahr\nannée]],SPIELER,4))","v":20},{"$f":"IF(Tabelle3[[#This Row],[Position\nG / D / FC / FW]]=\"G\",VLOOKUP($M$5-Tabelle3[[#This Row],[Jahr\nannée]],GOALI,5),VLOOKUP($M$5-Tabelle3[[#This Row],[Jahr\nannée]],SPIELER,5))","v":15},{"$f":"IF(Tabelle3[[#This Row],[Position\nG / D / FC / FW]]=\"G\",VLOOKUP($M$5-Tabelle3[[#This Row],[Jahr\nannée]],GOALI,6),VLOOKUP($M$5-Tabelle3[[#This Row],[Jahr\nannée]],SPIELER,6))","v":10},{"$f":"IF(Tabelle3[[#This Row],[Position\nG / D / FC / FW]]=\"G\",VLOOKUP($M$5-Tabelle3[[#This Row],[Jahr\nannée]],GOALI,9),VLOOKUP($M$5-Tabelle3[[#This Row],[Jahr\nannée]],SPIELER,9))","v":15},{"$f":"IF(Tabelle3[[#This Row],[Position\nG / D / FC / FW]]=\"G\",VLOOKUP($M$5-Tabelle3[[#This Row],[Jahr\nannée]],GOALI,7),VLOOKUP($M$5-Tabelle3[[#This Row],[Jahr\nannée]],SPIELER,7))","v":10},{"$f":"IF(Tabelle3[[#This Row],[Position\nG / D / FC / FW]]=\"G\",VLOOKUP($M$5-Tabelle3[[#This Row],[Jahr\nannée]],GOALI,8),VLOOKUP($M$5-Tabelle3[[#This Row],[Jahr\nannée]],SPIELER,8))","v":0},{"$f":"IF(Tabelle3[[#This Row],[Position\nG / D / FC / FW]]=\"G\",VLOOKUP($M$5-Tabelle3[[#This Row],[Jahr\nannée]],GOALI,10),VLOOKUP($M$5-Tabelle3[[#This Row],[Jahr\nannée]],SPIELER,10))","v":0},{"$f":"IF(Tabelle3[[#This Row],[Position\nG / D / FC / FW]]=\"G\",VLOOKUP($M$5-Tabelle3[[#This Row],[Jahr\nannée]],GOALI,11),VLOOKUP($M$5-Tabelle3[[#This Row],[Jahr\nannée]],SPIELER,11))","v":10},{"$f":"IF(Tabelle3[[#This Row],[Position\nG / D / FC / FW]]=\"G\",VLOOKUP($M$5-Tabelle3[[#This Row],[Jahr\nannée]],FGOALIE,2),VLOOKUP($M$5-Tabelle3[[#This Row],[Jahr\nannée]],FSPIELER,2))","v":10},{"$f":"IF(Tabelle3[[#This Row],[Position\nG / D / FC / FW]]=\"G\",VLOOKUP($M$5-Tabelle3[[#This Row],[Jahr\nannée]],FGOALIE,3),VLOOKUP($M$5-Tabelle3[[#This Row],[Jahr\nannée]],FSPIELER,3))","v":10},{"$f":"IF(Tabelle3[[#This Row],[Position\nG / D / FC / FW]]=\"G\",VLOOKUP($M$5-Tabelle3[[#This Row],[Jahr\nannée]],FGOALIE,4),VLOOKUP($M$5-Tabelle3[[#This Row],[Jahr\nannée]],FSPIELER,4))","v":20},{"$f":"IF(Tabelle3[[#This Row],[Position\nG / D / FC / FW]]=\"G\",VLOOKUP($M$5-Tabelle3[[#This Row],[Jahr\nannée]],FGOALIE,5),VLOOKUP($M$5-Tabelle3[[#This Row],[Jahr\nannée]],FSPIELER,5))","v":15},{"$f":"IF(Tabelle3[[#This Row],[Position\nG / D / FC / FW]]=\"G\",VLOOKUP($M$5-Tabelle3[[#This Row],[Jahr\nannée]],FGOALIE,6),VLOOKUP($M$5-Tabelle3[[#This Row],[Jahr\nannée]],FSPIELER,6))","v":10},{"$f":"IF(Tabelle3[[#This Row],[Position\nG / D / FC / FW]]=\"G\",VLOOKUP($M$5-Tabelle3[[#This Row],[Jahr\nannée]],FGOALIE,9),VLOOKUP($M$5-Tabelle3[[#This Row],[Jahr\nannée]],FSPIELER,9))","v":15},{"$f":"IF(Tabelle3[[#This Row],[Position\nG / D / FC / FW]]=\"G\",VLOOKUP($M$5-Tabelle3[[#This Row],[Jahr\nannée]],FGOALIE,7),VLOOKUP($M$5-Tabelle3[[#This Row],[Jahr\nannée]],FSPIELER,7))","v":10},{"$f":"IF(Tabelle3[[#This Row],[Position\nG / D / FC / FW]]=\"G\",VLOOKUP($M$5-Tabelle3[[#This Row],[Jahr\nannée]],FGOALIE,8),VLOOKUP($M$5-Tabelle3[[#This Row],[Jahr\nannée]],FSPIELER,8))","v":0},{"$f":"IF(Tabelle3[[#This Row],[Position\nG / D / FC / FW]]=\"G\",VLOOKUP($M$5-Tabelle3[[#This Row],[Jahr\nannée]],FGOALIE,10),VLOOKUP($M$5-Tabelle3[[#This Row],[Jahr\nannée]],FSPIELER,10))","v":0},{"$f":"IF(Tabelle3[[#This Row],[Position\nG / D / FC / FW]]=\"G\",VLOOKUP($M$5-Tabelle3[[#This Row],[Jahr\nannée]],FGOALIE,11),VLOOKUP($M$5-Tabelle3[[#This Row],[Jahr\nannée]],FSPIELER,11))","v":10}]
[17,null,null,"-",null,null,null,null,null,{"$f":"IF(ISBLANK('17'!$H$4),\"-\",'17'!$H$4)","v":"-"},{"$f":"IF(ISBLANK('17'!$H$5),\"-\",'17'!$H$5)","v":"-"},{"$f":"IF(ISBLANK('17'!$H$2),\"-\",'17'!$H$2)","v":"-"},null,null,null,null,null,null,null,{"$f":"'17'!$M$16","v":0},{"$f":"'17'!$M$20","v":0},{"$f":"'17'!$M$24","v":0},{"$f":"'17'!$M$29","v":0},{"$f":"'17'!$M$33","v":0},{"$f":"'17'!$M$37","v":0},{"$f":"'17'!$M$13","v":0},{"$f":"'17'!$AA$2","v":0},{"$f":"'17'!$AA$4","v":0},{"$f":"'17'!$AA$3","v":0},{"$f":"IF(Tabelle3[[#This Row],[SKILL]]=0,\"-\",IF(Tabelle3[[#This Row],[Sex]]=\"M\",SUMPRODUCT(Tabelle3[[#This Row],[SKILL]:[VERANLAGUNG\nPREDISPOSITION]],AJ27:AS27),SUMPRODUCT(Tabelle3[[#This Row],[SKILL]:[VERANLAGUNG\nPREDISPOSITION]],AT27:BC27)))","v":"-"},{"$f":"IFERROR(RANK(Tabelle3[[#This Row],[TOTAL ]],Tabelle3[[TOTAL ]],0),\"-\")","v":"-"},null,null,null,null,{"$f":"IF(Tabelle3[[#This Row],[Position\nG / D / FC / FW]]=\"G\",VLOOKUP($M$5-Tabelle3[[#This Row],[Jahr\nannée]],GOALI,2),VLOOKUP($M$5-Tabelle3[[#This Row],[Jahr\nannée]],SPIELER,2))","v":10},{"$f":"IF(Tabelle3[[#This Row],[Position\nG / D / FC / FW]]=\"G\",VLOOKUP($M$5-Tabelle3[[#This Row],[Jahr\nannée]],GOALI,3),VLOOKUP($M$5-Tabelle3[[#This Row],[Jahr\nannée]],SPIELER,3))","v":10},{"$f":"IF(Tabelle3[[#This Row],[Position\nG / D / FC / FW]]=\"G\",VLOOKUP($M$5-Tabelle3[[#This Row],[Jahr\nannée]],GOALI,4),VLOOKUP($M$5-Tabelle3[[#This Row],[Jahr\nannée]],SPIELER,4))","v":20},{"$f":"IF(Tabelle3[[#This Row],[Position\nG / D / FC / FW]]=\"G\",VLOOKUP($M$5-Tabelle3[[#This Row],[Jahr\nannée]],GOALI,5),VLOOKUP($M$5-Tabelle3[[#This Row],[Jahr\nannée]],SPIELER,5))","v":15},{"$f":"IF(Tabelle3[[#This Row],[Position\nG / D / FC / FW]]=\"G\",VLOOKUP($M$5-Tabelle3[[#This Row],[Jahr\nannée]],GOALI,6),VLOOKUP($M$5-Tabelle3[[#This Row],[Jahr\nannée]],SPIELER,6))","v":10},{"$f":"IF(Tabelle3[[#This Row],[Position\nG / D / FC / FW]]=\"G\",VLOOKUP($M$5-Tabelle3[[#This Row],[Jahr\nannée]],GOALI,9),VLOOKUP($M$5-Tabelle3[[#This Row],[Jahr\nannée]],SPIELER,9))","v":15},{"$f":"IF(Tabelle3[[#This Row],[Position\nG / D / FC / FW]]=\"G\",VLOOKUP($M$5-Tabelle3[[#This Row],[Jahr\nannée]],GOALI,7),VLOOKUP($M$5-Tabelle3[[#This Row],[Jahr\nannée]],SPIELER,7))","v":10},{"$f":"IF(Tabelle3[[#This Row],[Position\nG / D / FC / FW]]=\"G\",VLOOKUP($M$5-Tabelle3[[#This Row],[Jahr\nannée]],GOALI,8),VLOOKUP($M$5-Tabelle3[[#This Row],[Jahr\nannée]],SPIELER,8))","v":0},{"$f":"IF(Tabelle3[[#This Row],[Position\nG / D / FC / FW]]=\"G\",VLOOKUP($M$5-Tabelle3[[#This Row],[Jahr\nannée]],GOALI,10),VLOOKUP($M$5-Tabelle3[[#This Row],[Jahr\nannée]],SPIELER,10))","v":0},{"$f":"IF(Tabelle3[[#This Row],[Position\nG / D / FC / FW]]=\"G\",VLOOKUP($M$5-Tabelle3[[#This Row],[Jahr\nannée]],GOALI,11),VLOOKUP($M$5-Tabelle3[[#This Row],[Jahr\nannée]],SPIELER,11))","v":10},{"$f":"IF(Tabelle3[[#This Row],[Position\nG / D / FC / FW]]=\"G\",VLOOKUP($M$5-Tabelle3[[#This Row],[Jahr\nannée]],FGOALIE,2),VLOOKUP($M$5-Tabelle3[[#This Row],[Jahr\nannée]],FSPIELER,2))","v":10},{"$f":"IF(Tabelle3[[#This Row],[Position\nG / D / FC / FW]]=\"G\",VLOOKUP($M$5-Tabelle3[[#This Row],[Jahr\nannée]],FGOALIE,3),VLOOKUP($M$5-Tabelle3[[#This Row],[Jahr\nannée]],FSPIELER,3))","v":10},{"$f":"IF(Tabelle3[[#This Row],[Position\nG / D / FC / FW]]=\"G\",VLOOKUP($M$5-Tabelle3[[#This Row],[Jahr\nannée]],FGOALIE,4),VLOOKUP($M$5-Tabelle3[[#This Row],[Jahr\nannée]],FSPIELER,4))","v":20},{"$f":"IF(Tabelle3[[#This Row],[Position\nG / D / FC / FW]]=\"G\",VLOOKUP($M$5-Tabelle3[[#This Row],[Jahr\nannée]],FGOALIE,5),VLOOKUP($M$5-Tabelle3[[#This Row],[Jahr\nannée]],FSPIELER,5))","v":15},{"$f":"IF(Tabelle3[[#This Row],[Position\nG / D / FC / FW]]=\"G\",VLOOKUP($M$5-Tabelle3[[#This Row],[Jahr\nannée]],FGOALIE,6),VLOOKUP($M$5-Tabelle3[[#This Row],[Jahr\nannée]],FSPIELER,6))","v":10},{"$f":"IF(Tabelle3[[#This Row],[Position\nG / D / FC / FW]]=\"G\",VLOOKUP($M$5-Tabelle3[[#This Row],[Jahr\nannée]],FGOALIE,9),VLOOKUP($M$5-Tabelle3[[#This Row],[Jahr\nannée]],FSPIELER,9))","v":15},{"$f":"IF(Tabelle3[[#This Row],[Position\nG / D / FC / FW]]=\"G\",VLOOKUP($M$5-Tabelle3[[#This Row],[Jahr\nannée]],FGOALIE,7),VLOOKUP($M$5-Tabelle3[[#This Row],[Jahr\nannée]],FSPIELER,7))","v":10},{"$f":"IF(Tabelle3[[#This Row],[Position\nG / D / FC / FW]]=\"G\",VLOOKUP($M$5-Tabelle3[[#This Row],[Jahr\nannée]],FGOALIE,8),VLOOKUP($M$5-Tabelle3[[#This Row],[Jahr\nannée]],FSPIELER,8))","v":0},{"$f":"IF(Tabelle3[[#This Row],[Position\nG / D / FC / FW]]=\"G\",VLOOKUP($M$5-Tabelle3[[#This Row],[Jahr\nannée]],FGOALIE,10),VLOOKUP($M$5-Tabelle3[[#This Row],[Jahr\nannée]],FSPIELER,10))","v":0},{"$f":"IF(Tabelle3[[#This Row],[Position\nG / D / FC / FW]]=\"G\",VLOOKUP($M$5-Tabelle3[[#This Row],[Jahr\nannée]],FGOALIE,11),VLOOKUP($M$5-Tabelle3[[#This Row],[Jahr\nannée]],FSPIELER,11))","v":10}]
[18,null,null,"-",null,null,null,null,null,{"$f":"IF(ISBLANK('18'!$H$4),\"-\",'18'!$H$4)","v":"-"},{"$f":"IF(ISBLANK('18'!$H$5),\"-\",'18'!$H$5)","v":"-"},{"$f":"IF(ISBLANK('18'!$H$2),\"-\",'18'!$H$2)","v":"-"},null,null,null,null,null,null,null,{"$f":"'18'!$M$16","v":0},{"$f":"'18'!$M$20","v":0},{"$f":"'18'!$M$24","v":0},{"$f":"'18'!$M$29","v":0},{"$f":"'18'!$M$33","v":0},{"$f":"'18'!$M$37","v":0},{"$f":"'18'!$M$13","v":0},{"$f":"'18'!$AA$2","v":0},{"$f":"'18'!$AA$4","v":0},{"$f":"'18'!$AA$3","v":0},{"$f":"IF(Tabelle3[[#This Row],[SKILL]]=0,\"-\",IF(Tabelle3[[#This Row],[Sex]]=\"M\",SUMPRODUCT(Tabelle3[[#This Row],[SKILL]:[VERANLAGUNG\nPREDISPOSITION]],AJ28:AS28),SUMPRODUCT(Tabelle3[[#This Row],[SKILL]:[VERANLAGUNG\nPREDISPOSITION]],AT28:BC28)))","v":"-"},{"$f":"IFERROR(RANK(Tabelle3[[#This Row],[TOTAL ]],Tabelle3[[TOTAL ]],0),\"-\")","v":"-"},null,null,null,null,{"$f":"IF(Tabelle3[[#This Row],[Position\nG / D / FC / FW]]=\"G\",VLOOKUP($M$5-Tabelle3[[#This Row],[Jahr\nannée]],GOALI,2),VLOOKUP($M$5-Tabelle3[[#This Row],[Jahr\nannée]],SPIELER,2))","v":10},{"$f":"IF(Tabelle3[[#This Row],[Position\nG / D / FC / FW]]=\"G\",VLOOKUP($M$5-Tabelle3[[#This Row],[Jahr\nannée]],GOALI,3),VLOOKUP($M$5-Tabelle3[[#This Row],[Jahr\nannée]],SPIELER,3))","v":10},{"$f":"IF(Tabelle3[[#This Row],[Position\nG / D / FC / FW]]=\"G\",VLOOKUP($M$5-Tabelle3[[#This Row],[Jahr\nannée]],GOALI,4),VLOOKUP($M$5-Tabelle3[[#This Row],[Jahr\nannée]],SPIELER,4))","v":20},{"$f":"IF(Tabelle3[[#This Row],[Position\nG / D / FC / FW]]=\"G\",VLOOKUP($M$5-Tabelle3[[#This Row],[Jahr\nannée]],GOALI,5),VLOOKUP($M$5-Tabelle3[[#This Row],[Jahr\nannée]],SPIELER,5))","v":15},{"$f":"IF(Tabelle3[[#This Row],[Position\nG / D / FC / FW]]=\"G\",VLOOKUP($M$5-Tabelle3[[#This Row],[Jahr\nannée]],GOALI,6),VLOOKUP($M$5-Tabelle3[[#This Row],[Jahr\nannée]],SPIELER,6))","v":10},{"$f":"IF(Tabelle3[[#This Row],[Position\nG / D / FC / FW]]=\"G\",VLOOKUP($M$5-Tabelle3[[#This Row],[Jahr\nannée]],GOALI,9),VLOOKUP($M$5-Tabelle3[[#This Row],[Jahr\nannée]],SPIELER,9))","v":15},{"$f":"IF(Tabelle3[[#This Row],[Position\nG / D / FC / FW]]=\"G\",VLOOKUP($M$5-Tabelle3[[#This Row],[Jahr\nannée]],GOALI,7),VLOOKUP($M$5-Tabelle3[[#This Row],[Jahr\nannée]],SPIELER,7))","v":10},{"$f":"IF(Tabelle3[[#This Row],[Position\nG / D / FC / FW]]=\"G\",VLOOKUP($M$5-Tabelle3[[#This Row],[Jahr\nannée]],GOALI,8),VLOOKUP($M$5-Tabelle3[[#This Row],[Jahr\nannée]],SPIELER,8))","v":0},{"$f":"IF(Tabelle3[[#This Row],[Position\nG / D / FC / FW]]=\"G\",VLOOKUP($M$5-Tabelle3[[#This Row],[Jahr\nannée]],GOALI,10),VLOOKUP($M$5-Tabelle3[[#This Row],[Jahr\nannée]],SPIELER,10))","v":0},{"$f":"IF(Tabelle3[[#This Row],[Position\nG / D / FC / FW]]=\"G\",VLOOKUP($M$5-Tabelle3[[#This Row],[Jahr\nannée]],GOALI,11),VLOOKUP($M$5-Tabelle3[[#This Row],[Jahr\nannée]],SPIELER,11))","v":10},{"$f":"IF(Tabelle3[[#This Row],[Position\nG / D / FC / FW]]=\"G\",VLOOKUP($M$5-Tabelle3[[#This Row],[Jahr\nannée]],FGOALIE,2),VLOOKUP($M$5-Tabelle3[[#This Row],[Jahr\nannée]],FSPIELER,2))","v":10},{"$f":"IF(Tabelle3[[#This Row],[Position\nG / D / FC / FW]]=\"G\",VLOOKUP($M$5-Tabelle3[[#This Row],[Jahr\nannée]],FGOALIE,3),VLOOKUP($M$5-Tabelle3[[#This Row],[Jahr\nannée]],FSPIELER,3))","v":10},{"$f":"IF(Tabelle3[[#This Row],[Position\nG / D / FC / FW]]=\"G\",VLOOKUP($M$5-Tabelle3[[#This Row],[Jahr\nannée]],FGOALIE,4),VLOOKUP($M$5-Tabelle3[[#This Row],[Jahr\nannée]],FSPIELER,4))","v":20},{"$f":"IF(Tabelle3[[#This Row],[Position\nG / D / FC / FW]]=\"G\",VLOOKUP($M$5-Tabelle3[[#This Row],[Jahr\nannée]],FGOALIE,5),VLOOKUP($M$5-Tabelle3[[#This Row],[Jahr\nannée]],FSPIELER,5))","v":15},{"$f":"IF(Tabelle3[[#This Row],[Position\nG / D / FC / FW]]=\"G\",VLOOKUP($M$5-Tabelle3[[#This Row],[Jahr\nannée]],FGOALIE,6),VLOOKUP($M$5-Tabelle3[[#This Row],[Jahr\nannée]],FSPIELER,6))","v":10},{"$f":"IF(Tabelle3[[#This Row],[Position\nG / D / FC / FW]]=\"G\",VLOOKUP($M$5-Tabelle3[[#This Row],[Jahr\nannée]],FGOALIE,9),VLOOKUP($M$5-Tabelle3[[#This Row],[Jahr\nannée]],FSPIELER,9))","v":15},{"$f":"IF(Tabelle3[[#This Row],[Position\nG / D / FC / FW]]=\"G\",VLOOKUP($M$5-Tabelle3[[#This Row],[Jahr\nannée]],FGOALIE,7),VLOOKUP($M$5-Tabelle3[[#This Row],[Jahr\nannée]],FSPIELER,7))","v":10},{"$f":"IF(Tabelle3[[#This Row],[Position\nG / D / FC / FW]]=\"G\",VLOOKUP($M$5-Tabelle3[[#This Row],[Jahr\nannée]],FGOALIE,8),VLOOKUP($M$5-Tabelle3[[#This Row],[Jahr\nannée]],FSPIELER,8))","v":0},{"$f":"IF(Tabelle3[[#This Row],[Position\nG / D / FC / FW]]=\"G\",VLOOKUP($M$5-Tabelle3[[#This Row],[Jahr\nannée]],FGOALIE,10),VLOOKUP($M$5-Tabelle3[[#This Row],[Jahr\nannée]],FSPIELER,10))","v":0},{"$f":"IF(Tabelle3[[#This Row],[Position\nG / D / FC / FW]]=\"G\",VLOOKUP($M$5-Tabelle3[[#This Row],[Jahr\nannée]],FGOALIE,11),VLOOKUP($M$5-Tabelle3[[#This Row],[Jahr\nannée]],FSPIELER,11))","v":10}]
[19,null,null,"-",null,null,null,null,null,{"$f":"IF(ISBLANK('19'!$H$4),\"-\",'19'!$H$4)","v":"-"},{"$f":"IF(ISBLANK('19'!$H$5),\"-\",'19'!$H$5)","v":"-"},{"$f":"IF(ISBLANK('19'!$H$2),\"-\",'19'!$H$2)","v":"-"},null,null,null,null,null,null,null,{"$f":"'19'!$M$16","v":0},{"$f":"'19'!$M$20","v":0},{"$f":"'19'!$M$24","v":0},{"$f":"'19'!$M$29","v":0},{"$f":"'19'!$M$33","v":0},{"$f":"'19'!$M$37","v":0},{"$f":"'19'!$M$13","v":0},{"$f":"'19'!$AA$2","v":0},{"$f":"'19'!$AA$4","v":0},{"$f":"'19'!$AA$3","v":0},{"$f":"IF(Tabelle3[[#This Row],[SKILL]]=0,\"-\",IF(Tabelle3[[#This Row],[Sex]]=\"M\",SUMPRODUCT(Tabelle3[[#This Row],[SKILL]:[VERANLAGUNG\nPREDISPOSITION]],AJ29:AS29),SUMPRODUCT(Tabelle3[[#This Row],[SKILL]:[VERANLAGUNG\nPREDISPOSITION]],AT29:BC29)))","v":"-"},{"$f":"IFERROR(RANK(Tabelle3[[#This Row],[TOTAL ]],Tabelle3[[TOTAL ]],0),\"-\")","v":"-"},null,null,null,null,{"$f":"IF(Tabelle3[[#This Row],[Position\nG / D / FC / FW]]=\"G\",VLOOKUP($M$5-Tabelle3[[#This Row],[Jahr\nannée]],GOALI,2),VLOOKUP($M$5-Tabelle3[[#This Row],[Jahr\nannée]],SPIELER,2))","v":10},{"$f":"IF(Tabelle3[[#This Row],[Position\nG / D / FC / FW]]=\"G\",VLOOKUP($M$5-Tabelle3[[#This Row],[Jahr\nannée]],GOALI,3),VLOOKUP($M$5-Tabelle3[[#This Row],[Jahr\nannée]],SPIELER,3))","v":10},{"$f":"IF(Tabelle3[[#This Row],[Position\nG / D / FC / FW]]=\"G\",VLOOKUP($M$5-Tabelle3[[#This Row],[Jahr\nannée]],GOALI,4),VLOOKUP($M$5-Tabelle3[[#This Row],[Jahr\nannée]],SPIELER,4))","v":20},{"$f":"IF(Tabelle3[[#This Row],[Position\nG / D / FC / FW]]=\"G\",VLOOKUP($M$5-Tabelle3[[#This Row],[Jahr\nannée]],GOALI,5),VLOOKUP($M$5-Tabelle3[[#This Row],[Jahr\nannée]],SPIELER,5))","v":15},{"$f":"IF(Tabelle3[[#This Row],[Position\nG / D / FC / FW]]=\"G\",VLOOKUP($M$5-Tabelle3[[#This Row],[Jahr\nannée]],GOALI,6),VLOOKUP($M$5-Tabelle3[[#This Row],[Jahr\nannée]],SPIELER,6))","v":10},{"$f":"IF(Tabelle3[[#This Row],[Position\nG / D / FC / FW]]=\"G\",VLOOKUP($M$5-Tabelle3[[#This Row],[Jahr\nannée]],GOALI,9),VLOOKUP($M$5-Tabelle3[[#This Row],[Jahr\nannée]],SPIELER,9))","v":15},{"$f":"IF(Tabelle3[[#This Row],[Position\nG / D / FC / FW]]=\"G\",VLOOKUP($M$5-Tabelle3[[#This Row],[Jahr\nannée]],GOALI,7),VLOOKUP($M$5-Tabelle3[[#This Row],[Jahr\nannée]],SPIELER,7))","v":10},{"$f":"IF(Tabelle3[[#This Row],[Position\nG / D / FC / FW]]=\"G\",VLOOKUP($M$5-Tabelle3[[#This Row],[Jahr\nannée]],GOALI,8),VLOOKUP($M$5-Tabelle3[[#This Row],[Jahr\nannée]],SPIELER,8))","v":0},{"$f":"IF(Tabelle3[[#This Row],[Position\nG / D / FC / FW]]=\"G\",VLOOKUP($M$5-Tabelle3[[#This Row],[Jahr\nannée]],GOALI,10),VLOOKUP($M$5-Tabelle3[[#This Row],[Jahr\nannée]],SPIELER,10))","v":0},{"$f":"IF(Tabelle3[[#This Row],[Position\nG / D / FC / FW]]=\"G\",VLOOKUP($M$5-Tabelle3[[#This Row],[Jahr\nannée]],GOALI,11),VLOOKUP($M$5-Tabelle3[[#This Row],[Jahr\nannée]],SPIELER,11))","v":10},{"$f":"IF(Tabelle3[[#This Row],[Position\nG / D / FC / FW]]=\"G\",VLOOKUP($M$5-Tabelle3[[#This Row],[Jahr\nannée]],FGOALIE,2),VLOOKUP($M$5-Tabelle3[[#This Row],[Jahr\nannée]],FSPIELER,2))","v":10},{"$f":"IF(Tabelle3[[#This Row],[Position\nG / D / FC / FW]]=\"G\",VLOOKUP($M$5-Tabelle3[[#This Row],[Jahr\nannée]],FGOALIE,3),VLOOKUP($M$5-Tabelle3[[#This Row],[Jahr\nannée]],FSPIELER,3))","v":10},{"$f":"IF(Tabelle3[[#This Row],[Position\nG / D / FC / FW]]=\"G\",VLOOKUP($M$5-Tabelle3[[#This Row],[Jahr\nannée]],FGOALIE,4),VLOOKUP($M$5-Tabelle3[[#This Row],[Jahr\nannée]],FSPIELER,4))","v":20},{"$f":"IF(Tabelle3[[#This Row],[Position\nG / D / FC / FW]]=\"G\",VLOOKUP($M$5-Tabelle3[[#This Row],[Jahr\nannée]],FGOALIE,5),VLOOKUP($M$5-Tabelle3[[#This Row],[Jahr\nannée]],FSPIELER,5))","v":15},{"$f":"IF(Tabelle3[[#This Row],[Position\nG / D / FC / FW]]=\"G\",VLOOKUP($M$5-Tabelle3[[#This Row],[Jahr\nannée]],FGOALIE,6),VLOOKUP($M$5-Tabelle3[[#This Row],[Jahr\nannée]],FSPIELER,6))","v":10},{"$f":"IF(Tabelle3[[#This Row],[Position\nG / D / FC / FW]]=\"G\",VLOOKUP($M$5-Tabelle3[[#This Row],[Jahr\nannée]],FGOALIE,9),VLOOKUP($M$5-Tabelle3[[#This Row],[Jahr\nannée]],FSPIELER,9))","v":15},{"$f":"IF(Tabelle3[[#This Row],[Position\nG / D / FC / FW]]=\"G\",VLOOKUP($M$5-Tabelle3[[#This Row],[Jahr\nannée]],FGOALIE,7),VLOOKUP($M$5-Tabelle3[[#This Row],[Jahr\nannée]],FSPIELER,7))","v":10},{"$f":"IF(Tabelle3[[#This Row],[Position\nG / D / FC / FW]]=\"G\",VLOOKUP($M$5-Tabelle3[[#This Row],[Jahr\nannée]],FGOALIE,8),VLOOKUP($M$5-Tabelle3[[#This Row],[Jahr\nannée]],FSPIELER,8))","v":0},{"$f":"IF(Tabelle3[[#This Row],[Position\nG / D / FC / FW]]=\"G\",VLOOKUP($M$5-Tabelle3[[#This Row],[Jahr\nannée]],FGOALIE,10),VLOOKUP($M$5-Tabelle3[[#This Row],[Jahr\nannée]],FSPIELER,10))","v":0},{"$f":"IF(Tabelle3[[#This Row],[Position\nG / D / FC / FW]]=\"G\",VLOOKUP($M$5-Tabelle3[[#This Row],[Jahr\nannée]],FGOALIE,11),VLOOKUP($M$5-Tabelle3[[#This Row],[Jahr\nannée]],FSPIELER,11))","v":10}]
[20,null,null,"-",null,null,null,null,null,{"$f":"IF(ISBLANK('20'!$H$4),\"-\",'20'!$H$4)","v":"-"},{"$f":"IF(ISBLANK('20'!$H$5),\"-\",'20'!$H$5)","v":"-"},{"$f":"IF(ISBLANK('20'!$H$2),\"-\",'20'!$H$2)","v":"-"},null,null,null,null,null,null,null,{"$f":"'20'!$M$16","v":0},{"$f":"'20'!$M$20","v":0},{"$f":"'20'!$M$24","v":0},{"$f":"'20'!$M$29","v":0},{"$f":"'20'!$M$33","v":0},{"$f":"'20'!$M$37","v":0},{"$f":"'20'!$M$13","v":0},{"$f":"'20'!$AA$2","v":0},{"$f":"'20'!$AA$4","v":0},{"$f":"'20'!$AA$3","v":0},{"$f":"IF(Tabelle3[[#This Row],[SKILL]]=0,\"-\",IF(Tabelle3[[#This Row],[Sex]]=\"M\",SUMPRODUCT(Tabelle3[[#This Row],[SKILL]:[VERANLAGUNG\nPREDISPOSITION]],AJ30:AS30),SUMPRODUCT(Tabelle3[[#This Row],[SKILL]:[VERANLAGUNG\nPREDISPOSITION]],AT30:BC30)))","v":"-"},{"$f":"IFERROR(RANK(Tabelle3[[#This Row],[TOTAL ]],Tabelle3[[TOTAL ]],0),\"-\")","v":"-"},null,null,null,null,{"$f":"IF(Tabelle3[[#This Row],[Position\nG / D / FC / FW]]=\"G\",VLOOKUP($M$5-Tabelle3[[#This Row],[Jahr\nannée]],GOALI,2),VLOOKUP($M$5-Tabelle3[[#This Row],[Jahr\nannée]],SPIELER,2))","v":10},{"$f":"IF(Tabelle3[[#This Row],[Position\nG / D / FC / FW]]=\"G\",VLOOKUP($M$5-Tabelle3[[#This Row],[Jahr\nannée]],GOALI,3),VLOOKUP($M$5-Tabelle3[[#This Row],[Jahr\nannée]],SPIELER,3))","v":10},{"$f":"IF(Tabelle3[[#This Row],[Position\nG / D / FC / FW]]=\"G\",VLOOKUP($M$5-Tabelle3[[#This Row],[Jahr\nannée]],GOALI,4),VLOOKUP($M$5-Tabelle3[[#This Row],[Jahr\nannée]],SPIELER,4))","v":20},{"$f":"IF(Tabelle3[[#This Row],[Position\nG / D / FC / FW]]=\"G\",VLOOKUP($M$5-Tabelle3[[#This Row],[Jahr\nannée]],GOALI,5),VLOOKUP($M$5-Tabelle3[[#This Row],[Jahr\nannée]],SPIELER,5))","v":15},{"$f":"IF(Tabelle3[[#This Row],[Position\nG / D / FC / FW]]=\"G\",VLOOKUP($M$5-Tabelle3[[#This Row],[Jahr\nannée]],GOALI,6),VLOOKUP($M$5-Tabelle3[[#This Row],[Jahr\nannée]],SPIELER,6))","v":10},{"$f":"IF(Tabelle3[[#This Row],[Position\nG / D / FC / FW]]=\"G\",VLOOKUP($M$5-Tabelle3[[#This Row],[Jahr\nannée]],GOALI,9),VLOOKUP($M$5-Tabelle3[[#This Row],[Jahr\nannée]],SPIELER,9))","v":15},{"$f":"IF(Tabelle3[[#This Row],[Position\nG / D / FC / FW]]=\"G\",VLOOKUP($M$5-Tabelle3[[#This Row],[Jahr\nannée]],GOALI,7),VLOOKUP($M$5-Tabelle3[[#This Row],[Jahr\nannée]],SPIELER,7))","v":10},{"$f":"IF(Tabelle3[[#This Row],[Position\nG / D / FC / FW]]=\"G\",VLOOKUP($M$5-Tabelle3[[#This Row],[Jahr\nannée]],GOALI,8),VLOOKUP($M$5-Tabelle3[[#This Row],[Jahr\nannée]],SPIELER,8))","v":0},{"$f":"IF(Tabelle3[[#This Row],[Position\nG / D / FC / FW]]=\"G\",VLOOKUP($M$5-Tabelle3[[#This Row],[Jahr\nannée]],GOALI,10),VLOOKUP($M$5-Tabelle3[[#This Row],[Jahr\nannée]],SPIELER,10))","v":0},{"$f":"IF(Tabelle3[[#This Row],[Position\nG / D / FC / FW]]=\"G\",VLOOKUP($M$5-Tabelle3[[#This Row],[Jahr\nannée]],GOALI,11),VLOOKUP($M$5-Tabelle3[[#This Row],[Jahr\nannée]],SPIELER,11))","v":10},{"$f":"IF(Tabelle3[[#This Row],[Position\nG / D / FC / FW]]=\"G\",VLOOKUP($M$5-Tabelle3[[#This Row],[Jahr\nannée]],FGOALIE,2),VLOOKUP($M$5-Tabelle3[[#This Row],[Jahr\nannée]],FSPIELER,2))","v":10},{"$f":"IF(Tabelle3[[#This Row],[Position\nG / D / FC / FW]]=\"G\",VLOOKUP($M$5-Tabelle3[[#This Row],[Jahr\nannée]],FGOALIE,3),VLOOKUP($M$5-Tabelle3[[#This Row],[Jahr\nannée]],FSPIELER,3))","v":10},{"$f":"IF(Tabelle3[[#This Row],[Position\nG / D / FC / FW]]=\"G\",VLOOKUP($M$5-Tabelle3[[#This Row],[Jahr\nannée]],FGOALIE,4),VLOOKUP($M$5-Tabelle3[[#This Row],[Jahr\nannée]],FSPIELER,4))","v":20},{"$f":"IF(Tabelle3[[#This Row],[Position\nG / D / FC / FW]]=\"G\",VLOOKUP($M$5-Tabelle3[[#This Row],[Jahr\nannée]],FGOALIE,5),VLOOKUP($M$5-Tabelle3[[#This Row],[Jahr\nannée]],FSPIELER,5))","v":15},{"$f":"IF(Tabelle3[[#This Row],[Position\nG / D / FC / FW]]=\"G\",VLOOKUP($M$5-Tabelle3[[#This Row],[Jahr\nannée]],FGOALIE,6),VLOOKUP($M$5-Tabelle3[[#This Row],[Jahr\nannée]],FSPIELER,6))","v":10},{"$f":"IF(Tabelle3[[#This Row],[Position\nG / D / FC / FW]]=\"G\",VLOOKUP($M$5-Tabelle3[[#This Row],[Jahr\nannée]],FGOALIE,9),VLOOKUP($M$5-Tabelle3[[#This Row],[Jahr\nannée]],FSPIELER,9))","v":15},{"$f":"IF(Tabelle3[[#This Row],[Position\nG / D / FC / FW]]=\"G\",VLOOKUP($M$5-Tabelle3[[#This Row],[Jahr\nannée]],FGOALIE,7),VLOOKUP($M$5-Tabelle3[[#This Row],[Jahr\nannée]],FSPIELER,7))","v":10},{"$f":"IF(Tabelle3[[#This Row],[Position\nG / D / FC / FW]]=\"G\",VLOOKUP($M$5-Tabelle3[[#This Row],[Jahr\nannée]],FGOALIE,8),VLOOKUP($M$5-Tabelle3[[#This Row],[Jahr\nannée]],FSPIELER,8))","v":0},{"$f":"IF(Tabelle3[[#This Row],[Position\nG / D / FC / FW]]=\"G\",VLOOKUP($M$5-Tabelle3[[#This Row],[Jahr\nannée]],FGOALIE,10),VLOOKUP($M$5-Tabelle3[[#This Row],[Jahr\nannée]],FSPIELER,10))","v":0},{"$f":"IF(Tabelle3[[#This Row],[Position\nG / D / FC / FW]]=\"G\",VLOOKUP($M$5-Tabelle3[[#This Row],[Jahr\nannée]],FGOALIE,11),VLOOKUP($M$5-Tabelle3[[#This Row],[Jahr\nannée]],FSPIELER,11))","v":10}]
[21,null,null,"-",null,null,null,null,null,{"$f":"IF(ISBLANK('21'!$H$4),\"-\",'21'!$H$4)","v":"-"},{"$f":"IF(ISBLANK('21'!$H$5),\"-\",'21'!$H$5)","v":"-"},{"$f":"IF(ISBLANK('21'!$H$2),\"-\",'21'!$H$2)","v":"-"},null,null,null,null,null,null,null,{"$f":"'21'!$M$16","v":0},{"$f":"'21'!$M$20","v":0},{"$f":"'21'!$M$24","v":0},{"$f":"'21'!$M$29","v":0},{"$f":"'21'!$M$33","v":0},{"$f":"'21'!$M$37","v":0},{"$f":"'21'!$M$13","v":0},{"$f":"'21'!$AA$2","v":0},{"$f":"'21'!$AA$4","v":0},{"$f":"'21'!$AA$3","v":0},{"$f":"IF(Tabelle3[[#This Row],[SKILL]]=0,\"-\",IF(Tabelle3[[#This Row],[Sex]]=\"M\",SUMPRODUCT(Tabelle3[[#This Row],[SKILL]:[VERANLAGUNG\nPREDISPOSITION]],AJ31:AS31),SUMPRODUCT(Tabelle3[[#This Row],[SKILL]:[VERANLAGUNG\nPREDISPOSITION]],AT31:BC31)))","v":"-"},{"$f":"IFERROR(RANK(Tabelle3[[#This Row],[TOTAL ]],Tabelle3[[TOTAL ]],0),\"-\")","v":"-"},null,null,null,null,{"$f":"IF(Tabelle3[[#This Row],[Position\nG / D / FC / FW]]=\"G\",VLOOKUP($M$5-Tabelle3[[#This Row],[Jahr\nannée]],GOALI,2),VLOOKUP($M$5-Tabelle3[[#This Row],[Jahr\nannée]],SPIELER,2))","v":10},{"$f":"IF(Tabelle3[[#This Row],[Position\nG / D / FC / FW]]=\"G\",VLOOKUP($M$5-Tabelle3[[#This Row],[Jahr\nannée]],GOALI,3),VLOOKUP($M$5-Tabelle3[[#This Row],[Jahr\nannée]],SPIELER,3))","v":10},{"$f":"IF(Tabelle3[[#This Row],[Position\nG / D / FC / FW]]=\"G\",VLOOKUP($M$5-Tabelle3[[#This Row],[Jahr\nannée]],GOALI,4),VLOOKUP($M$5-Tabelle3[[#This Row],[Jahr\nannée]],SPIELER,4))","v":20},{"$f":"IF(Tabelle3[[#This Row],[Position\nG / D / FC / FW]]=\"G\",VLOOKUP($M$5-Tabelle3[[#This Row],[Jahr\nannée]],GOALI,5),VLOOKUP($M$5-Tabelle3[[#This Row],[Jahr\nannée]],SPIELER,5))","v":15},{"$f":"IF(Tabelle3[[#This Row],[Position\nG / D / FC / FW]]=\"G\",VLOOKUP($M$5-Tabelle3[[#This Row],[Jahr\nannée]],GOALI,6),VLOOKUP($M$5-Tabelle3[[#This Row],[Jahr\nannée]],SPIELER,6))","v":10},{"$f":"IF(Tabelle3[[#This Row],[Position\nG / D / FC / FW]]=\"G\",VLOOKUP($M$5-Tabelle3[[#This Row],[Jahr\nannée]],GOALI,9),VLOOKUP($M$5-Tabelle3[[#This Row],[Jahr\nannée]],SPIELER,9))","v":15},{"$f":"IF(Tabelle3[[#This Row],[Position\nG / D / FC / FW]]=\"G\",VLOOKUP($M$5-Tabelle3[[#This Row],[Jahr\nannée]],GOALI,7),VLOOKUP($M$5-Tabelle3[[#This Row],[Jahr\nannée]],SPIELER,7))","v":10},{"$f":"IF(Tabelle3[[#This Row],[Position\nG / D / FC / FW]]=\"G\",VLOOKUP($M$5-Tabelle3[[#This Row],[Jahr\nannée]],GOALI,8),VLOOKUP($M$5-Tabelle3[[#This Row],[Jahr\nannée]],SPIELER,8))","v":0},{"$f":"IF(Tabelle3[[#This Row],[Position\nG / D / FC / FW]]=\"G\",VLOOKUP($M$5-Tabelle3[[#This Row],[Jahr\nannée]],GOALI,10),VLOOKUP($M$5-Tabelle3[[#This Row],[Jahr\nannée]],SPIELER,10))","v":0},{"$f":"IF(Tabelle3[[#This Row],[Position\nG / D / FC / FW]]=\"G\",VLOOKUP($M$5-Tabelle3[[#This Row],[Jahr\nannée]],GOALI,11),VLOOKUP($M$5-Tabelle3[[#This Row],[Jahr\nannée]],SPIELER,11))","v":10},{"$f":"IF(Tabelle3[[#This Row],[Position\nG / D / FC / FW]]=\"G\",VLOOKUP($M$5-Tabelle3[[#This Row],[Jahr\nannée]],FGOALIE,2),VLOOKUP($M$5-Tabelle3[[#This Row],[Jahr\nannée]],FSPIELER,2))","v":10},{"$f":"IF(Tabelle3[[#This Row],[Position\nG / D / FC / FW]]=\"G\",VLOOKUP($M$5-Tabelle3[[#This Row],[Jahr\nannée]],FGOALIE,3),VLOOKUP($M$5-Tabelle3[[#This Row],[Jahr\nannée]],FSPIELER,3))","v":10},{"$f":"IF(Tabelle3[[#This Row],[Position\nG / D / FC / FW]]=\"G\",VLOOKUP($M$5-Tabelle3[[#This Row],[Jahr\nannée]],FGOALIE,4),VLOOKUP($M$5-Tabelle3[[#This Row],[Jahr\nannée]],FSPIELER,4))","v":20},{"$f":"IF(Tabelle3[[#This Row],[Position\nG / D / FC / FW]]=\"G\",VLOOKUP($M$5-Tabelle3[[#This Row],[Jahr\nannée]],FGOALIE,5),VLOOKUP($M$5-Tabelle3[[#This Row],[Jahr\nannée]],FSPIELER,5))","v":15},{"$f":"IF(Tabelle3[[#This Row],[Position\nG / D / FC / FW]]=\"G\",VLOOKUP($M$5-Tabelle3[[#This Row],[Jahr\nannée]],FGOALIE,6),VLOOKUP($M$5-Tabelle3[[#This Row],[Jahr\nannée]],FSPIELER,6))","v":10},{"$f":"IF(Tabelle3[[#This Row],[Position\nG / D / FC / FW]]=\"G\",VLOOKUP($M$5-Tabelle3[[#This Row],[Jahr\nannée]],FGOALIE,9),VLOOKUP($M$5-Tabelle3[[#This Row],[Jahr\nannée]],FSPIELER,9))","v":15},{"$f":"IF(Tabelle3[[#This Row],[Position\nG / D / FC / FW]]=\"G\",VLOOKUP($M$5-Tabelle3[[#This Row],[Jahr\nannée]],FGOALIE,7),VLOOKUP($M$5-Tabelle3[[#This Row],[Jahr\nannée]],FSPIELER,7))","v":10},{"$f":"IF(Tabelle3[[#This Row],[Position\nG / D / FC / FW]]=\"G\",VLOOKUP($M$5-Tabelle3[[#This Row],[Jahr\nannée]],FGOALIE,8),VLOOKUP($M$5-Tabelle3[[#This Row],[Jahr\nannée]],FSPIELER,8))","v":0},{"$f":"IF(Tabelle3[[#This Row],[Position\nG / D / FC / FW]]=\"G\",VLOOKUP($M$5-Tabelle3[[#This Row],[Jahr\nannée]],FGOALIE,10),VLOOKUP($M$5-Tabelle3[[#This Row],[Jahr\nannée]],FSPIELER,10))","v":0},{"$f":"IF(Tabelle3[[#This Row],[Position\nG / D / FC / FW]]=\"G\",VLOOKUP($M$5-Tabelle3[[#This Row],[Jahr\nannée]],FGOALIE,11),VLOOKUP($M$5-Tabelle3[[#This Row],[Jahr\nannée]],FSPIELER,11))","v":10}]
[22,null,null,"-",null,null,null,null,null,{"$f":"IF(ISBLANK('22'!$H$4),\"-\",'22'!$H$4)","v":"-"},{"$f":"IF(ISBLANK('22'!$H$5),\"-\",'22'!$H$5)","v":"-"},{"$f":"IF(ISBLANK('22'!$H$2),\"-\",'22'!$H$2)","v":"-"},null,null,null,null,null,null,null,{"$f":"'22'!$M$16","v":0},{"$f":"'22'!$M$20","v":0},{"$f":"'22'!$M$24","v":0},{"$f":"'22'!$M$29","v":0},{"$f":"'22'!$M$33","v":0},{"$f":"'22'!$M$37","v":0},{"$f":"'22'!$M$13","v":0},{"$f":"'22'!$AA$2","v":0},{"$f":"'22'!$AA$4","v":0},{"$f":"'22'!$AA$3","v":0},{"$f":"IF(Tabelle3[[#This Row],[SKILL]]=0,\"-\",IF(Tabelle3[[#This Row],[Sex]]=\"M\",SUMPRODUCT(Tabelle3[[#This Row],[SKILL]:[VERANLAGUNG\nPREDISPOSITION]],AJ32:AS32),SUMPRODUCT(Tabelle3[[#This Row],[SKILL]:[VERANLAGUNG\nPREDISPOSITION]],AT32:BC32)))","v":"-"},{"$f":"IFERROR(RANK(Tabelle3[[#This Row],[TOTAL ]],Tabelle3[[TOTAL ]],0),\"-\")","v":"-"},null,null,null,null,{"$f":"IF(Tabelle3[[#This Row],[Position\nG / D / FC / FW]]=\"G\",VLOOKUP($M$5-Tabelle3[[#This Row],[Jahr\nannée]],GOALI,2),VLOOKUP($M$5-Tabelle3[[#This Row],[Jahr\nannée]],SPIELER,2))","v":10},{"$f":"IF(Tabelle3[[#This Row],[Position\nG / D / FC / FW]]=\"G\",VLOOKUP($M$5-Tabelle3[[#This Row],[Jahr\nannée]],GOALI,3),VLOOKUP($M$5-Tabelle3[[#This Row],[Jahr\nannée]],SPIELER,3))","v":10},{"$f":"IF(Tabelle3[[#This Row],[Position\nG / D / FC / FW]]=\"G\",VLOOKUP($M$5-Tabelle3[[#This Row],[Jahr\nannée]],GOALI,4),VLOOKUP($M$5-Tabelle3[[#This Row],[Jahr\nannée]],SPIELER,4))","v":20},{"$f":"IF(Tabelle3[[#This Row],[Position\nG / D / FC / FW]]=\"G\",VLOOKUP($M$5-Tabelle3[[#This Row],[Jahr\nannée]],GOALI,5),VLOOKUP($M$5-Tabelle3[[#This Row],[Jahr\nannée]],SPIELER,5))","v":15},{"$f":"IF(Tabelle3[[#This Row],[Position\nG / D / FC / FW]]=\"G\",VLOOKUP($M$5-Tabelle3[[#This Row],[Jahr\nannée]],GOALI,6),VLOOKUP($M$5-Tabelle3[[#This Row],[Jahr\nannée]],SPIELER,6))","v":10},{"$f":"IF(Tabelle3[[#This Row],[Position\nG / D / FC / FW]]=\"G\",VLOOKUP($M$5-Tabelle3[[#This Row],[Jahr\nannée]],GOALI,9),VLOOKUP($M$5-Tabelle3[[#This Row],[Jahr\nannée]],SPIELER,9))","v":15},{"$f":"IF(Tabelle3[[#This Row],[Position\nG / D / FC / FW]]=\"G\",VLOOKUP($M$5-Tabelle3[[#This Row],[Jahr\nannée]],GOALI,7),VLOOKUP($M$5-Tabelle3[[#This Row],[Jahr\nannée]],SPIELER,7))","v":10},{"$f":"IF(Tabelle3[[#This Row],[Position\nG / D / FC / FW]]=\"G\",VLOOKUP($M$5-Tabelle3[[#This Row],[Jahr\nannée]],GOALI,8),VLOOKUP($M$5-Tabelle3[[#This Row],[Jahr\nannée]],SPIELER,8))","v":0},{"$f":"IF(Tabelle3[[#This Row],[Position\nG / D / FC / FW]]=\"G\",VLOOKUP($M$5-Tabelle3[[#This Row],[Jahr\nannée]],GOALI,10),VLOOKUP($M$5-Tabelle3[[#This Row],[Jahr\nannée]],SPIELER,10))","v":0},{"$f":"IF(Tabelle3[[#This Row],[Position\nG / D / FC / FW]]=\"G\",VLOOKUP($M$5-Tabelle3[[#This Row],[Jahr\nannée]],GOALI,11),VLOOKUP($M$5-Tabelle3[[#This Row],[Jahr\nannée]],SPIELER,11))","v":10},{"$f":"IF(Tabelle3[[#This Row],[Position\nG / D / FC / FW]]=\"G\",VLOOKUP($M$5-Tabelle3[[#This Row],[Jahr\nannée]],FGOALIE,2),VLOOKUP($M$5-Tabelle3[[#This Row],[Jahr\nannée]],FSPIELER,2))","v":10},{"$f":"IF(Tabelle3[[#This Row],[Position\nG / D / FC / FW]]=\"G\",VLOOKUP($M$5-Tabelle3[[#This Row],[Jahr\nannée]],FGOALIE,3),VLOOKUP($M$5-Tabelle3[[#This Row],[Jahr\nannée]],FSPIELER,3))","v":10},{"$f":"IF(Tabelle3[[#This Row],[Position\nG / D / FC / FW]]=\"G\",VLOOKUP($M$5-Tabelle3[[#This Row],[Jahr\nannée]],FGOALIE,4),VLOOKUP($M$5-Tabelle3[[#This Row],[Jahr\nannée]],FSPIELER,4))","v":20},{"$f":"IF(Tabelle3[[#This Row],[Position\nG / D / FC / FW]]=\"G\",VLOOKUP($M$5-Tabelle3[[#This Row],[Jahr\nannée]],FGOALIE,5),VLOOKUP($M$5-Tabelle3[[#This Row],[Jahr\nannée]],FSPIELER,5))","v":15},{"$f":"IF(Tabelle3[[#This Row],[Position\nG / D / FC / FW]]=\"G\",VLOOKUP($M$5-Tabelle3[[#This Row],[Jahr\nannée]],FGOALIE,6),VLOOKUP($M$5-Tabelle3[[#This Row],[Jahr\nannée]],FSPIELER,6))","v":10},{"$f":"IF(Tabelle3[[#This Row],[Position\nG / D / FC / FW]]=\"G\",VLOOKUP($M$5-Tabelle3[[#This Row],[Jahr\nannée]],FGOALIE,9),VLOOKUP($M$5-Tabelle3[[#This Row],[Jahr\nannée]],FSPIELER,9))","v":15},{"$f":"IF(Tabelle3[[#This Row],[Position\nG / D / FC / FW]]=\"G\",VLOOKUP($M$5-Tabelle3[[#This Row],[Jahr\nannée]],FGOALIE,7),VLOOKUP($M$5-Tabelle3[[#This Row],[Jahr\nannée]],FSPIELER,7))","v":10},{"$f":"IF(Tabelle3[[#This Row],[Position\nG / D / FC / FW]]=\"G\",VLOOKUP($M$5-Tabelle3[[#This Row],[Jahr\nannée]],FGOALIE,8),VLOOKUP($M$5-Tabelle3[[#This Row],[Jahr\nannée]],FSPIELER,8))","v":0},{"$f":"IF(Tabelle3[[#This Row],[Position\nG / D / FC / FW]]=\"G\",VLOOKUP($M$5-Tabelle3[[#This Row],[Jahr\nannée]],FGOALIE,10),VLOOKUP($M$5-Tabelle3[[#This Row],[Jahr\nannée]],FSPIELER,10))","v":0},{"$f":"IF(Tabelle3[[#This Row],[Position\nG / D / FC / FW]]=\"G\",VLOOKUP($M$5-Tabelle3[[#This Row],[Jahr\nannée]],FGOALIE,11),VLOOKUP($M$5-Tabelle3[[#This Row],[Jahr\nannée]],FSPIELER,11))","v":10}]
[23,null,null,"-",null,null,null,null,null,{"$f":"IF(ISBLANK('23'!$H$4),\"-\",'23'!$H$4)","v":"-"},{"$f":"IF(ISBLANK('23'!$H$5),\"-\",'23'!$H$5)","v":"-"},{"$f":"IF(ISBLANK('23'!$H$2),\"-\",'23'!$H$2)","v":"-"},null,null,null,null,null,null,null,{"$f":"'23'!$M$16","v":0},{"$f":"'23'!$M$20","v":0},{"$f":"'23'!$M$24","v":0},{"$f":"'23'!$M$29","v":0},{"$f":"'23'!$M$33","v":0},{"$f":"'23'!$M$37","v":0},{"$f":"'23'!$M$13","v":0},{"$f":"'23'!$AA$2","v":0},{"$f":"'23'!$AA$4","v":0},{"$f":"'23'!$AA$3","v":0},{"$f":"IF(Tabelle3[[#This Row],[SKILL]]=0,\"-\",IF(Tabelle3[[#This Row],[Sex]]=\"M\",SUMPRODUCT(Tabelle3[[#This Row],[SKILL]:[VERANLAGUNG\nPREDISPOSITION]],AJ33:AS33),SUMPRODUCT(Tabelle3[[#This Row],[SKILL]:[VERANLAGUNG\nPREDISPOSITION]],AT33:BC33)))","v":"-"},{"$f":"IFERROR(RANK(Tabelle3[[#This Row],[TOTAL ]],Tabelle3[[TOTAL ]],0),\"-\")","v":"-"},null,null,null,null,{"$f":"IF(Tabelle3[[#This Row],[Position\nG / D / FC / FW]]=\"G\",VLOOKUP($M$5-Tabelle3[[#This Row],[Jahr\nannée]],GOALI,2),VLOOKUP($M$5-Tabelle3[[#This Row],[Jahr\nannée]],SPIELER,2))","v":10},{"$f":"IF(Tabelle3[[#This Row],[Position\nG / D / FC / FW]]=\"G\",VLOOKUP($M$5-Tabelle3[[#This Row],[Jahr\nannée]],GOALI,3),VLOOKUP($M$5-Tabelle3[[#This Row],[Jahr\nannée]],SPIELER,3))","v":10},{"$f":"IF(Tabelle3[[#This Row],[Position\nG / D / FC / FW]]=\"G\",VLOOKUP($M$5-Tabelle3[[#This Row],[Jahr\nannée]],GOALI,4),VLOOKUP($M$5-Tabelle3[[#This Row],[Jahr\nannée]],SPIELER,4))","v":20},{"$f":"IF(Tabelle3[[#This Row],[Position\nG / D / FC / FW]]=\"G\",VLOOKUP($M$5-Tabelle3[[#This Row],[Jahr\nannée]],GOALI,5),VLOOKUP($M$5-Tabelle3[[#This Row],[Jahr\nannée]],SPIELER,5))","v":15},{"$f":"IF(Tabelle3[[#This Row],[Position\nG / D / FC / FW]]=\"G\",VLOOKUP($M$5-Tabelle3[[#This Row],[Jahr\nannée]],GOALI,6),VLOOKUP($M$5-Tabelle3[[#This Row],[Jahr\nannée]],SPIELER,6))","v":10},{"$f":"IF(Tabelle3[[#This Row],[Position\nG / D / FC / FW]]=\"G\",VLOOKUP($M$5-Tabelle3[[#This Row],[Jahr\nannée]],GOALI,9),VLOOKUP($M$5-Tabelle3[[#This Row],[Jahr\nannée]],SPIELER,9))","v":15},{"$f":"IF(Tabelle3[[#This Row],[Position\nG / D / FC / FW]]=\"G\",VLOOKUP($M$5-Tabelle3[[#This Row],[Jahr\nannée]],GOALI,7),VLOOKUP($M$5-Tabelle3[[#This Row],[Jahr\nannée]],SPIELER,7))","v":10},{"$f":"IF(Tabelle3[[#This Row],[Position\nG / D / FC / FW]]=\"G\",VLOOKUP($M$5-Tabelle3[[#This Row],[Jahr\nannée]],GOALI,8),VLOOKUP($M$5-Tabelle3[[#This Row],[Jahr\nannée]],SPIELER,8))","v":0},{"$f":"IF(Tabelle3[[#This Row],[Position\nG / D / FC / FW]]=\"G\",VLOOKUP($M$5-Tabelle3[[#This Row],[Jahr\nannée]],GOALI,10),VLOOKUP($M$5-Tabelle3[[#This Row],[Jahr\nannée]],SPIELER,10))","v":0},{"$f":"IF(Tabelle3[[#This Row],[Position\nG / D / FC / FW]]=\"G\",VLOOKUP($M$5-Tabelle3[[#This Row],[Jahr\nannée]],GOALI,11),VLOOKUP($M$5-Tabelle3[[#This Row],[Jahr\nannée]],SPIELER,11))","v":10},{"$f":"IF(Tabelle3[[#This Row],[Position\nG / D / FC / FW]]=\"G\",VLOOKUP($M$5-Tabelle3[[#This Row],[Jahr\nannée]],FGOALIE,2),VLOOKUP($M$5-Tabelle3[[#This Row],[Jahr\nannée]],FSPIELER,2))","v":10},{"$f":"IF(Tabelle3[[#This Row],[Position\nG / D / FC / FW]]=\"G\",VLOOKUP($M$5-Tabelle3[[#This Row],[Jahr\nannée]],FGOALIE,3),VLOOKUP($M$5-Tabelle3[[#This Row],[Jahr\nannée]],FSPIELER,3))","v":10},{"$f":"IF(Tabelle3[[#This Row],[Position\nG / D / FC / FW]]=\"G\",VLOOKUP($M$5-Tabelle3[[#This Row],[Jahr\nannée]],FGOALIE,4),VLOOKUP($M$5-Tabelle3[[#This Row],[Jahr\nannée]],FSPIELER,4))","v":20},{"$f":"IF(Tabelle3[[#This Row],[Position\nG / D / FC / FW]]=\"G\",VLOOKUP($M$5-Tabelle3[[#This Row],[Jahr\nannée]],FGOALIE,5),VLOOKUP($M$5-Tabelle3[[#This Row],[Jahr\nannée]],FSPIELER,5))","v":15},{"$f":"IF(Tabelle3[[#This Row],[Position\nG / D / FC / FW]]=\"G\",VLOOKUP($M$5-Tabelle3[[#This Row],[Jahr\nannée]],FGOALIE,6),VLOOKUP($M$5-Tabelle3[[#This Row],[Jahr\nannée]],FSPIELER,6))","v":10},{"$f":"IF(Tabelle3[[#This Row],[Position\nG / D / FC / FW]]=\"G\",VLOOKUP($M$5-Tabelle3[[#This Row],[Jahr\nannée]],FGOALIE,9),VLOOKUP($M$5-Tabelle3[[#This Row],[Jahr\nannée]],FSPIELER,9))","v":15},{"$f":"IF(Tabelle3[[#This Row],[Position\nG / D / FC / FW]]=\"G\",VLOOKUP($M$5-Tabelle3[[#This Row],[Jahr\nannée]],FGOALIE,7),VLOOKUP($M$5-Tabelle3[[#This Row],[Jahr\nannée]],FSPIELER,7))","v":10},{"$f":"IF(Tabelle3[[#This Row],[Position\nG / D / FC / FW]]=\"G\",VLOOKUP($M$5-Tabelle3[[#This Row],[Jahr\nannée]],FGOALIE,8),VLOOKUP($M$5-Tabelle3[[#This Row],[Jahr\nannée]],FSPIELER,8))","v":0},{"$f":"IF(Tabelle3[[#This Row],[Position\nG / D / FC / FW]]=\"G\",VLOOKUP($M$5-Tabelle3[[#This Row],[Jahr\nannée]],FGOALIE,10),VLOOKUP($M$5-Tabelle3[[#This Row],[Jahr\nannée]],FSPIELER,10))","v":0},{"$f":"IF(Tabelle3[[#This Row],[Position\nG / D / FC / FW]]=\"G\",VLOOKUP($M$5-Tabelle3[[#This Row],[Jahr\nannée]],FGOALIE,11),VLOOKUP($M$5-Tabelle3[[#This Row],[Jahr\nannée]],FSPIELER,11))","v":10}]
[24,null,null,"-",null,null,null,null,null,{"$f":"IF(ISBLANK('24'!$H$4),\"-\",'24'!$H$4)","v":"-"},{"$f":"IF(ISBLANK('24'!$H$5),\"-\",'24'!$H$5)","v":"-"},{"$f":"IF(ISBLANK('24'!$H$2),\"-\",'24'!$H$2)","v":"-"},null,null,null,null,null,null,null,{"$f":"'24'!$M$16","v":0},{"$f":"'24'!$M$20","v":0},{"$f":"'24'!$M$24","v":0},{"$f":"'24'!$M$29","v":0},{"$f":"'24'!$M$33","v":0},{"$f":"'24'!$M$37","v":0},{"$f":"'24'!$M$13","v":0},{"$f":"'24'!$AA$2","v":0},{"$f":"'24'!$AA$4","v":0},{"$f":"'24'!$AA$3","v":0},{"$f":"IF(Tabelle3[[#This Row],[SKILL]]=0,\"-\",IF(Tabelle3[[#This Row],[Sex]]=\"M\",SUMPRODUCT(Tabelle3[[#This Row],[SKILL]:[VERANLAGUNG\nPREDISPOSITION]],AJ34:AS34),SUMPRODUCT(Tabelle3[[#This Row],[SKILL]:[VERANLAGUNG\nPREDISPOSITION]],AT34:BC34)))","v":"-"},{"$f":"IFERROR(RANK(Tabelle3[[#This Row],[TOTAL ]],Tabelle3[[TOTAL ]],0),\"-\")","v":"-"},null,null,null,null,{"$f":"IF(Tabelle3[[#This Row],[Position\nG / D / FC / FW]]=\"G\",VLOOKUP($M$5-Tabelle3[[#This Row],[Jahr\nannée]],GOALI,2),VLOOKUP($M$5-Tabelle3[[#This Row],[Jahr\nannée]],SPIELER,2))","v":10},{"$f":"IF(Tabelle3[[#This Row],[Position\nG / D / FC / FW]]=\"G\",VLOOKUP($M$5-Tabelle3[[#This Row],[Jahr\nannée]],GOALI,3),VLOOKUP($M$5-Tabelle3[[#This Row],[Jahr\nannée]],SPIELER,3))","v":10},{"$f":"IF(Tabelle3[[#This Row],[Position\nG / D / FC / FW]]=\"G\",VLOOKUP($M$5-Tabelle3[[#This Row],[Jahr\nannée]],GOALI,4),VLOOKUP($M$5-Tabelle3[[#This Row],[Jahr\nannée]],SPIELER,4))","v":20},{"$f":"IF(Tabelle3[[#This Row],[Position\nG / D / FC / FW]]=\"G\",VLOOKUP($M$5-Tabelle3[[#This Row],[Jahr\nannée]],GOALI,5),VLOOKUP($M$5-Tabelle3[[#This Row],[Jahr\nannée]],SPIELER,5))","v":15},{"$f":"IF(Tabelle3[[#This Row],[Position\nG / D / FC / FW]]=\"G\",VLOOKUP($M$5-Tabelle3[[#This Row],[Jahr\nannée]],GOALI,6),VLOOKUP($M$5-Tabelle3[[#This Row],[Jahr\nannée]],SPIELER,6))","v":10},{"$f":"IF(Tabelle3[[#This Row],[Position\nG / D / FC / FW]]=\"G\",VLOOKUP($M$5-Tabelle3[[#This Row],[Jahr\nannée]],GOALI,9),VLOOKUP($M$5-Tabelle3[[#This Row],[Jahr\nannée]],SPIELER,9))","v":15},{"$f":"IF(Tabelle3[[#This Row],[Position\nG / D / FC / FW]]=\"G\",VLOOKUP($M$5-Tabelle3[[#This Row],[Jahr\nannée]],GOALI,7),VLOOKUP($M$5-Tabelle3[[#This Row],[Jahr\nannée]],SPIELER,7))","v":10},{"$f":"IF(Tabelle3[[#This Row],[Position\nG / D / FC / FW]]=\"G\",VLOOKUP($M$5-Tabelle3[[#This Row],[Jahr\nannée]],GOALI,8),VLOOKUP($M$5-Tabelle3[[#This Row],[Jahr\nannée]],SPIELER,8))","v":0},{"$f":"IF(Tabelle3[[#This Row],[Position\nG / D / FC / FW]]=\"G\",VLOOKUP($M$5-Tabelle3[[#This Row],[Jahr\nannée]],GOALI,10),VLOOKUP($M$5-Tabelle3[[#This Row],[Jahr\nannée]],SPIELER,10))","v":0},{"$f":"IF(Tabelle3[[#This Row],[Position\nG / D / FC / FW]]=\"G\",VLOOKUP($M$5-Tabelle3[[#This Row],[Jahr\nannée]],GOALI,11),VLOOKUP($M$5-Tabelle3[[#This Row],[Jahr\nannée]],SPIELER,11))","v":10},{"$f":"IF(Tabelle3[[#This Row],[Position\nG / D / FC / FW]]=\"G\",VLOOKUP($M$5-Tabelle3[[#This Row],[Jahr\nannée]],FGOALIE,2),VLOOKUP($M$5-Tabelle3[[#This Row],[Jahr\nannée]],FSPIELER,2))","v":10},{"$f":"IF(Tabelle3[[#This Row],[Position\nG / D / FC / FW]]=\"G\",VLOOKUP($M$5-Tabelle3[[#This Row],[Jahr\nannée]],FGOALIE,3),VLOOKUP($M$5-Tabelle3[[#This Row],[Jahr\nannée]],FSPIELER,3))","v":10},{"$f":"IF(Tabelle3[[#This Row],[Position\nG / D / FC / FW]]=\"G\",VLOOKUP($M$5-Tabelle3[[#This Row],[Jahr\nannée]],FGOALIE,4),VLOOKUP($M$5-Tabelle3[[#This Row],[Jahr\nannée]],FSPIELER,4))","v":20},{"$f":"IF(Tabelle3[[#This Row],[Position\nG / D / FC / FW]]=\"G\",VLOOKUP($M$5-Tabelle3[[#This Row],[Jahr\nannée]],FGOALIE,5),VLOOKUP($M$5-Tabelle3[[#This Row],[Jahr\nannée]],FSPIELER,5))","v":15},{"$f":"IF(Tabelle3[[#This Row],[Position\nG / D / FC / FW]]=\"G\",VLOOKUP($M$5-Tabelle3[[#This Row],[Jahr\nannée]],FGOALIE,6),VLOOKUP($M$5-Tabelle3[[#This Row],[Jahr\nannée]],FSPIELER,6))","v":10},{"$f":"IF(Tabelle3[[#This Row],[Position\nG / D / FC / FW]]=\"G\",VLOOKUP($M$5-Tabelle3[[#This Row],[Jahr\nannée]],FGOALIE,9),VLOOKUP($M$5-Tabelle3[[#This Row],[Jahr\nannée]],FSPIELER,9))","v":15},{"$f":"IF(Tabelle3[[#This Row],[Position\nG / D / FC / FW]]=\"G\",VLOOKUP($M$5-Tabelle3[[#This Row],[Jahr\nannée]],FGOALIE,7),VLOOKUP($M$5-Tabelle3[[#This Row],[Jahr\nannée]],FSPIELER,7))","v":10},{"$f":"IF(Tabelle3[[#This Row],[Position\nG / D / FC / FW]]=\"G\",VLOOKUP($M$5-Tabelle3[[#This Row],[Jahr\nannée]],FGOALIE,8),VLOOKUP($M$5-Tabelle3[[#This Row],[Jahr\nannée]],FSPIELER,8))","v":0},{"$f":"IF(Tabelle3[[#This Row],[Position\nG / D / FC / FW]]=\"G\",VLOOKUP($M$5-Tabelle3[[#This Row],[Jahr\nannée]],FGOALIE,10),VLOOKUP($M$5-Tabelle3[[#This Row],[Jahr\nannée]],FSPIELER,10))","v":0},{"$f":"IF(Tabelle3[[#This Row],[Position\nG / D / FC / FW]]=\"G\",VLOOKUP($M$5-Tabelle3[[#This Row],[Jahr\nannée]],FGOALIE,11),VLOOKUP($M$5-Tabelle3[[#This Row],[Jahr\nannée]],FSPIELER,11))","v":10}]
[25,null,null,"-",null,null,null,null,null,{"$f":"IF(ISBLANK('25'!$H$4),\"-\",'25'!$H$4)","v":"-"},{"$f":"IF(ISBLANK('25'!$H$5),\"-\",'25'!$H$5)","v":"-"},{"$f":"IF(ISBLANK('25'!$H$2),\"-\",'25'!$H$2)","v":"-"},null,null,null,null,null,null,null,{"$f":"'25'!$M$16","v":0},{"$f":"'25'!$M$20","v":0},{"$f":"'25'!$M$24","v":0},{"$f":"'25'!$M$29","v":0},{"$f":"'25'!$M$33","v":0},{"$f":"'25'!$M$37","v":0},{"$f":"'25'!$M$13","v":0},{"$f":"'25'!$AA$2","v":0},{"$f":"'25'!$AA$4","v":0},{"$f":"'25'!$AA$3","v":0},{"$f":"IF(Tabelle3[[#This Row],[SKILL]]=0,\"-\",IF(Tabelle3[[#This Row],[Sex]]=\"M\",SUMPRODUCT(Tabelle3[[#This Row],[SKILL]:[VERANLAGUNG\nPREDISPOSITION]],AJ35:AS35),SUMPRODUCT(Tabelle3[[#This Row],[SKILL]:[VERANLAGUNG\nPREDISPOSITION]],AT35:BC35)))","v":"-"},{"$f":"IFERROR(RANK(Tabelle3[[#This Row],[TOTAL ]],Tabelle3[[TOTAL ]],0),\"-\")","v":"-"},null,null,null,null,{"$f":"IF(Tabelle3[[#This Row],[Position\nG / D / FC / FW]]=\"G\",VLOOKUP($M$5-Tabelle3[[#This Row],[Jahr\nannée]],GOALI,2),VLOOKUP($M$5-Tabelle3[[#This Row],[Jahr\nannée]],SPIELER,2))","v":10},{"$f":"IF(Tabelle3[[#This Row],[Position\nG / D / FC / FW]]=\"G\",VLOOKUP($M$5-Tabelle3[[#This Row],[Jahr\nannée]],GOALI,3),VLOOKUP($M$5-Tabelle3[[#This Row],[Jahr\nannée]],SPIELER,3))","v":10},{"$f":"IF(Tabelle3[[#This Row],[Position\nG / D / FC / FW]]=\"G\",VLOOKUP($M$5-Tabelle3[[#This Row],[Jahr\nannée]],GOALI,4),VLOOKUP($M$5-Tabelle3[[#This Row],[Jahr\nannée]],SPIELER,4))","v":20},{"$f":"IF(Tabelle3[[#This Row],[Position\nG / D / FC / FW]]=\"G\",VLOOKUP($M$5-Tabelle3[[#This Row],[Jahr\nannée]],GOALI,5),VLOOKUP($M$5-Tabelle3[[#This Row],[Jahr\nannée]],SPIELER,5))","v":15},{"$f":"IF(Tabelle3[[#This Row],[Position\nG / D / FC / FW]]=\"G\",VLOOKUP($M$5-Tabelle3[[#This Row],[Jahr\nannée]],GOALI,6),VLOOKUP($M$5-Tabelle3[[#This Row],[Jahr\nannée]],SPIELER,6))","v":10},{"$f":"IF(Tabelle3[[#This Row],[Position\nG / D / FC / FW]]=\"G\",VLOOKUP($M$5-Tabelle3[[#This Row],[Jahr\nannée]],GOALI,9),VLOOKUP($M$5-Tabelle3[[#This Row],[Jahr\nannée]],SPIELER,9))","v":15},{"$f":"IF(Tabelle3[[#This Row],[Position\nG / D / FC / FW]]=\"G\",VLOOKUP($M$5-Tabelle3[[#This Row],[Jahr\nannée]],GOALI,7),VLOOKUP($M$5-Tabelle3[[#This Row],[Jahr\nannée]],SPIELER,7))","v":10},{"$f":"IF(Tabelle3[[#This Row],[Position\nG / D / FC / FW]]=\"G\",VLOOKUP($M$5-Tabelle3[[#This Row],[Jahr\nannée]],GOALI,8),VLOOKUP($M$5-Tabelle3[[#This Row],[Jahr\nannée]],SPIELER,8))","v":0},{"$f":"IF(Tabelle3[[#This Row],[Position\nG / D / FC / FW]]=\"G\",VLOOKUP($M$5-Tabelle3[[#This Row],[Jahr\nannée]],GOALI,10),VLOOKUP($M$5-Tabelle3[[#This Row],[Jahr\nannée]],SPIELER,10))","v":0},{"$f":"IF(Tabelle3[[#This Row],[Position\nG / D / FC / FW]]=\"G\",VLOOKUP($M$5-Tabelle3[[#This Row],[Jahr\nannée]],GOALI,11),VLOOKUP($M$5-Tabelle3[[#This Row],[Jahr\nannée]],SPIELER,11))","v":10},{"$f":"IF(Tabelle3[[#This Row],[Position\nG / D / FC / FW]]=\"G\",VLOOKUP($M$5-Tabelle3[[#This Row],[Jahr\nannée]],FGOALIE,2),VLOOKUP($M$5-Tabelle3[[#This Row],[Jahr\nannée]],FSPIELER,2))","v":10},{"$f":"IF(Tabelle3[[#This Row],[Position\nG / D / FC / FW]]=\"G\",VLOOKUP($M$5-Tabelle3[[#This Row],[Jahr\nannée]],FGOALIE,3),VLOOKUP($M$5-Tabelle3[[#This Row],[Jahr\nannée]],FSPIELER,3))","v":10},{"$f":"IF(Tabelle3[[#This Row],[Position\nG / D / FC / FW]]=\"G\",VLOOKUP($M$5-Tabelle3[[#This Row],[Jahr\nannée]],FGOALIE,4),VLOOKUP($M$5-Tabelle3[[#This Row],[Jahr\nannée]],FSPIELER,4))","v":20},{"$f":"IF(Tabelle3[[#This Row],[Position\nG / D / FC / FW]]=\"G\",VLOOKUP($M$5-Tabelle3[[#This Row],[Jahr\nannée]],FGOALIE,5),VLOOKUP($M$5-Tabelle3[[#This Row],[Jahr\nannée]],FSPIELER,5))","v":15},{"$f":"IF(Tabelle3[[#This Row],[Position\nG / D / FC / FW]]=\"G\",VLOOKUP($M$5-Tabelle3[[#This Row],[Jahr\nannée]],FGOALIE,6),VLOOKUP($M$5-Tabelle3[[#This Row],[Jahr\nannée]],FSPIELER,6))","v":10},{"$f":"IF(Tabelle3[[#This Row],[Position\nG / D / FC / FW]]=\"G\",VLOOKUP($M$5-Tabelle3[[#This Row],[Jahr\nannée]],FGOALIE,9),VLOOKUP($M$5-Tabelle3[[#This Row],[Jahr\nannée]],FSPIELER,9))","v":15},{"$f":"IF(Tabelle3[[#This Row],[Position\nG / D / FC / FW]]=\"G\",VLOOKUP($M$5-Tabelle3[[#This Row],[Jahr\nannée]],FGOALIE,7),VLOOKUP($M$5-Tabelle3[[#This Row],[Jahr\nannée]],FSPIELER,7))","v":10},{"$f":"IF(Tabelle3[[#This Row],[Position\nG / D / FC / FW]]=\"G\",VLOOKUP($M$5-Tabelle3[[#This Row],[Jahr\nannée]],FGOALIE,8),VLOOKUP($M$5-Tabelle3[[#This Row],[Jahr\nannée]],FSPIELER,8))","v":0},{"$f":"IF(Tabelle3[[#This Row],[Position\nG / D / FC / FW]]=\"G\",VLOOKUP($M$5-Tabelle3[[#This Row],[Jahr\nannée]],FGOALIE,10),VLOOKUP($M$5-Tabelle3[[#This Row],[Jahr\nannée]],FSPIELER,10))","v":0},{"$f":"IF(Tabelle3[[#This Row],[Position\nG / D / FC / FW]]=\"G\",VLOOKUP($M$5-Tabelle3[[#This Row],[Jahr\nannée]],FGOALIE,11),VLOOKUP($M$5-Tabelle3[[#This Row],[Jahr\nannée]],FSPIELER,11))","v":10}]
[26,null,null,"-",null,null,null,null,null,{"$f":"IF(ISBLANK('26'!$H$4),\"-\",'26'!$H$4)","v":"-"},{"$f":"IF(ISBLANK('26'!$H$5),\"-\",'26'!$H$5)","v":"-"},{"$f":"IF(ISBLANK('26'!$H$2),\"-\",'26'!$H$2)","v":"-"},null,null,null,null,null,null,null,{"$f":"'26'!$M$16","v":0},{"$f":"'26'!$M$20","v":0},{"$f":"'26'!$M$24","v":0},{"$f":"'26'!$M$29","v":0},{"$f":"'26'!$M$33","v":0},{"$f":"'26'!$M$37","v":0},{"$f":"'26'!$M$13","v":0},{"$f":"'26'!$AA$2","v":0},{"$f":"'26'!$AA$4","v":0},{"$f":"'26'!$AA$3","v":0},{"$f":"IF(Tabelle3[[#This Row],[SKILL]]=0,\"-\",IF(Tabelle3[[#This Row],[Sex]]=\"M\",SUMPRODUCT(Tabelle3[[#This Row],[SKILL]:[VERANLAGUNG\nPREDISPOSITION]],AJ36:AS36),SUMPRODUCT(Tabelle3[[#This Row],[SKILL]:[VERANLAGUNG\nPREDISPOSITION]],AT36:BC36)))","v":"-"},{"$f":"IFERROR(RANK(Tabelle3[[#This Row],[TOTAL ]],Tabelle3[[TOTAL ]],0),\"-\")","v":"-"},null,null,null,null,{"$f":"IF(Tabelle3[[#This Row],[Position\nG / D / FC / FW]]=\"G\",VLOOKUP($M$5-Tabelle3[[#This Row],[Jahr\nannée]],GOALI,2),VLOOKUP($M$5-Tabelle3[[#This Row],[Jahr\nannée]],SPIELER,2))","v":10},{"$f":"IF(Tabelle3[[#This Row],[Position\nG / D / FC / FW]]=\"G\",VLOOKUP($M$5-Tabelle3[[#This Row],[Jahr\nannée]],GOALI,3),VLOOKUP($M$5-Tabelle3[[#This Row],[Jahr\nannée]],SPIELER,3))","v":10},{"$f":"IF(Tabelle3[[#This Row],[Position\nG / D / FC / FW]]=\"G\",VLOOKUP($M$5-Tabelle3[[#This Row],[Jahr\nannée]],GOALI,4),VLOOKUP($M$5-Tabelle3[[#This Row],[Jahr\nannée]],SPIELER,4))","v":20},{"$f":"IF(Tabelle3[[#This Row],[Position\nG / D / FC / FW]]=\"G\",VLOOKUP($M$5-Tabelle3[[#This Row],[Jahr\nannée]],GOALI,5),VLOOKUP($M$5-Tabelle3[[#This Row],[Jahr\nannée]],SPIELER,5))","v":15},{"$f":"IF(Tabelle3[[#This Row],[Position\nG / D / FC / FW]]=\"G\",VLOOKUP($M$5-Tabelle3[[#This Row],[Jahr\nannée]],GOALI,6),VLOOKUP($M$5-Tabelle3[[#This Row],[Jahr\nannée]],SPIELER,6))","v":10},{"$f":"IF(Tabelle3[[#This Row],[Position\nG / D / FC / FW]]=\"G\",VLOOKUP($M$5-Tabelle3[[#This Row],[Jahr\nannée]],GOALI,9),VLOOKUP($M$5-Tabelle3[[#This Row],[Jahr\nannée]],SPIELER,9))","v":15},{"$f":"IF(Tabelle3[[#This Row],[Position\nG / D / FC / FW]]=\"G\",VLOOKUP($M$5-Tabelle3[[#This Row],[Jahr\nannée]],GOALI,7),VLOOKUP($M$5-Tabelle3[[#This Row],[Jahr\nannée]],SPIELER,7))","v":10},{"$f":"IF(Tabelle3[[#This Row],[Position\nG / D / FC / FW]]=\"G\",VLOOKUP($M$5-Tabelle3[[#This Row],[Jahr\nannée]],GOALI,8),VLOOKUP($M$5-Tabelle3[[#This Row],[Jahr\nannée]],SPIELER,8))","v":0},{"$f":"IF(Tabelle3[[#This Row],[Position\nG / D / FC / FW]]=\"G\",VLOOKUP($M$5-Tabelle3[[#This Row],[Jahr\nannée]],GOALI,10),VLOOKUP($M$5-Tabelle3[[#This Row],[Jahr\nannée]],SPIELER,10))","v":0},{"$f":"IF(Tabelle3[[#This Row],[Position\nG / D / FC / FW]]=\"G\",VLOOKUP($M$5-Tabelle3[[#This Row],[Jahr\nannée]],GOALI,11),VLOOKUP($M$5-Tabelle3[[#This Row],[Jahr\nannée]],SPIELER,11))","v":10},{"$f":"IF(Tabelle3[[#This Row],[Position\nG / D / FC / FW]]=\"G\",VLOOKUP($M$5-Tabelle3[[#This Row],[Jahr\nannée]],FGOALIE,2),VLOOKUP($M$5-Tabelle3[[#This Row],[Jahr\nannée]],FSPIELER,2))","v":10},{"$f":"IF(Tabelle3[[#This Row],[Position\nG / D / FC / FW]]=\"G\",VLOOKUP($M$5-Tabelle3[[#This Row],[Jahr\nannée]],FGOALIE,3),VLOOKUP($M$5-Tabelle3[[#This Row],[Jahr\nannée]],FSPIELER,3))","v":10},{"$f":"IF(Tabelle3[[#This Row],[Position\nG / D / FC / FW]]=\"G\",VLOOKUP($M$5-Tabelle3[[#This Row],[Jahr\nannée]],FGOALIE,4),VLOOKUP($M$5-Tabelle3[[#This Row],[Jahr\nannée]],FSPIELER,4))","v":20},{"$f":"IF(Tabelle3[[#This Row],[Position\nG / D / FC / FW]]=\"G\",VLOOKUP($M$5-Tabelle3[[#This Row],[Jahr\nannée]],FGOALIE,5),VLOOKUP($M$5-Tabelle3[[#This Row],[Jahr\nannée]],FSPIELER,5))","v":15},{"$f":"IF(Tabelle3[[#This Row],[Position\nG / D / FC / FW]]=\"G\",VLOOKUP($M$5-Tabelle3[[#This Row],[Jahr\nannée]],FGOALIE,6),VLOOKUP($M$5-Tabelle3[[#This Row],[Jahr\nannée]],FSPIELER,6))","v":10},{"$f":"IF(Tabelle3[[#This Row],[Position\nG / D / FC / FW]]=\"G\",VLOOKUP($M$5-Tabelle3[[#This Row],[Jahr\nannée]],FGOALIE,9),VLOOKUP($M$5-Tabelle3[[#This Row],[Jahr\nannée]],FSPIELER,9))","v":15},{"$f":"IF(Tabelle3[[#This Row],[Position\nG / D / FC / FW]]=\"G\",VLOOKUP($M$5-Tabelle3[[#This Row],[Jahr\nannée]],FGOALIE,7),VLOOKUP($M$5-Tabelle3[[#This Row],[Jahr\nannée]],FSPIELER,7))","v":10},{"$f":"IF(Tabelle3[[#This Row],[Position\nG / D / FC / FW]]=\"G\",VLOOKUP($M$5-Tabelle3[[#This Row],[Jahr\nannée]],FGOALIE,8),VLOOKUP($M$5-Tabelle3[[#This Row],[Jahr\nannée]],FSPIELER,8))","v":0},{"$f":"IF(Tabelle3[[#This Row],[Position\nG / D / FC / FW]]=\"G\",VLOOKUP($M$5-Tabelle3[[#This Row],[Jahr\nannée]],FGOALIE,10),VLOOKUP($M$5-Tabelle3[[#This Row],[Jahr\nannée]],FSPIELER,10))","v":0},{"$f":"IF(Tabelle3[[#This Row],[Position\nG / D / FC / FW]]=\"G\",VLOOKUP($M$5-Tabelle3[[#This Row],[Jahr\nannée]],FGOALIE,11),VLOOKUP($M$5-Tabelle3[[#This Row],[Jahr\nannée]],FSPIELER,11))","v":10}]
[27,null,null,"-",null,null,null,null,null,{"$f":"IF(ISBLANK('27'!$H$4),\"-\",'27'!$H$4)","v":"-"},{"$f":"IF(ISBLANK('27'!$H$5),\"-\",'27'!$H$5)","v":"-"},{"$f":"IF(ISBLANK('27'!$H$2),\"-\",'27'!$H$2)","v":"-"},null,null,null,null,null,null,null,{"$f":"'27'!$M$16","v":0},{"$f":"'27'!$M$20","v":0},{"$f":"'27'!$M$24","v":0},{"$f":"'27'!$M$29","v":0},{"$f":"'27'!$M$33","v":0},{"$f":"'27'!$M$37","v":0},{"$f":"'27'!$M$13","v":0},{"$f":"'27'!$AA$2","v":0},{"$f":"'27'!$AA$4","v":0},{"$f":"'27'!$AA$3","v":0},{"$f":"IF(Tabelle3[[#This Row],[SKILL]]=0,\"-\",IF(Tabelle3[[#This Row],[Sex]]=\"M\",SUMPRODUCT(Tabelle3[[#This Row],[SKILL]:[VERANLAGUNG\nPREDISPOSITION]],AJ37:AS37),SUMPRODUCT(Tabelle3[[#This Row],[SKILL]:[VERANLAGUNG\nPREDISPOSITION]],AT37:BC37)))","v":"-"},{"$f":"IFERROR(RANK(Tabelle3[[#This Row],[TOTAL ]],Tabelle3[[TOTAL ]],0),\"-\")","v":"-"},null,null,null,null,{"$f":"IF(Tabelle3[[#This Row],[Position\nG / D / FC / FW]]=\"G\",VLOOKUP($M$5-Tabelle3[[#This Row],[Jahr\nannée]],GOALI,2),VLOOKUP($M$5-Tabelle3[[#This Row],[Jahr\nannée]],SPIELER,2))","v":10},{"$f":"IF(Tabelle3[[#This Row],[Position\nG / D / FC / FW]]=\"G\",VLOOKUP($M$5-Tabelle3[[#This Row],[Jahr\nannée]],GOALI,3),VLOOKUP($M$5-Tabelle3[[#This Row],[Jahr\nannée]],SPIELER,3))","v":10},{"$f":"IF(Tabelle3[[#This Row],[Position\nG / D / FC / FW]]=\"G\",VLOOKUP($M$5-Tabelle3[[#This Row],[Jahr\nannée]],GOALI,4),VLOOKUP($M$5-Tabelle3[[#This Row],[Jahr\nannée]],SPIELER,4))","v":20},{"$f":"IF(Tabelle3[[#This Row],[Position\nG / D / FC / FW]]=\"G\",VLOOKUP($M$5-Tabelle3[[#This Row],[Jahr\nannée]],GOALI,5),VLOOKUP($M$5-Tabelle3[[#This Row],[Jahr\nannée]],SPIELER,5))","v":15},{"$f":"IF(Tabelle3[[#This Row],[Position\nG / D / FC / FW]]=\"G\",VLOOKUP($M$5-Tabelle3[[#This Row],[Jahr\nannée]],GOALI,6),VLOOKUP($M$5-Tabelle3[[#This Row],[Jahr\nannée]],SPIELER,6))","v":10},{"$f":"IF(Tabelle3[[#This Row],[Position\nG / D / FC / FW]]=\"G\",VLOOKUP($M$5-Tabelle3[[#This Row],[Jahr\nannée]],GOALI,9),VLOOKUP($M$5-Tabelle3[[#This Row],[Jahr\nannée]],SPIELER,9))","v":15},{"$f":"IF(Tabelle3[[#This Row],[Position\nG / D / FC / FW]]=\"G\",VLOOKUP($M$5-Tabelle3[[#This Row],[Jahr\nannée]],GOALI,7),VLOOKUP($M$5-Tabelle3[[#This Row],[Jahr\nannée]],SPIELER,7))","v":10},{"$f":"IF(Tabelle3[[#This Row],[Position\nG / D / FC / FW]]=\"G\",VLOOKUP($M$5-Tabelle3[[#This Row],[Jahr\nannée]],GOALI,8),VLOOKUP($M$5-Tabelle3[[#This Row],[Jahr\nannée]],SPIELER,8))","v":0},{"$f":"IF(Tabelle3[[#This Row],[Position\nG / D / FC / FW]]=\"G\",VLOOKUP($M$5-Tabelle3[[#This Row],[Jahr\nannée]],GOALI,10),VLOOKUP($M$5-Tabelle3[[#This Row],[Jahr\nannée]],SPIELER,10))","v":0},{"$f":"IF(Tabelle3[[#This Row],[Position\nG / D / FC / FW]]=\"G\",VLOOKUP($M$5-Tabelle3[[#This Row],[Jahr\nannée]],GOALI,11),VLOOKUP($M$5-Tabelle3[[#This Row],[Jahr\nannée]],SPIELER,11))","v":10},{"$f":"IF(Tabelle3[[#This Row],[Position\nG / D / FC / FW]]=\"G\",VLOOKUP($M$5-Tabelle3[[#This Row],[Jahr\nannée]],FGOALIE,2),VLOOKUP($M$5-Tabelle3[[#This Row],[Jahr\nannée]],FSPIELER,2))","v":10},{"$f":"IF(Tabelle3[[#This Row],[Position\nG / D / FC / FW]]=\"G\",VLOOKUP($M$5-Tabelle3[[#This Row],[Jahr\nannée]],FGOALIE,3),VLOOKUP($M$5-Tabelle3[[#This Row],[Jahr\nannée]],FSPIELER,3))","v":10},{"$f":"IF(Tabelle3[[#This Row],[Position\nG / D / FC / FW]]=\"G\",VLOOKUP($M$5-Tabelle3[[#This Row],[Jahr\nannée]],FGOALIE,4),VLOOKUP($M$5-Tabelle3[[#This Row],[Jahr\nannée]],FSPIELER,4))","v":20},{"$f":"IF(Tabelle3[[#This Row],[Position\nG / D / FC / FW]]=\"G\",VLOOKUP($M$5-Tabelle3[[#This Row],[Jahr\nannée]],FGOALIE,5),VLOOKUP($M$5-Tabelle3[[#This Row],[Jahr\nannée]],FSPIELER,5))","v":15},{"$f":"IF(Tabelle3[[#This Row],[Position\nG / D / FC / FW]]=\"G\",VLOOKUP($M$5-Tabelle3[[#This Row],[Jahr\nannée]],FGOALIE,6),VLOOKUP($M$5-Tabelle3[[#This Row],[Jahr\nannée]],FSPIELER,6))","v":10},{"$f":"IF(Tabelle3[[#This Row],[Position\nG / D / FC / FW]]=\"G\",VLOOKUP($M$5-Tabelle3[[#This Row],[Jahr\nannée]],FGOALIE,9),VLOOKUP($M$5-Tabelle3[[#This Row],[Jahr\nannée]],FSPIELER,9))","v":15},{"$f":"IF(Tabelle3[[#This Row],[Position\nG / D / FC / FW]]=\"G\",VLOOKUP($M$5-Tabelle3[[#This Row],[Jahr\nannée]],FGOALIE,7),VLOOKUP($M$5-Tabelle3[[#This Row],[Jahr\nannée]],FSPIELER,7))","v":10},{"$f":"IF(Tabelle3[[#This Row],[Position\nG / D / FC / FW]]=\"G\",VLOOKUP($M$5-Tabelle3[[#This Row],[Jahr\nannée]],FGOALIE,8),VLOOKUP($M$5-Tabelle3[[#This Row],[Jahr\nannée]],FSPIELER,8))","v":0},{"$f":"IF(Tabelle3[[#This Row],[Position\nG / D / FC / FW]]=\"G\",VLOOKUP($M$5-Tabelle3[[#This Row],[Jahr\nannée]],FGOALIE,10),VLOOKUP($M$5-Tabelle3[[#This Row],[Jahr\nannée]],FSPIELER,10))","v":0},{"$f":"IF(Tabelle3[[#This Row],[Position\nG / D / FC / FW]]=\"G\",VLOOKUP($M$5-Tabelle3[[#This Row],[Jahr\nannée]],FGOALIE,11),VLOOKUP($M$5-Tabelle3[[#This Row],[Jahr\nannée]],FSPIELER,11))","v":10}]
[28,null,null,"-",null,null,null,null,null,{"$f":"IF(ISBLANK('28'!$H$4),\"-\",'28'!$H$4)","v":"-"},{"$f":"IF(ISBLANK('28'!$H$5),\"-\",'28'!$H$5)","v":"-"},{"$f":"IF(ISBLANK('28'!$H$2),\"-\",'28'!$H$2)","v":"-"},null,null,null,null,null,null,null,{"$f":"'28'!$M$16","v":0},{"$f":"'28'!$M$20","v":0},{"$f":"'28'!$M$24","v":0},{"$f":"'28'!$M$29","v":0},{"$f":"'28'!$M$33","v":0},{"$f":"'28'!$M$37","v":0},{"$f":"'28'!$M$13","v":0},{"$f":"'28'!$AA$2","v":0},{"$f":"'28'!$AA$4","v":0},{"$f":"'28'!$AA$3","v":0},{"$f":"IF(Tabelle3[[#This Row],[SKILL]]=0,\"-\",IF(Tabelle3[[#This Row],[Sex]]=\"M\",SUMPRODUCT(Tabelle3[[#This Row],[SKILL]:[VERANLAGUNG\nPREDISPOSITION]],AJ38:AS38),SUMPRODUCT(Tabelle3[[#This Row],[SKILL]:[VERANLAGUNG\nPREDISPOSITION]],AT38:BC38)))","v":"-"},{"$f":"IFERROR(RANK(Tabelle3[[#This Row],[TOTAL ]],Tabelle3[[TOTAL ]],0),\"-\")","v":"-"},null,null,null,null,{"$f":"IF(Tabelle3[[#This Row],[Position\nG / D / FC / FW]]=\"G\",VLOOKUP($M$5-Tabelle3[[#This Row],[Jahr\nannée]],GOALI,2),VLOOKUP($M$5-Tabelle3[[#This Row],[Jahr\nannée]],SPIELER,2))","v":10},{"$f":"IF(Tabelle3[[#This Row],[Position\nG / D / FC / FW]]=\"G\",VLOOKUP($M$5-Tabelle3[[#This Row],[Jahr\nannée]],GOALI,3),VLOOKUP($M$5-Tabelle3[[#This Row],[Jahr\nannée]],SPIELER,3))","v":10},{"$f":"IF(Tabelle3[[#This Row],[Position\nG / D / FC / FW]]=\"G\",VLOOKUP($M$5-Tabelle3[[#This Row],[Jahr\nannée]],GOALI,4),VLOOKUP($M$5-Tabelle3[[#This Row],[Jahr\nannée]],SPIELER,4))","v":20},{"$f":"IF(Tabelle3[[#This Row],[Position\nG / D / FC / FW]]=\"G\",VLOOKUP($M$5-Tabelle3[[#This Row],[Jahr\nannée]],GOALI,5),VLOOKUP($M$5-Tabelle3[[#This Row],[Jahr\nannée]],SPIELER,5))","v":15},{"$f":"IF(Tabelle3[[#This Row],[Position\nG / D / FC / FW]]=\"G\",VLOOKUP($M$5-Tabelle3[[#This Row],[Jahr\nannée]],GOALI,6),VLOOKUP($M$5-Tabelle3[[#This Row],[Jahr\nannée]],SPIELER,6))","v":10},{"$f":"IF(Tabelle3[[#This Row],[Position\nG / D / FC / FW]]=\"G\",VLOOKUP($M$5-Tabelle3[[#This Row],[Jahr\nannée]],GOALI,9),VLOOKUP($M$5-Tabelle3[[#This Row],[Jahr\nannée]],SPIELER,9))","v":15},{"$f":"IF(Tabelle3[[#This Row],[Position\nG / D / FC / FW]]=\"G\",VLOOKUP($M$5-Tabelle3[[#This Row],[Jahr\nannée]],GOALI,7),VLOOKUP($M$5-Tabelle3[[#This Row],[Jahr\nannée]],SPIELER,7))","v":10},{"$f":"IF(Tabelle3[[#This Row],[Position\nG / D / FC / FW]]=\"G\",VLOOKUP($M$5-Tabelle3[[#This Row],[Jahr\nannée]],GOALI,8),VLOOKUP($M$5-Tabelle3[[#This Row],[Jahr\nannée]],SPIELER,8))","v":0},{"$f":"IF(Tabelle3[[#This Row],[Position\nG / D / FC / FW]]=\"G\",VLOOKUP($M$5-Tabelle3[[#This Row],[Jahr\nannée]],GOALI,10),VLOOKUP($M$5-Tabelle3[[#This Row],[Jahr\nannée]],SPIELER,10))","v":0},{"$f":"IF(Tabelle3[[#This Row],[Position\nG / D / FC / FW]]=\"G\",VLOOKUP($M$5-Tabelle3[[#This Row],[Jahr\nannée]],GOALI,11),VLOOKUP($M$5-Tabelle3[[#This Row],[Jahr\nannée]],SPIELER,11))","v":10},{"$f":"IF(Tabelle3[[#This Row],[Position\nG / D / FC / FW]]=\"G\",VLOOKUP($M$5-Tabelle3[[#This Row],[Jahr\nannée]],FGOALIE,2),VLOOKUP($M$5-Tabelle3[[#This Row],[Jahr\nannée]],FSPIELER,2))","v":10},{"$f":"IF(Tabelle3[[#This Row],[Position\nG / D / FC / FW]]=\"G\",VLOOKUP($M$5-Tabelle3[[#This Row],[Jahr\nannée]],FGOALIE,3),VLOOKUP($M$5-Tabelle3[[#This Row],[Jahr\nannée]],FSPIELER,3))","v":10},{"$f":"IF(Tabelle3[[#This Row],[Position\nG / D / FC / FW]]=\"G\",VLOOKUP($M$5-Tabelle3[[#This Row],[Jahr\nannée]],FGOALIE,4),VLOOKUP($M$5-Tabelle3[[#This Row],[Jahr\nannée]],FSPIELER,4))","v":20},{"$f":"IF(Tabelle3[[#This Row],[Position\nG / D / FC / FW]]=\"G\",VLOOKUP($M$5-Tabelle3[[#This Row],[Jahr\nannée]],FGOALIE,5),VLOOKUP($M$5-Tabelle3[[#This Row],[Jahr\nannée]],FSPIELER,5))","v":15},{"$f":"IF(Tabelle3[[#This Row],[Position\nG / D / FC / FW]]=\"G\",VLOOKUP($M$5-Tabelle3[[#This Row],[Jahr\nannée]],FGOALIE,6),VLOOKUP($M$5-Tabelle3[[#This Row],[Jahr\nannée]],FSPIELER,6))","v":10},{"$f":"IF(Tabelle3[[#This Row],[Position\nG / D / FC / FW]]=\"G\",VLOOKUP($M$5-Tabelle3[[#This Row],[Jahr\nannée]],FGOALIE,9),VLOOKUP($M$5-Tabelle3[[#This Row],[Jahr\nannée]],FSPIELER,9))","v":15},{"$f":"IF(Tabelle3[[#This Row],[Position\nG / D / FC / FW]]=\"G\",VLOOKUP($M$5-Tabelle3[[#This Row],[Jahr\nannée]],FGOALIE,7),VLOOKUP($M$5-Tabelle3[[#This Row],[Jahr\nannée]],FSPIELER,7))","v":10},{"$f":"IF(Tabelle3[[#This Row],[Position\nG / D / FC / FW]]=\"G\",VLOOKUP($M$5-Tabelle3[[#This Row],[Jahr\nannée]],FGOALIE,8),VLOOKUP($M$5-Tabelle3[[#This Row],[Jahr\nannée]],FSPIELER,8))","v":0},{"$f":"IF(Tabelle3[[#This Row],[Position\nG / D / FC / FW]]=\"G\",VLOOKUP($M$5-Tabelle3[[#This Row],[Jahr\nannée]],FGOALIE,10),VLOOKUP($M$5-Tabelle3[[#This Row],[Jahr\nannée]],FSPIELER,10))","v":0},{"$f":"IF(Tabelle3[[#This Row],[Position\nG / D / FC / FW]]=\"G\",VLOOKUP($M$5-Tabelle3[[#This Row],[Jahr\nannée]],FGOALIE,11),VLOOKUP($M$5-Tabelle3[[#This Row],[Jahr\nannée]],FSPIELER,11))","v":10}]
[29,null,null,"-",null,null,null,null,null,{"$f":"IF(ISBLANK('29'!$H$4),\"-\",'29'!$H$4)","v":"-"},{"$f":"IF(ISBLANK('29'!$H$5),\"-\",'29'!$H$5)","v":"-"},{"$f":"IF(ISBLANK('29'!$H$2),\"-\",'29'!$H$2)","v":"-"},null,null,null,null,null,null,null,{"$f":"'29'!$M$16","v":0},{"$f":"'29'!$M$20","v":0},{"$f":"'29'!$M$24","v":0},{"$f":"'29'!$M$29","v":0},{"$f":"'29'!$M$33","v":0},{"$f":"'29'!$M$37","v":0},{"$f":"'29'!$M$13","v":0},{"$f":"'29'!$AA$2","v":0},{"$f":"'29'!$AA$4","v":0},{"$f":"'29'!$AA$3","v":0},{"$f":"IF(Tabelle3[[#This Row],[SKILL]]=0,\"-\",IF(Tabelle3[[#This Row],[Sex]]=\"M\",SUMPRODUCT(Tabelle3[[#This Row],[SKILL]:[VERANLAGUNG\nPREDISPOSITION]],AJ39:AS39),SUMPRODUCT(Tabelle3[[#This Row],[SKILL]:[VERANLAGUNG\nPREDISPOSITION]],AT39:BC39)))","v":"-"},{"$f":"IFERROR(RANK(Tabelle3[[#This Row],[TOTAL ]],Tabelle3[[TOTAL ]],0),\"-\")","v":"-"},null,null,null,null,{"$f":"IF(Tabelle3[[#This Row],[Position\nG / D / FC / FW]]=\"G\",VLOOKUP($M$5-Tabelle3[[#This Row],[Jahr\nannée]],GOALI,2),VLOOKUP($M$5-Tabelle3[[#This Row],[Jahr\nannée]],SPIELER,2))","v":10},{"$f":"IF(Tabelle3[[#This Row],[Position\nG / D / FC / FW]]=\"G\",VLOOKUP($M$5-Tabelle3[[#This Row],[Jahr\nannée]],GOALI,3),VLOOKUP($M$5-Tabelle3[[#This Row],[Jahr\nannée]],SPIELER,3))","v":10},{"$f":"IF(Tabelle3[[#This Row],[Position\nG / D / FC / FW]]=\"G\",VLOOKUP($M$5-Tabelle3[[#This Row],[Jahr\nannée]],GOALI,4),VLOOKUP($M$5-Tabelle3[[#This Row],[Jahr\nannée]],SPIELER,4))","v":20},{"$f":"IF(Tabelle3[[#This Row],[Position\nG / D / FC / FW]]=\"G\",VLOOKUP($M$5-Tabelle3[[#This Row],[Jahr\nannée]],GOALI,5),VLOOKUP($M$5-Tabelle3[[#This Row],[Jahr\nannée]],SPIELER,5))","v":15},{"$f":"IF(Tabelle3[[#This Row],[Position\nG / D / FC / FW]]=\"G\",VLOOKUP($M$5-Tabelle3[[#This Row],[Jahr\nannée]],GOALI,6),VLOOKUP($M$5-Tabelle3[[#This Row],[Jahr\nannée]],SPIELER,6))","v":10},{"$f":"IF(Tabelle3[[#This Row],[Position\nG / D / FC / FW]]=\"G\",VLOOKUP($M$5-Tabelle3[[#This Row],[Jahr\nannée]],GOALI,9),VLOOKUP($M$5-Tabelle3[[#This Row],[Jahr\nannée]],SPIELER,9))","v":15},{"$f":"IF(Tabelle3[[#This Row],[Position\nG / D / FC / FW]]=\"G\",VLOOKUP($M$5-Tabelle3[[#This Row],[Jahr\nannée]],GOALI,7),VLOOKUP($M$5-Tabelle3[[#This Row],[Jahr\nannée]],SPIELER,7))","v":10},{"$f":"IF(Tabelle3[[#This Row],[Position\nG / D / FC / FW]]=\"G\",VLOOKUP($M$5-Tabelle3[[#This Row],[Jahr\nannée]],GOALI,8),VLOOKUP($M$5-Tabelle3[[#This Row],[Jahr\nannée]],SPIELER,8))","v":0},{"$f":"IF(Tabelle3[[#This Row],[Position\nG / D / FC / FW]]=\"G\",VLOOKUP($M$5-Tabelle3[[#This Row],[Jahr\nannée]],GOALI,10),VLOOKUP($M$5-Tabelle3[[#This Row],[Jahr\nannée]],SPIELER,10))","v":0},{"$f":"IF(Tabelle3[[#This Row],[Position\nG / D / FC / FW]]=\"G\",VLOOKUP($M$5-Tabelle3[[#This Row],[Jahr\nannée]],GOALI,11),VLOOKUP($M$5-Tabelle3[[#This Row],[Jahr\nannée]],SPIELER,11))","v":10},{"$f":"IF(Tabelle3[[#This Row],[Position\nG / D / FC / FW]]=\"G\",VLOOKUP($M$5-Tabelle3[[#This Row],[Jahr\nannée]],FGOALIE,2),VLOOKUP($M$5-Tabelle3[[#This Row],[Jahr\nannée]],FSPIELER,2))","v":10},{"$f":"IF(Tabelle3[[#This Row],[Position\nG / D / FC / FW]]=\"G\",VLOOKUP($M$5-Tabelle3[[#This Row],[Jahr\nannée]],FGOALIE,3),VLOOKUP($M$5-Tabelle3[[#This Row],[Jahr\nannée]],FSPIELER,3))","v":10},{"$f":"IF(Tabelle3[[#This Row],[Position\nG / D / FC / FW]]=\"G\",VLOOKUP($M$5-Tabelle3[[#This Row],[Jahr\nannée]],FGOALIE,4),VLOOKUP($M$5-Tabelle3[[#This Row],[Jahr\nannée]],FSPIELER,4))","v":20},{"$f":"IF(Tabelle3[[#This Row],[Position\nG / D / FC / FW]]=\"G\",VLOOKUP($M$5-Tabelle3[[#This Row],[Jahr\nannée]],FGOALIE,5),VLOOKUP($M$5-Tabelle3[[#This Row],[Jahr\nannée]],FSPIELER,5))","v":15},{"$f":"IF(Tabelle3[[#This Row],[Position\nG / D / FC / FW]]=\"G\",VLOOKUP($M$5-Tabelle3[[#This Row],[Jahr\nannée]],FGOALIE,6),VLOOKUP($M$5-Tabelle3[[#This Row],[Jahr\nannée]],FSPIELER,6))","v":10},{"$f":"IF(Tabelle3[[#This Row],[Position\nG / D / FC / FW]]=\"G\",VLOOKUP($M$5-Tabelle3[[#This Row],[Jahr\nannée]],FGOALIE,9),VLOOKUP($M$5-Tabelle3[[#This Row],[Jahr\nannée]],FSPIELER,9))","v":15},{"$f":"IF(Tabelle3[[#This Row],[Position\nG / D / FC / FW]]=\"G\",VLOOKUP($M$5-Tabelle3[[#This Row],[Jahr\nannée]],FGOALIE,7),VLOOKUP($M$5-Tabelle3[[#This Row],[Jahr\nannée]],FSPIELER,7))","v":10},{"$f":"IF(Tabelle3[[#This Row],[Position\nG / D / FC / FW]]=\"G\",VLOOKUP($M$5-Tabelle3[[#This Row],[Jahr\nannée]],FGOALIE,8),VLOOKUP($M$5-Tabelle3[[#This Row],[Jahr\nannée]],FSPIELER,8))","v":0},{"$f":"IF(Tabelle3[[#This Row],[Position\nG / D / FC / FW]]=\"G\",VLOOKUP($M$5-Tabelle3[[#This Row],[Jahr\nannée]],FGOALIE,10),VLOOKUP($M$5-Tabelle3[[#This Row],[Jahr\nannée]],FSPIELER,10))","v":0},{"$f":"IF(Tabelle3[[#This Row],[Position\nG / D / FC / FW]]=\"G\",VLOOKUP($M$5-Tabelle3[[#This Row],[Jahr\nannée]],FGOALIE,11),VLOOKUP($M$5-Tabelle3[[#This Row],[Jahr\nannée]],FSPIELER,11))","v":10}]
[30,null,null,"-",null,null,null,null,null,{"$f":"IF(ISBLANK('30'!$H$4),\"-\",'30'!$H$4)","v":"-"},{"$f":"IF(ISBLANK('30'!$H$5),\"-\",'30'!$H$5)","v":"-"},{"$f":"IF(ISBLANK('30'!$H$2),\"-\",'30'!$H$2)","v":"-"},null,null,null,null,null,null,null,{"$f":"'30'!$M$16","v":0},{"$f":"'30'!$M$20","v":0},{"$f":"'30'!$M$24","v":0},{"$f":"'30'!$M$29","v":0},{"$f":"'30'!$M$33","v":0},{"$f":"'30'!$M$37","v":0},{"$f":"'30'!$M$13","v":0},{"$f":"'30'!$AA$2","v":0},{"$f":"'30'!$AA$4","v":0},{"$f":"'30'!$AA$3","v":0},{"$f":"IF(Tabelle3[[#This Row],[SKILL]]=0,\"-\",IF(Tabelle3[[#This Row],[Sex]]=\"M\",SUMPRODUCT(Tabelle3[[#This Row],[SKILL]:[VERANLAGUNG\nPREDISPOSITION]],AJ40:AS40),SUMPRODUCT(Tabelle3[[#This Row],[SKILL]:[VERANLAGUNG\nPREDISPOSITION]],AT40:BC40)))","v":"-"},{"$f":"IFERROR(RANK(Tabelle3[[#This Row],[TOTAL ]],Tabelle3[[TOTAL ]],0),\"-\")","v":"-"},null,null,null,null,{"$f":"IF(Tabelle3[[#This Row],[Position\nG / D / FC / FW]]=\"G\",VLOOKUP($M$5-Tabelle3[[#This Row],[Jahr\nannée]],GOALI,2),VLOOKUP($M$5-Tabelle3[[#This Row],[Jahr\nannée]],SPIELER,2))","v":10},{"$f":"IF(Tabelle3[[#This Row],[Position\nG / D / FC / FW]]=\"G\",VLOOKUP($M$5-Tabelle3[[#This Row],[Jahr\nannée]],GOALI,3),VLOOKUP($M$5-Tabelle3[[#This Row],[Jahr\nannée]],SPIELER,3))","v":10},{"$f":"IF(Tabelle3[[#This Row],[Position\nG / D / FC / FW]]=\"G\",VLOOKUP($M$5-Tabelle3[[#This Row],[Jahr\nannée]],GOALI,4),VLOOKUP($M$5-Tabelle3[[#This Row],[Jahr\nannée]],SPIELER,4))","v":20},{"$f":"IF(Tabelle3[[#This Row],[Position\nG / D / FC / FW]]=\"G\",VLOOKUP($M$5-Tabelle3[[#This Row],[Jahr\nannée]],GOALI,5),VLOOKUP($M$5-Tabelle3[[#This Row],[Jahr\nannée]],SPIELER,5))","v":15},{"$f":"IF(Tabelle3[[#This Row],[Position\nG / D / FC / FW]]=\"G\",VLOOKUP($M$5-Tabelle3[[#This Row],[Jahr\nannée]],GOALI,6),VLOOKUP($M$5-Tabelle3[[#This Row],[Jahr\nannée]],SPIELER,6))","v":10},{"$f":"IF(Tabelle3[[#This Row],[Position\nG / D / FC / FW]]=\"G\",VLOOKUP($M$5-Tabelle3[[#This Row],[Jahr\nannée]],GOALI,9),VLOOKUP($M$5-Tabelle3[[#This Row],[Jahr\nannée]],SPIELER,9))","v":15},{"$f":"IF(Tabelle3[[#This Row],[Position\nG / D / FC / FW]]=\"G\",VLOOKUP($M$5-Tabelle3[[#This Row],[Jahr\nannée]],GOALI,7),VLOOKUP($M$5-Tabelle3[[#This Row],[Jahr\nannée]],SPIELER,7))","v":10},{"$f":"IF(Tabelle3[[#This Row],[Position\nG / D / FC / FW]]=\"G\",VLOOKUP($M$5-Tabelle3[[#This Row],[Jahr\nannée]],GOALI,8),VLOOKUP($M$5-Tabelle3[[#This Row],[Jahr\nannée]],SPIELER,8))","v":0},{"$f":"IF(Tabelle3[[#This Row],[Position\nG / D / FC / FW]]=\"G\",VLOOKUP($M$5-Tabelle3[[#This Row],[Jahr\nannée]],GOALI,10),VLOOKUP($M$5-Tabelle3[[#This Row],[Jahr\nannée]],SPIELER,10))","v":0},{"$f":"IF(Tabelle3[[#This Row],[Position\nG / D / FC / FW]]=\"G\",VLOOKUP($M$5-Tabelle3[[#This Row],[Jahr\nannée]],GOALI,11),VLOOKUP($M$5-Tabelle3[[#This Row],[Jahr\nannée]],SPIELER,11))","v":10},{"$f":"IF(Tabelle3[[#This Row],[Position\nG / D / FC / FW]]=\"G\",VLOOKUP($M$5-Tabelle3[[#This Row],[Jahr\nannée]],FGOALIE,2),VLOOKUP($M$5-Tabelle3[[#This Row],[Jahr\nannée]],FSPIELER,2))","v":10},{"$f":"IF(Tabelle3[[#This Row],[Position\nG / D / FC / FW]]=\"G\",VLOOKUP($M$5-Tabelle3[[#This Row],[Jahr\nannée]],FGOALIE,3),VLOOKUP($M$5-Tabelle3[[#This Row],[Jahr\nannée]],FSPIELER,3))","v":10},{"$f":"IF(Tabelle3[[#This Row],[Position\nG / D / FC / FW]]=\"G\",VLOOKUP($M$5-Tabelle3[[#This Row],[Jahr\nannée]],FGOALIE,4),VLOOKUP($M$5-Tabelle3[[#This Row],[Jahr\nannée]],FSPIELER,4))","v":20},{"$f":"IF(Tabelle3[[#This Row],[Position\nG / D / FC / FW]]=\"G\",VLOOKUP($M$5-Tabelle3[[#This Row],[Jahr\nannée]],FGOALIE,5),VLOOKUP($M$5-Tabelle3[[#This Row],[Jahr\nannée]],FSPIELER,5))","v":15},{"$f":"IF(Tabelle3[[#This Row],[Position\nG / D / FC / FW]]=\"G\",VLOOKUP($M$5-Tabelle3[[#This Row],[Jahr\nannée]],FGOALIE,6),VLOOKUP($M$5-Tabelle3[[#This Row],[Jahr\nannée]],FSPIELER,6))","v":10},{"$f":"IF(Tabelle3[[#This Row],[Position\nG / D / FC / FW]]=\"G\",VLOOKUP($M$5-Tabelle3[[#This Row],[Jahr\nannée]],FGOALIE,9),VLOOKUP($M$5-Tabelle3[[#This Row],[Jahr\nannée]],FSPIELER,9))","v":15},{"$f":"IF(Tabelle3[[#This Row],[Position\nG / D / FC / FW]]=\"G\",VLOOKUP($M$5-Tabelle3[[#This Row],[Jahr\nannée]],FGOALIE,7),VLOOKUP($M$5-Tabelle3[[#This Row],[Jahr\nannée]],FSPIELER,7))","v":10},{"$f":"IF(Tabelle3[[#This Row],[Position\nG / D / FC / FW]]=\"G\",VLOOKUP($M$5-Tabelle3[[#This Row],[Jahr\nannée]],FGOALIE,8),VLOOKUP($M$5-Tabelle3[[#This Row],[Jahr\nannée]],FSPIELER,8))","v":0},{"$f":"IF(Tabelle3[[#This Row],[Position\nG / D / FC / FW]]=\"G\",VLOOKUP($M$5-Tabelle3[[#This Row],[Jahr\nannée]],FGOALIE,10),VLOOKUP($M$5-Tabelle3[[#This Row],[Jahr\nannée]],FSPIELER,10))","v":0},{"$f":"IF(Tabelle3[[#This Row],[Position\nG / D / FC / FW]]=\"G\",VLOOKUP($M$5-Tabelle3[[#This Row],[Jahr\nannée]],FGOALIE,11),VLOOKUP($M$5-Tabelle3[[#This Row],[Jahr\nannée]],FSPIELER,11))","v":10}]

{"sheet":"1","index":4,"n_rows":40,"n_cols":36,"rows_kept":40,"cut":false,"hidden":false,"merged":[[36,23,39,23],[36,25,39,25],[36,26,39,32],[36,34,39,34],[37,3,37,5],[37,6,37,11],[39,3,39,5],[39,6,39,11],[34,3,34,5],[34,6,34,11],[38,3,38,5],[38,6,38,11],[32,12,35,12],[35,3,35,5],[35,6,35,11],[32,13,35,13],[32,21,35,21],[32,23,35,23],[32,19,35,19],[36,0,39,2],[36,3,36,5],[36,6,36,11],[36,12,39,12],[36,13,39,13],[36,15,39,15],[36,17,39,17],[36,19,39,19],[36,21,39,21],[32,0,35,2],[6,0,6,1],[2,2,2,5],[4,2,4,5],[15,3,15,5],[15,6,15,11],[4,0,4,1],[2,0,2,1],[3,0,3,1],[11,0,11,2],[12,0,13,2],[14,0,14,2],[15,0,18,2],[8,0,8,1],[17,3,17,5],[17,6,17,11],[18,3,18,5],[18,6,18,11],[32,3,32,5],[31,6,31,11],[31,3,31,5],[8,2,8,35],[10,0,10,24],[10,25,10,35],[30,3,30,5],[30,6,30,11],[16,3,16,5],[12,3,12,5],[12,6,12,11],[28,12,31,12],[32,6,32,11],[33,3,33,5],[33,6,33,11],[16,6,16,11],[14,3,14,5],[14,6,14,11],[13,3,13,5],[13,6,13,11],[20,6,20,11],[22,3,22,5],[22,6,22,11],[19,3,19,5],[29,3,29,5],[29,6,29,11],[21,3,21,5],[1,0,1,1],[7,0,7,1],[1,2,1,5],[11,26,11,32],[12,13,13,13],[23,6,23,11],[25,3,25,5],[27,3,27,5],[27,6,27,11],[19,12,22,12],[23,12,26,12],[24,3,24,5],[26,3,26,5],[26,6,26,11],[23,3,23,5],[20,3,20,5],[25,6,25,11],[24,6,24,11],[11,3,11,5],[23,0,26,2],[27,0,27,2],[19,6,19,11],[19,0,22,2],[7,2,7,35],[11,13,11,14],[11,15,11,16],[11,17,11,18],[12,12,13,12],[15,12,18,12],[28,0,31,2],[12,25,13,25],[6,2,6,35],[28,3,28,5],[28,6,28,11],[28,23,31,23],[15,15,18,15],[15,17,18,17],[15,19,18,19],[15,21,18,21],[15,23,18,23],[21,6,21,11],[19,13,22,13],[15,13,18,13],[14,19,14,20],[14,21,14,22],[14,23,14,24],[28,13,31,13],[23,15,26,15],[23,17,26,17],[23,19,26,19],[23,21,26,21],[23,23,26,23],[19,19,22,19],[19,21,22,21],[19,23,22,23],[19,17,22,17],[32,15,35,15],[28,15,31,15],[28,17,31,17],[28,19,31,19],[28,21,31,21],[1,10,1,24],[2,11,2,24],[3,10,3,24],[4,10,4,24],[27,13,27,14],[27,15,27,16],[27,17,27,18],[27,19,27,20],[27,21,27,22],[27,23,27,24],[14,13,14,14],[14,15,14,16],[14,17,14,18],[23,13,26,13],[12,15,13,15],[12,17,13,17],[12,19,13,19],[12,21,13,21],[12,23,13,23],[11,19,11,20],[11,21,11,22],[11,23,11,24],[19,15,22,15],[11,6,11,11],[0,0,0,24],[0,25,0,26],[0,27,0,32],[0,33,0,35],[28,34,31,34],[32,25,35,25],[32,26,35,32],[32,34,35,34],[12,34,13,34],[15,25,18,25],[15,26,18,32],[15,34,18,34],[19,25,22,25],[19,26,22,32],[19,34,22,34],[23,25,26,25],[23,26,26,32],[23,34,26,34],[28,26,31,32],[27,26,27,32],[14,26,14,32],[12,26,13,32],[32,17,35,17],[28,25,31,25]]}
["Personalien",null,null,null,null,null,null,null,null,null,null,null,null,null,null,null,null,null,null,null,null,null,null,null,null,"Vorausetzungen",null,"Evaluationen",null,null,null,null,null,"Rating"]
["VORNAME",null,{"$f":"IF(ISBLANK(VLOOKUP(1,Tabelle3[],3,0)),\"-\",VLOOKUP(1,Tabelle3[],3,0))","v":"-"},null,null,null,"POSITION",null,null,"ADRESSE",{"$f":"IF(ISBLANK(VLOOKUP(1,Tabelle3[],5,0)),\"-\",VLOOKUP(1,Tabelle3[],5,0))","v":"-"},null,null,null,null,null,null,null,null,null,null,null,null,null,null,"\"Alter\" (Biologisch/Relative Age)",null,"Datum 1",null,null,"cm",null,"Kg",null,"AUSGEZEICHNET",5]
["NAME",null,{"$f":"IF(ISBLANK(VLOOKUP(1,Tabelle3[],2,0)),\"-\",VLOOKUP(1,Tabelle3[],2,0))","v":"-"},null,null,null,"STOCK",null,null,"WOHNORT",{"$f":"IF(ISBLANK(VLOOKUP(1,Tabelle3[],7,0)),\"-\",VLOOKUP(1,Tabelle3[],7,0))","v":"-"},{"$f":"IF(ISBLANK(VLOOKUP(1,Tabelle3[],6,0)),\"-\",VLOOKUP(1,Tabelle3[],6,0))","v":"-"},null,null,null,null,null,null,null,null,null,null,null,null,null,"Veranlagung",null,"Datum 2",null,null,"cm",null,"Kg",null,"GUT",4]
["GEB. DATUM",null,{"$f":"IF(ISBLANK(VLOOKUP(1,Tabelle3[],14,0)),\"-\",VLOOKUP(1,Tabelle3[],14,0))","v":"-"},{"$f":"IF(ISBLANK(VLOOKUP(1,Tabelle3[],15,0)),\"-\",VLOOKUP(1,Tabelle3[],15,0))","v":"-"},{"$f":"IF(ISBLANK(VLOOKUP(1,Tabelle3[],16,0)),\"-\",VLOOKUP(1,Tabelle3[],16,0))","v":"-"},null,"GRÖSSE",null,"cm (Final)","PHONE",{"$f":"IF(ISBLANK(VLOOKUP(1,Tabelle3[],8,0)),\"-\",VLOOKUP(1,Tabelle3[],8,0))","v":"-"},null,null,null,null,null,null,null,null,null,null,null,null,null,null,"Umfeld",null,"Datum 3",null,null,"cm",null,"Kg",null,"DURCHSCHNITT",3]
["SEX",null,{"$f":"IF(ISBLANK(VLOOKUP(1,Tabelle3[],13,0)),\"-\",VLOOKUP(1,Tabelle3[],13,0))","v":"-"},null,null,null,"GEWICHT",null,"Kg (Final)","E-Mail",{"$f":"IF(ISBLANK(VLOOKUP(1,Tabelle3[],9,0)),\"-\",VLOOKUP(1,Tabelle3[],9,0))","v":"-"},null,null,null,null,null,null,null,null,null,null,null,null,null,null,null,null,"Datum 4",null,null,"cm",null,"Kg",null,"MANGELHAFT",2]
[null,null,null,null,null,null,null,null,null,null,null,null,null,null,null,null,null,null,null,null,null,null,null,null,null,null,null,"Datum 5",null,null,"cm",null,"Kg",null,"UNGENÜGEND",1]
["Vision",null,"xxx"]
["Next step",null,"xxx"]
["Stärkenprofil",null,"xxx"]
[]
["EVALUATION (COACH / SPIELER)",null,null,null,null,null,null,null,null,null,null,null,null,null,null,null,null,null,null,null,null,null,null,null,null,"SMART"]
["TEAM",null,null,"FÄHIGKEIT",null,null,"BEOBACHTUNG",null,null,null,null,null,"Final","Datum1",null,"Datum2",null,"Datum3",null,"Datum4",null,"Datum5",null,"Player",null,"ZIEL","MASSNAHME:\nSPEZIFISCH,  MESSBAR, REALISITISCH",null,null,null,null,null,null,"TERMIN","ZIEL-KONTROLLE","Datum"]
["ROLLE, SOZIAL",null,null,{"$f":"IF($H$2=\"G\",Skillserleuterungen_FTEM!Q4,Skillserleuterungen_FTEM!D4)","v":"TEAMDENKEN"},null,null,{"$f":"IF($H$2=\"G\",Skillserleuterungen_FTEM!T4,Skillserleuterungen_FTEM!G4)","v":"Identifikation zur Rolle, Umgang mit Kameraden (sozial integriert)"},null,null,{"$f":"IF($H$2=\"G\",Skillserleuterungen_FTEM!W4,Skillserleuterungen_FTEM!J4)","v":0},null,null,null,{"$f":"IFERROR(AVERAGE(O13:O14),\"-\")","v":"-"},null,{"$f":"IFERROR(AVERAGE(Q13:Q14),\"-\")","v":"-"},null,{"$f":"IFERROR(AVERAGE(S13:S14),\"-\")","v":"-"},null,{"$f":"IFERROR(AVERAGE(U13:U14),\"-\")","v":"-"},null,null,null,{"$f":"IFERROR(AVERAGE(Y13:Y14),\"-\")","v":"-"}]
[null,null,null,{"$f":"IF($H$2=\"G\",Skillserleuterungen_FTEM!Q5,Skillserleuterungen_FTEM!D5)","v":"LEADERSHIP"},null,null,{"$f":"IF($H$2=\"G\",Skillserleuterungen_FTEM!T5,Skillserleuterungen_FTEM!G5)","v":"Übernimmt Verantwortung, macht Mitspieler besser"},null,null,{"$f":"IF($H$2=\"G\",Skillserleuterungen_FTEM!W5,Skillserleuterungen_FTEM!J5)","v":0}]
["ON ICE",null,null,"FÄHIGKEIT",null,null,"BEOBACHTUNG",null,null,null,null,null,null,"Datum1",null,"Datum2",null,"Datum3",null,"Datum4",null,"Datum5",null,"Player",null,"ZIEL","MASSNAHME:\nSPEZIFISCH,  MESSBAR, REALISITISCH",null,null,null,null,null,null,"TERMIN","ZIEL-KONTROLLE","Datum"]
["SKILL",null,null,{"$f":"IF($H$2=\"G\",Skillserleuterungen_FTEM!Q7,Skillserleuterungen_FTEM!D7)","v":"SCHIESSEN"},null,null,{"$f":"IF($H$2=\"G\",Skillserleuterungen_FTEM!T7,Skillserleuterungen_FTEM!G7)","v":"Effizienz / Variantenreichtum, Überraschungsgrad (Quick Release), Präzision, Härte, (taktische Abschlüsse)\nschnell, hart, unter Druck"},null,null,{"$f":"IF($H$2=\"G\",Skillserleuterungen_FTEM!W7,Skillserleuterungen_FTEM!J7)","v":0},null,null,null,{"$f":"IFERROR(AVERAGE(O16:O19),\"-\")","v":"-"},null,{"$f":"IFERROR(AVERAGE(Q16:Q19),\"-\")","v":"-"},null,{"$f":"IFERROR(AVERAGE(S16:S19),\"-\")","v":"-"},null,{"$f":"IFERROR(AVERAGE(U16:U19),\"-\")","v":"-"},null,{"$f":"IFERROR(AVERAGE(W16:W19),\"-\")","v":"-"},null,{"$f":"IFERROR(AVERAGE(Y16:Y19),\"-\")","v":"-"}]
[null,null,null,{"$f":"IF($H$2=\"G\",Skillserleuterungen_FTEM!Q8,Skillserleuterungen_FTEM!D8)","v":"PASSEN"},null,null,{"$f":"IF($H$2=\"G\",Skillserleuterungen_FTEM!T8,Skillserleuterungen_FTEM!G8)","v":"Passabgabe (Distanz, Flippass Backhand), Passannahme (Präzision, Timing, Vorhand, Rückhand, Schlittschuh,Puckspeed"},null,null,{"$f":"IF($H$2=\"G\",Skillserleuterungen_FTEM!W8,Skillserleuterungen_FTEM!J8)","v":0}]
[null,null,null,{"$f":"IF($H$2=\"G\",Skillserleuterungen_FTEM!Q9,Skillserleuterungen_FTEM!D9)","v":"KÖRPERSPIEL"},null,null,{"$f":"IF($H$2=\"G\",Skillserleuterungen_FTEM!T9,Skillserleuterungen_FTEM!G9)","v":"Phyisches Durchsetzungsvermögen, Zweikampf (offenes Eis/Bande), Checks nehmen/Head up, Battle Level, Hart aber fair, mit dem Körper Schüsse blockieren"},null,null,{"$f":"IF($H$2=\"G\",Skillserleuterungen_FTEM!W9,Skillserleuterungen_FTEM!J9)","v":0},null,null,null,{"$f":"IFERROR(AVERAGE(O18:O19),\"-\")","v":"-"},null,{"$f":"IFERROR(AVERAGE(Q18:Q19),\"-\")","v":"-"},null,{"$f":"IFERROR(AVERAGE(S18:S19),\"-\")","v":"-"},null,{"$f":"IFERROR(AVERAGE(U18:U19),\"-\")","v":"-"},null,{"$f":"IFERROR(AVERAGE(W18:W19),\"-\")","v":"-"},null,"-"]
[null,null,null,{"$f":"IF($H$2=\"G\",Skillserleuterungen_FTEM!Q10,Skillserleuterungen_FTEM!D10)","v":"SCHEIBENKONTROLLE"},null,null,{"$f":"IF($H$2=\"G\",Skillserleuterungen_FTEM!T10,Skillserleuterungen_FTEM!G10)","v":"Puckmanagmenet auf engem Raum, Puck Protection,  schwer kontrollierbare Scheiben "},null,null,{"$f":"IF($H$2=\"G\",Skillserleuterungen_FTEM!W10,Skillserleuterungen_FTEM!J10)","v":0}]
["SKATING",null,null,{"$f":"IF($H$2=\"G\",Skillserleuterungen_FTEM!Q11,Skillserleuterungen_FTEM!D11)","v":"FOOTSPEED"},null,null,{"$f":"IF($H$2=\"G\",Skillserleuterungen_FTEM!T11,Skillserleuterungen_FTEM!G11)","v":"Beschleunigung, Antritt, erste 3 Schritte Explosivität, Frequenz"},null,null,{"$f":"IF($H$2=\"G\",Skillserleuterungen_FTEM!W11,Skillserleuterungen_FTEM!J11)","v":0},null,null,null,{"$f":"IFERROR(AVERAGE(O20:O23),\"-\")","v":"-"},null,{"$f":"IFERROR(AVERAGE(Q20:Q23),\"-\")","v":"-"},null,{"$f":"IFERROR(AVERAGE(S20:S23),\"-\")","v":"-"},null,{"$f":"IFERROR(AVERAGE(U20:U23),\"-\")","v":"-"},null,{"$f":"IFERROR(AVERAGE(W20:W23),\"-\")","v":"-"},null,{"$f":"IFERROR(AVERAGE(Y20:Y23),\"-\")","v":"-"}]
[null,null,null,{"$f":"IF($H$2=\"G\",Skillserleuterungen_FTEM!Q12,Skillserleuterungen_FTEM!D12)","v":"AGILITÄT"},null,null,{"$f":"IF($H$2=\"G\",Skillserleuterungen_FTEM!T12,Skillserleuterungen_FTEM!G12)","v":"Richtungsänderung, Drehung, Stop und Start, «Nummelin»"},null,null,{"$f":"IF($H$2=\"G\",Skillserleuterungen_FTEM!W12,Skillserleuterungen_FTEM!J12)","v":0}]
[null,null,null,{"$f":"IF($H$2=\"G\",Skillserleuterungen_FTEM!Q13,Skillserleuterungen_FTEM!D13)","v":"BACKWARDS SKATING"},null,null,{"$f":"IF($H$2=\"G\",Skillserleuterungen_FTEM!T13,Skillserleuterungen_FTEM!G13)","v":"Beschleunigung, Geschwindigkeit, Balance"},null,null,{"$f":"IF($H$2=\"G\",Skillserleuterungen_FTEM!W13,Skillserleuterungen_FTEM!J13)","v":0}]
[null,null,null,{"$f":"IF($H$2=\"G\",Skillserleuterungen_FTEM!Q14,Skillserleuterungen_FTEM!D14)","v":"TOPSPEED"},null,null,{"$f":"IF($H$2=\"G\",Skillserleuterungen_FTEM!T14,Skillserleuterungen_FTEM!G14)","v":"Schnelligkeit, Gleitfähigkeit, vorwärts und rückwärts, Ökonomie"},null,null,{"$f":"IF($H$2=\"G\",Skillserleuterungen_FTEM!W14,Skillserleuterungen_FTEM!J14)","v":0}]
["HOCKEY SENSE",null,null,{"$f":"IF($H$2=\"G\",Skillserleuterungen_FTEM!Q15,Skillserleuterungen_FTEM!D15)","v":"SCORING"},null,null,{"$f":"IF($H$2=\"G\",Skillserleuterungen_FTEM!T15,Skillserleuterungen_FTEM!G15)","v":"Effizienz, variantentreich, überraschend, schnell, hart - Schussvarianten"},null,null,{"$f":"IF($H$2=\"G\",Skillserleuterungen_FTEM!W15,Skillserleuterungen_FTEM!J15)","v":0},null,null,null,{"$f":"IFERROR(AVERAGE(O24:O27),\"-\")","v":"-"},null,{"$f":"IFERROR(AVERAGE(Q24:Q27),\"-\")","v":"-"},null,{"$f":"IFERROR(AVERAGE(S24:S27),\"-\")","v":"-"},null,{"$f":"IFERROR(AVERAGE(U24:U27),\"-\")","v":"-"},null,{"$f":"IFERROR(AVERAGE(W24:W27),\"-\")","v":"-"},null,{"$f":"IFERROR(AVERAGE(Y24:Y27),\"-\")","v":"-"}]
[null,null,null,{"$f":"IF($H$2=\"G\",Skillserleuterungen_FTEM!Q16,Skillserleuterungen_FTEM!D16)","v":"MIT SCHEIBE"},null,null,{"$f":"IF($H$2=\"G\",Skillserleuterungen_FTEM!T16,Skillserleuterungen_FTEM!G16)","v":"Kreativ, performing, batteling, frech, Transition"},null,null,{"$f":"IF($H$2=\"G\",Skillserleuterungen_FTEM!W16,Skillserleuterungen_FTEM!J16)","v":0}]
[null,null,null,{"$f":"IF($H$2=\"G\",Skillserleuterungen_FTEM!Q17,Skillserleuterungen_FTEM!D17)","v":"OHNE SCHEIBE"},null,null,{"$f":"IF($H$2=\"G\",Skillserleuterungen_FTEM!T17,Skillserleuterungen_FTEM!G17)","v":"Anspielbar (Support), 1:1, Gap"},null,null,{"$f":"IF($H$2=\"G\",Skillserleuterungen_FTEM!W17,Skillserleuterungen_FTEM!J17)","v":0}]
[null,null,null,{"$f":"IF($H$2=\"G\",Skillserleuterungen_FTEM!Q18,Skillserleuterungen_FTEM!D18)","v":"DEFENSIV"},null,null,{"$f":"IF($H$2=\"G\",Skillserleuterungen_FTEM!T18,Skillserleuterungen_FTEM!G18)","v":"Verlässlichkeit,  1:1, Gap, Zuordnung"},null,null,{"$f":"IF($H$2=\"G\",Skillserleuterungen_FTEM!W18,Skillserleuterungen_FTEM!J18)","v":0}]
["PERSONALITY",null,null,"FÄHIGKEIT",null,null,"BEOBACHTUNG",null,null,null,null,null,null,"Datum1",null,"Datum2",null,"Datum3",null,"Datum4",null,"Datum5",null,"Player",null,"ZIEL","MASSNAHME:\nSPEZIFISCH,  MESSBAR, REALISITISCH",null,null,null,null,null,null,"TERMIN","ZIEL-KONTROLLE","Datum"]
["PERSON",null,null,{"$f":"IF($H$2=\"G\",Skillserleuterungen_FTEM!Q20,Skillserleuterungen_FTEM!D20)","v":"MOTIVATION"},null,null,{"$f":"IF($H$2=\"G\",Skillserleuterungen_FTEM!T20,Skillserleuterungen_FTEM!G20)","v":"Intrinsischer Antrieb, will sich ständig weiterentwickeln, will der Erste sein und Erfolg haben"},null,null,{"$f":"IF($H$2=\"G\",Skillserleuterungen_FTEM!W20,Skillserleuterungen_FTEM!J20)","v":0},null,null,null,{"$f":"IFERROR(AVERAGE(O29:O32),\"-\")","v":"-"},null,{"$f":"IFERROR(AVERAGE(Q29:Q32),\"-\")","v":"-"},null,{"$f":"IFERROR(AVERAGE(S29:S32),\"-\")","v":"-"},null,{"$f":"IFERROR(AVERAGE(U29:U32),\"-\")","v":"-"},null,{"$f":"IFERROR(AVERAGE(W29:W32),\"-\")","v":"-"},null,{"$f":"IFERROR(AVERAGE(Y29:Y32),\"-\")","v":"-"}]
[null,null,null,{"$f":"IF($H$2=\"G\",Skillserleuterungen_FTEM!Q21,Skillserleuterungen_FTEM!D21)","v":"SELBSBEWUSSTSEIN"},null,null,{"$f":"IF($H$2=\"G\",Skillserleuterungen_FTEM!T21,Skillserleuterungen_FTEM!G21)","v":"Hat das nötige Selbstvertrauen \"I can do it\" haltung, kann eigenen Fähigkeiten einschätzen und agiert mutig"},null,null,{"$f":"IF($H$2=\"G\",Skillserleuterungen_FTEM!W21,Skillserleuterungen_FTEM!J21)","v":0}]
[null,null,null,{"$f":"IF($H$2=\"G\",Skillserleuterungen_FTEM!Q22,Skillserleuterungen_FTEM!D22)","v":"LERNFÄHIGKEIT"},null,null,{"$f":"IF($H$2=\"G\",Skillserleuterungen_FTEM!T22,Skillserleuterungen_FTEM!G22)","v":"Gute Auffassungsgabe (nimmt auf und kann umsetzen), reflektiert eigenes Handeln, versucht aus Fehlern zu lernen und kann Massnahmen ableiten und sich selber coachen"},null,null,{"$f":"IF($H$2=\"G\",Skillserleuterungen_FTEM!W22,Skillserleuterungen_FTEM!J22)","v":0}]
[null,null,null,{"$f":"IF($H$2=\"G\",Skillserleuterungen_FTEM!Q23,Skillserleuterungen_FTEM!D23)","v":"PERFORMANCE LIFESTYLE"},null,null,{"$f":"IF($H$2=\"G\",Skillserleuterungen_FTEM!T23,Skillserleuterungen_FTEM!G23)","v":"Managt Alltag und Umfeld nach dem Leistungsprinzip, kann sich gegen Wiederstände durchsetzten"},null,null,{"$f":"IF($H$2=\"G\",Skillserleuterungen_FTEM!W23,Skillserleuterungen_FTEM!J23)","v":0}]
["POWER",null,null,{"$f":"IF($H$2=\"G\",Skillserleuterungen_FTEM!Q24,Skillserleuterungen_FTEM!D24)","v":"ENERGIEMANAGEMENT"},null,null,{"$f":"IF($H$2=\"G\",Skillserleuterungen_FTEM!T24,Skillserleuterungen_FTEM!G24)","v":"Kann eigene Energie regulieren, bereit zur Regeneration, weiss, wann er \"Vollgas\" geben muss und wann ab-schalten, On/Off-Schalter"},null,null,{"$f":"IF($H$2=\"G\",Skillserleuterungen_FTEM!W24,Skillserleuterungen_FTEM!J24)","v":0},null,null,null,{"$f":"IFERROR(AVERAGE(O33:O36),\"-\")","v":"-"},null,{"$f":"IFERROR(AVERAGE(Q33:Q36),\"-\")","v":"-"},null,{"$f":"IFERROR(AVERAGE(S33:S36),\"-\")","v":"-"},null,{"$f":"IFERROR(AVERAGE(U33:U36),\"-\")","v":"-"},null,{"$f":"IFERROR(AVERAGE(W33:W36),\"-\")","v":"-"},null,{"$f":"IFERROR(AVERAGE(Y33:Y36),\"-\")","v":"-"}]
[null,null,null,{"$f":"IF($H$2=\"G\",Skillserleuterungen_FTEM!Q25,Skillserleuterungen_FTEM!D25)","v":"EINSATZBEREITSCHAFT"},null,null,{"$f":"IF($H$2=\"G\",Skillserleuterungen_FTEM!T25,Skillserleuterungen_FTEM!G25)","v":"Hohe intensität im Spiel und Training, gibt immer sein Maximum, will seine Limiten pushen"},null,null,{"$f":"IF($H$2=\"G\",Skillserleuterungen_FTEM!W25,Skillserleuterungen_FTEM!J25)","v":0}]
[null,null,null,{"$f":"IF($H$2=\"G\",Skillserleuterungen_FTEM!Q26,Skillserleuterungen_FTEM!D26)","v":"EMOTIONSKONTROLLE"},null,null,{"$f":"IF($H$2=\"G\",Skillserleuterungen_FTEM!T26,Skillserleuterungen_FTEM!G26)","v":"Emotionen und Impulse regulieren, unter Druck die Kontrolle behalten, in emotional ansprucksvollen Situationen angemessen agieren können"},null,null,{"$f":"IF($H$2=\"G\",Skillserleuterungen_FTEM!W26,Skillserleuterungen_FTEM!J26)","v":0}]
[null,null,null,{"$f":"IF($H$2=\"G\",Skillserleuterungen_FTEM!Q27,Skillserleuterungen_FTEM!D27)","v":"VORBEREITUNG"},null,null,{"$f":"IF($H$2=\"G\",Skillserleuterungen_FTEM!T27,Skillserleuterungen_FTEM!G27)","v":"Fokus, ILZ, Regeneration, Selbststiumlation, Ernährung"},null,null,{"$f":"IF($H$2=\"G\",Skillserleuterungen_FTEM!W27,Skillserleuterungen_FTEM!J27)","v":0}]
["PYHSE (Athletik)",null,null,{"$f":"IF($H$2=\"G\",Skillserleuterungen_FTEM!Q28,Skillserleuterungen_FTEM!D28)","v":"LEISTUNGSERZEUGUNG (neuromuskuläre Faktoren /Leistungserzeugung)"},null,null,{"$f":"IF($H$2=\"G\",Skillserleuterungen_FTEM!T28,Skillserleuterungen_FTEM!G28)","v":"Verfügt über die nötige Power/ Kraft/ Schnelligkeit in den Beinen un im Oberkörper "},null,null,{"$f":"IF($H$2=\"G\",Skillserleuterungen_FTEM!W29,Skillserleuterungen_FTEM!J29)","v":0},null,null,null,{"$f":"IFERROR(AVERAGE(O37:O40),\"-\")","v":"-"},null,{"$f":"IFERROR(AVERAGE(Q37:Q40),\"-\")","v":"-"},null,{"$f":"IFERROR(AVERAGE(S37:S40),\"-\")","v":"-"},null,{"$f":"IFERROR(AVERAGE(U37:U40),\"-\")","v":"-"},null,{"$f":"IFERROR(AVERAGE(W37:W40),\"-\")","v":"-"},null,{"$f":"IFERROR(AVERAGE(Y37:Y40),\"-\")","v":"-"}]
[null,null,null,{"$f":"IF($H$2=\"G\",Skillserleuterungen_FTEM!Q29,Skillserleuterungen_FTEM!D29)","v":"SPEZ. ERMÜDUNGSRESISTENZ (metabolische, kardiovaskuläre Faktoren)"},null,null,{"$f":"IF($H$2=\"G\",Skillserleuterungen_FTEM!T29,Skillserleuterungen_FTEM!G29)","v":"Ist fähig die Power/ Kraft/ Schnelligkeit innerhalb des Einsatzes lange aufrechtzuerhalten und kann sich zwischen den Einsätzen jeweils vollkommen erholen (auch von Spiel zu Spiel)."},null,null,{"$f":"IF($H$2=\"G\",Skillserleuterungen_FTEM!W30,Skillserleuterungen_FTEM!J30)","v":0}]
[null,null,null,{"$f":"IF($H$2=\"G\",Skillserleuterungen_FTEM!Q30,Skillserleuterungen_FTEM!D30)","v":"BEWEGUNGSKOMPETENZ/ KOORDINATION "},null,null,{"$f":"IF($H$2=\"G\",Skillserleuterungen_FTEM!T30,Skillserleuterungen_FTEM!G30)","v":"Beherrscht die grundlegenden Bewegungsfertigkeiten, die eine unerlässliche Zubringerfunktion für die sportspezifischen \"Skills\" darstellt sowie zur nötigen Bewegungseffizienz führt. "},null,null,{"$f":"IF($H$2=\"G\",Skillserleuterungen_FTEM!W31,Skillserleuterungen_FTEM!J31)","v":0}]
[null,null,null,{"$f":"IF($H$2=\"G\",Skillserleuterungen_FTEM!Q31,Skillserleuterungen_FTEM!D31)","v":"ROBUSTHEIT/ PRÄVENTION"},null,null,{"$f":"IF($H$2=\"G\",Skillserleuterungen_FTEM!T31,Skillserleuterungen_FTEM!G31)","v":"Verletzungsanfälligkeit, Stabilität (Verfügt über die nötige Stabilität, Grundkraft (Körperspannung) \"z.B. Beinachsenstabilität\" und Beweglichkeit in den zentralen Gelenken \"Hüfte, Wirbelsäule\"), Standfestigkeit"},null,null,{"$f":"IF($H$2=\"G\",Skillserleuterungen_FTEM!W32,Skillserleuterungen_FTEM!J32)","v":0}]

{"sheet":"2","index":5,"n_rows":40,"n_cols":36,"rows_kept":40,"cut":false,"hidden":false,"merged":[[36,34,39,34],[21,3,21,5],[21,6,21,11],[34,3,34,5],[34,6,34,11],[36,12,39,12],[36,13,39,13],[36,15,39,15],[36,17,39,17],[36,19,39,19],[36,21,39,21],[36,23,39,23],[36,25,39,25],[36,26,39,32],[36,3,36,5],[36,6,36,11],[37,3,37,5],[37,6,37,11],[38,3,38,5],[38,6,38,11],[39,3,39,5],[39,6,39,11],[32,17,35,17],[32,19,35,19],[36,0,39,2],[32,0,35,2],[32,3,32,5],[32,6,32,11],[32,12,35,12],[32,13,35,13],[32,15,35,15],[29,3,29,5],[29,6,29,11],[30,3,30,5],[30,6,30,11],[28,15,31,15],[31,3,31,5],[31,6,31,11],[32,21,35,21],[32,23,35,23],[33,3,33,5],[33,6,33,11],[35,3,35,5],[35,6,35,11],[27,23,27,24],[28,23,31,23],[27,0,27,2],[27,3,27,5],[27,6,27,11],[27,13,27,14],[27,15,27,16],[27,17,27,18],[27,19,27,20],[27,21,27,22],[28,17,31,17],[28,19,31,19],[28,21,31,21],[28,0,31,2],[28,3,28,5],[28,6,28,11],[28,12,31,12],[28,13,31,13],[19,19,22,19],[19,21,22,21],[19,23,22,23],[20,3,20,5],[20,6,20,11],[22,3,22,5],[22,6,22,11],[26,3,26,5],[26,6,26,11],[23,23,26,23],[23,17,26,17],[23,19,26,19],[23,21,26,21],[24,3,24,5],[24,6,24,11],[25,3,25,5],[25,6,25,11],[23,3,23,5],[23,6,23,11],[23,12,26,12],[19,0,22,2],[19,3,19,5],[19,6,19,11],[19,12,22,12],[19,13,22,13],[19,15,22,15],[19,17,22,17],[23,13,26,13],[23,15,26,15],[23,0,26,2],[15,0,18,2],[15,3,15,5],[15,6,15,11],[15,12,18,12],[15,13,18,13],[16,3,16,5],[16,6,16,11],[17,3,17,5],[17,6,17,11],[15,15,18,15],[15,17,18,17],[15,19,18,19],[15,21,18,21],[15,23,18,23],[18,3,18,5],[18,6,18,11],[15,25,18,25],[15,26,18,32],[12,23,13,23],[13,3,13,5],[13,6,13,11],[14,0,14,2],[14,3,14,5],[14,6,14,11],[14,13,14,14],[14,15,14,16],[14,17,14,18],[14,19,14,20],[14,21,14,22],[14,23,14,24],[12,0,13,2],[12,3,12,5],[12,6,12,11],[12,12,13,12],[12,13,13,13],[12,15,13,15],[12,17,13,17],[12,19,13,19],[12,21,13,21],[10,0,10,24],[10,25,10,35],[11,0,11,2],[11,3,11,5],[11,13,11,14],[11,15,11,16],[11,17,11,18],[11,19,11,20],[11,21,11,22],[11,23,11,24],[11,26,11,32],[11,6,11,11],[7,0,7,1],[7,2,7,35],[8,0,8,1],[8,2,8,35],[3,0,3,1],[3,10,3,24],[4,0,4,1],[4,2,4,5],[4,10,4,24],[1,10,1,24],[2,0,2,1],[2,2,2,5],[2,11,2,24],[6,0,6,1],[6,2,6,35],[0,0,0,24],[0,25,0,26],[0,27,0,32],[0,33,0,35],[1,0,1,1],[1,2,1,5],[28,34,31,34],[32,25,35,25],[32,26,35,32],[32,34,35,34],[12,25,13,25],[12,26,13,32],[12,34,13,34],[15,34,18,34],[19,25,22,25],[19,26,22,32],[19,34,22,34],[23,25,26,25],[23,26,26,32],[23,34,26,34],[14,26,14,32],[27,26,27,32],[28,25,31,25],[28,26,31,32]]}
["Personalien",null,null,null,null,null,null,null,null,null,null,null,null,null,null,null,null,null,null,null,null,null,null,null,null,"Vorausetzungen",null,"Evaluationen",null,null,null,null,null,"Rating"]
["VORNAME",null,{"$f":"IF(ISBLANK(VLOOKUP(2,Tabelle3[],3,0)),\"-\",VLOOKUP(2,Tabelle3[],3,0))","v":"-"},null,null,null,"POSITION",null,null,"ADRESSE",{"$f":"IF(ISBLANK(VLOOKUP(2,Tabelle3[],5,0)),\"-\",VLOOKUP(2,Tabelle3[],5,0))","v":"-"},null,null,null,null,null,null,null,null,null,null,null,null,null,null,"\"Alter\" (Biologisch/Relative Age)",null,"Datum 1",null,null,"cm",null,"Kg",null,"AUSGEZEICHNET",5]
["NAME",null,{"$f":"IF(ISBLANK(VLOOKUP(2,Tabelle3[],2,0)),\"-\",VLOOKUP(2,Tabelle3[],2,0))","v":"-"},null,null,null,"STOCK",null,null,"WOHNORT",{"$f":"IF(ISBLANK(VLOOKUP(2,Tabelle3[],7,0)),\"-\",VLOOKUP(2,Tabelle3[],7,0))","v":"-"},{"$f":"IF(ISBLANK(VLOOKUP(2,Tabelle3[],6,0)),\"-\",VLOOKUP(2,Tabelle3[],6,0))","v":"-"},null,null,null,null,null,null,null,null,null,null,null,null,null,"Veranlagung",null,"Datum 2",null,null,"cm",null,"Kg",null,"GUT",4]
["GEB. DATUM",null,{"$f":"IF(ISBLANK(VLOOKUP(2,Tabelle3[],14,0)),\"-\",VLOOKUP(2,Tabelle3[],14,0))","v":"-"},{"$f":"IF(ISBLANK(VLOOKUP(2,Tabelle3[],15,0)),\"-\",VLOOKUP(2,Tabelle3[],15,0))","v":"-"},{"$f":"IF(ISBLANK(VLOOKUP(2,Tabelle3[],16,0)),\"-\",VLOOKUP(2,Tabelle3[],16,0))","v":"-"},null,"GRÖSSE",null,"cm (Final)","PHONE",{"$f":"IF(ISBLANK(VLOOKUP(2,Tabelle3[],8,0)),\"-\",VLOOKUP(2,Tabelle3[],8,0))","v":"-"},null,null,null,null,null,null,null,null,null,null,null,null,null,null,"Umfeld",null,"Datum 3",null,null,"cm",null,"Kg",null,"DURCHSCHNITT",3]
["SEX",null,{"$f":"IF(ISBLANK(VLOOKUP(2,Tabelle3[],13,0)),\"-\",VLOOKUP(2,Tabelle3[],13,0))","v":"-"},null,null,null,"GEWICHT",null,"Kg (Final)","E-Mail",{"$f":"IF(ISBLANK(VLOOKUP(2,Tabelle3[],9,0)),\"-\",VLOOKUP(2,Tabelle3[],9,0))","v":"-"},null,null,null,null,null,null,null,null,null,null,null,null,null,null,null,null,"Datum 4",null,null,"cm",null,"Kg",null,"MANGELHAFT",2]
[null,null,null,null,null,null,null,null,null,null,null,null,null,null,null,null,null,null,null,null,null,null,null,null,null,null,null,"Datum 5",null,null,"cm",null,"Kg",null,"UNGENÜGEND",1]
["Vision",null,"xxx"]
["Next step",null,"xxx"]
["Stärkenprofil",null,"xxx"]
[]
["EVALUATION (COACH / SPIELER)",null,null,null,null,null,null,null,null,null,null,null,null,null,null,null,null,null,null,null,null,null,null,null,null,"SMART"]
["TEAM",null,null,"FÄHIGKEIT",null,null,"BEOBACHTUNG",null,null,null,null,null,"Final","Datum1",null,"Datum2",null,"Datum3",null,"Datum4",null,"Datum5",null,"Player",null,"ZIEL","MASSNAHME:\nSPEZIFISCH,  MESSBAR, REALISITISCH",null,null,null,null,null,null,"TERMIN","ZIEL-KONTROLLE","Datum"]
["ROLLE, SOZIAL",null,null,{"$f":"IF($H$2=\"G\",Skillserleuterungen_FTEM!Q4,Skillserleuterungen_FTEM!D4)","v":"TEAMDENKEN"},null,null,{"$f":"IF($H$2=\"G\",Skillserleuterungen_FTEM!T4,Skillserleuterungen_FTEM!G4)","v":"Identifikation zur Rolle, Umgang mit Kameraden (sozial integriert)"},null,null,{"$f":"IF($H$2=\"G\",Skillserleuterungen_FTEM!W4,Skillserleuterungen_FTEM!J4)","v":0},null,null,null,{"$f":"IFERROR(AVERAGE(O13:O14),\"-\")","v":"-"},null,{"$f":"IFERROR(AVERAGE(Q13:Q14),\"-\")","v":"-"},null,{"$f":"IFERROR(AVERAGE(S13:S14),\"-\")","v":"-"},null,{"$f":"IFERROR(AVERAGE(U13:U14),\"-\")","v":"-"},null,null,null,{"$f":"IFERROR(AVERAGE(Y13:Y14),\"-\")","v":"-"}]
[null,null,null,{"$f":"IF($H$2=\"G\",Skillserleuterungen_FTEM!Q5,Skillserleuterungen_FTEM!D5)","v":"LEADERSHIP"},null,null,{"$f":"IF($H$2=\"G\",Skillserleuterungen_FTEM!T5,Skillserleuterungen_FTEM!G5)","v":"Übernimmt Verantwortung, macht Mitspieler besser"},null,null,{"$f":"IF($H$2=\"G\",Skillserleuterungen_FTEM!W5,Skillserleuterungen_FTEM!J5)","v":0}]
["ON ICE",null,null,"FÄHIGKEIT",null,null,"BEOBACHTUNG",null,null,null,null,null,null,"Datum1",null,"Datum2",null,"Datum3",null,"Datum4",null,"Datum5",null,"Player",null,"ZIEL","MASSNAHME:\nSPEZIFISCH,  MESSBAR, REALISITISCH",null,null,null,null,null,null,"TERMIN","ZIEL-KONTROLLE","Datum"]
["SKILL",null,null,{"$f":"IF($H$2=\"G\",Skillserleuterungen_FTEM!Q7,Skillserleuterungen_FTEM!D7)","v":"SCHIESSEN"},null,null,{"$f":"IF($H$2=\"G\",Skillserleuterungen_FTEM!T7,Skillserleuterungen_FTEM!G7)","v":"Effizienz / Variantenreichtum, Überraschungsgrad (Quick Release), Präzision, Härte, (taktische Abschlüsse)\nschnell, hart, unter Druck"},null,null,{"$f":"IF($H$2=\"G\",Skillserleuterungen_FTEM!W7,Skillserleuterungen_FTEM!J7)","v":0},null,null,null,{"$f":"IFERROR(AVERAGE(O16:O19),\"-\")","v":"-"},null,{"$f":"IFERROR(AVERAGE(Q16:Q19),\"-\")","v":"-"},null,{"$f":"IFERROR(AVERAGE(S16:S19),\"-\")","v":"-"},null,{"$f":"IFERROR(AVERAGE(U16:U19),\"-\")","v":"-"},null,{"$f":"IFERROR(AVERAGE(W16:W19),\"-\")","v":"-"},null,{"$f":"IFERROR(AVERAGE(Y16:Y19),\"-\")","v":"-"}]
[null,null,null,{"$f":"IF($H$2=\"G\",Skillserleuterungen_FTEM!Q8,Skillserleuterungen_FTEM!D8)","v":"PASSEN"},null,null,{"$f":"IF($H$2=\"G\",Skillserleuterungen_FTEM!T8,Skillserleuterungen_FTEM!G8)","v":"Passabgabe (Distanz, Flippass Backhand), Passannahme (Präzision, Timing, Vorhand, Rückhand, Schlittschuh,Puckspeed"},null,null,{"$f":"IF($H$2=\"G\",Skillserleuterungen_FTEM!W8,Skillserleuterungen_FTEM!J8)","v":0}]
[null,null,null,{"$f":"IF($H$2=\"G\",Skillserleuterungen_FTEM!Q9,Skillserleuterungen_FTEM!D9)","v":"KÖRPERSPIEL"},null,null,{"$f":"IF($H$2=\"G\",Skillserleuterungen_FTEM!T9,Skillserleuterungen_FTEM!G9)","v":"Phyisches Durchsetzungsvermögen, Zweikampf (offenes Eis/Bande), Checks nehmen/Head up, Battle Level, Hart aber fair, mit dem Körper Schüsse blockieren"},null,null,{"$f":"IF($H$2=\"G\",Skillserleuterungen_FTEM!W9,Skillserleuterungen_FTEM!J9)","v":0},null,null,null,{"$f":"IFERROR(AVERAGE(O18:O19),\"-\")","v":"-"},null,{"$f":"IFERROR(AVERAGE(Q18:Q19),\"-\")","v":"-"},null,{"$f":"IFERROR(AVERAGE(S18:S19),\"-\")","v":"-"},null,{"$f":"IFERROR(AVERAGE(U18:U19),\"-\")","v":"-"},null,{"$f":"IFERROR(AVERAGE(W18:W19),\"-\")","v":"-"},null,{"$f":"IFERROR(AVERAGE(Y18:Y19),\"-\")","v":"-"}]
[null,null,null,{"$f":"IF($H$2=\"G\",Skillserleuterungen_FTEM!Q10,Skillserleuterungen_FTEM!D10)","v":"SCHEIBENKONTROLLE"},null,null,{"$f":"IF($H$2=\"G\",Skillserleuterungen_FTEM!T10,Skillserleuterungen_FTEM!G10)","v":"Puckmanagmenet auf engem Raum, Puck Protection,  schwer kontrollierbare Scheiben "},null,null,{"$f":"IF($H$2=\"G\",Skillserleuterungen_FTEM!W10,Skillserleuterungen_FTEM!J10)","v":0}]
["SKATING",null,null,{"$f":"IF($H$2=\"G\",Skillserleuterungen_FTEM!Q11,Skillserleuterungen_FTEM!D11)","v":"FOOTSPEED"},null,null,{"$f":"IF($H$2=\"G\",Skillserleuterungen_FTEM!T11,Skillserleuterungen_FTEM!G11)","v":"Beschleunigung, Antritt, erste 3 Schritte Explosivität, Frequenz"},null,null,{"$f":"IF($H$2=\"G\",Skillserleuterungen_FTEM!W11,Skillserleuterungen_FTEM!J11)","v":0},null,null,null,{"$f":"IFERROR(AVERAGE(O20:O23),\"-\")","v":"-"},null,{"$f":"IFERROR(AVERAGE(Q20:Q23),\"-\")","v":"-"},null,{"$f":"IFERROR(AVERAGE(S20:S23),\"-\")","v":"-"},null,{"$f":"IFERROR(AVERAGE(U20:U23),\"-\")","v":"-"},null,{"$f":"IFERROR(AVERAGE(W20:W23),\"-\")","v":"-"},null,{"$f":"IFERROR(AVERAGE(Y20:Y23),\"-\")","v":"-"}]
[null,null,null,{"$f":"IF($H$2=\"G\",Skillserleuterungen_FTEM!Q12,Skillserleuterungen_FTEM!D12)","v":"AGILITÄT"},null,null,{"$f":"IF($H$2=\"G\",Skillserleuterungen_FTEM!T12,Skillserleuterungen_FTEM!G12)","v":"Richtungsänderung, Drehung, Stop und Start, «Nummelin»"},null,null,{"$f":"IF($H$2=\"G\",Skillserleuterungen_FTEM!W12,Skillserleuterungen_FTEM!J12)","v":0}]
[null,null,null,{"$f":"IF($H$2=\"G\",Skillserleuterungen_FTEM!Q13,Skillserleuterungen_FTEM!D13)","v":"BACKWARDS SKATING"},null,null,{"$f":"IF($H$2=\"G\",Skillserleuterungen_FTEM!T13,Skillserleuterungen_FTEM!G13)","v":"Beschleunigung, Geschwindigkeit, Balance"},null,null,{"$f":"IF($H$2=\"G\",Skillserleuterungen_FTEM!W13,Skillserleuterungen_FTEM!J13)","v":0}]
[null,null,null,{"$f":"IF($H$2=\"G\",Skillserleuterungen_FTEM!Q14,Skillserleuterungen_FTEM!D14)","v":"TOPSPEED"},null,null,{"$f":"IF($H$2=\"G\",Skillserleuterungen_FTEM!T14,Skillserleuterungen_FTEM!G14)","v":"Schnelligkeit, Gleitfähigkeit, vorwärts und rückwärts, Ökonomie"},null,null,{"$f":"IF($H$2=\"G\",Skillserleuterungen_FTEM!W14,Skillserleuterungen_FTEM!J14)","v":0}]
["HOCKEY SENSE",null,null,{"$f":"IF($H$2=\"G\",Skillserleuterungen_FTEM!Q15,Skillserleuterungen_FTEM!D15)","v":"SCORING"},null,null,{"$f":"IF($H$2=\"G\",Skillserleuterungen_FTEM!T15,Skillserleuterungen_FTEM!G15)","v":"Effizienz, variantentreich, überraschend, schnell, hart - Schussvarianten"},null,null,{"$f":"IF($H$2=\"G\",Skillserleuterungen_FTEM!W15,Skillserleuterungen_FTEM!J15)","v":0},null,null,null,{"$f":"IFERROR(AVERAGE(O24:O27),\"-\")","v":"-"},null,{"$f":"IFERROR(AVERAGE(Q24:Q27),\"-\")","v":"-"},null,{"$f":"IFERROR(AVERAGE(S24:S27),\"-\")","v":"-"},null,{"$f":"IFERROR(AVERAGE(U24:U27),\"-\")","v":"-"},null,{"$f":"IFERROR(AVERAGE(W24:W27),\"-\")","v":"-"},null,{"$f":"IFERROR(AVERAGE(Y24:Y27),\"-\")","v":"-"}]
[null,null,null,{"$f":"IF($H$2=\"G\",Skillserleuterungen_FTEM!Q16,Skillserleuterungen_FTEM!D16)","v":"MIT SCHEIBE"},null,null,{"$f":"IF($H$2=\"G\",Skillserleuterungen_FTEM!T16,Skillserleuterungen_FTEM!G16)","v":"Kreativ, performing, batteling, frech, Transition"},null,null,{"$f":"IF($H$2=\"G\",Skillserleuterungen_FTEM!W16,Skillserleuterungen_FTEM!J16)","v":0}]
[null,null,null,{"$f":"IF($H$2=\"G\",Skillserleuterungen_FTEM!Q17,Skillserleuterungen_FTEM!D17)","v":"OHNE SCHEIBE"},null,null,{"$f":"IF($H$2=\"G\",Skillserleuterungen_FTEM!T17,Skillserleuterungen_FTEM!G17)","v":"Anspielbar (Support), 1:1, Gap"},null,null,{"$f":"IF($H$2=\"G\",Skillserleuterungen_FTEM!W17,Skillserleuterungen_FTEM!J17)","v":0}]
[null,null,null,{"$f":"IF($H$2=\"G\",Skillserleuterungen_FTEM!Q18,Skillserleuterungen_FTEM!D18)","v":"DEFENSIV"},null,null,{"$f":"IF($H$2=\"G\",Skillserleuterungen_FTEM!T18,Skillserleuterungen_FTEM!G18)","v":"Verlässlichkeit,  1:1, Gap, Zuordnung"},null,null,{"$f":"IF($H$2=\"G\",Skillserleuterungen_FTEM!W18,Skillserleuterungen_FTEM!J18)","v":0}]
["PERSONALITY",null,null,"FÄHIGKEIT",null,null,"BEOBACHTUNG",null,null,null,null,null,null,"Datum1",null,"Datum2",null,"Datum3",null,"Datum4",null,"Datum5",null,"Player",null,"ZIEL","MASSNAHME:\nSPEZIFISCH,  MESSBAR, REALISITISCH",null,null,null,null,null,null,"TERMIN","ZIEL-KONTROLLE","Datum"]
["PERSON",null,null,{"$f":"IF($H$2=\"G\",Skillserleuterungen_FTEM!Q20,Skillserleuterungen_FTEM!D20)","v":"MOTIVATION"},null,null,{"$f":"IF($H$2=\"G\",Skillserleuterungen_FTEM!T20,Skillserleuterungen_FTEM!G20)","v":"Intrinsischer Antrieb, will sich ständig weiterentwickeln, will der Erste sein und Erfolg haben"},null,null,{"$f":"IF($H$2=\"G\",Skillserleuterungen_FTEM!W20,Skillserleuterungen_FTEM!J20)","v":0},null,null,null,{"$f":"IFERROR(AVERAGE(O29:O32),\"-\")","v":"-"},null,{"$f":"IFERROR(AVERAGE(Q29:Q32),\"-\")","v":"-"},null,{"$f":"IFERROR(AVERAGE(S29:S32),\"-\")","v":"-"},null,{"$f":"IFERROR(AVERAGE(U29:U32),\"-\")","v":"-"},null,{"$f":"IFERROR(AVERAGE(W29:W32),\"-\")","v":"-"},null,{"$f":"IFERROR(AVERAGE(Y29:Y32),\"-\")","v":"-"}]
[null,null,null,{"$f":"IF($H$2=\"G\",Skillserleuterungen_FTEM!Q21,Skillserleuterungen_FTEM!D21)","v":"SELBSBEWUSSTSEIN"},null,null,{"$f":"IF($H$2=\"G\",Skillserleuterungen_FTEM!T21,Skillserleuterungen_FTEM!G21)","v":"Hat das nötige Selbstvertrauen \"I can do it\" haltung, kann eigenen Fähigkeiten einschätzen und agiert mutig"},null,null,{"$f":"IF($H$2=\"G\",Skillserleuterungen_FTEM!W21,Skillserleuterungen_FTEM!J21)","v":0}]
[null,null,null,{"$f":"IF($H$2=\"G\",Skillserleuterungen_FTEM!Q22,Skillserleuterungen_FTEM!D22)","v":"LERNFÄHIGKEIT"},null,null,{"$f":"IF($H$2=\"G\",Skillserleuterungen_FTEM!T22,Skillserleuterungen_FTEM!G22)","v":"Gute Auffassungsgabe (nimmt auf und kann umsetzen), reflektiert eigenes Handeln, versucht aus Fehlern zu lernen und kann Massnahmen ableiten und sich selber coachen"},null,null,{"$f":"IF($H$2=\"G\",Skillserleuterungen_FTEM!W22,Skillserleuterungen_FTEM!J22)","v":0}]
[null,null,null,{"$f":"IF($H$2=\"G\",Skillserleuterungen_FTEM!Q23,Skillserleuterungen_FTEM!D23)","v":"PERFORMANCE LIFESTYLE"},null,null,{"$f":"IF($H$2=\"G\",Skillserleuterungen_FTEM!T23,Skillserleuterungen_FTEM!G23)","v":"Managt Alltag und Umfeld nach dem Leistungsprinzip, kann sich gegen Wiederstände durchsetzten"},null,null,{"$f":"IF($H$2=\"G\",Skillserleuterungen_FTEM!W23,Skillserleuterungen_FTEM!J23)","v":0}]
["POWER",null,null,{"$f":"IF($H$2=\"G\",Skillserleuterungen_FTEM!Q24,Skillserleuterungen_FTEM!D24)","v":"ENERGIEMANAGEMENT"},null,null,{"$f":"IF($H$2=\"G\",Skillserleuterungen_FTEM!T24,Skillserleuterungen_FTEM!G24)","v":"Kann eigene Energie regulieren, bereit zur Regeneration, weiss, wann er \"Vollgas\" geben muss und wann ab-schalten, On/Off-Schalter"},null,null,{"$f":"IF($H$2=\"G\",Skillserleuterungen_FTEM!W24,Skillserleuterungen_FTEM!J24)","v":0},null,null,null,{"$f":"IFERROR(AVERAGE(O33:O36),\"-\")","v":"-"},null,{"$f":"IFERROR(AVERAGE(Q33:Q36),\"-\")","v":"-"},null,{"$f":"IFERROR(AVERAGE(S33:S36),\"-\")","v":"-"},null,{"$f":"IFERROR(AVERAGE(U33:U36),\"-\")","v":"-"},null,{"$f":"IFERROR(AVERAGE(W33:W36),\"-\")","v":"-"},null,{"$f":"IFERROR(AVERAGE(Y33:Y36),\"-\")","v":"-"}]
[null,null,null,{"$f":"IF($H$2=\"G\",Skillserleuterungen_FTEM!Q25,Skillserleuterungen_FTEM!D25)","v":"EINSATZBEREITSCHAFT"},null,null,{"$f":"IF($H$2=\"G\",Skillserleuterungen_FTEM!T25,Skillserleuterungen_FTEM!G25)","v":"Hohe intensität im Spiel und Training, gibt immer sein Maximum, will seine Limiten pushen"},null,null,{"$f":"IF($H$2=\"G\",Skillserleuterungen_FTEM!W25,Skillserleuterungen_FTEM!J25)","v":0}]
[null,null,null,{"$f":"IF($H$2=\"G\",Skillserleuterungen_FTEM!Q26,Skillserleuterungen_FTEM!D26)","v":"EMOTIONSKONTROLLE"},null,null,{"$f":"IF($H$2=\"G\",Skillserleuterungen_FTEM!T26,Skillserleuterungen_FTEM!G26)","v":"Emotionen und Impulse regulieren, unter Druck die Kontrolle behalten, in emotional ansprucksvollen Situationen angemessen agieren können"},null,null,{"$f":"IF($H$2=\"G\",Skillserleuterungen_FTEM!W26,Skillserleuterungen_FTEM!J26)","v":0}]
[null,null,null,{"$f":"IF($H$2=\"G\",Skillserleuterungen_FTEM!Q27,Skillserleuterungen_FTEM!D27)","v":"VORBEREITUNG"},null,null,{"$f":"IF($H$2=\"G\",Skillserleuterungen_FTEM!T27,Skillserleuterungen_FTEM!G27)","v":"Fokus, ILZ, Regeneration, Selbststiumlation, Ernährung"},null,null,{"$f":"IF($H$2=\"G\",Skillserleuterungen_FTEM!W27,Skillserleuterungen_FTEM!J27)","v":0}]
["PYHSE (Athletik)",null,null,{"$f":"IF($H$2=\"G\",Skillserleuterungen_FTEM!Q28,Skillserleuterungen_FTEM!D28)","v":"LEISTUNGSERZEUGUNG (neuromuskuläre Faktoren /Leistungserzeugung)"},null,null,{"$f":"IF($H$2=\"G\",Skillserleuterungen_FTEM!T28,Skillserleuterungen_FTEM!G28)","v":"Verfügt über die nötige Power/ Kraft/ Schnelligkeit in den Beinen un im Oberkörper "},null,null,{"$f":"IF($H$2=\"G\",Skillserleuterungen_FTEM!W28,Skillserleuterungen_FTEM!J28)","v":0},null,null,null,{"$f":"IFERROR(AVERAGE(O37:O40),\"-\")","v":"-"},null,{"$f":"IFERROR(AVERAGE(Q37:Q40),\"-\")","v":"-"},null,{"$f":"IFERROR(AVERAGE(S37:S40),\"-\")","v":"-"},null,{"$f":"IFERROR(AVERAGE(U37:U40),\"-\")","v":"-"},null,{"$f":"IFERROR(AVERAGE(W37:W40),\"-\")","v":"-"},null,{"$f":"IFERROR(AVERAGE(Y37:Y40),\"-\")","v":"-"}]
[null,null,null,{"$f":"IF($H$2=\"G\",Skillserleuterungen_FTEM!Q29,Skillserleuterungen_FTEM!D29)","v":"SPEZ. ERMÜDUNGSRESISTENZ (metabolische, kardiovaskuläre Faktoren)"},null,null,{"$f":"IF($H$2=\"G\",Skillserleuterungen_FTEM!T29,Skillserleuterungen_FTEM!G29)","v":"Ist fähig die Power/ Kraft/ Schnelligkeit innerhalb des Einsatzes lange aufrechtzuerhalten und kann sich zwischen den Einsätzen jeweils vollkommen erholen (auch von Spiel zu Spiel)."},null,null,{"$f":"IF($H$2=\"G\",Skillserleuterungen_FTEM!W29,Skillserleuterungen_FTEM!J29)","v":0}]
[null,null,null,{"$f":"IF($H$2=\"G\",Skillserleuterungen_FTEM!Q30,Skillserleuterungen_FTEM!D30)","v":"BEWEGUNGSKOMPETENZ/ KOORDINATION "},null,null,{"$f":"IF($H$2=\"G\",Skillserleuterungen_FTEM!T30,Skillserleuterungen_FTEM!G30)","v":"Beherrscht die grundlegenden Bewegungsfertigkeiten, die eine unerlässliche Zubringerfunktion für die sportspezifischen \"Skills\" darstellt sowie zur nötigen Bewegungseffizienz führt. "},null,null,{"$f":"IF($H$2=\"G\",Skillserleuterungen_FTEM!W30,Skillserleuterungen_FTEM!J30)","v":0}]
[null,null,null,{"$f":"IF($H$2=\"G\",Skillserleuterungen_FTEM!Q31,Skillserleuterungen_FTEM!D31)","v":"ROBUSTHEIT/ PRÄVENTION"},null,null,{"$f":"IF($H$2=\"G\",Skillserleuterungen_FTEM!T31,Skillserleuterungen_FTEM!G31)","v":"Verletzungsanfälligkeit, Stabilität (Verfügt über die nötige Stabilität, Grundkraft (Körperspannung) \"z.B. Beinachsenstabilität\" und Beweglichkeit in den zentralen Gelenken \"Hüfte, Wirbelsäule\"), Standfestigkeit"},null,null,{"$f":"IF($H$2=\"G\",Skillserleuterungen_FTEM!W31,Skillserleuterungen_FTEM!J31)","v":0}]

{"sheet":"3","index":6,"n_rows":40,"n_cols":36,"rows_kept":40,"cut":false,"hidden":false,"merged":[[38,3,38,5],[38,6,38,11],[39,3,39,5],[39,6,39,11],[32,23,35,23],[32,0,35,2],[32,3,32,5],[32,6,32,11],[32,12,35,12],[32,13,35,13],[36,26,39,32],[36,34,39,34],[21,3,21,5],[21,6,21,11],[34,3,34,5],[34,6,34,11],[36,0,39,2],[36,12,39,12],[36,13,39,13],[36,15,39,15],[36,17,39,17],[36,19,39,19],[36,21,39,21],[36,23,39,23],[36,25,39,25],[36,3,36,5],[36,6,36,11],[37,3,37,5],[37,6,37,11],[32,15,35,15],[27,21,27,22],[28,17,31,17],[28,19,31,19],[28,21,31,21],[29,3,29,5],[29,6,29,11],[30,3,30,5],[30,6,30,11],[32,17,35,17],[32,19,35,19],[32,21,35,21],[33,3,33,5],[33,6,33,11],[35,3,35,5],[35,6,35,11],[23,0,26,2],[23,3,23,5],[23,6,23,11],[23,12,26,12],[23,13,26,13],[23,15,26,15],[27,23,27,24],[27,26,27,32],[28,0,31,2],[28,3,28,5],[28,6,28,11],[28,12,31,12],[28,13,31,13],[28,15,31,15],[31,3,31,5],[31,6,31,11],[28,23,31,23],[27,0,27,2],[27,3,27,5],[27,6,27,11],[27,13,27,14],[27,15,27,16],[27,17,27,18],[27,19,27,20],[19,19,22,19],[19,21,22,21],[19,23,22,23],[20,3,20,5],[20,6,20,11],[22,3,22,5],[22,6,22,11],[26,3,26,5],[26,6,26,11],[23,23,26,23],[23,17,26,17],[23,19,26,19],[23,21,26,21],[24,3,24,5],[24,6,24,11],[25,3,25,5],[25,6,25,11],[12,21,13,21],[15,15,18,15],[15,17,18,17],[15,19,18,19],[15,21,18,21],[15,23,18,23],[18,3,18,5],[18,6,18,11],[19,0,22,2],[19,3,19,5],[19,6,19,11],[19,12,22,12],[19,13,22,13],[19,15,22,15],[19,17,22,17],[15,0,18,2],[15,3,15,5],[15,6,15,11],[15,12,18,12],[15,13,18,13],[16,3,16,5],[16,6,16,11],[17,3,17,5],[17,6,17,11],[11,21,11,22],[11,23,11,24],[11,26,11,32],[11,6,11,11],[12,23,13,23],[13,3,13,5],[13,6,13,11],[14,0,14,2],[14,3,14,5],[14,6,14,11],[14,13,14,14],[14,15,14,16],[14,17,14,18],[14,19,14,20],[14,21,14,22],[14,23,14,24],[12,0,13,2],[12,3,12,5],[12,6,12,11],[12,12,13,12],[12,13,13,13],[12,15,13,15],[12,17,13,17],[12,19,13,19],[4,0,4,1],[4,2,4,5],[4,10,4,24],[10,0,10,24],[10,25,10,35],[32,25,35,25],[32,26,35,32],[32,34,35,34],[12,25,13,25],[12,26,13,32],[12,34,13,34],[15,25,18,25],[15,26,18,32],[15,34,18,34],[19,25,22,25],[19,26,22,32],[19,34,22,34],[14,26,14,32],[11,0,11,2],[11,3,11,5],[11,13,11,14],[11,15,11,16],[11,17,11,18],[11,19,11,20],[0,0,0,24],[0,25,0,26],[0,27,0,32],[0,33,0,35],[23,25,26,25],[23,26,26,32],[23,34,26,34],[28,25,31,25],[28,26,31,32],[28,34,31,34],[1,0,1,1],[1,2,1,5],[1,10,1,24],[2,0,2,1],[2,2,2,5],[2,11,2,24],[6,0,6,1],[6,2,6,35],[7,0,7,1],[7,2,7,35],[8,0,8,1],[8,2,8,35],[3,0,3,1],[3,10,3,24]]}
["Personalien",null,null,null,null,null,null,null,null,null,null,null,null,null,null,null,null,null,null,null,null,null,null,null,null,"Vorausetzungen",null,"Evaluationen",null,null,null,null,null,"Rating"]
["VORNAME",null,{"$f":"IF(ISBLANK(VLOOKUP(3,Tabelle3[],3,0)),\"-\",VLOOKUP(3,Tabelle3[],3,0))","v":"-"},null,null,null,"POSITION",null,null,"ADRESSE",{"$f":"IF(ISBLANK(VLOOKUP(3,Tabelle3[],5,0)),\"-\",VLOOKUP(3,Tabelle3[],5,0))","v":"-"},null,null,null,null,null,null,null,null,null,null,null,null,null,null,"\"Alter\" (Biologisch/Relative Age)",null,"Datum 1",null,null,"cm",null,"Kg",null,"AUSGEZEICHNET",5]
["NAME",null,{"$f":"IF(ISBLANK(VLOOKUP(3,Tabelle3[],2,0)),\"-\",VLOOKUP(3,Tabelle3[],2,0))","v":"-"},null,null,null,"STOCK",null,null,"WOHNORT",{"$f":"IF(ISBLANK(VLOOKUP(3,Tabelle3[],7,0)),\"-\",VLOOKUP(3,Tabelle3[],7,0))","v":"-"},{"$f":"IF(ISBLANK(VLOOKUP(3,Tabelle3[],6,0)),\"-\",VLOOKUP(3,Tabelle3[],6,0))","v":"-"},null,null,null,null,null,null,null,null,null,null,null,null,null,"Veranlagung",null,"Datum 2",null,null,"cm",null,"Kg",null,"GUT",4]
["GEB. DATUM",null,{"$f":"IF(ISBLANK(VLOOKUP(3,Tabelle3[],14,0)),\"-\",VLOOKUP(3,Tabelle3[],14,0))","v":"-"},{"$f":"IF(ISBLANK(VLOOKUP(3,Tabelle3[],15,0)),\"-\",VLOOKUP(3,Tabelle3[],15,0))","v":"-"},{"$f":"IF(ISBLANK(VLOOKUP(3,Tabelle3[],16,0)),\"-\",VLOOKUP(3,Tabelle3[],16,0))","v":"-"},null,"GRÖSSE",null,"cm (Final)","PHONE",{"$f":"IF(ISBLANK(VLOOKUP(3,Tabelle3[],8,0)),\"-\",VLOOKUP(3,Tabelle3[],8,0))","v":"-"},null,null,null,null,null,null,null,null,null,null,null,null,null,null,"Umfeld",null,"Datum 3",null,null,"cm",null,"Kg",null,"DURCHSCHNITT",3]
["SEX",null,{"$f":"IF(ISBLANK(VLOOKUP(3,Tabelle3[],13,0)),\"-\",VLOOKUP(3,Tabelle3[],13,0))","v":"-"},null,null,null,"GEWICHT",null,"Kg (Final)","E-Mail",{"$f":"IF(ISBLANK(VLOOKUP(3,Tabelle3[],9,0)),\"-\",VLOOKUP(3,Tabelle3[],9,0))","v":"-"},null,null,null,null,null,null,null,null,null,null,null,null,null,null,null,null,"Datum 4",null,null,"cm",null,"Kg",null,"MANGELHAFT",2]
[null,null,null,null,null,null,null,null,null,null,null,null,null,null,null,null,null,null,null,null,null,null,null,null,null,null,null,"Datum 5",null,null,"cm",null,"Kg",null,"UNGENÜGEND",1]
["Vision",null,"xxx"]
["Next step",null,"xxx"]
["Stärkenprofil",null,"xxx"]
[]
["EVALUATION (COACH / SPIELER)",null,null,null,null,null,null,null,null,null,null,null,null,null,null,null,null,null,null,null,null,null,null,null,null,"SMART"]
["TEAM",null,null,"FÄHIGKEIT",null,null,"BEOBACHTUNG",null,null,null,null,null,"Final","Datum1",null,"Datum2",null,"Datum3",null,"Datum4",null,"Datum5",null,"Player",null,"ZIEL","MASSNAHME:\nSPEZIFISCH,  MESSBAR, REALISITISCH",null,null,null,null,null,null,"TERMIN","ZIEL-KONTROLLE","Datum"]
["ROLLE, SOZIAL",null,null,{"$f":"IF($H$2=\"G\",Skillserleuterungen_FTEM!Q4,Skillserleuterungen_FTEM!D4)","v":"TEAMDENKEN"},null,null,{"$f":"IF($H$2=\"G\",Skillserleuterungen_FTEM!T4,Skillserleuterungen_FTEM!G4)","v":"Identifikation zur Rolle, Umgang mit Kameraden (sozial integriert)"},null,null,{"$f":"IF($H$2=\"G\",Skillserleuterungen_FTEM!W4,Skillserleuterungen_FTEM!J4)","v":0},null,null,null,{"$f":"IFERROR(AVERAGE(O13:O14),\"-\")","v":"-"},null,{"$f":"IFERROR(AVERAGE(Q13:Q14),\"-\")","v":"-"},null,{"$f":"IFERROR(AVERAGE(S13:S14),\"-\")","v":"-"},null,{"$f":"IFERROR(AVERAGE(U13:U14),\"-\")","v":"-"},null,null,null,{"$f":"IFERROR(AVERAGE(Y13:Y14),\"-\")","v":"-"}]
[null,null,null,{"$f":"IF($H$2=\"G\",Skillserleuterungen_FTEM!Q5,Skillserleuterungen_FTEM!D5)","v":"LEADERSHIP"},null,null,{"$f":"IF($H$2=\"G\",Skillserleuterungen_FTEM!T5,Skillserleuterungen_FTEM!G5)","v":"Übernimmt Verantwortung, macht Mitspieler besser"},null,null,{"$f":"IF($H$2=\"G\",Skillserleuterungen_FTEM!W5,Skillserleuterungen_FTEM!J5)","v":0}]
["ON ICE",null,null,"FÄHIGKEIT",null,null,"BEOBACHTUNG",null,null,null,null,null,null,"Datum1",null,"Datum2",null,"Datum3",null,"Datum4",null,"Datum5",null,"Player",null,"ZIEL","MASSNAHME:\nSPEZIFISCH,  MESSBAR, REALISITISCH",null,null,null,null,null,null,"TERMIN","ZIEL-KONTROLLE","Datum"]
["SKILL",null,null,{"$f":"IF($H$2=\"G\",Skillserleuterungen_FTEM!Q7,Skillserleuterungen_FTEM!D7)","v":"SCHIESSEN"},null,null,{"$f":"IF($H$2=\"G\",Skillserleuterungen_FTEM!T7,Skillserleuterungen_FTEM!G7)","v":"Effizienz / Variantenreichtum, Überraschungsgrad (Quick Release), Präzision, Härte, (taktische Abschlüsse)\nschnell, hart, unter Druck"},null,null,{"$f":"IF($H$2=\"G\",Skillserleuterungen_FTEM!W7,Skillserleuterungen_FTEM!J7)","v":0},null,null,null,{"$f":"IFERROR(AVERAGE(O16:O19),\"-\")","v":"-"},null,{"$f":"IFERROR(AVERAGE(Q16:Q19),\"-\")","v":"-"},null,{"$f":"IFERROR(AVERAGE(S16:S19),\"-\")","v":"-"},null,{"$f":"IFERROR(AVERAGE(U16:U19),\"-\")","v":"-"},null,{"$f":"IFERROR(AVERAGE(W16:W19),\"-\")","v":"-"},null,{"$f":"IFERROR(AVERAGE(Y16:Y19),\"-\")","v":"-"}]
[null,null,null,{"$f":"IF($H$2=\"G\",Skillserleuterungen_FTEM!Q8,Skillserleuterungen_FTEM!D8)","v":"PASSEN"},null,null,{"$f":"IF($H$2=\"G\",Skillserleuterungen_FTEM!T8,Skillserleuterungen_FTEM!G8)","v":"Passabgabe (Distanz, Flippass Backhand), Passannahme (Präzision, Timing, Vorhand, Rückhand, Schlittschuh,Puckspeed"},null,null,{"$f":"IF($H$2=\"G\",Skillserleuterungen_FTEM!W8,Skillserleuterungen_FTEM!J8)","v":0}]
[null,null,null,{"$f":"IF($H$2=\"G\",Skillserleuterungen_FTEM!Q9,Skillserleuterungen_FTEM!D9)","v":"KÖRPERSPIEL"},null,null,{"$f":"IF($H$2=\"G\",Skillserleuterungen_FTEM!T9,Skillserleuterungen_FTEM!G9)","v":"Phyisches Durchsetzungsvermögen, Zweikampf (offenes Eis/Bande), Checks nehmen/Head up, Battle Level, Hart aber fair, mit dem Körper Schüsse blockieren"},null,null,{"$f":"IF($H$2=\"G\",Skillserleuterungen_FTEM!W9,Skillserleuterungen_FTEM!J9)","v":0},null,null,null,{"$f":"IFERROR(AVERAGE(O18:O19),\"-\")","v":"-"},null,{"$f":"IFERROR(AVERAGE(Q18:Q19),\"-\")","v":"-"},null,{"$f":"IFERROR(AVERAGE(S18:S19),\"-\")","v":"-"},null,{"$f":"IFERROR(AVERAGE(U18:U19),\"-\")","v":"-"},null,{"$f":"IFERROR(AVERAGE(W18:W19),\"-\")","v":"-"},null,{"$f":"IFERROR(AVERAGE(Y18:Y19),\"-\")","v":"-"}]
[null,null,null,{"$f":"IF($H$2=\"G\",Skillserleuterungen_FTEM!Q10,Skillserleuterungen_FTEM!D10)","v":"SCHEIBENKONTROLLE"},null,null,{"$f":"IF($H$2=\"G\",Skillserleuterungen_FTEM!T10,Skillserleuterungen_FTEM!G10)","v":"Puckmanagmenet auf engem Raum, Puck Protection,  schwer kontrollierbare Scheiben "},null,null,{"$f":"IF($H$2=\"G\",Skillserleuterungen_FTEM!W10,Skillserleuterungen_FTEM!J10)","v":0}]
["SKATING",null,null,{"$f":"IF($H$2=\"G\",Skillserleuterungen_FTEM!Q11,Skillserleuterungen_FTEM!D11)","v":"FOOTSPEED"},null,null,{"$f":"IF($H$2=\"G\",Skillserleuterungen_FTEM!T11,Skillserleuterungen_FTEM!G11)","v":"Beschleunigung, Antritt, erste 3 Schritte Explosivität, Frequenz"},null,null,{"$f":"IF($H$2=\"G\",Skillserleuterungen_FTEM!W11,Skillserleuterungen_FTEM!J11)","v":0},null,null,null,{"$f":"IFERROR(AVERAGE(O20:O23),\"-\")","v":"-"},null,{"$f":"IFERROR(AVERAGE(Q20:Q23),\"-\")","v":"-"},null,{"$f":"IFERROR(AVERAGE(S20:S23),\"-\")","v":"-"},null,{"$f":"IFERROR(AVERAGE(U20:U23),\"-\")","v":"-"},null,{"$f":"IFERROR(AVERAGE(W20:W23),\"-\")","v":"-"},null,{"$f":"IFERROR(AVERAGE(Y20:Y23),\"-\")","v":"-"}]
[null,null,null,{"$f":"IF($H$2=\"G\",Skillserleuterungen_FTEM!Q12,Skillserleuterungen_FTEM!D12)","v":"AGILITÄT"},null,null,{"$f":"IF($H$2=\"G\",Skillserleuterungen_FTEM!T12,Skillserleuterungen_FTEM!G12)","v":"Richtungsänderung, Drehung, Stop und Start, «Nummelin»"},null,null,{"$f":"IF($H$2=\"G\",Skillserleuterungen_FTEM!W12,Skillserleuterungen_FTEM!J12)","v":0}]
[null,null,null,{"$f":"IF($H$2=\"G\",Skillserleuterungen_FTEM!Q13,Skillserleuterungen_FTEM!D13)","v":"BACKWARDS SKATING"},null,null,{"$f":"IF($H$2=\"G\",Skillserleuterungen_FTEM!T13,Skillserleuterungen_FTEM!G13)","v":"Beschleunigung, Geschwindigkeit, Balance"},null,null,{"$f":"IF($H$2=\"G\",Skillserleuterungen_FTEM!W13,Skillserleuterungen_FTEM!J13)","v":0}]
[null,null,null,{"$f":"IF($H$2=\"G\",Skillserleuterungen_FTEM!Q14,Skillserleuterungen_FTEM!D14)","v":"TOPSPEED"},null,null,{"$f":"IF($H$2=\"G\",Skillserleuterungen_FTEM!T14,Skillserleuterungen_FTEM!G14)","v":"Schnelligkeit, Gleitfähigkeit, vorwärts und rückwärts, Ökonomie"},null,null,{"$f":"IF($H$2=\"G\",Skillserleuterungen_FTEM!W14,Skillserleuterungen_FTEM!J14)","v":0}]
["HOCKEY SENSE",null,null,{"$f":"IF($H$2=\"G\",Skillserleuterungen_FTEM!Q15,Skillserleuterungen_FTEM!D15)","v":"SCORING"},null,null,{"$f":"IF($H$2=\"G\",Skillserleuterungen_FTEM!T15,Skillserleuterungen_FTEM!G15)","v":"Effizienz, variantentreich, überraschend, schnell, hart - Schussvarianten"},null,null,{"$f":"IF($H$2=\"G\",Skillserleuterungen_FTEM!W15,Skillserleuterungen_FTEM!J15)","v":0},null,null,null,{"$f":"IFERROR(AVERAGE(O24:O27),\"-\")","v":"-"},null,{"$f":"IFERROR(AVERAGE(Q24:Q27),\"-\")","v":"-"},null,{"$f":"IFERROR(AVERAGE(S24:S27),\"-\")","v":"-"},null,{"$f":"IFERROR(AVERAGE(U24:U27),\"-\")","v":"-"},null,{"$f":"IFERROR(AVERAGE(W24:W27),\"-\")","v":"-"},null,{"$f":"IFERROR(AVERAGE(Y24:Y27),\"-\")","v":"-"}]
[null,null,null,{"$f":"IF($H$2=\"G\",Skillserleuterungen_FTEM!Q16,Skillserleuterungen_FTEM!D16)","v":"MIT SCHEIBE"},null,null,{"$f":"IF($H$2=\"G\",Skillserleuterungen_FTEM!T16,Skillserleuterungen_FTEM!G16)","v":"Kreativ, performing, batteling, frech, Transition"},null,null,{"$f":"IF($H$2=\"G\",Skillserleuterungen_FTEM!W16,Skillserleuterungen_FTEM!J16)","v":0}]
[null,null,null,{"$f":"IF($H$2=\"G\",Skillserleuterungen_FTEM!Q17,Skillserleuterungen_FTEM!D17)","v":"OHNE SCHEIBE"},null,null,{"$f":"IF($H$2=\"G\",Skillserleuterungen_FTEM!T17,Skillserleuterungen_FTEM!G17)","v":"Anspielbar (Support), 1:1, Gap"},null,null,{"$f":"IF($H$2=\"G\",Skillserleuterungen_FTEM!W17,Skillserleuterungen_FTEM!J17)","v":0}]
[null,null,null,{"$f":"IF($H$2=\"G\",Skillserleuterungen_FTEM!Q18,Skillserleuterungen_FTEM!D18)","v":"DEFENSIV"},null,null,{"$f":"IF($H$2=\"G\",Skillserleuterungen_FTEM!T18,Skillserleuterungen_FTEM!G18)","v":"Verlässlichkeit,  1:1, Gap, Zuordnung"},null,null,{"$f":"IF($H$2=\"G\",Skillserleuterungen_FTEM!W18,Skillserleuterungen_FTEM!J18)","v":0}]
["PERSONALITY",null,null,"FÄHIGKEIT",null,null,"BEOBACHTUNG",null,null,null,null,null,null,"Datum1",null,"Datum2",null,"Datum3",null,"Datum4",null,"Datum5",null,"Player",null,"ZIEL","MASSNAHME:\nSPEZIFISCH,  MESSBAR, REALISITISCH",null,null,null,null,null,null,"TERMIN","ZIEL-KONTROLLE","Datum"]
["PERSON",null,null,{"$f":"IF($H$2=\"G\",Skillserleuterungen_FTEM!Q20,Skillserleuterungen_FTEM!D20)","v":"MOTIVATION"},null,null,{"$f":"IF($H$2=\"G\",Skillserleuterungen_FTEM!T20,Skillserleuterungen_FTEM!G20)","v":"Intrinsischer Antrieb, will sich ständig weiterentwickeln, will der Erste sein und Erfolg haben"},null,null,{"$f":"IF($H$2=\"G\",Skillserleuterungen_FTEM!W20,Skillserleuterungen_FTEM!J20)","v":0},null,null,null,{"$f":"IFERROR(AVERAGE(O29:O32),\"-\")","v":"-"},null,{"$f":"IFERROR(AVERAGE(Q29:Q32),\"-\")","v":"-"},null,{"$f":"IFERROR(AVERAGE(S29:S32),\"-\")","v":"-"},null,{"$f":"IFERROR(AVERAGE(U29:U32),\"-\")","v":"-"},null,{"$f":"IFERROR(AVERAGE(W29:W32),\"-\")","v":"-"},null,{"$f":"IFERROR(AVERAGE(Y29:Y32),\"-\")","v":"-"}]
[null,null,null,{"$f":"IF($H$2=\"G\",Skillserleuterungen_FTEM!Q21,Skillserleuterungen_FTEM!D21)","v":"SELBSBEWUSSTSEIN"},null,null,{"$f":"IF($H$2=\"G\",Skillserleuterungen_FTEM!T21,Skillserleuterungen_FTEM!G21)","v":"Hat das nötige Selbstvertrauen \"I can do it\" haltung, kann eigenen Fähigkeiten einschätzen und agiert mutig"},null,null,{"$f":"IF($H$2=\"G\",Skillserleuterungen_FTEM!W21,Skillserleuterungen_FTEM!J21)","v":0}]
[null,null,null,{"$f":"IF($H$2=\"G\",Skillserleuterungen_FTEM!Q22,Skillserleuterungen_FTEM!D22)","v":"LERNFÄHIGKEIT"},null,null,{"$f":"IF($H$2=\"G\",Skillserleuterungen_FTEM!T22,Skillserleuterungen_FTEM!G22)","v":"Gute Auffassungsgabe (nimmt auf und kann umsetzen), reflektiert eigenes Handeln, versucht aus Fehlern zu lernen und kann Massnahmen ableiten und sich selber coachen"},null,null,{"$f":"IF($H$2=\"G\",Skillserleuterungen_FTEM!W22,Skillserleuterungen_FTEM!J22)","v":0}]
[null,null,null,{"$f":"IF($H$2=\"G\",Skillserleuterungen_FTEM!Q23,Skillserleuterungen_FTEM!D23)","v":"PERFORMANCE LIFESTYLE"},null,null,{"$f":"IF($H$2=\"G\",Skillserleuterungen_FTEM!T23,Skillserleuterungen_FTEM!G23)","v":"Managt Alltag und Umfeld nach dem Leistungsprinzip, kann sich gegen Wiederstände durchsetzten"},null,null,{"$f":"IF($H$2=\"G\",Skillserleuterungen_FTEM!W23,Skillserleuterungen_FTEM!J23)","v":0}]
["POWER",null,null,{"$f":"IF($H$2=\"G\",Skillserleuterungen_FTEM!Q24,Skillserleuterungen_FTEM!D24)","v":"ENERGIEMANAGEMENT"},null,null,{"$f":"IF($H$2=\"G\",Skillserleuterungen_FTEM!T24,Skillserleuterungen_FTEM!G24)","v":"Kann eigene Energie regulieren, bereit zur Regeneration, weiss, wann er \"Vollgas\" geben muss und wann ab-schalten, On/Off-Schalter"},null,null,{"$f":"IF($H$2=\"G\",Skillserleuterungen_FTEM!W24,Skillserleuterungen_FTEM!J24)","v":0},null,null,null,{"$f":"IFERROR(AVERAGE(O33:O36),\"-\")","v":"-"},null,{"$f":"IFERROR(AVERAGE(Q33:Q36),\"-\")","v":"-"},null,{"$f":"IFERROR(AVERAGE(S33:S36),\"-\")","v":"-"},null,{"$f":"IFERROR(AVERAGE(U33:U36),\"-\")","v":"-"},null,{"$f":"IFERROR(AVERAGE(W33:W36),\"-\")","v":"-"},null,{"$f":"IFERROR(AVERAGE(Y33:Y36),\"-\")","v":"-"}]
[null,null,null,{"$f":"IF($H$2=\"G\",Skillserleuterungen_FTEM!Q25,Skillserleuterungen_FTEM!D25)","v":"EINSATZBEREITSCHAFT"},null,null,{"$f":"IF($H$2=\"G\",Skillserleuterungen_FTEM!T25,Skillserleuterungen_FTEM!G25)","v":"Hohe intensität im Spiel und Training, gibt immer sein Maximum, will seine Limiten pushen"},null,null,{"$f":"IF($H$2=\"G\",Skillserleuterungen_FTEM!W25,Skillserleuterungen_FTEM!J25)","v":0}]
[null,null,null,{"$f":"IF($H$2=\"G\",Skillserleuterungen_FTEM!Q26,Skillserleuterungen_FTEM!D26)","v":"EMOTIONSKONTROLLE"},null,null,{"$f":"IF($H$2=\"G\",Skillserleuterungen_FTEM!T26,Skillserleuterungen_FTEM!G26)","v":"Emotionen und Impulse regulieren, unter Druck die Kontrolle behalten, in emotional ansprucksvollen Situationen angemessen agieren können"},null,null,{"$f":"IF($H$2=\"G\",Skillserleuterungen_FTEM!W26,Skillserleuterungen_FTEM!J26)","v":0}]
[null,null,null,{"$f":"IF($H$2=\"G\",Skillserleuterungen_FTEM!Q27,Skillserleuterungen_FTEM!D27)","v":"VORBEREITUNG"},null,null,{"$f":"IF($H$2=\"G\",Skillserleuterungen_FTEM!T27,Skillserleuterungen_FTEM!G27)","v":"Fokus, ILZ, Regeneration, Selbststiumlation, Ernährung"},null,null,{"$f":"IF($H$2=\"G\",Skillserleuterungen_FTEM!W27,Skillserleuterungen_FTEM!J27)","v":0}]
["PYHSE (Athletik)",null,null,{"$f":"IF($H$2=\"G\",Skillserleuterungen_FTEM!Q28,Skillserleuterungen_FTEM!D28)","v":"LEISTUNGSERZEUGUNG (neuromuskuläre Faktoren /Leistungserzeugung)"},null,null,{"$f":"IF($H$2=\"G\",Skillserleuterungen_FTEM!T28,Skillserleuterungen_FTEM!G28)","v":"Verfügt über die nötige Power/ Kraft/ Schnelligkeit in den Beinen un im Oberkörper "},null,null,{"$f":"IF($H$2=\"G\",Skillserleuterungen_FTEM!W28,Skillserleuterungen_FTEM!J28)","v":0},null,null,null,{"$f":"IFERROR(AVERAGE(O37:O40),\"-\")","v":"-"},null,{"$f":"IFERROR(AVERAGE(Q37:Q40),\"-\")","v":"-"},null,{"$f":"IFERROR(AVERAGE(S37:S40),\"-\")","v":"-"},null,{"$f":"IFERROR(AVERAGE(U37:U40),\"-\")","v":"-"},null,{"$f":"IFERROR(AVERAGE(W37:W40),\"-\")","v":"-"},null,{"$f":"IFERROR(AVERAGE(Y37:Y40),\"-\")","v":"-"}]
[null,null,null,{"$f":"IF($H$2=\"G\",Skillserleuterungen_FTEM!Q29,Skillserleuterungen_FTEM!D29)","v":"SPEZ. ERMÜDUNGSRESISTENZ (metabolische, kardiovaskuläre Faktoren)"},null,null,{"$f":"IF($H$2=\"G\",Skillserleuterungen_FTEM!T29,Skillserleuterungen_FTEM!G29)","v":"Ist fähig die Power/ Kraft/ Schnelligkeit innerhalb des Einsatzes lange aufrechtzuerhalten und kann sich zwischen den Einsätzen jeweils vollkommen erholen (auch von Spiel zu Spiel)."},null,null,{"$f":"IF($H$2=\"G\",Skillserleuterungen_FTEM!W29,Skillserleuterungen_FTEM!J29)","v":0}]
[null,null,null,{"$f":"IF($H$2=\"G\",Skillserleuterungen_FTEM!Q30,Skillserleuterungen_FTEM!D30)","v":"BEWEGUNGSKOMPETENZ/ KOORDINATION "},null,null,{"$f":"IF($H$2=\"G\",Skillserleuterungen_FTEM!T30,Skillserleuterungen_FTEM!G30)","v":"Beherrscht die grundlegenden Bewegungsfertigkeiten, die eine unerlässliche Zubringerfunktion für die sportspezifischen \"Skills\" darstellt sowie zur nötigen Bewegungseffizienz führt. "},null,null,{"$f":"IF($H$2=\"G\",Skillserleuterungen_FTEM!W30,Skillserleuterungen_FTEM!J30)","v":0}]
[null,null,null,{"$f":"IF($H$2=\"G\",Skillserleuterungen_FTEM!Q31,Skillserleuterungen_FTEM!D31)","v":"ROBUSTHEIT/ PRÄVENTION"},null,null,{"$f":"IF($H$2=\"G\",Skillserleuterungen_FTEM!T31,Skillserleuterungen_FTEM!G31)","v":"Verletzungsanfälligkeit, Stabilität (Verfügt über die nötige Stabilität, Grundkraft (Körperspannung) \"z.B. Beinachsenstabilität\" und Beweglichkeit in den zentralen Gelenken \"Hüfte, Wirbelsäule\"), Standfestigkeit"},null,null,{"$f":"IF($H$2=\"G\",Skillserleuterungen_FTEM!W31,Skillserleuterungen_FTEM!J31)","v":0}]

{"sheet":"4","index":7,"n_rows":40,"n_cols":36,"rows_kept":40,"cut":false,"hidden":false,"merged":[[38,3,38,5],[38,6,38,11],[39,3,39,5],[39,6,39,11],[32,23,35,23],[32,0,35,2],[32,3,32,5],[32,6,32,11],[32,12,35,12],[32,13,35,13],[36,26,39,32],[36,34,39,34],[21,3,21,5],[21,6,21,11],[34,3,34,5],[34,6,34,11],[36,0,39,2],[36,12,39,12],[36,13,39,13],[36,15,39,15],[36,17,39,17],[36,19,39,19],[36,21,39,21],[36,23,39,23],[36,25,39,25],[36,3,36,5],[36,6,36,11],[37,3,37,5],[37,6,37,11],[32,15,35,15],[27,21,27,22],[28,17,31,17],[28,19,31,19],[28,21,31,21],[29,3,29,5],[29,6,29,11],[30,3,30,5],[30,6,30,11],[32,17,35,17],[32,19,35,19],[32,21,35,21],[33,3,33,5],[33,6,33,11],[35,3,35,5],[35,6,35,11],[23,0,26,2],[23,3,23,5],[23,6,23,11],[23,12,26,12],[23,13,26,13],[23,15,26,15],[27,23,27,24],[27,26,27,32],[28,0,31,2],[28,3,28,5],[28,6,28,11],[28,12,31,12],[28,13,31,13],[28,15,31,15],[31,3,31,5],[31,6,31,11],[28,23,31,23],[27,0,27,2],[27,3,27,5],[27,6,27,11],[27,13,27,14],[27,15,27,16],[27,17,27,18],[27,19,27,20],[19,19,22,19],[19,21,22,21],[19,23,22,23],[20,3,20,5],[20,6,20,11],[22,3,22,5],[22,6,22,11],[26,3,26,5],[26,6,26,11],[23,23,26,23],[23,17,26,17],[23,19,26,19],[23,21,26,21],[24,3,24,5],[24,6,24,11],[25,3,25,5],[25,6,25,11],[12,21,13,21],[15,15,18,15],[15,17,18,17],[15,19,18,19],[15,21,18,21],[15,23,18,23],[18,3,18,5],[18,6,18,11],[19,0,22,2],[19,3,19,5],[19,6,19,11],[19,12,22,12],[19,13,22,13],[19,15,22,15],[19,17,22,17],[15,0,18,2],[15,3,15,5],[15,6,15,11],[15,12,18,12],[15,13,18,13],[16,3,16,5],[16,6,16,11],[17,3,17,5],[17,6,17,11],[11,21,11,22],[11,23,11,24],[11,26,11,32],[11,6,11,11],[12,23,13,23],[13,3,13,5],[13,6,13,11],[14,0,14,2],[14,3,14,5],[14,6,14,11],[14,13,14,14],[14,15,14,16],[14,17,14,18],[14,19,14,20],[14,21,14,22],[14,23,14,24],[12,0,13,2],[12,3,12,5],[12,6,12,11],[12,12,13,12],[12,13,13,13],[12,15,13,15],[12,17,13,17],[12,19,13,19],[4,0,4,1],[4,2,4,5],[4,10,4,24],[10,0,10,24],[10,25,10,35],[32,25,35,25],[32,26,35,32],[32,34,35,34],[12,25,13,25],[12,26,13,32],[12,34,13,34],[15,25,18,25],[15,26,18,32],[15,34,18,34],[19,25,22,25],[19,26,22,32],[19,34,22,34],[14,26,14,32],[11,0,11,2],[11,3,11,5],[11,13,11,14],[11,15,11,16],[11,17,11,18],[11,19,11,20],[0,0,0,24],[0,25,0,26],[0,27,0,32],[0,33,0,35],[23,25,26,25],[23,26,26,32],[23,34,26,34],[28,25,31,25],[28,26,31,32],[28,34,31,34],[1,0,1,1],[1,2,1,5],[1,10,1,24],[2,0,2,1],[2,2,2,5],[2,11,2,24],[6,0,6,1],[6,2,6,35],[7,0,7,1],[7,2,7,35],[8,0,8,1],[8,2,8,35],[3,0,3,1],[3,10,3,24]]}
["Personalien",null,null,null,null,null,null,null,null,null,null,null,null,null,null,null,null,null,null,null,null,null,null,null,null,"Vorausetzungen",null,"Evaluationen",null,null,null,null,null,"Rating"]
["VORNAME",null,{"$f":"IF(ISBLANK(VLOOKUP(4,Tabelle3[],3,0)),\"-\",VLOOKUP(4,Tabelle3[],3,0))","v":"-"},null,null,null,"POSITION",null,null,"ADRESSE",{"$f":"IF(ISBLANK(VLOOKUP(4,Tabelle3[],5,0)),\"-\",VLOOKUP(4,Tabelle3[],5,0))","v":"-"},null,null,null,null,null,null,null,null,null,null,null,null,null,null,"\"Alter\" (Biologisch/Relative Age)",null,"Datum 1",null,null,"cm",null,"Kg",null,"AUSGEZEICHNET",5]
["NAME",null,{"$f":"IF(ISBLANK(VLOOKUP(4,Tabelle3[],2,0)),\"-\",VLOOKUP(4,Tabelle3[],2,0))","v":"-"},null,null,null,"STOCK",null,null,"WOHNORT",{"$f":"IF(ISBLANK(VLOOKUP(4,Tabelle3[],7,0)),\"-\",VLOOKUP(4,Tabelle3[],7,0))","v":"-"},{"$f":"IF(ISBLANK(VLOOKUP(4,Tabelle3[],6,0)),\"-\",VLOOKUP(4,Tabelle3[],6,0))","v":"-"},null,null,null,null,null,null,null,null,null,null,null,null,null,"Veranlagung",null,"Datum 2",null,null,"cm",null,"Kg",null,"GUT",4]
["GEB. DATUM",null,{"$f":"IF(ISBLANK(VLOOKUP(4,Tabelle3[],14,0)),\"-\",VLOOKUP(4,Tabelle3[],14,0))","v":"-"},{"$f":"IF(ISBLANK(VLOOKUP(4,Tabelle3[],15,0)),\"-\",VLOOKUP(4,Tabelle3[],15,0))","v":"-"},{"$f":"IF(ISBLANK(VLOOKUP(4,Tabelle3[],16,0)),\"-\",VLOOKUP(4,Tabelle3[],16,0))","v":"-"},null,"GRÖSSE",null,"cm (Final)","PHONE",{"$f":"IF(ISBLANK(VLOOKUP(4,Tabelle3[],8,0)),\"-\",VLOOKUP(4,Tabelle3[],8,0))","v":"-"},null,null,null,null,null,null,null,null,null,null,null,null,null,null,"Umfeld",null,"Datum 3",null,null,"cm",null,"Kg",null,"DURCHSCHNITT",3]
["SEX",null,{"$f":"IF(ISBLANK(VLOOKUP(4,Tabelle3[],13,0)),\"-\",VLOOKUP(4,Tabelle3[],13,0))","v":"-"},null,null,null,"GEWICHT",null,"Kg (Final)","E-Mail",{"$f":"IF(ISBLANK(VLOOKUP(4,Tabelle3[],9,0)),\"-\",VLOOKUP(4,Tabelle3[],9,0))","v":"-"},null,null,null,null,null,null,null,null,null,null,null,null,null,null,null,null,"Datum 4",null,null,"cm",null,"Kg",null,"MANGELHAFT",2]
[null,null,null,null,null,null,null,null,null,null,null,null,null,null,null,null,null,null,null,null,null,null,null,null,null,null,null,"Datum 5",null,null,"cm",null,"Kg",null,"UNGENÜGEND",1]
["Vision",null,"xxx"]
["Next step",null,"xxx"]
["Stärkenprofil",null,"xxx"]
[]
["EVALUATION (COACH / SPIELER)",null,null,null,null,null,null,null,null,null,null,null,null,null,null,null,null,null,null,null,null,null,null,null,null,"SMART"]
["TEAM",null,null,"FÄHIGKEIT",null,null,"BEOBACHTUNG",null,null,null,null,null,"Final","Datum1",null,"Datum2",null,"Datum3",null,"Datum4",null,"Datum5",null,"Player",null,"ZIEL","MASSNAHME:\nSPEZIFISCH,  MESSBAR, REALISITISCH",null,null,null,null,null,null,"TERMIN","ZIEL-KONTROLLE","Datum"]
["ROLLE, SOZIAL",null,null,{"$f":"IF($H$2=\"G\",Skillserleuterungen_FTEM!Q4,Skillserleuterungen_FTEM!D4)","v":"TEAMDENKEN"},null,null,{"$f":"IF($H$2=\"G\",Skillserleuterungen_FTEM!T4,Skillserleuterungen_FTEM!G4)","v":"Identifikation zur Rolle, Umgang mit Kameraden (sozial integriert)"},null,null,{"$f":"IF($H$2=\"G\",Skillserleuterungen_FTEM!W4,Skillserleuterungen_FTEM!J4)","v":0},null,null,null,{"$f":"IFERROR(AVERAGE(O13:O14),\"-\")","v":"-"},null,{"$f":"IFERROR(AVERAGE(Q13:Q14),\"-\")","v":"-"},null,{"$f":"IFERROR(AVERAGE(S13:S14),\"-\")","v":"-"},null,{"$f":"IFERROR(AVERAGE(U13:U14),\"-\")","v":"-"},null,null,null,{"$f":"IFERROR(AVERAGE(Y13:Y14),\"-\")","v":"-"}]
[null,null,null,{"$f":"IF($H$2=\"G\",Skillserleuterungen_FTEM!Q5,Skillserleuterungen_FTEM!D5)","v":"LEADERSHIP"},null,null,{"$f":"IF($H$2=\"G\",Skillserleuterungen_FTEM!T5,Skillserleuterungen_FTEM!G5)","v":"Übernimmt Verantwortung, macht Mitspieler besser"},null,null,{"$f":"IF($H$2=\"G\",Skillserleuterungen_FTEM!W5,Skillserleuterungen_FTEM!J5)","v":0}]
["ON ICE",null,null,"FÄHIGKEIT",null,null,"BEOBACHTUNG",null,null,null,null,null,null,"Datum1",null,"Datum2",null,"Datum3",null,"Datum4",null,"Datum5",null,"Player",null,"ZIEL","MASSNAHME:\nSPEZIFISCH,  MESSBAR, REALISITISCH",null,null,null,null,null,null,"TERMIN","ZIEL-KONTROLLE","Datum"]
["SKILL",null,null,{"$f":"IF($H$2=\"G\",Skillserleuterungen_FTEM!Q7,Skillserleuterungen_FTEM!D7)","v":"SCHIESSEN"},null,null,{"$f":"IF($H$2=\"G\",Skillserleuterungen_FTEM!T7,Skillserleuterungen_FTEM!G7)","v":"Effizienz / Variantenreichtum, Überraschungsgrad (Quick Release), Präzision, Härte, (taktische Abschlüsse)\nschnell, hart, unter Druck"},null,null,{"$f":"IF($H$2=\"G\",Skillserleuterungen_FTEM!W7,Skillserleuterungen_FTEM!J7)","v":0},null,null,null,{"$f":"IFERROR(AVERAGE(O16:O19),\"-\")","v":"-"},null,{"$f":"IFERROR(AVERAGE(Q16:Q19),\"-\")","v":"-"},null,{"$f":"IFERROR(AVERAGE(S16:S19),\"-\")","v":"-"},null,{"$f":"IFERROR(AVERAGE(U16:U19),\"-\")","v":"-"},null,{"$f":"IFERROR(AVERAGE(W16:W19),\"-\")","v":"-"},null,{"$f":"IFERROR(AVERAGE(Y16:Y19),\"-\")","v":"-"}]
[null,null,null,{"$f":"IF($H$2=\"G\",Skillserleuterungen_FTEM!Q8,Skillserleuterungen_FTEM!D8)","v":"PASSEN"},null,null,{"$f":"IF($H$2=\"G\",Skillserleuterungen_FTEM!T8,Skillserleuterungen_FTEM!G8)","v":"Passabgabe (Distanz, Flippass Backhand), Passannahme (Präzision, Timing, Vorhand, Rückhand, Schlittschuh,Puckspeed"},null,null,{"$f":"IF($H$2=\"G\",Skillserleuterungen_FTEM!W8,Skillserleuterungen_FTEM!J8)","v":0}]
[null,null,null,{"$f":"IF($H$2=\"G\",Skillserleuterungen_FTEM!Q9,Skillserleuterungen_FTEM!D9)","v":"KÖRPERSPIEL"},null,null,{"$f":"IF($H$2=\"G\",Skillserleuterungen_FTEM!T9,Skillserleuterungen_FTEM!G9)","v":"Phyisches Durchsetzungsvermögen, Zweikampf (offenes Eis/Bande), Checks nehmen/Head up, Battle Level, Hart aber fair, mit dem Körper Schüsse blockieren"},null,null,{"$f":"IF($H$2=\"G\",Skillserleuterungen_FTEM!W9,Skillserleuterungen_FTEM!J9)","v":0},null,null,null,{"$f":"IFERROR(AVERAGE(O18:O19),\"-\")","v":"-"},null,{"$f":"IFERROR(AVERAGE(Q18:Q19),\"-\")","v":"-"},null,{"$f":"IFERROR(AVERAGE(S18:S19),\"-\")","v":"-"},null,{"$f":"IFERROR(AVERAGE(U18:U19),\"-\")","v":"-"},null,{"$f":"IFERROR(AVERAGE(W18:W19),\"-\")","v":"-"},null,{"$f":"IFERROR(AVERAGE(Y18:Y19),\"-\")","v":"-"}]
[null,null,null,{"$f":"IF($H$2=\"G\",Skillserleuterungen_FTEM!Q10,Skillserleuterungen_FTEM!D10)","v":"SCHEIBENKONTROLLE"},null,null,{"$f":"IF($H$2=\"G\",Skillserleuterungen_FTEM!T10,Skillserleuterungen_FTEM!G10)","v":"Puckmanagmenet auf engem Raum, Puck Protection,  schwer kontrollierbare Scheiben "},null,null,{"$f":"IF($H$2=\"G\",Skillserleuterungen_FTEM!W10,Skillserleuterungen_FTEM!J10)","v":0}]
["SKATING",null,null,{"$f":"IF($H$2=\"G\",Skillserleuterungen_FTEM!Q11,Skillserleuterungen_FTEM!D11)","v":"FOOTSPEED"},null,null,{"$f":"IF($H$2=\"G\",Skillserleuterungen_FTEM!T11,Skillserleuterungen_FTEM!G11)","v":"Beschleunigung, Antritt, erste 3 Schritte Explosivität, Frequenz"},null,null,{"$f":"IF($H$2=\"G\",Skillserleuterungen_FTEM!W11,Skillserleuterungen_FTEM!J11)","v":0},null,null,null,{"$f":"IFERROR(AVERAGE(O20:O23),\"-\")","v":"-"},null,{"$f":"IFERROR(AVERAGE(Q20:Q23),\"-\")","v":"-"},null,{"$f":"IFERROR(AVERAGE(S20:S23),\"-\")","v":"-"},null,{"$f":"IFERROR(AVERAGE(U20:U23),\"-\")","v":"-"},null,{"$f":"IFERROR(AVERAGE(W20:W23),\"-\")","v":"-"},null,{"$f":"IFERROR(AVERAGE(Y20:Y23),\"-\")","v":"-"}]
[null,null,null,{"$f":"IF($H$2=\"G\",Skillserleuterungen_FTEM!Q12,Skillserleuterungen_FTEM!D12)","v":"AGILITÄT"},null,null,{"$f":"IF($H$2=\"G\",Skillserleuterungen_FTEM!T12,Skillserleuterungen_FTEM!G12)","v":"Richtungsänderung, Drehung, Stop und Start, «Nummelin»"},null,null,{"$f":"IF($H$2=\"G\",Skillserleuterungen_FTEM!W12,Skillserleuterungen_FTEM!J12)","v":0}]
[null,null,null,{"$f":"IF($H$2=\"G\",Skillserleuterungen_FTEM!Q13,Skillserleuterungen_FTEM!D13)","v":"BACKWARDS SKATING"},null,null,{"$f":"IF($H$2=\"G\",Skillserleuterungen_FTEM!T13,Skillserleuterungen_FTEM!G13)","v":"Beschleunigung, Geschwindigkeit, Balance"},null,null,{"$f":"IF($H$2=\"G\",Skillserleuterungen_FTEM!W13,Skillserleuterungen_FTEM!J13)","v":0}]
[null,null,null,{"$f":"IF($H$2=\"G\",Skillserleuterungen_FTEM!Q14,Skillserleuterungen_FTEM!D14)","v":"TOPSPEED"},null,null,{"$f":"IF($H$2=\"G\",Skillserleuterungen_FTEM!T14,Skillserleuterungen_FTEM!G14)","v":"Schnelligkeit, Gleitfähigkeit, vorwärts und rückwärts, Ökonomie"},null,null,{"$f":"IF($H$2=\"G\",Skillserleuterungen_FTEM!W14,Skillserleuterungen_FTEM!J14)","v":0}]
["HOCKEY SENSE",null,null,{"$f":"IF($H$2=\"G\",Skillserleuterungen_FTEM!Q15,Skillserleuterungen_FTEM!D15)","v":"SCORING"},null,null,{"$f":"IF($H$2=\"G\",Skillserleuterungen_FTEM!T15,Skillserleuterungen_FTEM!G15)","v":"Effizienz, variantentreich, überraschend, schnell, hart - Schussvarianten"},null,null,{"$f":"IF($H$2=\"G\",Skillserleuterungen_FTEM!W15,Skillserleuterungen_FTEM!J15)","v":0},null,null,null,{"$f":"IFERROR(AVERAGE(O24:O27),\"-\")","v":"-"},null,{"$f":"IFERROR(AVERAGE(Q24:Q27),\"-\")","v":"-"},null,{"$f":"IFERROR(AVERAGE(S24:S27),\"-\")","v":"-"},null,{"$f":"IFERROR(AVERAGE(U24:U27),\"-\")","v":"-"},null,{"$f":"IFERROR(AVERAGE(W24:W27),\"-\")","v":"-"},null,{"$f":"IFERROR(AVERAGE(Y24:Y27),\"-\")","v":"-"}]
[null,null,null,{"$f":"IF($H$2=\"G\",Skillserleuterungen_FTEM!Q16,Skillserleuterungen_FTEM!D16)","v":"MIT SCHEIBE"},null,null,{"$f":"IF($H$2=\"G\",Skillserleuterungen_FTEM!T16,Skillserleuterungen_FTEM!G16)","v":"Kreativ, performing, batteling, frech, Transition"},null,null,{"$f":"IF($H$2=\"G\",Skillserleuterungen_FTEM!W16,Skillserleuterungen_FTEM!J16)","v":0}]
[null,null,null,{"$f":"IF($H$2=\"G\",Skillserleuterungen_FTEM!Q17,Skillserleuterungen_FTEM!D17)","v":"OHNE SCHEIBE"},null,null,{"$f":"IF($H$2=\"G\",Skillserleuterungen_FTEM!T17,Skillserleuterungen_FTEM!G17)","v":"Anspielbar (Support), 1:1, Gap"},null,null,{"$f":"IF($H$2=\"G\",Skillserleuterungen_FTEM!W17,Skillserleuterungen_FTEM!J17)","v":0}]
[null,null,null,{"$f":"IF($H$2=\"G\",Skillserleuterungen_FTEM!Q18,Skillserleuterungen_FTEM!D18)","v":"DEFENSIV"},null,null,{"$f":"IF($H$2=\"G\",Skillserleuterungen_FTEM!T18,Skillserleuterungen_FTEM!G18)","v":"Verlässlichkeit,  1:1, Gap, Zuordnung"},null,null,{"$f":"IF($H$2=\"G\",Skillserleuterungen_FTEM!W18,Skillserleuterungen_FTEM!J18)","v":0}]
["PERSONALITY",null,null,"FÄHIGKEIT",null,null,"BEOBACHTUNG",null,null,null,null,null,null,"Datum1",null,"Datum2",null,"Datum3",null,"Datum4",null,"Datum5",null,"Player",null,"ZIEL","MASSNAHME:\nSPEZIFISCH,  MESSBAR, REALISITISCH",null,null,null,null,null,null,"TERMIN","ZIEL-KONTROLLE","Datum"]
["PERSON",null,null,{"$f":"IF($H$2=\"G\",Skillserleuterungen_FTEM!Q20,Skillserleuterungen_FTEM!D20)","v":"MOTIVATION"},null,null,{"$f":"IF($H$2=\"G\",Skillserleuterungen_FTEM!T20,Skillserleuterungen_FTEM!G20)","v":"Intrinsischer Antrieb, will sich ständig weiterentwickeln, will der Erste sein und Erfolg haben"},null,null,{"$f":"IF($H$2=\"G\",Skillserleuterungen_FTEM!W20,Skillserleuterungen_FTEM!J20)","v":0},null,null,null,{"$f":"IFERROR(AVERAGE(O29:O32),\"-\")","v":"-"},null,{"$f":"IFERROR(AVERAGE(Q29:Q32),\"-\")","v":"-"},null,{"$f":"IFERROR(AVERAGE(S29:S32),\"-\")","v":"-"},null,{"$f":"IFERROR(AVERAGE(U29:U32),\"-\")","v":"-"},null,{"$f":"IFERROR(AVERAGE(W29:W32),\"-\")","v":"-"},null,{"$f":"IFERROR(AVERAGE(Y29:Y32),\"-\")","v":"-"}]
[null,null,null,{"$f":"IF($H$2=\"G\",Skillserleuterungen_FTEM!Q21,Skillserleuterungen_FTEM!D21)","v":"SELBSBEWUSSTSEIN"},null,null,{"$f":"IF($H$2=\"G\",Skillserleuterungen_FTEM!T21,Skillserleuterungen_FTEM!G21)","v":"Hat das nötige Selbstvertrauen \"I can do it\" haltung, kann eigenen Fähigkeiten einschätzen und agiert mutig"},null,null,{"$f":"IF($H$2=\"G\",Skillserleuterungen_FTEM!W21,Skillserleuterungen_FTEM!J21)","v":0}]
[null,null,null,{"$f":"IF($H$2=\"G\",Skillserleuterungen_FTEM!Q22,Skillserleuterungen_FTEM!D22)","v":"LERNFÄHIGKEIT"},null,null,{"$f":"IF($H$2=\"G\",Skillserleuterungen_FTEM!T22,Skillserleuterungen_FTEM!G22)","v":"Gute Auffassungsgabe (nimmt auf und kann umsetzen), reflektiert eigenes Handeln, versucht aus Fehlern zu lernen und kann Massnahmen ableiten und sich selber coachen"},null,null,{"$f":"IF($H$2=\"G\",Skillserleuterungen_FTEM!W22,Skillserleuterungen_FTEM!J22)","v":0}]
[null,null,null,{"$f":"IF($H$2=\"G\",Skillserleuterungen_FTEM!Q23,Skillserleuterungen_FTEM!D23)","v":"PERFORMANCE LIFESTYLE"},null,null,{"$f":"IF($H$2=\"G\",Skillserleuterungen_FTEM!T23,Skillserleuterungen_FTEM!G23)","v":"Managt Alltag und Umfeld nach dem Leistungsprinzip, kann sich gegen Wiederstände durchsetzten"},null,null,{"$f":"IF($H$2=\"G\",Skillserleuterungen_FTEM!W23,Skillserleuterungen_FTEM!J23)","v":0}]
["POWER",null,null,{"$f":"IF($H$2=\"G\",Skillserleuterungen_FTEM!Q24,Skillserleuterungen_FTEM!D24)","v":"ENERGIEMANAGEMENT"},null,null,{"$f":"IF($H$2=\"G\",Skillserleuterungen_FTEM!T24,Skillserleuterungen_FTEM!G24)","v":"Kann eigene Energie regulieren, bereit zur Regeneration, weiss, wann er \"Vollgas\" geben muss und wann ab-schalten, On/Off-Schalter"},null,null,{"$f":"IF($H$2=\"G\",Skillserleuterungen_FTEM!W24,Skillserleuterungen_FTEM!J24)","v":0},null,null,null,{"$f":"IFERROR(AVERAGE(O33:O36),\"-\")","v":"-"},null,{"$f":"IFERROR(AVERAGE(Q33:Q36),\"-\")","v":"-"},null,{"$f":"IFERROR(AVERAGE(S33:S36),\"-\")","v":"-"},null,{"$f":"IFERROR(AVERAGE(U33:U36),\"-\")","v":"-"},null,{"$f":"IFERROR(AVERAGE(W33:W36),\"-\")","v":"-"},null,{"$f":"IFERROR(AVERAGE(Y33:Y36),\"-\")","v":"-"}]
[null,null,null,{"$f":"IF($H$2=\"G\",Skillserleuterungen_FTEM!Q25,Skillserleuterungen_FTEM!D25)","v":"EINSATZBEREITSCHAFT"},null,null,{"$f":"IF($H$2=\"G\",Skillserleuterungen_FTEM!T25,Skillserleuterungen_FTEM!G25)","v":"Hohe intensität im Spiel und Training, gibt immer sein Maximum, will seine Limiten pushen"},null,null,{"$f":"IF($H$2=\"G\",Skillserleuterungen_FTEM!W25,Skillserleuterungen_FTEM!J25)","v":0}]
[null,null,null,{"$f":"IF($H$2=\"G\",Skillserleuterungen_FTEM!Q26,Skillserleuterungen_FTEM!D26)","v":"EMOTIONSKONTROLLE"},null,null,{"$f":"IF($H$2=\"G\",Skillserleuterungen_FTEM!T26,Skillserleuterungen_FTEM!G26)","v":"Emotionen und Impulse regulieren, unter Druck die Kontrolle behalten, in emotional ansprucksvollen Situationen angemessen agieren können"},null,null,{"$f":"IF($H$2=\"G\",Skillserleuterungen_FTEM!W26,Skillserleuterungen_FTEM!J26)","v":0}]
[null,null,null,{"$f":"IF($H$2=\"G\",Skillserleuterungen_FTEM!Q27,Skillserleuterungen_FTEM!D27)","v":"VORBEREITUNG"},null,null,{"$f":"IF($H$2=\"G\",Skillserleuterungen_FTEM!T27,Skillserleuterungen_FTEM!G27)","v":"Fokus, ILZ, Regeneration, Selbststiumlation, Ernährung"},null,null,{"$f":"IF($H$2=\"G\",Skillserleuterungen_FTEM!W27,Skillserleuterungen_FTEM!J27)","v":0}]
["PYHSE (Athletik)",null,null,{"$f":"IF($H$2=\"G\",Skillserleuterungen_FTEM!Q28,Skillserleuterungen_FTEM!D28)","v":"LEISTUNGSERZEUGUNG (neuromuskuläre Faktoren /Leistungserzeugung)"},null,null,{"$f":"IF($H$2=\"G\",Skillserleuterungen_FTEM!T28,Skillserleuterungen_FTEM!G28)","v":"Verfügt über die nötige Power/ Kraft/ Schnelligkeit in den Beinen un im Oberkörper "},null,null,{"$f":"IF($H$2=\"G\",Skillserleuterungen_FTEM!W28,Skillserleuterungen_FTEM!J28)","v":0},null,null,null,{"$f":"IFERROR(AVERAGE(O37:O40),\"-\")","v":"-"},null,{"$f":"IFERROR(AVERAGE(Q37:Q40),\"-\")","v":"-"},null,{"$f":"IFERROR(AVERAGE(S37:S40),\"-\")","v":"-"},null,{"$f":"IFERROR(AVERAGE(U37:U40),\"-\")","v":"-"},null,{"$f":"IFERROR(AVERAGE(W37:W40),\"-\")","v":"-"},null,{"$f":"IFERROR(AVERAGE(Y37:Y40),\"-\")","v":"-"}]
[null,null,null,{"$f":"IF($H$2=\"G\",Skillserleuterungen_FTEM!Q29,Skillserleuterungen_FTEM!D29)","v":"SPEZ. ERMÜDUNGSRESISTENZ (metabolische, kardiovaskuläre Faktoren)"},null,null,{"$f":"IF($H$2=\"G\",Skillserleuterungen_FTEM!T29,Skillserleuterungen_FTEM!G29)","v":"Ist fähig die Power/ Kraft/ Schnelligkeit innerhalb des Einsatzes lange aufrechtzuerhalten und kann sich zwischen den Einsätzen jeweils vollkommen erholen (auch von Spiel zu Spiel)."},null,null,{"$f":"IF($H$2=\"G\",Skillserleuterungen_FTEM!W29,Skillserleuterungen_FTEM!J29)","v":0}]
[null,null,null,{"$f":"IF($H$2=\"G\",Skillserleuterungen_FTEM!Q30,Skillserleuterungen_FTEM!D30)","v":"BEWEGUNGSKOMPETENZ/ KOORDINATION "},null,null,{"$f":"IF($H$2=\"G\",Skillserleuterungen_FTEM!T30,Skillserleuterungen_FTEM!G30)","v":"Beherrscht die grundlegenden Bewegungsfertigkeiten, die eine unerlässliche Zubringerfunktion für die sportspezifischen \"Skills\" darstellt sowie zur nötigen Bewegungseffizienz führt. "},null,null,{"$f":"IF($H$2=\"G\",Skillserleuterungen_FTEM!W30,Skillserleuterungen_FTEM!J30)","v":0}]
[null,null,null,{"$f":"IF($H$2=\"G\",Skillserleuterungen_FTEM!Q31,Skillserleuterungen_FTEM!D31)","v":"ROBUSTHEIT/ PRÄVENTION"},null,null,{"$f":"IF($H$2=\"G\",Skillserleuterungen_FTEM!T31,Skillserleuterungen_FTEM!G31)","v":"Verletzungsanfälligkeit, Stabilität (Verfügt über die nötige Stabilität, Grundkraft (Körperspannung) \"z.B. Beinachsenstabilität\" und Beweglichkeit in den zentralen Gelenken \"Hüfte, Wirbelsäule\"), Standfestigkeit"},null,null,{"$f":"IF($H$2=\"G\",Skillserleuterungen_FTEM!W31,Skillserleuterungen_FTEM!J31)","v":0}]

{"sheet":"5","index":8,"n_rows":40,"n_cols":36,"rows_kept":40,"cut":false,"hidden":false,"merged":[[38,3,38,5],[38,6,38,11],[39,3,39,5],[39,6,39,11],[32,23,35,23],[32,0,35,2],[32,3,32,5],[32,6,32,11],[32,12,35,12],[32,13,35,13],[36,26,39,32],[36,34,39,34],[21,3,21,5],[21,6,21,11],[34,3,34,5],[34,6,34,11],[36,0,39,2],[36,12,39,12],[36,13,39,13],[36,15,39,15],[36,17,39,17],[36,19,39,19],[36,21,39,21],[36,23,39,23],[36,25,39,25],[36,3,36,5],[36,6,36,11],[37,3,37,5],[37,6,37,11],[32,15,35,15],[27,21,27,22],[28,17,31,17],[28,19,31,19],[28,21,31,21],[29,3,29,5],[29,6,29,11],[30,3,30,5],[30,6,30,11],[32,17,35,17],[32,19,35,19],[32,21,35,21],[33,3,33,5],[33,6,33,11],[35,3,35,5],[35,6,35,11],[23,0,26,2],[23,3,23,5],[23,6,23,11],[23,12,26,12],[23,13,26,13],[23,15,26,15],[27,23,27,24],[27,26,27,32],[28,0,31,2],[28,3,28,5],[28,6,28,11],[28,12,31,12],[28,13,31,13],[28,15,31,15],[31,3,31,5],[31,6,31,11],[28,23,31,23],[27,0,27,2],[27,3,27,5],[27,6,27,11],[27,13,27,14],[27,15,27,16],[27,17,27,18],[27,19,27,20],[19,19,22,19],[19,21,22,21],[19,23,22,23],[20,3,20,5],[20,6,20,11],[22,3,22,5],[22,6,22,11],[26,3,26,5],[26,6,26,11],[23,23,26,23],[23,17,26,17],[23,19,26,19],[23,21,26,21],[24,3,24,5],[24,6,24,11],[25,3,25,5],[25,6,25,11],[12,21,13,21],[15,15,18,15],[15,17,18,17],[15,19,18,19],[15,21,18,21],[15,23,18,23],[18,3,18,5],[18,6,18,11],[19,0,22,2],[19,3,19,5],[19,6,19,11],[19,12,22,12],[19,13,22,13],[19,15,22,15],[19,17,22,17],[15,0,18,2],[15,3,15,5],[15,6,15,11],[15,12,18,12],[15,13,18,13],[16,3,16,5],[16,6,16,11],[17,3,17,5],[17,6,17,11],[11,21,11,22],[11,23,11,24],[11,26,11,32],[11,6,11,11],[12,23,13,23],[13,3,13,5],[13,6,13,11],[14,0,14,2],[14,3,14,5],[14,6,14,11],[14,13,14,14],[14,15,14,16],[14,17,14,18],[14,19,14,20],[14,21,14,22],[14,23,14,24],[12,0,13,2],[12,3,12,5],[12,6,12,11],[12,12,13,12],[12,13,13,13],[12,15,13,15],[12,17,13,17],[12,19,13,19],[4,0,4,1],[4,2,4,5],[4,10,4,24],[10,0,10,24],[10,25,10,35],[32,25,35,25],[32,26,35,32],[32,34,35,34],[12,25,13,25],[12,26,13,32],[12,34,13,34],[15,25,18,25],[15,26,18,32],[15,34,18,34],[19,25,22,25],[19,26,22,32],[19,34,22,34],[14,26,14,32],[11,0,11,2],[11,3,11,5],[11,13,11,14],[11,15,11,16],[11,17,11,18],[11,19,11,20],[0,0,0,24],[0,25,0,26],[0,27,0,32],[0,33,0,35],[23,25,26,25],[23,26,26,32],[23,34,26,34],[28,25,31,25],[28,26,31,32],[28,34,31,34],[1,0,1,1],[1,2,1,5],[1,10,1,24],[2,0,2,1],[2,2,2,5],[2,11,2,24],[6,0,6,1],[6,2,6,35],[7,0,7,1],[7,2,7,35],[8,0,8,1],[8,2,8,35],[3,0,3,1],[3,10,3,24]]}
["Personalien",null,null,null,null,null,null,null,null,null,null,null,null,null,null,null,null,null,null,null,null,null,null,null,null,"Vorausetzungen",null,"Evaluationen",null,null,null,null,null,"Rating"]
["VORNAME",null,{"$f":"IF(ISBLANK(VLOOKUP(5,Tabelle3[],3,0)),\"-\",VLOOKUP(5,Tabelle3[],3,0))","v":"-"},null,null,null,"POSITION",null,null,"ADRESSE",{"$f":"IF(ISBLANK(VLOOKUP(5,Tabelle3[],5,0)),\"-\",VLOOKUP(5,Tabelle3[],5,0))","v":"-"},null,null,null,null,null,null,null,null,null,null,null,null,null,null,"\"Alter\" (Biologisch/Relative Age)",null,"Datum 1",null,null,"cm",null,"Kg",null,"AUSGEZEICHNET",5]
["NAME",null,{"$f":"IF(ISBLANK(VLOOKUP(5,Tabelle3[],2,0)),\"-\",VLOOKUP(5,Tabelle3[],2,0))","v":"-"},null,null,null,"STOCK",null,null,"WOHNORT",{"$f":"IF(ISBLANK(VLOOKUP(5,Tabelle3[],7,0)),\"-\",VLOOKUP(5,Tabelle3[],7,0))","v":"-"},{"$f":"IF(ISBLANK(VLOOKUP(5,Tabelle3[],6,0)),\"-\",VLOOKUP(5,Tabelle3[],6,0))","v":"-"},null,null,null,null,null,null,null,null,null,null,null,null,null,"Veranlagung",null,"Datum 2",null,null,"cm",null,"Kg",null,"GUT",4]
["GEB. DATUM",null,{"$f":"IF(ISBLANK(VLOOKUP(5,Tabelle3[],14,0)),\"-\",VLOOKUP(5,Tabelle3[],14,0))","v":"-"},{"$f":"IF(ISBLANK(VLOOKUP(5,Tabelle3[],15,0)),\"-\",VLOOKUP(5,Tabelle3[],15,0))","v":"-"},{"$f":"IF(ISBLANK(VLOOKUP(5,Tabelle3[],16,0)),\"-\",VLOOKUP(5,Tabelle3[],16,0))","v":"-"},null,"GRÖSSE",null,"cm (Final)","PHONE",{"$f":"IF(ISBLANK(VLOOKUP(5,Tabelle3[],8,0)),\"-\",VLOOKUP(5,Tabelle3[],8,0))","v":"-"},null,null,null,null,null,null,null,null,null,null,null,null,null,null,"Umfeld",null,"Datum 3",null,null,"cm",null,"Kg",null,"DURCHSCHNITT",3]
["SEX",null,{"$f":"IF(ISBLANK(VLOOKUP(5,Tabelle3[],13,0)),\"-\",VLOOKUP(5,Tabelle3[],13,0))","v":"-"},null,null,null,"GEWICHT",null,"Kg (Final)","E-Mail",{"$f":"IF(ISBLANK(VLOOKUP(5,Tabelle3[],9,0)),\"-\",VLOOKUP(5,Tabelle3[],9,0))","v":"-"},null,null,null,null,null,null,null,null,null,null,null,null,null,null,null,null,"Datum 4",null,null,"cm",null,"Kg",null,"MANGELHAFT",2]
[null,null,null,null,null,null,null,null,null,null,null,null,null,null,null,null,null,null,null,null,null,null,null,null,null,null,null,"Datum 5",null,null,"cm",null,"Kg",null,"UNGENÜGEND",1]
["Vision",null,"xxx"]
["Next step",null,"xxx"]
["Stärkenprofil",null,"xxx"]
[]
["EVALUATION (COACH / SPIELER)",null,null,null,null,null,null,null,null,null,null,null,null,null,null,null,null,null,null,null,null,null,null,null,null,"SMART"]
["TEAM",null,null,"FÄHIGKEIT",null,null,"BEOBACHTUNG",null,null,null,null,null,"Final","Datum1",null,"Datum2",null,"Datum3",null,"Datum4",null,"Datum5",null,"Player",null,"ZIEL","MASSNAHME:\nSPEZIFISCH,  MESSBAR, REALISITISCH",null,null,null,null,null,null,"TERMIN","ZIEL-KONTROLLE","Datum"]
["ROLLE, SOZIAL",null,null,{"$f":"IF($H$2=\"G\",Skillserleuterungen_FTEM!Q4,Skillserleuterungen_FTEM!D4)","v":"TEAMDENKEN"},null,null,{"$f":"IF($H$2=\"G\",Skillserleuterungen_FTEM!T4,Skillserleuterungen_FTEM!G4)","v":"Identifikation zur Rolle, Umgang mit Kameraden (sozial integriert)"},null,null,{"$f":"IF($H$2=\"G\",Skillserleuterungen_FTEM!W4,Skillserleuterungen_FTEM!J4)","v":0},null,null,null,{"$f":"IFERROR(AVERAGE(O13:O14),\"-\")","v":"-"},null,{"$f":"IFERROR(AVERAGE(Q13:Q14),\"-\")","v":"-"},null,{"$f":"IFERROR(AVERAGE(S13:S14),\"-\")","v":"-"},null,{"$f":"IFERROR(AVERAGE(U13:U14),\"-\")","v":"-"},null,null,null,{"$f":"IFERROR(AVERAGE(Y13:Y14),\"-\")","v":"-"}]
[null,null,null,{"$f":"IF($H$2=\"G\",Skillserleuterungen_FTEM!Q5,Skillserleuterungen_FTEM!D5)","v":"LEADERSHIP"},null,null,{"$f":"IF($H$2=\"G\",Skillserleuterungen_FTEM!T5,Skillserleuterungen_FTEM!G5)","v":"Übernimmt Verantwortung, macht Mitspieler besser"},null,null,{"$f":"IF($H$2=\"G\",Skillserleuterungen_FTEM!W5,Skillserleuterungen_FTEM!J5)","v":0}]
["ON ICE",null,null,"FÄHIGKEIT",null,null,"BEOBACHTUNG",null,null,null,null,null,null,"Datum1",null,"Datum2",null,"Datum3",null,"Datum4",null,"Datum5",null,"Player",null,"ZIEL","MASSNAHME:\nSPEZIFISCH,  MESSBAR, REALISITISCH",null,null,null,null,null,null,"TERMIN","ZIEL-KONTROLLE","Datum"]
["SKILL",null,null,{"$f":"IF($H$2=\"G\",Skillserleuterungen_FTEM!Q7,Skillserleuterungen_FTEM!D7)","v":"SCHIESSEN"},null,null,{"$f":"IF($H$2=\"G\",Skillserleuterungen_FTEM!T7,Skillserleuterungen_FTEM!G7)","v":"Effizienz / Variantenreichtum, Überraschungsgrad (Quick Release), Präzision, Härte, (taktische Abschlüsse)\nschnell, hart, unter Druck"},null,null,{"$f":"IF($H$2=\"G\",Skillserleuterungen_FTEM!W7,Skillserleuterungen_FTEM!J7)","v":0},null,null,null,{"$f":"IFERROR(AVERAGE(O16:O19),\"-\")","v":"-"},null,{"$f":"IFERROR(AVERAGE(Q16:Q19),\"-\")","v":"-"},null,{"$f":"IFERROR(AVERAGE(S16:S19),\"-\")","v":"-"},null,{"$f":"IFERROR(AVERAGE(U16:U19),\"-\")","v":"-"},null,{"$f":"IFERROR(AVERAGE(W16:W19),\"-\")","v":"-"},null,{"$f":"IFERROR(AVERAGE(Y16:Y19),\"-\")","v":"-"}]
[null,null,null,{"$f":"IF($H$2=\"G\",Skillserleuterungen_FTEM!Q8,Skillserleuterungen_FTEM!D8)","v":"PASSEN"},null,null,{"$f":"IF($H$2=\"G\",Skillserleuterungen_FTEM!T8,Skillserleuterungen_FTEM!G8)","v":"Passabgabe (Distanz, Flippass Backhand), Passannahme (Präzision, Timing, Vorhand, Rückhand, Schlittschuh,Puckspeed"},null,null,{"$f":"IF($H$2=\"G\",Skillserleuterungen_FTEM!W8,Skillserleuterungen_FTEM!J8)","v":0}]
[null,null,null,{"$f":"IF($H$2=\"G\",Skillserleuterungen_FTEM!Q9,Skillserleuterungen_FTEM!D9)","v":"KÖRPERSPIEL"},null,null,{"$f":"IF($H$2=\"G\",Skillserleuterungen_FTEM!T9,Skillserleuterungen_FTEM!G9)","v":"Phyisches Durchsetzungsvermögen, Zweikampf (offenes Eis/Bande), Checks nehmen/Head up, Battle Level, Hart aber fair, mit dem Körper Schüsse blockieren"},null,null,{"$f":"IF($H$2=\"G\",Skillserleuterungen_FTEM!W9,Skillserleuterungen_FTEM!J9)","v":0},null,null,null,{"$f":"IFERROR(AVERAGE(O18:O19),\"-\")","v":"-"},null,{"$f":"IFERROR(AVERAGE(Q18:Q19),\"-\")","v":"-"},null,{"$f":"IFERROR(AVERAGE(S18:S19),\"-\")","v":"-"},null,{"$f":"IFERROR(AVERAGE(U18:U19),\"-\")","v":"-"},null,{"$f":"IFERROR(AVERAGE(W18:W19),\"-\")","v":"-"},null,{"$f":"IFERROR(AVERAGE(Y18:Y19),\"-\")","v":"-"}]
[null,null,null,{"$f":"IF($H$2=\"G\",Skillserleuterungen_FTEM!Q10,Skillserleuterungen_FTEM!D10)","v":"SCHEIBENKONTROLLE"},null,null,{"$f":"IF($H$2=\"G\",Skillserleuterungen_FTEM!T10,Skillserleuterungen_FTEM!G10)","v":"Puckmanagmenet auf engem Raum, Puck Protection,  schwer kontrollierbare Scheiben "},null,null,{"$f":"IF($H$2=\"G\",Skillserleuterungen_FTEM!W10,Skillserleuterungen_FTEM!J10)","v":0}]
["SKATING",null,null,{"$f":"IF($H$2=\"G\",Skillserleuterungen_FTEM!Q11,Skillserleuterungen_FTEM!D11)","v":"FOOTSPEED"},null,null,{"$f":"IF($H$2=\"G\",Skillserleuterungen_FTEM!T11,Skillserleuterungen_FTEM!G11)","v":"Beschleunigung, Antritt, erste 3 Schritte Explosivität, Frequenz"},null,null,{"$f":"IF($H$2=\"G\",Skillserleuterungen_FTEM!W11,Skillserleuterungen_FTEM!J11)","v":0},null,null,null,{"$f":"IFERROR(AVERAGE(O20:O23),\"-\")","v":"-"},null,{"$f":"IFERROR(AVERAGE(Q20:Q23),\"-\")","v":"-"},null,{"$f":"IFERROR(AVERAGE(S20:S23),\"-\")","v":"-"},null,{"$f":"IFERROR(AVERAGE(U20:U23),\"-\")","v":"-"},null,{"$f":"IFERROR(AVERAGE(W20:W23),\"-\")","v":"-"},null,{"$f":"IFERROR(AVERAGE(Y20:Y23),\"-\")","v":"-"}]
[null,null,null,{"$f":"IF($H$2=\"G\",Skillserleuterungen_FTEM!Q12,Skillserleuterungen_FTEM!D12)","v":"AGILITÄT"},null,null,{"$f":"IF($H$2=\"G\",Skillserleuterungen_FTEM!T12,Skillserleuterungen_FTEM!G12)","v":"Richtungsänderung, Drehung, Stop und Start, «Nummelin»"},null,null,{"$f":"IF($H$2=\"G\",Skillserleuterungen_FTEM!W12,Skillserleuterungen_FTEM!J12)","v":0}]
[null,null,null,{"$f":"IF($H$2=\"G\",Skillserleuterungen_FTEM!Q13,Skillserleuterungen_FTEM!D13)","v":"BACKWARDS SKATING"},null,null,{"$f":"IF($H$2=\"G\",Skillserleuterungen_FTEM!T13,Skillserleuterungen_FTEM!G13)","v":"Beschleunigung, Geschwindigkeit, Balance"},null,null,{"$f":"IF($H$2=\"G\",Skillserleuterungen_FTEM!W13,Skillserleuterungen_FTEM!J13)","v":0}]
[null,null,null,{"$f":"IF($H$2=\"G\",Skillserleuterungen_FTEM!Q14,Skillserleuterungen_FTEM!D14)","v":"TOPSPEED"},null,null,{"$f":"IF($H$2=\"G\",Skillserleuterungen_FTEM!T14,Skillserleuterungen_FTEM!G14)","v":"Schnelligkeit, Gleitfähigkeit, vorwärts und rückwärts, Ökonomie"},null,null,{"$f":"IF($H$2=\"G\",Skillserleuterungen_FTEM!W14,Skillserleuterungen_FTEM!J14)","v":0}]
["HOCKEY SENSE",null,null,{"$f":"IF($H$2=\"G\",Skillserleuterungen_FTEM!Q15,Skillserleuterungen_FTEM!D15)","v":"SCORING"},null,null,{"$f":"IF($H$2=\"G\",Skillserleuterungen_FTEM!T15,Skillserleuterungen_FTEM!G15)","v":"Effizienz, variantentreich, überraschend, schnell, hart - Schussvarianten"},null,null,{"$f":"IF($H$2=\"G\",Skillserleuterungen_FTEM!W15,Skillserleuterungen_FTEM!J15)","v":0},null,null,null,{"$f":"IFERROR(AVERAGE(O24:O27),\"-\")","v":"-"},null,{"$f":"IFERROR(AVERAGE(Q24:Q27),\"-\")","v":"-"},null,{"$f":"IFERROR(AVERAGE(S24:S27),\"-\")","v":"-"},null,{"$f":"IFERROR(AVERAGE(U24:U27),\"-\")","v":"-"},null,{"$f":"IFERROR(AVERAGE(W24:W27),\"-\")","v":"-"},null,{"$f":"IFERROR(AVERAGE(Y24:Y27),\"-\")","v":"-"}]
[null,null,null,{"$f":"IF($H$2=\"G\",Skillserleuterungen_FTEM!Q16,Skillserleuterungen_FTEM!D16)","v":"MIT SCHEIBE"},null,null,{"$f":"IF($H$2=\"G\",Skillserleuterungen_FTEM!T16,Skillserleuterungen_FTEM!G16)","v":"Kreativ, performing, batteling, frech, Transition"},null,null,{"$f":"IF($H$2=\"G\",Skillserleuterungen_FTEM!W16,Skillserleuterungen_FTEM!J16)","v":0}]
[null,null,null,{"$f":"IF($H$2=\"G\",Skillserleuterungen_FTEM!Q17,Skillserleuterungen_FTEM!D17)","v":"OHNE SCHEIBE"},null,null,{"$f":"IF($H$2=\"G\",Skillserleuterungen_FTEM!T17,Skillserleuterungen_FTEM!G17)","v":"Anspielbar (Support), 1:1, Gap"},null,null,{"$f":"IF($H$2=\"G\",Skillserleuterungen_FTEM!W17,Skillserleuterungen_FTEM!J17)","v":0}]
[null,null,null,{"$f":"IF($H$2=\"G\",Skillserleuterungen_FTEM!Q18,Skillserleuterungen_FTEM!D18)","v":"DEFENSIV"},null,null,{"$f":"IF($H$2=\"G\",Skillserleuterungen_FTEM!T18,Skillserleuterungen_FTEM!G18)","v":"Verlässlichkeit,  1:1, Gap, Zuordnung"},null,null,{"$f":"IF($H$2=\"G\",Skillserleuterungen_FTEM!W18,Skillserleuterungen_FTEM!J18)","v":0}]
["PERSONALITY",null,null,"FÄHIGKEIT",null,null,"BEOBACHTUNG",null,null,null,null,null,null,"Datum1",null,"Datum2",null,"Datum3",null,"Datum4",null,"Datum5",null,"Player",null,"ZIEL","MASSNAHME:\nSPEZIFISCH,  MESSBAR, REALISITISCH",null,null,null,null,null,null,"TERMIN","ZIEL-KONTROLLE","Datum"]
["PERSON",null,null,{"$f":"IF($H$2=\"G\",Skillserleuterungen_FTEM!Q20,Skillserleuterungen_FTEM!D20)","v":"MOTIVATION"},null,null,{"$f":"IF($H$2=\"G\",Skillserleuterungen_FTEM!T20,Skillserleuterungen_FTEM!G20)","v":"Intrinsischer Antrieb, will sich ständig weiterentwickeln, will der Erste sein und Erfolg haben"},null,null,{"$f":"IF($H$2=\"G\",Skillserleuterungen_FTEM!W20,Skillserleuterungen_FTEM!J20)","v":0},null,null,null,{"$f":"IFERROR(AVERAGE(O29:O32),\"-\")","v":"-"},null,{"$f":"IFERROR(AVERAGE(Q29:Q32),\"-\")","v":"-"},null,{"$f":"IFERROR(AVERAGE(S29:S32),\"-\")","v":"-"},null,{"$f":"IFERROR(AVERAGE(U29:U32),\"-\")","v":"-"},null,{"$f":"IFERROR(AVERAGE(W29:W32),\"-\")","v":"-"},null,{"$f":"IFERROR(AVERAGE(Y29:Y32),\"-\")","v":"-"}]
[null,null,null,{"$f":"IF($H$2=\"G\",Skillserleuterungen_FTEM!Q21,Skillserleuterungen_FTEM!D21)","v":"SELBSBEWUSSTSEIN"},null,null,{"$f":"IF($H$2=\"G\",Skillserleuterungen_FTEM!T21,Skillserleuterungen_FTEM!G21)","v":"Hat das nötige Selbstvertrauen \"I can do it\" haltung, kann eigenen Fähigkeiten einschätzen und agiert mutig"},null,null,{"$f":"IF($H$2=\"G\",Skillserleuterungen_FTEM!W21,Skillserleuterungen_FTEM!J21)","v":0}]
[null,null,null,{"$f":"IF($H$2=\"G\",Skillserleuterungen_FTEM!Q22,Skillserleuterungen_FTEM!D22)","v":"LERNFÄHIGKEIT"},null,null,{"$f":"IF($H$2=\"G\",Skillserleuterungen_FTEM!T22,Skillserleuterungen_FTEM!G22)","v":"Gute Auffassungsgabe (nimmt auf und kann umsetzen), reflektiert eigenes Handeln, versucht aus Fehlern zu lernen und kann Massnahmen ableiten und sich selber coachen"},null,null,{"$f":"IF($H$2=\"G\",Skillserleuterungen_FTEM!W22,Skillserleuterungen_FTEM!J22)","v":0}]
[null,null,null,{"$f":"IF($H$2=\"G\",Skillserleuterungen_FTEM!Q23,Skillserleuterungen_FTEM!D23)","v":"PERFORMANCE LIFESTYLE"},null,null,{"$f":"IF($H$2=\"G\",Skillserleuterungen_FTEM!T23,Skillserleuterungen_FTEM!G23)","v":"Managt Alltag und Umfeld nach dem Leistungsprinzip, kann sich gegen Wiederstände durchsetzten"},null,null,{"$f":"IF($H$2=\"G\",Skillserleuterungen_FTEM!W23,Skillserleuterungen_FTEM!J23)","v":0}]
["POWER",null,null,{"$f":"IF($H$2=\"G\",Skillserleuterungen_FTEM!Q24,Skillserleuterungen_FTEM!D24)","v":"ENERGIEMANAGEMENT"},null,null,{"$f":"IF($H$2=\"G\",Skillserleuterungen_FTEM!T24,Skillserleuterungen_FTEM!G24)","v":"Kann eigene Energie regulieren, bereit zur Regeneration, weiss, wann er \"Vollgas\" geben muss und wann ab-schalten, On/Off-Schalter"},null,null,{"$f":"IF($H$2=\"G\",Skillserleuterungen_FTEM!W24,Skillserleuterungen_FTEM!J24)","v":0},null,null,null,{"$f":"IFERROR(AVERAGE(O33:O36),\"-\")","v":"-"},null,{"$f":"IFERROR(AVERAGE(Q33:Q36),\"-\")","v":"-"},null,{"$f":"IFERROR(AVERAGE(S33:S36),\"-\")","v":"-"},null,{"$f":"IFERROR(AVERAGE(U33:U36),\"-\")","v":"-"},null,{"$f":"IFERROR(AVERAGE(W33:W36),\"-\")","v":"-"},null,{"$f":"IFERROR(AVERAGE(Y33:Y36),\"-\")","v":"-"}]
[null,null,null,{"$f":"IF($H$2=\"G\",Skillserleuterungen_FTEM!Q25,Skillserleuterungen_FTEM!D25)","v":"EINSATZBEREITSCHAFT"},null,null,{"$f":"IF($H$2=\"G\",Skillserleuterungen_FTEM!T25,Skillserleuterungen_FTEM!G25)","v":"Hohe intensität im Spiel und Training, gibt immer sein Maximum, will seine Limiten pushen"},null,null,{"$f":"IF($H$2=\"G\",Skillserleuterungen_FTEM!W25,Skillserleuterungen_FTEM!J25)","v":0}]
[null,null,null,{"$f":"IF($H$2=\"G\",Skillserleuterungen_FTEM!Q26,Skillserleuterungen_FTEM!D26)","v":"EMOTIONSKONTROLLE"},null,null,{"$f":"IF($H$2=\"G\",Skillserleuterungen_FTEM!T26,Skillserleuterungen_FTEM!G26)","v":"Emotionen und Impulse regulieren, unter Druck die Kontrolle behalten, in emotional ansprucksvollen Situationen angemessen agieren können"},null,null,{"$f":"IF($H$2=\"G\",Skillserleuterungen_FTEM!W26,Skillserleuterungen_FTEM!J26)","v":0}]
[null,null,null,{"$f":"IF($H$2=\"G\",Skillserleuterungen_FTEM!Q27,Skillserleuterungen_FTEM!D27)","v":"VORBEREITUNG"},null,null,{"$f":"IF($H$2=\"G\",Skillserleuterungen_FTEM!T27,Skillserleuterungen_FTEM!G27)","v":"Fokus, ILZ, Regeneration, Selbststiumlation, Ernährung"},null,null,{"$f":"IF($H$2=\"G\",Skillserleuterungen_FTEM!W27,Skillserleuterungen_FTEM!J27)","v":0}]
["PYHSE (Athletik)",null,null,{"$f":"IF($H$2=\"G\",Skillserleuterungen_FTEM!Q28,Skillserleuterungen_FTEM!D28)","v":"LEISTUNGSERZEUGUNG (neuromuskuläre Faktoren /Leistungserzeugung)"},null,null,{"$f":"IF($H$2=\"G\",Skillserleuterungen_FTEM!T28,Skillserleuterungen_FTEM!G28)","v":"Verfügt über die nötige Power/ Kraft/ Schnelligkeit in den Beinen un im Oberkörper "},null,null,{"$f":"IF($H$2=\"G\",Skillserleuterungen_FTEM!W28,Skillserleuterungen_FTEM!J28)","v":0},null,null,null,{"$f":"IFERROR(AVERAGE(O37:O40),\"-\")","v":"-"},null,{"$f":"IFERROR(AVERAGE(Q37:Q40),\"-\")","v":"-"},null,{"$f":"IFERROR(AVERAGE(S37:S40),\"-\")","v":"-"},null,{"$f":"IFERROR(AVERAGE(U37:U40),\"-\")","v":"-"},null,{"$f":"IFERROR(AVERAGE(W37:W40),\"-\")","v":"-"},null,{"$f":"IFERROR(AVERAGE(Y37:Y40),\"-\")","v":"-"}]
[null,null,null,{"$f":"IF($H$2=\"G\",Skillserleuterungen_FTEM!Q29,Skillserleuterungen_FTEM!D29)","v":"SPEZ. ERMÜDUNGSRESISTENZ (metabolische, kardiovaskuläre Faktoren)"},null,null,{"$f":"IF($H$2=\"G\",Skillserleuterungen_FTEM!T29,Skillserleuterungen_FTEM!G29)","v":"Ist fähig die Power/ Kraft/ Schnelligkeit innerhalb des Einsatzes lange aufrechtzuerhalten und kann sich zwischen den Einsätzen jeweils vollkommen erholen (auch von Spiel zu Spiel)."},null,null,{"$f":"IF($H$2=\"G\",Skillserleuterungen_FTEM!W29,Skillserleuterungen_FTEM!J29)","v":0}]
[null,null,null,{"$f":"IF($H$2=\"G\",Skillserleuterungen_FTEM!Q30,Skillserleuterungen_FTEM!D30)","v":"BEWEGUNGSKOMPETENZ/ KOORDINATION "},null,null,{"$f":"IF($H$2=\"G\",Skillserleuterungen_FTEM!T30,Skillserleuterungen_FTEM!G30)","v":"Beherrscht die grundlegenden Bewegungsfertigkeiten, die eine unerlässliche Zubringerfunktion für die sportspezifischen \"Skills\" darstellt sowie zur nötigen Bewegungseffizienz führt. "},null,null,{"$f":"IF($H$2=\"G\",Skillserleuterungen_FTEM!W30,Skillserleuterungen_FTEM!J30)","v":0}]
[null,null,null,{"$f":"IF($H$2=\"G\",Skillserleuterungen_FTEM!Q31,Skillserleuterungen_FTEM!D31)","v":"ROBUSTHEIT/ PRÄVENTION"},null,null,{"$f":"IF($H$2=\"G\",Skillserleuterungen_FTEM!T31,Skillserleuterungen_FTEM!G31)","v":"Verletzungsanfälligkeit, Stabilität (Verfügt über die nötige Stabilität, Grundkraft (Körperspannung) \"z.B. Beinachsenstabilität\" und Beweglichkeit in den zentralen Gelenken \"Hüfte, Wirbelsäule\"), Standfestigkeit"},null,null,{"$f":"IF($H$2=\"G\",Skillserleuterungen_FTEM!W31,Skillserleuterungen_FTEM!J31)","v":0}]

{"sheet":"6","index":9,"n_rows":40,"n_cols":36,"rows_kept":40,"cut":false,"hidden":false,"merged":[[38,3,38,5],[38,6,38,11],[39,3,39,5],[39,6,39,11],[32,23,35,23],[32,0,35,2],[32,3,32,5],[32,6,32,11],[32,12,35,12],[32,13,35,13],[36,26,39,32],[36,34,39,34],[21,3,21,5],[21,6,21,11],[34,3,34,5],[34,6,34,11],[36,0,39,2],[36,12,39,12],[36,13,39,13],[36,15,39,15],[36,17,39,17],[36,19,39,19],[36,21,39,21],[36,23,39,23],[36,25,39,25],[36,3,36,5],[36,6,36,11],[37,3,37,5],[37,6,37,11],[32,15,35,15],[27,21,27,22],[28,17,31,17],[28,19,31,19],[28,21,31,21],[29,3,29,5],[29,6,29,11],[30,3,30,5],[30,6,30,11],[32,17,35,17],[32,19,35,19],[32,21,35,21],[33,3,33,5],[33,6,33,11],[35,3,35,5],[35,6,35,11],[23,0,26,2],[23,3,23,5],[23,6,23,11],[23,12,26,12],[23,13,26,13],[23,15,26,15],[27,23,27,24],[27,26,27,32],[28,0,31,2],[28,3,28,5],[28,6,28,11],[28,12,31,12],[28,13,31,13],[28,15,31,15],[31,3,31,5],[31,6,31,11],[28,23,31,23],[27,0,27,2],[27,3,27,5],[27,6,27,11],[27,13,27,14],[27,15,27,16],[27,17,27,18],[27,19,27,20],[19,19,22,19],[19,21,22,21],[19,23,22,23],[20,3,20,5],[20,6,20,11],[22,3,22,5],[22,6,22,11],[26,3,26,5],[26,6,26,11],[23,23,26,23],[23,17,26,17],[23,19,26,19],[23,21,26,21],[24,3,24,5],[24,6,24,11],[25,3,25,5],[25,6,25,11],[12,21,13,21],[15,15,18,15],[15,17,18,17],[15,19,18,19],[15,21,18,21],[15,23,18,23],[18,3,18,5],[18,6,18,11],[19,0,22,2],[19,3,19,5],[19,6,19,11],[19,12,22,12],[19,13,22,13],[19,15,22,15],[19,17,22,17],[15,0,18,2],[15,3,15,5],[15,6,15,11],[15,12,18,12],[15,13,18,13],[16,3,16,5],[16,6,16,11],[17,3,17,5],[17,6,17,11],[11,21,11,22],[11,23,11,24],[11,26,11,32],[11,6,11,11],[12,23,13,23],[13,3,13,5],[13,6,13,11],[14,0,14,2],[14,3,14,5],[14,6,14,11],[14,13,14,14],[14,15,14,16],[14,17,14,18],[14,19,14,20],[14,21,14,22],[14,23,14,24],[12,0,13,2],[12,3,12,5],[12,6,12,11],[12,12,13,12],[12,13,13,13],[12,15,13,15],[12,17,13,17],[12,19,13,19],[4,0,4,1],[4,2,4,5],[4,10,4,24],[10,0,10,24],[10,25,10,35],[32,25,35,25],[32,26,35,32],[32,34,35,34],[12,25,13,25],[12,26,13,32],[12,34,13,34],[15,25,18,25],[15,26,18,32],[15,34,18,34],[19,25,22,25],[19,26,22,32],[19,34,22,34],[14,26,14,32],[11,0,11,2],[11,3,11,5],[11,13,11,14],[11,15,11,16],[11,17,11,18],[11,19,11,20],[0,0,0,24],[0,25,0,26],[0,27,0,32],[0,33,0,35],[23,25,26,25],[23,26,26,32],[23,34,26,34],[28,25,31,25],[28,26,31,32],[28,34,31,34],[1,0,1,1],[1,2,1,5],[1,10,1,24],[2,0,2,1],[2,2,2,5],[2,11,2,24],[6,0,6,1],[6,2,6,35],[7,0,7,1],[7,2,7,35],[8,0,8,1],[8,2,8,35],[3,0,3,1],[3,10,3,24]]}
["Personalien",null,null,null,null,null,null,null,null,null,null,null,null,null,null,null,null,null,null,null,null,null,null,null,null,"Vorausetzungen",null,"Evaluationen",null,null,null,null,null,"Rating"]
["VORNAME",null,{"$f":"IF(ISBLANK(VLOOKUP(6,Tabelle3[],3,0)),\"-\",VLOOKUP(6,Tabelle3[],3,0))","v":"-"},null,null,null,"POSITION",null,null,"ADRESSE",{"$f":"IF(ISBLANK(VLOOKUP(6,Tabelle3[],5,0)),\"-\",VLOOKUP(6,Tabelle3[],5,0))","v":"-"},null,null,null,null,null,null,null,null,null,null,null,null,null,null,"\"Alter\" (Biologisch/Relative Age)",null,"Datum 1",null,null,"cm",null,"Kg",null,"AUSGEZEICHNET",5]
["NAME",null,{"$f":"IF(ISBLANK(VLOOKUP(6,Tabelle3[],2,0)),\"-\",VLOOKUP(6,Tabelle3[],2,0))","v":"-"},null,null,null,"STOCK",null,null,"WOHNORT",{"$f":"IF(ISBLANK(VLOOKUP(6,Tabelle3[],7,0)),\"-\",VLOOKUP(6,Tabelle3[],7,0))","v":"-"},{"$f":"IF(ISBLANK(VLOOKUP(6,Tabelle3[],6,0)),\"-\",VLOOKUP(6,Tabelle3[],6,0))","v":"-"},null,null,null,null,null,null,null,null,null,null,null,null,null,"Veranlagung",null,"Datum 2",null,null,"cm",null,"Kg",null,"GUT",4]
["GEB. DATUM",null,{"$f":"IF(ISBLANK(VLOOKUP(6,Tabelle3[],14,0)),\"-\",VLOOKUP(6,Tabelle3[],14,0))","v":"-"},{"$f":"IF(ISBLANK(VLOOKUP(6,Tabelle3[],15,0)),\"-\",VLOOKUP(6,Tabelle3[],15,0))","v":"-"},{"$f":"IF(ISBLANK(VLOOKUP(6,Tabelle3[],16,0)),\"-\",VLOOKUP(6,Tabelle3[],16,0))","v":"-"},null,"GRÖSSE",null,"cm (Final)","PHONE",{"$f":"IF(ISBLANK(VLOOKUP(6,Tabelle3[],8,0)),\"-\",VLOOKUP(6,Tabelle3[],8,0))","v":"-"},null,null,null,null,null,null,null,null,null,null,null,null,null,null,"Umfeld",null,"Datum 3",null,null,"cm",null,"Kg",null,"DURCHSCHNITT",3]
["SEX",null,{"$f":"IF(ISBLANK(VLOOKUP(6,Tabelle3[],13,0)),\"-\",VLOOKUP(6,Tabelle3[],13,0))","v":"-"},null,null,null,"GEWICHT",null,"Kg (Final)","E-Mail",{"$f":"IF(ISBLANK(VLOOKUP(6,Tabelle3[],9,0)),\"-\",VLOOKUP(6,Tabelle3[],9,0))","v":"-"},null,null,null,null,null,null,null,null,null,null,null,null,null,null,null,null,"Datum 4",null,null,"cm",null,"Kg",null,"MANGELHAFT",2]
[null,null,null,null,null,null,null,null,null,null,null,null,null,null,null,null,null,null,null,null,null,null,null,null,null,null,null,"Datum 5",null,null,"cm",null,"Kg",null,"UNGENÜGEND",1]
["Vision",null,"xxx"]
["Next step",null,"xxx"]
["Stärkenprofil",null,"xxx"]
[]
["EVALUATION (COACH / SPIELER)",null,null,null,null,null,null,null,null,null,null,null,null,null,null,null,null,null,null,null,null,null,null,null,null,"SMART"]
["TEAM",null,null,"FÄHIGKEIT",null,null,"BEOBACHTUNG",null,null,null,null,null,"Final","Datum1",null,"Datum2",null,"Datum3",null,"Datum4",null,"Datum5",null,"Player",null,"ZIEL","MASSNAHME:\nSPEZIFISCH,  MESSBAR, REALISITISCH",null,null,null,null,null,null,"TERMIN","ZIEL-KONTROLLE","Datum"]
["ROLLE, SOZIAL",null,null,{"$f":"IF($H$2=\"G\",Skillserleuterungen_FTEM!Q4,Skillserleuterungen_FTEM!D4)","v":"TEAMDENKEN"},null,null,{"$f":"IF($H$2=\"G\",Skillserleuterungen_FTEM!T4,Skillserleuterungen_FTEM!G4)","v":"Identifikation zur Rolle, Umgang mit Kameraden (sozial integriert)"},null,null,{"$f":"IF($H$2=\"G\",Skillserleuterungen_FTEM!W4,Skillserleuterungen_FTEM!J4)","v":0},null,null,null,{"$f":"IFERROR(AVERAGE(O13:O14),\"-\")","v":"-"},null,{"$f":"IFERROR(AVERAGE(Q13:Q14),\"-\")","v":"-"},null,{"$f":"IFERROR(AVERAGE(S13:S14),\"-\")","v":"-"},null,{"$f":"IFERROR(AVERAGE(U13:U14),\"-\")","v":"-"},null,null,null,{"$f":"IFERROR(AVERAGE(Y13:Y14),\"-\")","v":"-"}]
[null,null,null,{"$f":"IF($H$2=\"G\",Skillserleuterungen_FTEM!Q5,Skillserleuterungen_FTEM!D5)","v":"LEADERSHIP"},null,null,{"$f":"IF($H$2=\"G\",Skillserleuterungen_FTEM!T5,Skillserleuterungen_FTEM!G5)","v":"Übernimmt Verantwortung, macht Mitspieler besser"},null,null,{"$f":"IF($H$2=\"G\",Skillserleuterungen_FTEM!W5,Skillserleuterungen_FTEM!J5)","v":0}]
["ON ICE",null,null,"FÄHIGKEIT",null,null,"BEOBACHTUNG",null,null,null,null,null,null,"Datum1",null,"Datum2",null,"Datum3",null,"Datum4",null,"Datum5",null,"Player",null,"ZIEL","MASSNAHME:\nSPEZIFISCH,  MESSBAR, REALISITISCH",null,null,null,null,null,null,"TERMIN","ZIEL-KONTROLLE","Datum"]
["SKILL",null,null,{"$f":"IF($H$2=\"G\",Skillserleuterungen_FTEM!Q7,Skillserleuterungen_FTEM!D7)","v":"SCHIESSEN"},null,null,{"$f":"IF($H$2=\"G\",Skillserleuterungen_FTEM!T7,Skillserleuterungen_FTEM!G7)","v":"Effizienz / Variantenreichtum, Überraschungsgrad (Quick Release), Präzision, Härte, (taktische Abschlüsse)\nschnell, hart, unter Druck"},null,null,{"$f":"IF($H$2=\"G\",Skillserleuterungen_FTEM!W7,Skillserleuterungen_FTEM!J7)","v":0},null,null,null,{"$f":"IFERROR(AVERAGE(O16:O19),\"-\")","v":"-"},null,{"$f":"IFERROR(AVERAGE(Q16:Q19),\"-\")","v":"-"},null,{"$f":"IFERROR(AVERAGE(S16:S19),\"-\")","v":"-"},null,{"$f":"IFERROR(AVERAGE(U16:U19),\"-\")","v":"-"},null,{"$f":"IFERROR(AVERAGE(W16:W19),\"-\")","v":"-"},null,{"$f":"IFERROR(AVERAGE(Y16:Y19),\"-\")","v":"-"}]
[null,null,null,{"$f":"IF($H$2=\"G\",Skillserleuterungen_FTEM!Q8,Skillserleuterungen_FTEM!D8)","v":"PASSEN"},null,null,{"$f":"IF($H$2=\"G\",Skillserleuterungen_FTEM!T8,Skillserleuterungen_FTEM!G8)","v":"Passabgabe (Distanz, Flippass Backhand), Passannahme (Präzision, Timing, Vorhand, Rückhand, Schlittschuh,Puckspeed"},null,null,{"$f":"IF($H$2=\"G\",Skillserleuterungen_FTEM!W8,Skillserleuterungen_FTEM!J8)","v":0}]
[null,null,null,{"$f":"IF($H$2=\"G\",Skillserleuterungen_FTEM!Q9,Skillserleuterungen_FTEM!D9)","v":"KÖRPERSPIEL"},null,null,{"$f":"IF($H$2=\"G\",Skillserleuterungen_FTEM!T9,Skillserleuterungen_FTEM!G9)","v":"Phyisches Durchsetzungsvermögen, Zweikampf (offenes Eis/Bande), Checks nehmen/Head up, Battle Level, Hart aber fair, mit dem Körper Schüsse blockieren"},null,null,{"$f":"IF($H$2=\"G\",Skillserleuterungen_FTEM!W9,Skillserleuterungen_FTEM!J9)","v":0},null,null,null,{"$f":"IFERROR(AVERAGE(O18:O19),\"-\")","v":"-"},null,{"$f":"IFERROR(AVERAGE(Q18:Q19),\"-\")","v":"-"},null,{"$f":"IFERROR(AVERAGE(S18:S19),\"-\")","v":"-"},null,{"$f":"IFERROR(AVERAGE(U18:U19),\"-\")","v":"-"},null,{"$f":"IFERROR(AVERAGE(W18:W19),\"-\")","v":"-"},null,{"$f":"IFERROR(AVERAGE(Y18:Y19),\"-\")","v":"-"}]
[null,null,null,{"$f":"IF($H$2=\"G\",Skillserleuterungen_FTEM!Q10,Skillserleuterungen_FTEM!D10)","v":"SCHEIBENKONTROLLE"},null,null,{"$f":"IF($H$2=\"G\",Skillserleuterungen_FTEM!T10,Skillserleuterungen_FTEM!G10)","v":"Puckmanagmenet auf engem Raum, Puck Protection,  schwer kontrollierbare Scheiben "},null,null,{"$f":"IF($H$2=\"G\",Skillserleuterungen_FTEM!W10,Skillserleuterungen_FTEM!J10)","v":0}]
["SKATING",null,null,{"$f":"IF($H$2=\"G\",Skillserleuterungen_FTEM!Q11,Skillserleuterungen_FTEM!D11)","v":"FOOTSPEED"},null,null,{"$f":"IF($H$2=\"G\",Skillserleuterungen_FTEM!T11,Skillserleuterungen_FTEM!G11)","v":"Beschleunigung, Antritt, erste 3 Schritte Explosivität, Frequenz"},null,null,{"$f":"IF($H$2=\"G\",Skillserleuterungen_FTEM!W11,Skillserleuterungen_FTEM!J11)","v":0},null,null,null,{"$f":"IFERROR(AVERAGE(O20:O23),\"-\")","v":"-"},null,{"$f":"IFERROR(AVERAGE(Q20:Q23),\"-\")","v":"-"},null,{"$f":"IFERROR(AVERAGE(S20:S23),\"-\")","v":"-"},null,{"$f":"IFERROR(AVERAGE(U20:U23),\"-\")","v":"-"},null,{"$f":"IFERROR(AVERAGE(W20:W23),\"-\")","v":"-"},null,{"$f":"IFERROR(AVERAGE(Y20:Y23),\"-\")","v":"-"}]
[null,null,null,{"$f":"IF($H$2=\"G\",Skillserleuterungen_FTEM!Q12,Skillserleuterungen_FTEM!D12)","v":"AGILITÄT"},null,null,{"$f":"IF($H$2=\"G\",Skillserleuterungen_FTEM!T12,Skillserleuterungen_FTEM!G12)","v":"Richtungsänderung, Drehung, Stop und Start, «Nummelin»"},null,null,{"$f":"IF($H$2=\"G\",Skillserleuterungen_FTEM!W12,Skillserleuterungen_FTEM!J12)","v":0}]
[null,null,null,{"$f":"IF($H$2=\"G\",Skillserleuterungen_FTEM!Q13,Skillserleuterungen_FTEM!D13)","v":"BACKWARDS SKATING"},null,null,{"$f":"IF($H$2=\"G\",Skillserleuterungen_FTEM!T13,Skillserleuterungen_FTEM!G13)","v":"Beschleunigung, Geschwindigkeit, Balance"},null,null,{"$f":"IF($H$2=\"G\",Skillserleuterungen_FTEM!W13,Skillserleuterungen_FTEM!J13)","v":0}]
[null,null,null,{"$f":"IF($H$2=\"G\",Skillserleuterungen_FTEM!Q14,Skillserleuterungen_FTEM!D14)","v":"TOPSPEED"},null,null,{"$f":"IF($H$2=\"G\",Skillserleuterungen_FTEM!T14,Skillserleuterungen_FTEM!G14)","v":"Schnelligkeit, Gleitfähigkeit, vorwärts und rückwärts, Ökonomie"},null,null,{"$f":"IF($H$2=\"G\",Skillserleuterungen_FTEM!W14,Skillserleuterungen_FTEM!J14)","v":0}]
["HOCKEY SENSE",null,null,{"$f":"IF($H$2=\"G\",Skillserleuterungen_FTEM!Q15,Skillserleuterungen_FTEM!D15)","v":"SCORING"},null,null,{"$f":"IF($H$2=\"G\",Skillserleuterungen_FTEM!T15,Skillserleuterungen_FTEM!G15)","v":"Effizienz, variantentreich, überraschend, schnell, hart - Schussvarianten"},null,null,{"$f":"IF($H$2=\"G\",Skillserleuterungen_FTEM!W15,Skillserleuterungen_FTEM!J15)","v":0},null,null,null,{"$f":"IFERROR(AVERAGE(O24:O27),\"-\")","v":"-"},null,{"$f":"IFERROR(AVERAGE(Q24:Q27),\"-\")","v":"-"},null,{"$f":"IFERROR(AVERAGE(S24:S27),\"-\")","v":"-"},null,{"$f":"IFERROR(AVERAGE(U24:U27),\"-\")","v":"-"},null,{"$f":"IFERROR(AVERAGE(W24:W27),\"-\")","v":"-"},null,{"$f":"IFERROR(AVERAGE(Y24:Y27),\"-\")","v":"-"}]
[null,null,null,{"$f":"IF($H$2=\"G\",Skillserleuterungen_FTEM!Q16,Skillserleuterungen_FTEM!D16)","v":"MIT SCHEIBE"},null,null,{"$f":"IF($H$2=\"G\",Skillserleuterungen_FTEM!T16,Skillserleuterungen_FTEM!G16)","v":"Kreativ, performing, batteling, frech, Transition"},null,null,{"$f":"IF($H$2=\"G\",Skillserleuterungen_FTEM!W16,Skillserleuterungen_FTEM!J16)","v":0}]
[null,null,null,{"$f":"IF($H$2=\"G\",Skillserleuterungen_FTEM!Q17,Skillserleuterungen_FTEM!D17)","v":"OHNE SCHEIBE"},null,null,{"$f":"IF($H$2=\"G\",Skillserleuterungen_FTEM!T17,Skillserleuterungen_FTEM!G17)","v":"Anspielbar (Support), 1:1, Gap"},null,null,{"$f":"IF($H$2=\"G\",Skillserleuterungen_FTEM!W17,Skillserleuterungen_FTEM!J17)","v":0}]
[null,null,null,{"$f":"IF($H$2=\"G\",Skillserleuterungen_FTEM!Q18,Skillserleuterungen_FTEM!D18)","v":"DEFENSIV"},null,null,{"$f":"IF($H$2=\"G\",Skillserleuterungen_FTEM!T18,Skillserleuterungen_FTEM!G18)","v":"Verlässlichkeit,  1:1, Gap, Zuordnung"},null,null,{"$f":"IF($H$2=\"G\",Skillserleuterungen_FTEM!W18,Skillserleuterungen_FTEM!J18)","v":0}]
["PERSONALITY",null,null,"FÄHIGKEIT",null,null,"BEOBACHTUNG",null,null,null,null,null,null,"Datum1",null,"Datum2",null,"Datum3",null,"Datum4",null,"Datum5",null,"Player",null,"ZIEL","MASSNAHME:\nSPEZIFISCH,  MESSBAR, REALISITISCH",null,null,null,null,null,null,"TERMIN","ZIEL-KONTROLLE","Datum"]
["PERSON",null,null,{"$f":"IF($H$2=\"G\",Skillserleuterungen_FTEM!Q20,Skillserleuterungen_FTEM!D20)","v":"MOTIVATION"},null,null,{"$f":"IF($H$2=\"G\",Skillserleuterungen_FTEM!T20,Skillserleuterungen_FTEM!G20)","v":"Intrinsischer Antrieb, will sich ständig weiterentwickeln, will der Erste sein und Erfolg haben"},null,null,{"$f":"IF($H$2=\"G\",Skillserleuterungen_FTEM!W20,Skillserleuterungen_FTEM!J20)","v":0},null,null,null,{"$f":"IFERROR(AVERAGE(O29:O32),\"-\")","v":"-"},null,{"$f":"IFERROR(AVERAGE(Q29:Q32),\"-\")","v":"-"},null,{"$f":"IFERROR(AVERAGE(S29:S32),\"-\")","v":"-"},null,{"$f":"IFERROR(AVERAGE(U29:U32),\"-\")","v":"-"},null,{"$f":"IFERROR(AVERAGE(W29:W32),\"-\")","v":"-"},null,{"$f":"IFERROR(AVERAGE(Y29:Y32),\"-\")","v":"-"}]
[null,null,null,{"$f":"IF($H$2=\"G\",Skillserleuterungen_FTEM!Q21,Skillserleuterungen_FTEM!D21)","v":"SELBSBEWUSSTSEIN"},null,null,{"$f":"IF($H$2=\"G\",Skillserleuterungen_FTEM!T21,Skillserleuterungen_FTEM!G21)","v":"Hat das nötige Selbstvertrauen \"I can do it\" haltung, kann eigenen Fähigkeiten einschätzen und agiert mutig"},null,null,{"$f":"IF($H$2=\"G\",Skillserleuterungen_FTEM!W21,Skillserleuterungen_FTEM!J21)","v":0}]
[null,null,null,{"$f":"IF($H$2=\"G\",Skillserleuterungen_FTEM!Q22,Skillserleuterungen_FTEM!D22)","v":"LERNFÄHIGKEIT"},null,null,{"$f":"IF($H$2=\"G\",Skillserleuterungen_FTEM!T22,Skillserleuterungen_FTEM!G22)","v":"Gute Auffassungsgabe (nimmt auf und kann umsetzen), reflektiert eigenes Handeln, versucht aus Fehlern zu lernen und kann Massnahmen ableiten und sich selber coachen"},null,null,{"$f":"IF($H$2=\"G\",Skillserleuterungen_FTEM!W22,Skillserleuterungen_FTEM!J22)","v":0}]
[null,null,null,{"$f":"IF($H$2=\"G\",Skillserleuterungen_FTEM!Q23,Skillserleuterungen_FTEM!D23)","v":"PERFORMANCE LIFESTYLE"},null,null,{"$f":"IF($H$2=\"G\",Skillserleuterungen_FTEM!T23,Skillserleuterungen_FTEM!G23)","v":"Managt Alltag und Umfeld nach dem Leistungsprinzip, kann sich gegen Wiederstände durchsetzten"},null,null,{"$f":"IF($H$2=\"G\",Skillserleuterungen_FTEM!W23,Skillserleuterungen_FTEM!J23)","v":0}]
["POWER",null,null,{"$f":"IF($H$2=\"G\",Skillserleuterungen_FTEM!Q24,Skillserleuterungen_FTEM!D24)","v":"ENERGIEMANAGEMENT"},null,null,{"$f":"IF($H$2=\"G\",Skillserleuterungen_FTEM!T24,Skillserleuterungen_FTEM!G24)","v":"Kann eigene Energie regulieren, bereit zur Regeneration, weiss, wann er \"Vollgas\" geben muss und wann ab-schalten, On/Off-Schalter"},null,null,{"$f":"IF($H$2=\"G\",Skillserleuterungen_FTEM!W24,Skillserleuterungen_FTEM!J24)","v":0},null,null,null,{"$f":"IFERROR(AVERAGE(O33:O36),\"-\")","v":"-"},null,{"$f":"IFERROR(AVERAGE(Q33:Q36),\"-\")","v":"-"},null,{"$f":"IFERROR(AVERAGE(S33:S36),\"-\")","v":"-"},null,{"$f":"IFERROR(AVERAGE(U33:U36),\"-\")","v":"-"},null,{"$f":"IFERROR(AVERAGE(W33:W36),\"-\")","v":"-"},null,{"$f":"IFERROR(AVERAGE(Y33:Y36),\"-\")","v":"-"}]
[null,null,null,{"$f":"IF($H$2=\"G\",Skillserleuterungen_FTEM!Q25,Skillserleuterungen_FTEM!D25)","v":"EINSATZBEREITSCHAFT"},null,null,{"$f":"IF($H$2=\"G\",Skillserleuterungen_FTEM!T25,Skillserleuterungen_FTEM!G25)","v":"Hohe intensität im Spiel und Training, gibt immer sein Maximum, will seine Limiten pushen"},null,null,{"$f":"IF($H$2=\"G\",Skillserleuterungen_FTEM!W25,Skillserleuterungen_FTEM!J25)","v":0}]
[null,null,null,{"$f":"IF($H$2=\"G\",Skillserleuterungen_FTEM!Q26,Skillserleuterungen_FTEM!D26)","v":"EMOTIONSKONTROLLE"},null,null,{"$f":"IF($H$2=\"G\",Skillserleuterungen_FTEM!T26,Skillserleuterungen_FTEM!G26)","v":"Emotionen und Impulse regulieren, unter Druck die Kontrolle behalten, in emotional ansprucksvollen Situationen angemessen agieren können"},null,null,{"$f":"IF($H$2=\"G\",Skillserleuterungen_FTEM!W26,Skillserleuterungen_FTEM!J26)","v":0}]
[null,null,null,{"$f":"IF($H$2=\"G\",Skillserleuterungen_FTEM!Q27,Skillserleuterungen_FTEM!D27)","v":"VORBEREITUNG"},null,null,{"$f":"IF($H$2=\"G\",Skillserleuterungen_FTEM!T27,Skillserleuterungen_FTEM!G27)","v":"Fokus, ILZ, Regeneration, Selbststiumlation, Ernährung"},null,null,{"$f":"IF($H$2=\"G\",Skillserleuterungen_FTEM!W27,Skillserleuterungen_FTEM!J27)","v":0}]
["PYHSE (Athletik)",null,null,{"$f":"IF($H$2=\"G\",Skillserleuterungen_FTEM!Q28,Skillserleuterungen_FTEM!D28)","v":"LEISTUNGSERZEUGUNG (neuromuskuläre Faktoren /Leistungserzeugung)"},null,null,{"$f":"IF($H$2=\"G\",Skillserleuterungen_FTEM!T28,Skillserleuterungen_FTEM!G28)","v":"Verfügt über die nötige Power/ Kraft/ Schnelligkeit in den Beinen un im Oberkörper "},null,null,{"$f":"IF($H$2=\"G\",Skillserleuterungen_FTEM!W28,Skillserleuterungen_FTEM!J28)","v":0},null,null,null,{"$f":"IFERROR(AVERAGE(O37:O40),\"-\")","v":"-"},null,{"$f":"IFERROR(AVERAGE(Q37:Q40),\"-\")","v":"-"},null,{"$f":"IFERROR(AVERAGE(S37:S40),\"-\")","v":"-"},null,{"$f":"IFERROR(AVERAGE(U37:U40),\"-\")","v":"-"},null,{"$f":"IFERROR(AVERAGE(W37:W40),\"-\")","v":"-"},null,{"$f":"IFERROR(AVERAGE(Y37:Y40),\"-\")","v":"-"}]
[null,null,null,{"$f":"IF($H$2=\"G\",Skillserleuterungen_FTEM!Q29,Skillserleuterungen_FTEM!D29)","v":"SPEZ. ERMÜDUNGSRESISTENZ (metabolische, kardiovaskuläre Faktoren)"},null,null,{"$f":"IF($H$2=\"G\",Skillserleuterungen_FTEM!T29,Skillserleuterungen_FTEM!G29)","v":"Ist fähig die Power/ Kraft/ Schnelligkeit innerhalb des Einsatzes lange aufrechtzuerhalten und kann sich zwischen den Einsätzen jeweils vollkommen erholen (auch von Spiel zu Spiel)."},null,null,{"$f":"IF($H$2=\"G\",Skillserleuterungen_FTEM!W29,Skillserleuterungen_FTEM!J29)","v":0}]
[null,null,null,{"$f":"IF($H$2=\"G\",Skillserleuterungen_FTEM!Q30,Skillserleuterungen_FTEM!D30)","v":"BEWEGUNGSKOMPETENZ/ KOORDINATION "},null,null,{"$f":"IF($H$2=\"G\",Skillserleuterungen_FTEM!T30,Skillserleuterungen_FTEM!G30)","v":"Beherrscht die grundlegenden Bewegungsfertigkeiten, die eine unerlässliche Zubringerfunktion für die sportspezifischen \"Skills\" darstellt sowie zur nötigen Bewegungseffizienz führt. "},null,null,{"$f":"IF($H$2=\"G\",Skillserleuterungen_FTEM!W30,Skillserleuterungen_FTEM!J30)","v":0}]
[null,null,null,{"$f":"IF($H$2=\"G\",Skillserleuterungen_FTEM!Q31,Skillserleuterungen_FTEM!D31)","v":"ROBUSTHEIT/ PRÄVENTION"},null,null,{"$f":"IF($H$2=\"G\",Skillserleuterungen_FTEM!T31,Skillserleuterungen_FTEM!G31)","v":"Verletzungsanfälligkeit, Stabilität (Verfügt über die nötige Stabilität, Grundkraft (Körperspannung) \"z.B. Beinachsenstabilität\" und Beweglichkeit in den zentralen Gelenken \"Hüfte, Wirbelsäule\"), Standfestigkeit"},null,null,{"$f":"IF($H$2=\"G\",Skillserleuterungen_FTEM!W31,Skillserleuterungen_FTEM!J31)","v":0}]

{"sheet":"7","index":10,"n_rows":40,"n_cols":36,"rows_kept":40,"cut":false,"hidden":false,"merged":[[38,3,38,5],[38,6,38,11],[39,3,39,5],[39,6,39,11],[32,23,35,23],[32,0,35,2],[32,3,32,5],[32,6,32,11],[32,12,35,12],[32,13,35,13],[36,26,39,32],[36,34,39,34],[21,3,21,5],[21,6,21,11],[34,3,34,5],[34,6,34,11],[36,0,39,2],[36,12,39,12],[36,13,39,13],[36,15,39,15],[36,17,39,17],[36,19,39,19],[36,21,39,21],[36,23,39,23],[36,25,39,25],[36,3,36,5],[36,6,36,11],[37,3,37,5],[37,6,37,11],[32,15,35,15],[27,21,27,22],[28,17,31,17],[28,19,31,19],[28,21,31,21],[29,3,29,5],[29,6,29,11],[30,3,30,5],[30,6,30,11],[32,17,35,17],[32,19,35,19],[32,21,35,21],[33,3,33,5],[33,6,33,11],[35,3,35,5],[35,6,35,11],[23,0,26,2],[23,3,23,5],[23,6,23,11],[23,12,26,12],[23,13,26,13],[23,15,26,15],[27,23,27,24],[27,26,27,32],[28,0,31,2],[28,3,28,5],[28,6,28,11],[28,12,31,12],[28,13,31,13],[28,15,31,15],[31,3,31,5],[31,6,31,11],[28,23,31,23],[27,0,27,2],[27,3,27,5],[27,6,27,11],[27,13,27,14],[27,15,27,16],[27,17,27,18],[27,19,27,20],[19,19,22,19],[19,21,22,21],[19,23,22,23],[20,3,20,5],[20,6,20,11],[22,3,22,5],[22,6,22,11],[26,3,26,5],[26,6,26,11],[23,23,26,23],[23,17,26,17],[23,19,26,19],[23,21,26,21],[24,3,24,5],[24,6,24,11],[25,3,25,5],[25,6,25,11],[12,21,13,21],[15,15,18,15],[15,17,18,17],[15,19,18,19],[15,21,18,21],[15,23,18,23],[18,3,18,5],[18,6,18,11],[19,0,22,2],[19,3,19,5],[19,6,19,11],[19,12,22,12],[19,13,22,13],[19,15,22,15],[19,17,22,17],[15,0,18,2],[15,3,15,5],[15,6,15,11],[15,12,18,12],[15,13,18,13],[16,3,16,5],[16,6,16,11],[17,3,17,5],[17,6,17,11],[11,21,11,22],[11,23,11,24],[11,26,11,32],[11,6,11,11],[12,23,13,23],[13,3,13,5],[13,6,13,11],[14,0,14,2],[14,3,14,5],[14,6,14,11],[14,13,14,14],[14,15,14,16],[14,17,14,18],[14,19,14,20],[14,21,14,22],[14,23,14,24],[12,0,13,2],[12,3,12,5],[12,6,12,11],[12,12,13,12],[12,13,13,13],[12,15,13,15],[12,17,13,17],[12,19,13,19],[4,0,4,1],[4,2,4,5],[4,10,4,24],[10,0,10,24],[10,25,10,35],[32,25,35,25],[32,26,35,32],[32,34,35,34],[12,25,13,25],[12,26,13,32],[12,34,13,34],[15,25,18,25],[15,26,18,32],[15,34,18,34],[19,25,22,25],[19,26,22,32],[19,34,22,34],[14,26,14,32],[11,0,11,2],[11,3,11,5],[11,13,11,14],[11,15,11,16],[11,17,11,18],[11,19,11,20],[0,0,0,24],[0,25,0,26],[0,27,0,32],[0,33,0,35],[23,25,26,25],[23,26,26,32],[23,34,26,34],[28,25,31,25],[28,26,31,32],[28,34,31,34],[1,0,1,1],[1,2,1,5],[1,10,1,24],[2,0,2,1],[2,2,2,5],[2,11,2,24],[6,0,6,1],[6,2,6,35],[7,0,7,1],[7,2,7,35],[8,0,8,1],[8,2,8,35],[3,0,3,1],[3,10,3,24]]}
["Personalien",null,null,null,null,null,null,null,null,null,null,null,null,null,null,null,null,null,null,null,null,null,null,null,null,"Vorausetzungen",null,"Evaluationen",null,null,null,null,null,"Rating"]
["VORNAME",null,{"$f":"IF(ISBLANK(VLOOKUP(7,Tabelle3[],3,0)),\"-\",VLOOKUP(7,Tabelle3[],3,0))","v":"-"},null,null,null,"POSITION",null,null,"ADRESSE",{"$f":"IF(ISBLANK(VLOOKUP(7,Tabelle3[],5,0)),\"-\",VLOOKUP(7,Tabelle3[],5,0))","v":"-"},null,null,null,null,null,null,null,null,null,null,null,null,null,null,"\"Alter\" (Biologisch/Relative Age)",null,"Datum 1",null,null,"cm",null,"Kg",null,"AUSGEZEICHNET",5]
["NAME",null,{"$f":"IF(ISBLANK(VLOOKUP(7,Tabelle3[],2,0)),\"-\",VLOOKUP(7,Tabelle3[],2,0))","v":"-"},null,null,null,"STOCK",null,null,"WOHNORT",{"$f":"IF(ISBLANK(VLOOKUP(7,Tabelle3[],7,0)),\"-\",VLOOKUP(7,Tabelle3[],7,0))","v":"-"},{"$f":"IF(ISBLANK(VLOOKUP(7,Tabelle3[],6,0)),\"-\",VLOOKUP(7,Tabelle3[],6,0))","v":"-"},null,null,null,null,null,null,null,null,null,null,null,null,null,"Veranlagung",null,"Datum 2",null,null,"cm",null,"Kg",null,"GUT",4]
["GEB. DATUM",null,{"$f":"IF(ISBLANK(VLOOKUP(7,Tabelle3[],14,0)),\"-\",VLOOKUP(7,Tabelle3[],14,0))","v":"-"},{"$f":"IF(ISBLANK(VLOOKUP(7,Tabelle3[],15,0)),\"-\",VLOOKUP(7,Tabelle3[],15,0))","v":"-"},{"$f":"IF(ISBLANK(VLOOKUP(7,Tabelle3[],16,0)),\"-\",VLOOKUP(7,Tabelle3[],16,0))","v":"-"},null,"GRÖSSE",null,"cm (Final)","PHONE",{"$f":"IF(ISBLANK(VLOOKUP(7,Tabelle3[],8,0)),\"-\",VLOOKUP(7,Tabelle3[],8,0))","v":"-"},null,null,null,null,null,null,null,null,null,null,null,null,null,null,"Umfeld",null,"Datum 3",null,null,"cm",null,"Kg",null,"DURCHSCHNITT",3]
["SEX",null,{"$f":"IF(ISBLANK(VLOOKUP(7,Tabelle3[],13,0)),\"-\",VLOOKUP(7,Tabelle3[],13,0))","v":"-"},null,null,null,"GEWICHT",null,"Kg (Final)","E-Mail",{"$f":"IF(ISBLANK(VLOOKUP(7,Tabelle3[],9,0)),\"-\",VLOOKUP(7,Tabelle3[],9,0))","v":"-"},null,null,null,null,null,null,null,null,null,null,null,null,null,null,null,null,"Datum 4",null,null,"cm",null,"Kg",null,"MANGELHAFT",2]
[null,null,null,null,null,null,null,null,null,null,null,null,null,null,null,null,null,null,null,null,null,null,null,null,null,null,null,"Datum 5",null,null,"cm",null,"Kg",null,"UNGENÜGEND",1]
["Vision",null,"xxx"]
["Next step",null,"xxx"]
["Stärkenprofil",null,"xxx"]
[]
["EVALUATION (COACH / SPIELER)",null,null,null,null,null,null,null,null,null,null,null,null,null,null,null,null,null,null,null,null,null,null,null,null,"SMART"]
["TEAM",null,null,"FÄHIGKEIT",null,null,"BEOBACHTUNG",null,null,null,null,null,"Final","Datum1",null,"Datum2",null,"Datum3",null,"Datum4",null,"Datum5",null,"Player",null,"ZIEL","MASSNAHME:\nSPEZIFISCH,  MESSBAR, REALISITISCH",null,null,null,null,null,null,"TERMIN","ZIEL-KONTROLLE","Datum"]
["ROLLE, SOZIAL",null,null,{"$f":"IF($H$2=\"G\",Skillserleuterungen_FTEM!Q4,Skillserleuterungen_FTEM!D4)","v":"TEAMDENKEN"},null,null,{"$f":"IF($H$2=\"G\",Skillserleuterungen_FTEM!T4,Skillserleuterungen_FTEM!G4)","v":"Identifikation zur Rolle, Umgang mit Kameraden (sozial integriert)"},null,null,{"$f":"IF($H$2=\"G\",Skillserleuterungen_FTEM!W4,Skillserleuterungen_FTEM!J4)","v":0},null,null,null,{"$f":"IFERROR(AVERAGE(O13:O14),\"-\")","v":"-"},null,{"$f":"IFERROR(AVERAGE(Q13:Q14),\"-\")","v":"-"},null,{"$f":"IFERROR(AVERAGE(S13:S14),\"-\")","v":"-"},null,{"$f":"IFERROR(AVERAGE(U13:U14),\"-\")","v":"-"},null,null,null,{"$f":"IFERROR(AVERAGE(Y13:Y14),\"-\")","v":"-"}]
[null,null,null,{"$f":"IF($H$2=\"G\",Skillserleuterungen_FTEM!Q5,Skillserleuterungen_FTEM!D5)","v":"LEADERSHIP"},null,null,{"$f":"IF($H$2=\"G\",Skillserleuterungen_FTEM!T5,Skillserleuterungen_FTEM!G5)","v":"Übernimmt Verantwortung, macht Mitspieler besser"},null,null,{"$f":"IF($H$2=\"G\",Skillserleuterungen_FTEM!W5,Skillserleuterungen_FTEM!J5)","v":0}]
["ON ICE",null,null,"FÄHIGKEIT",null,null,"BEOBACHTUNG",null,null,null,null,null,null,"Datum1",null,"Datum2",null,"Datum3",null,"Datum4",null,"Datum5",null,"Player",null,"ZIEL","MASSNAHME:\nSPEZIFISCH,  MESSBAR, REALISITISCH",null,null,null,null,null,null,"TERMIN","ZIEL-KONTROLLE","Datum"]
["SKILL",null,null,{"$f":"IF($H$2=\"G\",Skillserleuterungen_FTEM!Q7,Skillserleuterungen_FTEM!D7)","v":"SCHIESSEN"},null,null,{"$f":"IF($H$2=\"G\",Skillserleuterungen_FTEM!T7,Skillserleuterungen_FTEM!G7)","v":"Effizienz / Variantenreichtum, Überraschungsgrad (Quick Release), Präzision, Härte, (taktische Abschlüsse)\nschnell, hart, unter Druck"},null,null,{"$f":"IF($H$2=\"G\",Skillserleuterungen_FTEM!W7,Skillserleuterungen_FTEM!J7)","v":0},null,null,null,{"$f":"IFERROR(AVERAGE(O16:O19),\"-\")","v":"-"},null,{"$f":"IFERROR(AVERAGE(Q16:Q19),\"-\")","v":"-"},null,{"$f":"IFERROR(AVERAGE(S16:S19),\"-\")","v":"-"},null,{"$f":"IFERROR(AVERAGE(U16:U19),\"-\")","v":"-"},null,{"$f":"IFERROR(AVERAGE(W16:W19),\"-\")","v":"-"},null,{"$f":"IFERROR(AVERAGE(Y16:Y19),\"-\")","v":"-"}]
[null,null,null,{"$f":"IF($H$2=\"G\",Skillserleuterungen_FTEM!Q8,Skillserleuterungen_FTEM!D8)","v":"PASSEN"},null,null,{"$f":"IF($H$2=\"G\",Skillserleuterungen_FTEM!T8,Skillserleuterungen_FTEM!G8)","v":"Passabgabe (Distanz, Flippass Backhand), Passannahme (Präzision, Timing, Vorhand, Rückhand, Schlittschuh,Puckspeed"},null,null,{"$f":"IF($H$2=\"G\",Skillserleuterungen_FTEM!W8,Skillserleuterungen_FTEM!J8)","v":0}]
[null,null,null,{"$f":"IF($H$2=\"G\",Skillserleuterungen_FTEM!Q9,Skillserleuterungen_FTEM!D9)","v":"KÖRPERSPIEL"},null,null,{"$f":"IF($H$2=\"G\",Skillserleuterungen_FTEM!T9,Skillserleuterungen_FTEM!G9)","v":"Phyisches Durchsetzungsvermögen, Zweikampf (offenes Eis/Bande), Checks nehmen/Head up, Battle Level, Hart aber fair, mit dem Körper Schüsse blockieren"},null,null,{"$f":"IF($H$2=\"G\",Skillserleuterungen_FTEM!W9,Skillserleuterungen_FTEM!J9)","v":0},null,null,null,{"$f":"IFERROR(AVERAGE(O18:O19),\"-\")","v":"-"},null,{"$f":"IFERROR(AVERAGE(Q18:Q19),\"-\")","v":"-"},null,{"$f":"IFERROR(AVERAGE(S18:S19),\"-\")","v":"-"},null,{"$f":"IFERROR(AVERAGE(U18:U19),\"-\")","v":"-"},null,{"$f":"IFERROR(AVERAGE(W18:W19),\"-\")","v":"-"},null,{"$f":"IFERROR(AVERAGE(Y18:Y19),\"-\")","v":"-"}]
[null,null,null,{"$f":"IF($H$2=\"G\",Skillserleuterungen_FTEM!Q10,Skillserleuterungen_FTEM!D10)","v":"SCHEIBENKONTROLLE"},null,null,{"$f":"IF($H$2=\"G\",Skillserleuterungen_FTEM!T10,Skillserleuterungen_FTEM!G10)","v":"Puckmanagmenet auf engem Raum, Puck Protection,  schwer kontrollierbare Scheiben "},null,null,{"$f":"IF($H$2=\"G\",Skillserleuterungen_FTEM!W10,Skillserleuterungen_FTEM!J10)","v":0}]
["SKATING",null,null,{"$f":"IF($H$2=\"G\",Skillserleuterungen_FTEM!Q11,Skillserleuterungen_FTEM!D11)","v":"FOOTSPEED"},null,null,{"$f":"IF($H$2=\"G\",Skillserleuterungen_FTEM!T11,Skillserleuterungen_FTEM!G11)","v":"Beschleunigung, Antritt, erste 3 Schritte Explosivität, Frequenz"},null,null,{"$f":"IF($H$2=\"G\",Skillserleuterungen_FTEM!W11,Skillserleuterungen_FTEM!J11)","v":0},null,null,null,{"$f":"IFERROR(AVERAGE(O20:O23),\"-\")","v":"-"},null,{"$f":"IFERROR(AVERAGE(Q20:Q23),\"-\")","v":"-"},null,{"$f":"IFERROR(AVERAGE(S20:S23),\"-\")","v":"-"},null,{"$f":"IFERROR(AVERAGE(U20:U23),\"-\")","v":"-"},null,{"$f":"IFERROR(AVERAGE(W20:W23),\"-\")","v":"-"},null,{"$f":"IFERROR(AVERAGE(Y20:Y23),\"-\")","v":"-"}]
[null,null,null,{"$f":"IF($H$2=\"G\",Skillserleuterungen_FTEM!Q12,Skillserleuterungen_FTEM!D12)","v":"AGILITÄT"},null,null,{"$f":"IF($H$2=\"G\",Skillserleuterungen_FTEM!T12,Skillserleuterungen_FTEM!G12)","v":"Richtungsänderung, Drehung, Stop und Start, «Nummelin»"},null,null,{"$f":"IF($H$2=\"G\",Skillserleuterungen_FTEM!W12,Skillserleuterungen_FTEM!J12)","v":0}]
[null,null,null,{"$f":"IF($H$2=\"G\",Skillserleuterungen_FTEM!Q13,Skillserleuterungen_FTEM!D13)","v":"BACKWARDS SKATING"},null,null,{"$f":"IF($H$2=\"G\",Skillserleuterungen_FTEM!T13,Skillserleuterungen_FTEM!G13)","v":"Beschleunigung, Geschwindigkeit, Balance"},null,null,{"$f":"IF($H$2=\"G\",Skillserleuterungen_FTEM!W13,Skillserleuterungen_FTEM!J13)","v":0}]
[null,null,null,{"$f":"IF($H$2=\"G\",Skillserleuterungen_FTEM!Q14,Skillserleuterungen_FTEM!D14)","v":"TOPSPEED"},null,null,{"$f":"IF($H$2=\"G\",Skillserleuterungen_FTEM!T14,Skillserleuterungen_FTEM!G14)","v":"Schnelligkeit, Gleitfähigkeit, vorwärts und rückwärts, Ökonomie"},null,null,{"$f":"IF($H$2=\"G\",Skillserleuterungen_FTEM!W14,Skillserleuterungen_FTEM!J14)","v":0}]
["HOCKEY SENSE",null,null,{"$f":"IF($H$2=\"G\",Skillserleuterungen_FTEM!Q15,Skillserleuterungen_FTEM!D15)","v":"SCORING"},null,null,{"$f":"IF($H$2=\"G\",Skillserleuterungen_FTEM!T15,Skillserleuterungen_FTEM!G15)","v":"Effizienz, variantentreich, überraschend, schnell, hart - Schussvarianten"},null,null,{"$f":"IF($H$2=\"G\",Skillserleuterungen_FTEM!W15,Skillserleuterungen_FTEM!J15)","v":0},null,null,null,{"$f":"IFERROR(AVERAGE(O24:O27),\"-\")","v":"-"},null,{"$f":"IFERROR(AVERAGE(Q24:Q27),\"-\")","v":"-"},null,{"$f":"IFERROR(AVERAGE(S24:S27),\"-\")","v":"-"},null,{"$f":"IFERROR(AVERAGE(U24:U27),\"-\")","v":"-"},null,{"$f":"IFERROR(AVERAGE(W24:W27),\"-\")","v":"-"},null,{"$f":"IFERROR(AVERAGE(Y24:Y27),\"-\")","v":"-"}]
[null,null,null,{"$f":"IF($H$2=\"G\",Skillserleuterungen_FTEM!Q16,Skillserleuterungen_FTEM!D16)","v":"MIT SCHEIBE"},null,null,{"$f":"IF($H$2=\"G\",Skillserleuterungen_FTEM!T16,Skillserleuterungen_FTEM!G16)","v":"Kreativ, performing, batteling, frech, Transition"},null,null,{"$f":"IF($H$2=\"G\",Skillserleuterungen_FTEM!W16,Skillserleuterungen_FTEM!J16)","v":0}]
[null,null,null,{"$f":"IF($H$2=\"G\",Skillserleuterungen_FTEM!Q17,Skillserleuterungen_FTEM!D17)","v":"OHNE SCHEIBE"},null,null,{"$f":"IF($H$2=\"G\",Skillserleuterungen_FTEM!T17,Skillserleuterungen_FTEM!G17)","v":"Anspielbar (Support), 1:1, Gap"},null,null,{"$f":"IF($H$2=\"G\",Skillserleuterungen_FTEM!W17,Skillserleuterungen_FTEM!J17)","v":0}]
[null,null,null,{"$f":"IF($H$2=\"G\",Skillserleuterungen_FTEM!Q18,Skillserleuterungen_FTEM!D18)","v":"DEFENSIV"},null,null,{"$f":"IF($H$2=\"G\",Skillserleuterungen_FTEM!T18,Skillserleuterungen_FTEM!G18)","v":"Verlässlichkeit,  1:1, Gap, Zuordnung"},null,null,{"$f":"IF($H$2=\"G\",Skillserleuterungen_FTEM!W18,Skillserleuterungen_FTEM!J18)","v":0}]
["PERSONALITY",null,null,"FÄHIGKEIT",null,null,"BEOBACHTUNG",null,null,null,null,null,null,"Datum1",null,"Datum2",null,"Datum3",null,"Datum4",null,"Datum5",null,"Player",null,"ZIEL","MASSNAHME:\nSPEZIFISCH,  MESSBAR, REALISITISCH",null,null,null,null,null,null,"TERMIN","ZIEL-KONTROLLE","Datum"]
["PERSON",null,null,{"$f":"IF($H$2=\"G\",Skillserleuterungen_FTEM!Q20,Skillserleuterungen_FTEM!D20)","v":"MOTIVATION"},null,null,{"$f":"IF($H$2=\"G\",Skillserleuterungen_FTEM!T20,Skillserleuterungen_FTEM!G20)","v":"Intrinsischer Antrieb, will sich ständig weiterentwickeln, will der Erste sein und Erfolg haben"},null,null,{"$f":"IF($H$2=\"G\",Skillserleuterungen_FTEM!W20,Skillserleuterungen_FTEM!J20)","v":0},null,null,null,{"$f":"IFERROR(AVERAGE(O29:O32),\"-\")","v":"-"},null,{"$f":"IFERROR(AVERAGE(Q29:Q32),\"-\")","v":"-"},null,{"$f":"IFERROR(AVERAGE(S29:S32),\"-\")","v":"-"},null,{"$f":"IFERROR(AVERAGE(U29:U32),\"-\")","v":"-"},null,{"$f":"IFERROR(AVERAGE(W29:W32),\"-\")","v":"-"},null,{"$f":"IFERROR(AVERAGE(Y29:Y32),\"-\")","v":"-"}]
[null,null,null,{"$f":"IF($H$2=\"G\",Skillserleuterungen_FTEM!Q21,Skillserleuterungen_FTEM!D21)","v":"SELBSBEWUSSTSEIN"},null,null,{"$f":"IF($H$2=\"G\",Skillserleuterungen_FTEM!T21,Skillserleuterungen_FTEM!G21)","v":"Hat das nötige Selbstvertrauen \"I can do it\" haltung, kann eigenen Fähigkeiten einschätzen und agiert mutig"},null,null,{"$f":"IF($H$2=\"G\",Skillserleuterungen_FTEM!W21,Skillserleuterungen_FTEM!J21)","v":0}]
[null,null,null,{"$f":"IF($H$2=\"G\",Skillserleuterungen_FTEM!Q22,Skillserleuterungen_FTEM!D22)","v":"LERNFÄHIGKEIT"},null,null,{"$f":"IF($H$2=\"G\",Skillserleuterungen_FTEM!T22,Skillserleuterungen_FTEM!G22)","v":"Gute Auffassungsgabe (nimmt auf und kann umsetzen), reflektiert eigenes Handeln, versucht aus Fehlern zu lernen und kann Massnahmen ableiten und sich selber coachen"},null,null,{"$f":"IF($H$2=\"G\",Skillserleuterungen_FTEM!W22,Skillserleuterungen_FTEM!J22)","v":0}]
[null,null,null,{"$f":"IF($H$2=\"G\",Skillserleuterungen_FTEM!Q23,Skillserleuterungen_FTEM!D23)","v":"PERFORMANCE LIFESTYLE"},null,null,{"$f":"IF($H$2=\"G\",Skillserleuterungen_FTEM!T23,Skillserleuterungen_FTEM!G23)","v":"Managt Alltag und Umfeld nach dem Leistungsprinzip, kann sich gegen Wiederstände durchsetzten"},null,null,{"$f":"IF($H$2=\"G\",Skillserleuterungen_FTEM!W23,Skillserleuterungen_FTEM!J23)","v":0}]
["POWER",null,null,{"$f":"IF($H$2=\"G\",Skillserleuterungen_FTEM!Q24,Skillserleuterungen_FTEM!D24)","v":"ENERGIEMANAGEMENT"},null,null,{"$f":"IF($H$2=\"G\",Skillserleuterungen_FTEM!T24,Skillserleuterungen_FTEM!G24)","v":"Kann eigene Energie regulieren, bereit zur Regeneration, weiss, wann er \"Vollgas\" geben muss und wann ab-schalten, On/Off-Schalter"},null,null,{"$f":"IF($H$2=\"G\",Skillserleuterungen_FTEM!W24,Skillserleuterungen_FTEM!J24)","v":0},null,null,null,{"$f":"IFERROR(AVERAGE(O33:O36),\"-\")","v":"-"},null,{"$f":"IFERROR(AVERAGE(Q33:Q36),\"-\")","v":"-"},null,{"$f":"IFERROR(AVERAGE(S33:S36),\"-\")","v":"-"},null,{"$f":"IFERROR(AVERAGE(U33:U36),\"-\")","v":"-"},null,{"$f":"IFERROR(AVERAGE(W33:W36),\"-\")","v":"-"},null,{"$f":"IFERROR(AVERAGE(Y33:Y36),\"-\")","v":"-"}]
[null,null,null,{"$f":"IF($H$2=\"G\",Skillserleuterungen_FTEM!Q25,Skillserleuterungen_FTEM!D25)","v":"EINSATZBEREITSCHAFT"},null,null,{"$f":"IF($H$2=\"G\",Skillserleuterungen_FTEM!T25,Skillserleuterungen_FTEM!G25)","v":"Hohe intensität im Spiel und Training, gibt immer sein Maximum, will seine Limiten pushen"},null,null,{"$f":"IF($H$2=\"G\",Skillserleuterungen_FTEM!W25,Skillserleuterungen_FTEM!J25)","v":0}]
[null,null,null,{"$f":"IF($H$2=\"G\",Skillserleuterungen_FTEM!Q26,Skillserleuterungen_FTEM!D26)","v":"EMOTIONSKONTROLLE"},null,null,{"$f":"IF($H$2=\"G\",Skillserleuterungen_FTEM!T26,Skillserleuterungen_FTEM!G26)","v":"Emotionen und Impulse regulieren, unter Druck die Kontrolle behalten, in emotional ansprucksvollen Situationen angemessen agieren können"},null,null,{"$f":"IF($H$2=\"G\",Skillserleuterungen_FTEM!W26,Skillserleuterungen_FTEM!J26)","v":0}]
[null,null,null,{"$f":"IF($H$2=\"G\",Skillserleuterungen_FTEM!Q27,Skillserleuterungen_FTEM!D27)","v":"VORBEREITUNG"},null,null,{"$f":"IF($H$2=\"G\",Skillserleuterungen_FTEM!T27,Skillserleuterungen_FTEM!G27)","v":"Fokus, ILZ, Regeneration, Selbststiumlation, Ernährung"},null,null,{"$f":"IF($H$2=\"G\",Skillserleuterungen_FTEM!W27,Skillserleuterungen_FTEM!J27)","v":0}]
["PYHSE (Athletik)",null,null,{"$f":"IF($H$2=\"G\",Skillserleuterungen_FTEM!Q28,Skillserleuterungen_FTEM!D28)","v":"LEISTUNGSERZEUGUNG (neuromuskuläre Faktoren /Leistungserzeugung)"},null,null,{"$f":"IF($H$2=\"G\",Skillserleuterungen_FTEM!T28,Skillserleuterungen_FTEM!G28)","v":"Verfügt über die nötige Power/ Kraft/ Schnelligkeit in den Beinen un im Oberkörper "},null,null,{"$f":"IF($H$2=\"G\",Skillserleuterungen_FTEM!W28,Skillserleuterungen_FTEM!J28)","v":0},null,null,null,{"$f":"IFERROR(AVERAGE(O37:O40),\"-\")","v":"-"},null,{"$f":"IFERROR(AVERAGE(Q37:Q40),\"-\")","v":"-"},null,{"$f":"IFERROR(AVERAGE(S37:S40),\"-\")","v":"-"},null,{"$f":"IFERROR(AVERAGE(U37:U40),\"-\")","v":"-"},null,{"$f":"IFERROR(AVERAGE(W37:W40),\"-\")","v":"-"},null,{"$f":"IFERROR(AVERAGE(Y37:Y40),\"-\")","v":"-"}]
[null,null,null,{"$f":"IF($H$2=\"G\",Skillserleuterungen_FTEM!Q29,Skillserleuterungen_FTEM!D29)","v":"SPEZ. ERMÜDUNGSRESISTENZ (metabolische, kardiovaskuläre Faktoren)"},null,null,{"$f":"IF($H$2=\"G\",Skillserleuterungen_FTEM!T29,Skillserleuterungen_FTEM!G29)","v":"Ist fähig die Power/ Kraft/ Schnelligkeit innerhalb des Einsatzes lange aufrechtzuerhalten und kann sich zwischen den Einsätzen jeweils vollkommen erholen (auch von Spiel zu Spiel)."},null,null,{"$f":"IF($H$2=\"G\",Skillserleuterungen_FTEM!W29,Skillserleuterungen_FTEM!J29)","v":0}]
[null,null,null,{"$f":"IF($H$2=\"G\",Skillserleuterungen_FTEM!Q30,Skillserleuterungen_FTEM!D30)","v":"BEWEGUNGSKOMPETENZ/ KOORDINATION "},null,null,{"$f":"IF($H$2=\"G\",Skillserleuterungen_FTEM!T30,Skillserleuterungen_FTEM!G30)","v":"Beherrscht die grundlegenden Bewegungsfertigkeiten, die eine unerlässliche Zubringerfunktion für die sportspezifischen \"Skills\" darstellt sowie zur nötigen Bewegungseffizienz führt. "},null,null,{"$f":"IF($H$2=\"G\",Skillserleuterungen_FTEM!W30,Skillserleuterungen_FTEM!J30)","v":0}]
[null,null,null,{"$f":"IF($H$2=\"G\",Skillserleuterungen_FTEM!Q31,Skillserleuterungen_FTEM!D31)","v":"ROBUSTHEIT/ PRÄVENTION"},null,null,{"$f":"IF($H$2=\"G\",Skillserleuterungen_FTEM!T31,Skillserleuterungen_FTEM!G31)","v":"Verletzungsanfälligkeit, Stabilität (Verfügt über die nötige Stabilität, Grundkraft (Körperspannung) \"z.B. Beinachsenstabilität\" und Beweglichkeit in den zentralen Gelenken \"Hüfte, Wirbelsäule\"), Standfestigkeit"},null,null,{"$f":"IF($H$2=\"G\",Skillserleuterungen_FTEM!W31,Skillserleuterungen_FTEM!J31)","v":0}]

{"sheet":"8","index":11,"n_rows":40,"n_cols":36,"rows_kept":40,"cut":false,"hidden":false,"merged":[[38,3,38,5],[38,6,38,11],[39,3,39,5],[39,6,39,11],[32,23,35,23],[32,0,35,2],[32,3,32,5],[32,6,32,11],[32,12,35,12],[32,13,35,13],[36,26,39,32],[36,34,39,34],[21,3,21,5],[21,6,21,11],[34,3,34,5],[34,6,34,11],[36,0,39,2],[36,12,39,12],[36,13,39,13],[36,15,39,15],[36,17,39,17],[36,19,39,19],[36,21,39,21],[36,23,39,23],[36,25,39,25],[36,3,36,5],[36,6,36,11],[37,3,37,5],[37,6,37,11],[32,15,35,15],[27,21,27,22],[28,17,31,17],[28,19,31,19],[28,21,31,21],[29,3,29,5],[29,6,29,11],[30,3,30,5],[30,6,30,11],[32,17,35,17],[32,19,35,19],[32,21,35,21],[33,3,33,5],[33,6,33,11],[35,3,35,5],[35,6,35,11],[23,0,26,2],[23,3,23,5],[23,6,23,11],[23,12,26,12],[23,13,26,13],[23,15,26,15],[27,23,27,24],[27,26,27,32],[28,0,31,2],[28,3,28,5],[28,6,28,11],[28,12,31,12],[28,13,31,13],[28,15,31,15],[31,3,31,5],[31,6,31,11],[28,23,31,23],[27,0,27,2],[27,3,27,5],[27,6,27,11],[27,13,27,14],[27,15,27,16],[27,17,27,18],[27,19,27,20],[19,19,22,19],[19,21,22,21],[19,23,22,23],[20,3,20,5],[20,6,20,11],[22,3,22,5],[22,6,22,11],[26,3,26,5],[26,6,26,11],[23,23,26,23],[23,17,26,17],[23,19,26,19],[23,21,26,21],[24,3,24,5],[24,6,24,11],[25,3,25,5],[25,6,25,11],[12,21,13,21],[15,15,18,15],[15,17,18,17],[15,19,18,19],[15,21,18,21],[15,23,18,23],[18,3,18,5],[18,6,18,11],[19,0,22,2],[19,3,19,5],[19,6,19,11],[19,12,22,12],[19,13,22,13],[19,15,22,15],[19,17,22,17],[15,0,18,2],[15,3,15,5],[15,6,15,11],[15,12,18,12],[15,13,18,13],[16,3,16,5],[16,6,16,11],[17,3,17,5],[17,6,17,11],[11,21,11,22],[11,23,11,24],[11,26,11,32],[11,6,11,11],[12,23,13,23],[13,3,13,5],[13,6,13,11],[14,0,14,2],[14,3,14,5],[14,6,14,11],[14,13,14,14],[14,15,14,16],[14,17,14,18],[14,19,14,20],[14,21,14,22],[14,23,14,24],[12,0,13,2],[12,3,12,5],[12,6,12,11],[12,12,13,12],[12,13,13,13],[12,15,13,15],[12,17,13,17],[12,19,13,19],[4,0,4,1],[4,2,4,5],[4,10,4,24],[10,0,10,24],[10,25,10,35],[32,25,35,25],[32,26,35,32],[32,34,35,34],[12,25,13,25],[12,26,13,32],[12,34,13,34],[15,25,18,25],[15,26,18,32],[15,34,18,34],[19,25,22,25],[19,26,22,32],[19,34,22,34],[14,26,14,32],[11,0,11,2],[11,3,11,5],[11,13,11,14],[11,15,11,16],[11,17,11,18],[11,19,11,20],[0,0,0,24],[0,25,0,26],[0,27,0,32],[0,33,0,35],[23,25,26,25],[23,26,26,32],[23,34,26,34],[28,25,31,25],[28,26,31,32],[28,34,31,34],[1,0,1,1],[1,2,1,5],[1,10,1,24],[2,0,2,1],[2,2,2,5],[2,11,2,24],[6,0,6,1],[6,2,6,35],[7,0,7,1],[7,2,7,35],[8,0,8,1],[8,2,8,35],[3,0,3,1],[3,10,3,24]]}
["Personalien",null,null,null,null,null,null,null,null,null,null,null,null,null,null,null,null,null,null,null,null,null,null,null,null,"Vorausetzungen",null,"Evaluationen",null,null,null,null,null,"Rating"]
["VORNAME",null,{"$f":"IF(ISBLANK(VLOOKUP(8,Tabelle3[],3,0)),\"-\",VLOOKUP(8,Tabelle3[],3,0))","v":"-"},null,null,null,"POSITION",null,null,"ADRESSE",{"$f":"IF(ISBLANK(VLOOKUP(8,Tabelle3[],5,0)),\"-\",VLOOKUP(8,Tabelle3[],5,0))","v":"-"},null,null,null,null,null,null,null,null,null,null,null,null,null,null,"\"Alter\" (Biologisch/Relative Age)",null,"Datum 1",null,null,"cm",null,"Kg",null,"AUSGEZEICHNET",5]
["NAME",null,{"$f":"IF(ISBLANK(VLOOKUP(8,Tabelle3[],2,0)),\"-\",VLOOKUP(8,Tabelle3[],2,0))","v":"-"},null,null,null,"STOCK","LINKS",null,"WOHNORT",{"$f":"IF(ISBLANK(VLOOKUP(8,Tabelle3[],7,0)),\"-\",VLOOKUP(8,Tabelle3[],7,0))","v":"-"},{"$f":"IF(ISBLANK(VLOOKUP(8,Tabelle3[],6,0)),\"-\",VLOOKUP(8,Tabelle3[],6,0))","v":"-"},null,null,null,null,null,null,null,null,null,null,null,null,null,"Veranlagung",null,"Datum 2",null,null,"cm",null,"Kg",null,"GUT",4]
["GEB. DATUM",null,{"$f":"IF(ISBLANK(VLOOKUP(8,Tabelle3[],14,0)),\"-\",VLOOKUP(8,Tabelle3[],14,0))","v":"-"},{"$f":"IF(ISBLANK(VLOOKUP(8,Tabelle3[],15,0)),\"-\",VLOOKUP(8,Tabelle3[],15,0))","v":"-"},{"$f":"IF(ISBLANK(VLOOKUP(8,Tabelle3[],16,0)),\"-\",VLOOKUP(8,Tabelle3[],16,0))","v":"-"},null,"GRÖSSE",null,"cm (Final)","PHONE",{"$f":"IF(ISBLANK(VLOOKUP(8,Tabelle3[],8,0)),\"-\",VLOOKUP(8,Tabelle3[],8,0))","v":"-"},null,null,null,null,null,null,null,null,null,null,null,null,null,null,"Umfeld",null,"Datum 3",null,null,"cm",null,"Kg",null,"DURCHSCHNITT",3]
["SEX",null,{"$f":"IF(ISBLANK(VLOOKUP(8,Tabelle3[],13,0)),\"-\",VLOOKUP(8,Tabelle3[],13,0))","v":"-"},null,null,null,"GEWICHT",null,"Kg (Final)","E-Mail",{"$f":"IF(ISBLANK(VLOOKUP(8,Tabelle3[],9,0)),\"-\",VLOOKUP(8,Tabelle3[],9,0))","v":"-"},null,null,null,null,null,null,null,null,null,null,null,null,null,null,null,null,"Datum 4",null,null,"cm",null,"Kg",null,"MANGELHAFT",2]
[null,null,null,null,null,null,null,null,null,null,null,null,null,null,null,null,null,null,null,null,null,null,null,null,null,null,null,"Datum 5",null,null,"cm",null,"Kg",null,"UNGENÜGEND",1]
["Vision",null,"xxx"]
["Next step",null,"xxx"]
["Stärkenprofil",null,"xxx"]
[]
["EVALUATION (COACH / SPIELER)",null,null,null,null,null,null,null,null,null,null,null,null,null,null,null,null,null,null,null,null,null,null,null,null,"SMART"]
["TEAM",null,null,"FÄHIGKEIT",null,null,"BEOBACHTUNG",null,null,null,null,null,"Final","Datum1",null,"Datum2",null,"Datum3",null,"Datum4",null,"Datum5",null,"Player",null,"ZIEL","MASSNAHME:\nSPEZIFISCH,  MESSBAR, REALISITISCH",null,null,null,null,null,null,"TERMIN","ZIEL-KONTROLLE","Datum"]
["ROLLE, SOZIAL",null,null,{"$f":"IF($H$2=\"G\",Skillserleuterungen_FTEM!Q4,Skillserleuterungen_FTEM!D4)","v":"TEAMDENKEN"},null,null,{"$f":"IF($H$2=\"G\",Skillserleuterungen_FTEM!T4,Skillserleuterungen_FTEM!G4)","v":"Identifikation zur Rolle, Umgang mit Kameraden (sozial integriert)"},null,null,{"$f":"IF($H$2=\"G\",Skillserleuterungen_FTEM!W4,Skillserleuterungen_FTEM!J4)","v":0},null,null,null,{"$f":"IFERROR(AVERAGE(O13:O14),\"-\")","v":"-"},null,{"$f":"IFERROR(AVERAGE(Q13:Q14),\"-\")","v":"-"},null,{"$f":"IFERROR(AVERAGE(S13:S14),\"-\")","v":"-"},null,{"$f":"IFERROR(AVERAGE(U13:U14),\"-\")","v":"-"},null,null,null,{"$f":"IFERROR(AVERAGE(Y13:Y14),\"-\")","v":"-"}]
[null,null,null,{"$f":"IF($H$2=\"G\",Skillserleuterungen_FTEM!Q5,Skillserleuterungen_FTEM!D5)","v":"LEADERSHIP"},null,null,{"$f":"IF($H$2=\"G\",Skillserleuterungen_FTEM!T5,Skillserleuterungen_FTEM!G5)","v":"Übernimmt Verantwortung, macht Mitspieler besser"},null,null,{"$f":"IF($H$2=\"G\",Skillserleuterungen_FTEM!W5,Skillserleuterungen_FTEM!J5)","v":0}]
["ON ICE",null,null,"FÄHIGKEIT",null,null,"BEOBACHTUNG",null,null,null,null,null,null,"Datum1",null,"Datum2",null,"Datum3",null,"Datum4",null,"Datum5",null,"Player",null,"ZIEL","MASSNAHME:\nSPEZIFISCH,  MESSBAR, REALISITISCH",null,null,null,null,null,null,"TERMIN","ZIEL-KONTROLLE","Datum"]
["SKILL",null,null,{"$f":"IF($H$2=\"G\",Skillserleuterungen_FTEM!Q7,Skillserleuterungen_FTEM!D7)","v":"SCHIESSEN"},null,null,{"$f":"IF($H$2=\"G\",Skillserleuterungen_FTEM!T7,Skillserleuterungen_FTEM!G7)","v":"Effizienz / Variantenreichtum, Überraschungsgrad (Quick Release), Präzision, Härte, (taktische Abschlüsse)\nschnell, hart, unter Druck"},null,null,{"$f":"IF($H$2=\"G\",Skillserleuterungen_FTEM!W7,Skillserleuterungen_FTEM!J7)","v":0},null,null,null,{"$f":"IFERROR(AVERAGE(O16:O19),\"-\")","v":"-"},null,{"$f":"IFERROR(AVERAGE(Q16:Q19),\"-\")","v":"-"},null,{"$f":"IFERROR(AVERAGE(S16:S19),\"-\")","v":"-"},null,{"$f":"IFERROR(AVERAGE(U16:U19),\"-\")","v":"-"},null,{"$f":"IFERROR(AVERAGE(W16:W19),\"-\")","v":"-"},null,{"$f":"IFERROR(AVERAGE(Y16:Y19),\"-\")","v":"-"}]
[null,null,null,{"$f":"IF($H$2=\"G\",Skillserleuterungen_FTEM!Q8,Skillserleuterungen_FTEM!D8)","v":"PASSEN"},null,null,{"$f":"IF($H$2=\"G\",Skillserleuterungen_FTEM!T8,Skillserleuterungen_FTEM!G8)","v":"Passabgabe (Distanz, Flippass Backhand), Passannahme (Präzision, Timing, Vorhand, Rückhand, Schlittschuh,Puckspeed"},null,null,{"$f":"IF($H$2=\"G\",Skillserleuterungen_FTEM!W8,Skillserleuterungen_FTEM!J8)","v":0}]
[null,null,null,{"$f":"IF($H$2=\"G\",Skillserleuterungen_FTEM!Q9,Skillserleuterungen_FTEM!D9)","v":"KÖRPERSPIEL"},null,null,{"$f":"IF($H$2=\"G\",Skillserleuterungen_FTEM!T9,Skillserleuterungen_FTEM!G9)","v":"Phyisches Durchsetzungsvermögen, Zweikampf (offenes Eis/Bande), Checks nehmen/Head up, Battle Level, Hart aber fair, mit dem Körper Schüsse blockieren"},null,null,{"$f":"IF($H$2=\"G\",Skillserleuterungen_FTEM!W9,Skillserleuterungen_FTEM!J9)","v":0},null,null,null,{"$f":"IFERROR(AVERAGE(O18:O19),\"-\")","v":"-"},null,{"$f":"IFERROR(AVERAGE(Q18:Q19),\"-\")","v":"-"},null,{"$f":"IFERROR(AVERAGE(S18:S19),\"-\")","v":"-"},null,{"$f":"IFERROR(AVERAGE(U18:U19),\"-\")","v":"-"},null,{"$f":"IFERROR(AVERAGE(W18:W19),\"-\")","v":"-"},null,{"$f":"IFERROR(AVERAGE(Y18:Y19),\"-\")","v":"-"}]
[null,null,null,{"$f":"IF($H$2=\"G\",Skillserleuterungen_FTEM!Q10,Skillserleuterungen_FTEM!D10)","v":"SCHEIBENKONTROLLE"},null,null,{"$f":"IF($H$2=\"G\",Skillserleuterungen_FTEM!T10,Skillserleuterungen_FTEM!G10)","v":"Puckmanagmenet auf engem Raum, Puck Protection,  schwer kontrollierbare Scheiben "},null,null,{"$f":"IF($H$2=\"G\",Skillserleuterungen_FTEM!W10,Skillserleuterungen_FTEM!J10)","v":0}]
["SKATING",null,null,{"$f":"IF($H$2=\"G\",Skillserleuterungen_FTEM!Q11,Skillserleuterungen_FTEM!D11)","v":"FOOTSPEED"},null,null,{"$f":"IF($H$2=\"G\",Skillserleuterungen_FTEM!T11,Skillserleuterungen_FTEM!G11)","v":"Beschleunigung, Antritt, erste 3 Schritte Explosivität, Frequenz"},null,null,{"$f":"IF($H$2=\"G\",Skillserleuterungen_FTEM!W11,Skillserleuterungen_FTEM!J11)","v":0},null,null,null,{"$f":"IFERROR(AVERAGE(O20:O23),\"-\")","v":"-"},null,{"$f":"IFERROR(AVERAGE(Q20:Q23),\"-\")","v":"-"},null,{"$f":"IFERROR(AVERAGE(S20:S23),\"-\")","v":"-"},null,{"$f":"IFERROR(AVERAGE(U20:U23),\"-\")","v":"-"},null,{"$f":"IFERROR(AVERAGE(W20:W23),\"-\")","v":"-"},null,{"$f":"IFERROR(AVERAGE(Y20:Y23),\"-\")","v":"-"}]
[null,null,null,{"$f":"IF($H$2=\"G\",Skillserleuterungen_FTEM!Q12,Skillserleuterungen_FTEM!D12)","v":"AGILITÄT"},null,null,{"$f":"IF($H$2=\"G\",Skillserleuterungen_FTEM!T12,Skillserleuterungen_FTEM!G12)","v":"Richtungsänderung, Drehung, Stop und Start, «Nummelin»"},null,null,{"$f":"IF($H$2=\"G\",Skillserleuterungen_FTEM!W12,Skillserleuterungen_FTEM!J12)","v":0}]
[null,null,null,{"$f":"IF($H$2=\"G\",Skillserleuterungen_FTEM!Q13,Skillserleuterungen_FTEM!D13)","v":"BACKWARDS SKATING"},null,null,{"$f":"IF($H$2=\"G\",Skillserleuterungen_FTEM!T13,Skillserleuterungen_FTEM!G13)","v":"Beschleunigung, Geschwindigkeit, Balance"},null,null,{"$f":"IF($H$2=\"G\",Skillserleuterungen_FTEM!W13,Skillserleuterungen_FTEM!J13)","v":0}]
[null,null,null,{"$f":"IF($H$2=\"G\",Skillserleuterungen_FTEM!Q14,Skillserleuterungen_FTEM!D14)","v":"TOPSPEED"},null,null,{"$f":"IF($H$2=\"G\",Skillserleuterungen_FTEM!T14,Skillserleuterungen_FTEM!G14)","v":"Schnelligkeit, Gleitfähigkeit, vorwärts und rückwärts, Ökonomie"},null,null,{"$f":"IF($H$2=\"G\",Skillserleuterungen_FTEM!W14,Skillserleuterungen_FTEM!J14)","v":0}]
["HOCKEY SENSE",null,null,{"$f":"IF($H$2=\"G\",Skillserleuterungen_FTEM!Q15,Skillserleuterungen_FTEM!D15)","v":"SCORING"},null,null,{"$f":"IF($H$2=\"G\",Skillserleuterungen_FTEM!T15,Skillserleuterungen_FTEM!G15)","v":"Effizienz, variantentreich, überraschend, schnell, hart - Schussvarianten"},null,null,{"$f":"IF($H$2=\"G\",Skillserleuterungen_FTEM!W15,Skillserleuterungen_FTEM!J15)","v":0},null,null,null,{"$f":"IFERROR(AVERAGE(O24:O27),\"-\")","v":"-"},null,{"$f":"IFERROR(AVERAGE(Q24:Q27),\"-\")","v":"-"},null,{"$f":"IFERROR(AVERAGE(S24:S27),\"-\")","v":"-"},null,{"$f":"IFERROR(AVERAGE(U24:U27),\"-\")","v":"-"},null,{"$f":"IFERROR(AVERAGE(W24:W27),\"-\")","v":"-"},null,{"$f":"IFERROR(AVERAGE(Y24:Y27),\"-\")","v":"-"}]
[null,null,null,{"$f":"IF($H$2=\"G\",Skillserleuterungen_FTEM!Q16,Skillserleuterungen_FTEM!D16)","v":"MIT SCHEIBE"},null,null,{"$f":"IF($H$2=\"G\",Skillserleuterungen_FTEM!T16,Skillserleuterungen_FTEM!G16)","v":"Kreativ, performing, batteling, frech, Transition"},null,null,{"$f":"IF($H$2=\"G\",Skillserleuterungen_FTEM!W16,Skillserleuterungen_FTEM!J16)","v":0}]
[null,null,null,{"$f":"IF($H$2=\"G\",Skillserleuterungen_FTEM!Q17,Skillserleuterungen_FTEM!D17)","v":"OHNE SCHEIBE"},null,null,{"$f":"IF($H$2=\"G\",Skillserleuterungen_FTEM!T17,Skillserleuterungen_FTEM!G17)","v":"Anspielbar (Support), 1:1, Gap"},null,null,{"$f":"IF($H$2=\"G\",Skillserleuterungen_FTEM!W17,Skillserleuterungen_FTEM!J17)","v":0}]
[null,null,null,{"$f":"IF($H$2=\"G\",Skillserleuterungen_FTEM!Q18,Skillserleuterungen_FTEM!D18)","v":"DEFENSIV"},null,null,{"$f":"IF($H$2=\"G\",Skillserleuterungen_FTEM!T18,Skillserleuterungen_FTEM!G18)","v":"Verlässlichkeit,  1:1, Gap, Zuordnung"},null,null,{"$f":"IF($H$2=\"G\",Skillserleuterungen_FTEM!W18,Skillserleuterungen_FTEM!J18)","v":0}]
["PERSONALITY",null,null,"FÄHIGKEIT",null,null,"BEOBACHTUNG",null,null,null,null,null,null,"Datum1",null,"Datum2",null,"Datum3",null,"Datum4",null,"Datum5",null,"Player",null,"ZIEL","MASSNAHME:\nSPEZIFISCH,  MESSBAR, REALISITISCH",null,null,null,null,null,null,"TERMIN","ZIEL-KONTROLLE","Datum"]
["PERSON",null,null,{"$f":"IF($H$2=\"G\",Skillserleuterungen_FTEM!Q20,Skillserleuterungen_FTEM!D20)","v":"MOTIVATION"},null,null,{"$f":"IF($H$2=\"G\",Skillserleuterungen_FTEM!T20,Skillserleuterungen_FTEM!G20)","v":"Intrinsischer Antrieb, will sich ständig weiterentwickeln, will der Erste sein und Erfolg haben"},null,null,{"$f":"IF($H$2=\"G\",Skillserleuterungen_FTEM!W20,Skillserleuterungen_FTEM!J20)","v":0},null,null,null,{"$f":"IFERROR(AVERAGE(O29:O32),\"-\")","v":"-"},null,{"$f":"IFERROR(AVERAGE(Q29:Q32),\"-\")","v":"-"},null,{"$f":"IFERROR(AVERAGE(S29:S32),\"-\")","v":"-"},null,{"$f":"IFERROR(AVERAGE(U29:U32),\"-\")","v":"-"},null,{"$f":"IFERROR(AVERAGE(W29:W32),\"-\")","v":"-"},null,{"$f":"IFERROR(AVERAGE(Y29:Y32),\"-\")","v":"-"}]
[null,null,null,{"$f":"IF($H$2=\"G\",Skillserleuterungen_FTEM!Q21,Skillserleuterungen_FTEM!D21)","v":"SELBSBEWUSSTSEIN"},null,null,{"$f":"IF($H$2=\"G\",Skillserleuterungen_FTEM!T21,Skillserleuterungen_FTEM!G21)","v":"Hat das nötige Selbstvertrauen \"I can do it\" haltung, kann eigenen Fähigkeiten einschätzen und agiert mutig"},null,null,{"$f":"IF($H$2=\"G\",Skillserleuterungen_FTEM!W21,Skillserleuterungen_FTEM!J21)","v":0}]
[null,null,null,{"$f":"IF($H$2=\"G\",Skillserleuterungen_FTEM!Q22,Skillserleuterungen_FTEM!D22)","v":"LERNFÄHIGKEIT"},null,null,{"$f":"IF($H$2=\"G\",Skillserleuterungen_FTEM!T22,Skillserleuterungen_FTEM!G22)","v":"Gute Auffassungsgabe (nimmt auf und kann umsetzen), reflektiert eigenes Handeln, versucht aus Fehlern zu lernen und kann Massnahmen ableiten und sich selber coachen"},null,null,{"$f":"IF($H$2=\"G\",Skillserleuterungen_FTEM!W22,Skillserleuterungen_FTEM!J22)","v":0}]
[null,null,null,{"$f":"IF($H$2=\"G\",Skillserleuterungen_FTEM!Q23,Skillserleuterungen_FTEM!D23)","v":"PERFORMANCE LIFESTYLE"},null,null,{"$f":"IF($H$2=\"G\",Skillserleuterungen_FTEM!T23,Skillserleuterungen_FTEM!G23)","v":"Managt Alltag und Umfeld nach dem Leistungsprinzip, kann sich gegen Wiederstände durchsetzten"},null,null,{"$f":"IF($H$2=\"G\",Skillserleuterungen_FTEM!W23,Skillserleuterungen_FTEM!J23)","v":0}]
["POWER",null,null,{"$f":"IF($H$2=\"G\",Skillserleuterungen_FTEM!Q24,Skillserleuterungen_FTEM!D24)","v":"ENERGIEMANAGEMENT"},null,null,{"$f":"IF($H$2=\"G\",Skillserleuterungen_FTEM!T24,Skillserleuterungen_FTEM!G24)","v":"Kann eigene Energie regulieren, bereit zur Regeneration, weiss, wann er \"Vollgas\" geben muss und wann ab-schalten, On/Off-Schalter"},null,null,{"$f":"IF($H$2=\"G\",Skillserleuterungen_FTEM!W24,Skillserleuterungen_FTEM!J24)","v":0},null,null,null,{"$f":"IFERROR(AVERAGE(O33:O36),\"-\")","v":"-"},null,{"$f":"IFERROR(AVERAGE(Q33:Q36),\"-\")","v":"-"},null,{"$f":"IFERROR(AVERAGE(S33:S36),\"-\")","v":"-"},null,{"$f":"IFERROR(AVERAGE(U33:U36),\"-\")","v":"-"},null,{"$f":"IFERROR(AVERAGE(W33:W36),\"-\")","v":"-"},null,{"$f":"IFERROR(AVERAGE(Y33:Y36),\"-\")","v":"-"}]
[null,null,null,{"$f":"IF($H$2=\"G\",Skillserleuterungen_FTEM!Q25,Skillserleuterungen_FTEM!D25)","v":"EINSATZBEREITSCHAFT"},null,null,{"$f":"IF($H$2=\"G\",Skillserleuterungen_FTEM!T25,Skillserleuterungen_FTEM!G25)","v":"Hohe intensität im Spiel und Training, gibt immer sein Maximum, will seine Limiten pushen"},null,null,{"$f":"IF($H$2=\"G\",Skillserleuterungen_FTEM!W25,Skillserleuterungen_FTEM!J25)","v":0}]
[null,null,null,{"$f":"IF($H$2=\"G\",Skillserleuterungen_FTEM!Q26,Skillserleuterungen_FTEM!D26)","v":"EMOTIONSKONTROLLE"},null,null,{"$f":"IF($H$2=\"G\",Skillserleuterungen_FTEM!T26,Skillserleuterungen_FTEM!G26)","v":"Emotionen und Impulse regulieren, unter Druck die Kontrolle behalten, in emotional ansprucksvollen Situationen angemessen agieren können"},null,null,{"$f":"IF($H$2=\"G\",Skillserleuterungen_FTEM!W26,Skillserleuterungen_FTEM!J26)","v":0}]
[null,null,null,{"$f":"IF($H$2=\"G\",Skillserleuterungen_FTEM!Q27,Skillserleuterungen_FTEM!D27)","v":"VORBEREITUNG"},null,null,{"$f":"IF($H$2=\"G\",Skillserleuterungen_FTEM!T27,Skillserleuterungen_FTEM!G27)","v":"Fokus, ILZ, Regeneration, Selbststiumlation, Ernährung"},null,null,{"$f":"IF($H$2=\"G\",Skillserleuterungen_FTEM!W27,Skillserleuterungen_FTEM!J27)","v":0}]
["PYHSE (Athletik)",null,null,{"$f":"IF($H$2=\"G\",Skillserleuterungen_FTEM!Q28,Skillserleuterungen_FTEM!D28)","v":"LEISTUNGSERZEUGUNG (neuromuskuläre Faktoren /Leistungserzeugung)"},null,null,{"$f":"IF($H$2=\"G\",Skillserleuterungen_FTEM!T28,Skillserleuterungen_FTEM!G28)","v":"Verfügt über die nötige Power/ Kraft/ Schnelligkeit in den Beinen un im Oberkörper "},null,null,{"$f":"IF($H$2=\"G\",Skillserleuterungen_FTEM!W28,Skillserleuterungen_FTEM!J28)","v":0},null,null,null,{"$f":"IFERROR(AVERAGE(O37:O40),\"-\")","v":"-"},null,{"$f":"IFERROR(AVERAGE(Q37:Q40),\"-\")","v":"-"},null,{"$f":"IFERROR(AVERAGE(S37:S40),\"-\")","v":"-"},null,{"$f":"IFERROR(AVERAGE(U37:U40),\"-\")","v":"-"},null,{"$f":"IFERROR(AVERAGE(W37:W40),\"-\")","v":"-"},null,{"$f":"IFERROR(AVERAGE(Y37:Y40),\"-\")","v":"-"}]
[null,null,null,{"$f":"IF($H$2=\"G\",Skillserleuterungen_FTEM!Q29,Skillserleuterungen_FTEM!D29)","v":"SPEZ. ERMÜDUNGSRESISTENZ (metabolische, kardiovaskuläre Faktoren)"},null,null,{"$f":"IF($H$2=\"G\",Skillserleuterungen_FTEM!T29,Skillserleuterungen_FTEM!G29)","v":"Ist fähig die Power/ Kraft/ Schnelligkeit innerhalb des Einsatzes lange aufrechtzuerhalten und kann sich zwischen den Einsätzen jeweils vollkommen erholen (auch von Spiel zu Spiel)."},null,null,{"$f":"IF($H$2=\"G\",Skillserleuterungen_FTEM!W29,Skillserleuterungen_FTEM!J29)","v":0}]
[null,null,null,{"$f":"IF($H$2=\"G\",Skillserleuterungen_FTEM!Q30,Skillserleuterungen_FTEM!D30)","v":"BEWEGUNGSKOMPETENZ/ KOORDINATION "},null,null,{"$f":"IF($H$2=\"G\",Skillserleuterungen_FTEM!T30,Skillserleuterungen_FTEM!G30)","v":"Beherrscht die grundlegenden Bewegungsfertigkeiten, die eine unerlässliche Zubringerfunktion für die sportspezifischen \"Skills\" darstellt sowie zur nötigen Bewegungseffizienz führt. "},null,null,{"$f":"IF($H$2=\"G\",Skillserleuterungen_FTEM!W30,Skillserleuterungen_FTEM!J30)","v":0}]
[null,null,null,{"$f":"IF($H$2=\"G\",Skillserleuterungen_FTEM!Q31,Skillserleuterungen_FTEM!D31)","v":"ROBUSTHEIT/ PRÄVENTION"},null,null,{"$f":"IF($H$2=\"G\",Skillserleuterungen_FTEM!T31,Skillserleuterungen_FTEM!G31)","v":"Verletzungsanfälligkeit, Stabilität (Verfügt über die nötige Stabilität, Grundkraft (Körperspannung) \"z.B. Beinachsenstabilität\" und Beweglichkeit in den zentralen Gelenken \"Hüfte, Wirbelsäule\"), Standfestigkeit"},null,null,{"$f":"IF($H$2=\"G\",Skillserleuterungen_FTEM!W31,Skillserleuterungen_FTEM!J31)","v":0}]

{"sheet":"9","index":12,"n_rows":40,"n_cols":36,"rows_kept":40,"cut":false,"hidden":false,"merged":[[38,3,38,5],[38,6,38,11],[39,3,39,5],[39,6,39,11],[32,23,35,23],[32,0,35,2],[32,3,32,5],[32,6,32,11],[32,12,35,12],[32,13,35,13],[36,26,39,32],[36,34,39,34],[21,3,21,5],[21,6,21,11],[34,3,34,5],[34,6,34,11],[36,0,39,2],[36,12,39,12],[36,13,39,13],[36,15,39,15],[36,17,39,17],[36,19,39,19],[36,21,39,21],[36,23,39,23],[36,25,39,25],[36,3,36,5],[36,6,36,11],[37,3,37,5],[37,6,37,11],[32,15,35,15],[27,21,27,22],[28,17,31,17],[28,19,31,19],[28,21,31,21],[29,3,29,5],[29,6,29,11],[30,3,30,5],[30,6,30,11],[32,17,35,17],[32,19,35,19],[32,21,35,21],[33,3,33,5],[33,6,33,11],[35,3,35,5],[35,6,35,11],[23,0,26,2],[23,3,23,5],[23,6,23,11],[23,12,26,12],[23,13,26,13],[23,15,26,15],[27,23,27,24],[27,26,27,32],[28,0,31,2],[28,3,28,5],[28,6,28,11],[28,12,31,12],[28,13,31,13],[28,15,31,15],[31,3,31,5],[31,6,31,11],[28,23,31,23],[27,0,27,2],[27,3,27,5],[27,6,27,11],[27,13,27,14],[27,15,27,16],[27,17,27,18],[27,19,27,20],[19,19,22,19],[19,21,22,21],[19,23,22,23],[20,3,20,5],[20,6,20,11],[22,3,22,5],[22,6,22,11],[26,3,26,5],[26,6,26,11],[23,23,26,23],[23,17,26,17],[23,19,26,19],[23,21,26,21],[24,3,24,5],[24,6,24,11],[25,3,25,5],[25,6,25,11],[12,21,13,21],[15,15,18,15],[15,17,18,17],[15,19,18,19],[15,21,18,21],[15,23,18,23],[18,3,18,5],[18,6,18,11],[19,0,22,2],[19,3,19,5],[19,6,19,11],[19,12,22,12],[19,13,22,13],[19,15,22,15],[19,17,22,17],[15,0,18,2],[15,3,15,5],[15,6,15,11],[15,12,18,12],[15,13,18,13],[16,3,16,5],[16,6,16,11],[17,3,17,5],[17,6,17,11],[11,21,11,22],[11,23,11,24],[11,26,11,32],[11,6,11,11],[12,23,13,23],[13,3,13,5],[13,6,13,11],[14,0,14,2],[14,3,14,5],[14,6,14,11],[14,13,14,14],[14,15,14,16],[14,17,14,18],[14,19,14,20],[14,21,14,22],[14,23,14,24],[12,0,13,2],[12,3,12,5],[12,6,12,11],[12,12,13,12],[12,13,13,13],[12,15,13,15],[12,17,13,17],[12,19,13,19],[4,0,4,1],[4,2,4,5],[4,10,4,24],[10,0,10,24],[10,25,10,35],[32,25,35,25],[32,26,35,32],[32,34,35,34],[12,25,13,25],[12,26,13,32],[12,34,13,34],[15,25,18,25],[15,26,18,32],[15,34,18,34],[19,25,22,25],[19,26,22,32],[19,34,22,34],[14,26,14,32],[11,0,11,2],[11,3,11,5],[11,13,11,14],[11,15,11,16],[11,17,11,18],[11,19,11,20],[0,0,0,24],[0,25,0,26],[0,27,0,32],[0,33,0,35],[23,25,26,25],[23,26,26,32],[23,34,26,34],[28,25,31,25],[28,26,31,32],[28,34,31,34],[1,0,1,1],[1,2,1,5],[1,10,1,24],[2,0,2,1],[2,2,2,5],[2,11,2,24],[6,0,6,1],[6,2,6,35],[7,0,7,1],[7,2,7,35],[8,0,8,1],[8,2,8,35],[3,0,3,1],[3,10,3,24]]}
["Personalien",null,null,null,null,null,null,null,null,null,null,null,null,null,null,null,null,null,null,null,null,null,null,null,null,"Vorausetzungen",null,"Evaluationen",null,null,null,null,null,"Rating"]
["VORNAME",null,{"$f":"IF(ISBLANK(VLOOKUP(9,Tabelle3[],3,0)),\"-\",VLOOKUP(9,Tabelle3[],3,0))","v":"-"},null,null,null,"POSITION",null,null,"ADRESSE",{"$f":"IF(ISBLANK(VLOOKUP(9,Tabelle3[],5,0)),\"-\",VLOOKUP(9,Tabelle3[],5,0))","v":"-"},null,null,null,null,null,null,null,null,null,null,null,null,null,null,"\"Alter\" (Biologisch/Relative Age)",null,"Datum 1",null,null,"cm",null,"Kg",null,"AUSGEZEICHNET",5]
["NAME",null,{"$f":"IF(ISBLANK(VLOOKUP(9,Tabelle3[],2,0)),\"-\",VLOOKUP(9,Tabelle3[],2,0))","v":"-"},null,null,null,"STOCK",null,null,"WOHNORT",{"$f":"IF(ISBLANK(VLOOKUP(9,Tabelle3[],7,0)),\"-\",VLOOKUP(9,Tabelle3[],7,0))","v":"-"},{"$f":"IF(ISBLANK(VLOOKUP(9,Tabelle3[],6,0)),\"-\",VLOOKUP(9,Tabelle3[],6,0))","v":"-"},null,null,null,null,null,null,null,null,null,null,null,null,null,"Veranlagung",null,"Datum 2",null,null,"cm",null,"Kg",null,"GUT",4]
["GEB. DATUM",null,{"$f":"IF(ISBLANK(VLOOKUP(9,Tabelle3[],14,0)),\"-\",VLOOKUP(9,Tabelle3[],14,0))","v":"-"},{"$f":"IF(ISBLANK(VLOOKUP(9,Tabelle3[],15,0)),\"-\",VLOOKUP(9,Tabelle3[],15,0))","v":"-"},{"$f":"IF(ISBLANK(VLOOKUP(9,Tabelle3[],16,0)),\"-\",VLOOKUP(9,Tabelle3[],16,0))","v":"-"},null,"GRÖSSE",null,"cm (Final)","PHONE",{"$f":"IF(ISBLANK(VLOOKUP(9,Tabelle3[],8,0)),\"-\",VLOOKUP(9,Tabelle3[],8,0))","v":"-"},null,null,null,null,null,null,null,null,null,null,null,null,null,null,"Umfeld",null,"Datum 3",null,null,"cm",null,"Kg",null,"DURCHSCHNITT",3]
["SEX",null,{"$f":"IF(ISBLANK(VLOOKUP(9,Tabelle3[],13,0)),\"-\",VLOOKUP(9,Tabelle3[],13,0))","v":"-"},null,null,null,"GEWICHT",null,"Kg (Final)","E-Mail",{"$f":"IF(ISBLANK(VLOOKUP(9,Tabelle3[],9,0)),\"-\",VLOOKUP(9,Tabelle3[],9,0))","v":"-"},null,null,null,null,null,null,null,null,null,null,null,null,null,null,null,null,"Datum 4",null,null,"cm",null,"Kg",null,"MANGELHAFT",2]
[null,null,null,null,null,null,null,null,null,null,null,null,null,null,null,null,null,null,null,null,null,null,null,null,null,null,null,"Datum 5",null,null,"cm",null,"Kg",null,"UNGENÜGEND",1]
["Vision",null,"xxx"]
["Next step",null,"xxx"]
["Stärkenprofil",null,"xxx"]
[]
["EVALUATION (COACH / SPIELER)",null,null,null,null,null,null,null,null,null,null,null,null,null,null,null,null,null,null,null,null,null,null,null,null,"SMART"]
["TEAM",null,null,"FÄHIGKEIT",null,null,"BEOBACHTUNG",null,null,null,null,null,"Final","Datum1",null,"Datum2",null,"Datum3",null,"Datum4",null,"Datum5",null,"Player",null,"ZIEL","MASSNAHME:\nSPEZIFISCH,  MESSBAR, REALISITISCH",null,null,null,null,null,null,"TERMIN","ZIEL-KONTROLLE","Datum"]
["ROLLE, SOZIAL",null,null,{"$f":"IF($H$2=\"G\",Skillserleuterungen_FTEM!Q4,Skillserleuterungen_FTEM!D4)","v":"TEAMDENKEN"},null,null,{"$f":"IF($H$2=\"G\",Skillserleuterungen_FTEM!T4,Skillserleuterungen_FTEM!G4)","v":"Identifikation zur Rolle, Umgang mit Kameraden (sozial integriert)"},null,null,{"$f":"IF($H$2=\"G\",Skillserleuterungen_FTEM!W4,Skillserleuterungen_FTEM!J4)","v":0},null,null,null,{"$f":"IFERROR(AVERAGE(O13:O14),\"-\")","v":"-"},null,{"$f":"IFERROR(AVERAGE(Q13:Q14),\"-\")","v":"-"},null,{"$f":"IFERROR(AVERAGE(S13:S14),\"-\")","v":"-"},null,{"$f":"IFERROR(AVERAGE(U13:U14),\"-\")","v":"-"},null,null,null,{"$f":"IFERROR(AVERAGE(Y13:Y14),\"-\")","v":"-"}]
[null,null,null,{"$f":"IF($H$2=\"G\",Skillserleuterungen_FTEM!Q5,Skillserleuterungen_FTEM!D5)","v":"LEADERSHIP"},null,null,{"$f":"IF($H$2=\"G\",Skillserleuterungen_FTEM!T5,Skillserleuterungen_FTEM!G5)","v":"Übernimmt Verantwortung, macht Mitspieler besser"},null,null,{"$f":"IF($H$2=\"G\",Skillserleuterungen_FTEM!W5,Skillserleuterungen_FTEM!J5)","v":0}]
["ON ICE",null,null,"FÄHIGKEIT",null,null,"BEOBACHTUNG",null,null,null,null,null,null,"Datum1",null,"Datum2",null,"Datum3",null,"Datum4",null,"Datum5",null,"Player",null,"ZIEL","MASSNAHME:\nSPEZIFISCH,  MESSBAR, REALISITISCH",null,null,null,null,null,null,"TERMIN","ZIEL-KONTROLLE","Datum"]
["SKILL",null,null,{"$f":"IF($H$2=\"G\",Skillserleuterungen_FTEM!Q7,Skillserleuterungen_FTEM!D7)","v":"SCHIESSEN"},null,null,{"$f":"IF($H$2=\"G\",Skillserleuterungen_FTEM!T7,Skillserleuterungen_FTEM!G7)","v":"Effizienz / Variantenreichtum, Überraschungsgrad (Quick Release), Präzision, Härte, (taktische Abschlüsse)\nschnell, hart, unter Druck"},null,null,{"$f":"IF($H$2=\"G\",Skillserleuterungen_FTEM!W7,Skillserleuterungen_FTEM!J7)","v":0},null,null,null,{"$f":"IFERROR(AVERAGE(O16:O19),\"-\")","v":"-"},null,{"$f":"IFERROR(AVERAGE(Q16:Q19),\"-\")","v":"-"},null,{"$f":"IFERROR(AVERAGE(S16:S19),\"-\")","v":"-"},null,{"$f":"IFERROR(AVERAGE(U16:U19),\"-\")","v":"-"},null,{"$f":"IFERROR(AVERAGE(W16:W19),\"-\")","v":"-"},null,{"$f":"IFERROR(AVERAGE(Y16:Y19),\"-\")","v":"-"}]
[null,null,null,{"$f":"IF($H$2=\"G\",Skillserleuterungen_FTEM!Q8,Skillserleuterungen_FTEM!D8)","v":"PASSEN"},null,null,{"$f":"IF($H$2=\"G\",Skillserleuterungen_FTEM!T8,Skillserleuterungen_FTEM!G8)","v":"Passabgabe (Distanz, Flippass Backhand), Passannahme (Präzision, Timing, Vorhand, Rückhand, Schlittschuh,Puckspeed"},null,null,{"$f":"IF($H$2=\"G\",Skillserleuterungen_FTEM!W8,Skillserleuterungen_FTEM!J8)","v":0}]
[null,null,null,{"$f":"IF($H$2=\"G\",Skillserleuterungen_FTEM!Q9,Skillserleuterungen_FTEM!D9)","v":"KÖRPERSPIEL"},null,null,{"$f":"IF($H$2=\"G\",Skillserleuterungen_FTEM!T9,Skillserleuterungen_FTEM!G9)","v":"Phyisches Durchsetzungsvermögen, Zweikampf (offenes Eis/Bande), Checks nehmen/Head up, Battle Level, Hart aber fair, mit dem Körper Schüsse blockieren"},null,null,{"$f":"IF($H$2=\"G\",Skillserleuterungen_FTEM!W9,Skillserleuterungen_FTEM!J9)","v":0},null,null,null,{"$f":"IFERROR(AVERAGE(O18:O19),\"-\")","v":"-"},null,{"$f":"IFERROR(AVERAGE(Q18:Q19),\"-\")","v":"-"},null,{"$f":"IFERROR(AVERAGE(S18:S19),\"-\")","v":"-"},null,{"$f":"IFERROR(AVERAGE(U18:U19),\"-\")","v":"-"},null,{"$f":"IFERROR(AVERAGE(W18:W19),\"-\")","v":"-"},null,{"$f":"IFERROR(AVERAGE(Y18:Y19),\"-\")","v":"-"}]
[null,null,null,{"$f":"IF($H$2=\"G\",Skillserleuterungen_FTEM!Q10,Skillserleuterungen_FTEM!D10)","v":"SCHEIBENKONTROLLE"},null,null,{"$f":"IF($H$2=\"G\",Skillserleuterungen_FTEM!T10,Skillserleuterungen_FTEM!G10)","v":"Puckmanagmenet auf engem Raum, Puck Protection,  schwer kontrollierbare Scheiben "},null,null,{"$f":"IF($H$2=\"G\",Skillserleuterungen_FTEM!W10,Skillserleuterungen_FTEM!J10)","v":0}]
["SKATING",null,null,{"$f":"IF($H$2=\"G\",Skillserleuterungen_FTEM!Q11,Skillserleuterungen_FTEM!D11)","v":"FOOTSPEED"},null,null,{"$f":"IF($H$2=\"G\",Skillserleuterungen_FTEM!T11,Skillserleuterungen_FTEM!G11)","v":"Beschleunigung, Antritt, erste 3 Schritte Explosivität, Frequenz"},null,null,{"$f":"IF($H$2=\"G\",Skillserleuterungen_FTEM!W11,Skillserleuterungen_FTEM!J11)","v":0},null,null,null,{"$f":"IFERROR(AVERAGE(O20:O23),\"-\")","v":"-"},null,{"$f":"IFERROR(AVERAGE(Q20:Q23),\"-\")","v":"-"},null,{"$f":"IFERROR(AVERAGE(S20:S23),\"-\")","v":"-"},null,{"$f":"IFERROR(AVERAGE(U20:U23),\"-\")","v":"-"},null,{"$f":"IFERROR(AVERAGE(W20:W23),\"-\")","v":"-"},null,{"$f":"IFERROR(AVERAGE(Y20:Y23),\"-\")","v":"-"}]
[null,null,null,{"$f":"IF($H$2=\"G\",Skillserleuterungen_FTEM!Q12,Skillserleuterungen_FTEM!D12)","v":"AGILITÄT"},null,null,{"$f":"IF($H$2=\"G\",Skillserleuterungen_FTEM!T12,Skillserleuterungen_FTEM!G12)","v":"Richtungsänderung, Drehung, Stop und Start, «Nummelin»"},null,null,{"$f":"IF($H$2=\"G\",Skillserleuterungen_FTEM!W12,Skillserleuterungen_FTEM!J12)","v":0}]
[null,null,null,{"$f":"IF($H$2=\"G\",Skillserleuterungen_FTEM!Q13,Skillserleuterungen_FTEM!D13)","v":"BACKWARDS SKATING"},null,null,{"$f":"IF($H$2=\"G\",Skillserleuterungen_FTEM!T13,Skillserleuterungen_FTEM!G13)","v":"Beschleunigung, Geschwindigkeit, Balance"},null,null,{"$f":"IF($H$2=\"G\",Skillserleuterungen_FTEM!W13,Skillserleuterungen_FTEM!J13)","v":0}]
[null,null,null,{"$f":"IF($H$2=\"G\",Skillserleuterungen_FTEM!Q14,Skillserleuterungen_FTEM!D14)","v":"TOPSPEED"},null,null,{"$f":"IF($H$2=\"G\",Skillserleuterungen_FTEM!T14,Skillserleuterungen_FTEM!G14)","v":"Schnelligkeit, Gleitfähigkeit, vorwärts und rückwärts, Ökonomie"},null,null,{"$f":"IF($H$2=\"G\",Skillserleuterungen_FTEM!W14,Skillserleuterungen_FTEM!J14)","v":0}]
["HOCKEY SENSE",null,null,{"$f":"IF($H$2=\"G\",Skillserleuterungen_FTEM!Q15,Skillserleuterungen_FTEM!D15)","v":"SCORING"},null,null,{"$f":"IF($H$2=\"G\",Skillserleuterungen_FTEM!T15,Skillserleuterungen_FTEM!G15)","v":"Effizienz, variantentreich, überraschend, schnell, hart - Schussvarianten"},null,null,{"$f":"IF($H$2=\"G\",Skillserleuterungen_FTEM!W15,Skillserleuterungen_FTEM!J15)","v":0},null,null,null,{"$f":"IFERROR(AVERAGE(O24:O27),\"-\")","v":"-"},null,{"$f":"IFERROR(AVERAGE(Q24:Q27),\"-\")","v":"-"},null,{"$f":"IFERROR(AVERAGE(S24:S27),\"-\")","v":"-"},null,{"$f":"IFERROR(AVERAGE(U24:U27),\"-\")","v":"-"},null,{"$f":"IFERROR(AVERAGE(W24:W27),\"-\")","v":"-"},null,{"$f":"IFERROR(AVERAGE(Y24:Y27),\"-\")","v":"-"}]
[null,null,null,{"$f":"IF($H$2=\"G\",Skillserleuterungen_FTEM!Q16,Skillserleuterungen_FTEM!D16)","v":"MIT SCHEIBE"},null,null,{"$f":"IF($H$2=\"G\",Skillserleuterungen_FTEM!T16,Skillserleuterungen_FTEM!G16)","v":"Kreativ, performing, batteling, frech, Transition"},null,null,{"$f":"IF($H$2=\"G\",Skillserleuterungen_FTEM!W16,Skillserleuterungen_FTEM!J16)","v":0}]
[null,null,null,{"$f":"IF($H$2=\"G\",Skillserleuterungen_FTEM!Q17,Skillserleuterungen_FTEM!D17)","v":"OHNE SCHEIBE"},null,null,{"$f":"IF($H$2=\"G\",Skillserleuterungen_FTEM!T17,Skillserleuterungen_FTEM!G17)","v":"Anspielbar (Support), 1:1, Gap"},null,null,{"$f":"IF($H$2=\"G\",Skillserleuterungen_FTEM!W17,Skillserleuterungen_FTEM!J17)","v":0}]
[null,null,null,{"$f":"IF($H$2=\"G\",Skillserleuterungen_FTEM!Q18,Skillserleuterungen_FTEM!D18)","v":"DEFENSIV"},null,null,{"$f":"IF($H$2=\"G\",Skillserleuterungen_FTEM!T18,Skillserleuterungen_FTEM!G18)","v":"Verlässlichkeit,  1:1, Gap, Zuordnung"},null,null,{"$f":"IF($H$2=\"G\",Skillserleuterungen_FTEM!W18,Skillserleuterungen_FTEM!J18)","v":0}]
["PERSONALITY",null,null,"FÄHIGKEIT",null,null,"BEOBACHTUNG",null,null,null,null,null,null,"Datum1",null,"Datum2",null,"Datum3",null,"Datum4",null,"Datum5",null,"Player",null,"ZIEL","MASSNAHME:\nSPEZIFISCH,  MESSBAR, REALISITISCH",null,null,null,null,null,null,"TERMIN","ZIEL-KONTROLLE","Datum"]
["PERSON",null,null,{"$f":"IF($H$2=\"G\",Skillserleuterungen_FTEM!Q20,Skillserleuterungen_FTEM!D20)","v":"MOTIVATION"},null,null,{"$f":"IF($H$2=\"G\",Skillserleuterungen_FTEM!T20,Skillserleuterungen_FTEM!G20)","v":"Intrinsischer Antrieb, will sich ständig weiterentwickeln, will der Erste sein und Erfolg haben"},null,null,{"$f":"IF($H$2=\"G\",Skillserleuterungen_FTEM!W20,Skillserleuterungen_FTEM!J20)","v":0},null,null,null,{"$f":"IFERROR(AVERAGE(O29:O32),\"-\")","v":"-"},null,{"$f":"IFERROR(AVERAGE(Q29:Q32),\"-\")","v":"-"},null,{"$f":"IFERROR(AVERAGE(S29:S32),\"-\")","v":"-"},null,{"$f":"IFERROR(AVERAGE(U29:U32),\"-\")","v":"-"},null,{"$f":"IFERROR(AVERAGE(W29:W32),\"-\")","v":"-"},null,{"$f":"IFERROR(AVERAGE(Y29:Y32),\"-\")","v":"-"}]
[null,null,null,{"$f":"IF($H$2=\"G\",Skillserleuterungen_FTEM!Q21,Skillserleuterungen_FTEM!D21)","v":"SELBSBEWUSSTSEIN"},null,null,{"$f":"IF($H$2=\"G\",Skillserleuterungen_FTEM!T21,Skillserleuterungen_FTEM!G21)","v":"Hat das nötige Selbstvertrauen \"I can do it\" haltung, kann eigenen Fähigkeiten einschätzen und agiert mutig"},null,null,{"$f":"IF($H$2=\"G\",Skillserleuterungen_FTEM!W21,Skillserleuterungen_FTEM!J21)","v":0}]
[null,null,null,{"$f":"IF($H$2=\"G\",Skillserleuterungen_FTEM!Q22,Skillserleuterungen_FTEM!D22)","v":"LERNFÄHIGKEIT"},null,null,{"$f":"IF($H$2=\"G\",Skillserleuterungen_FTEM!T22,Skillserleuterungen_FTEM!G22)","v":"Gute Auffassungsgabe (nimmt auf und kann umsetzen), reflektiert eigenes Handeln, versucht aus Fehlern zu lernen und kann Massnahmen ableiten und sich selber coachen"},null,null,{"$f":"IF($H$2=\"G\",Skillserleuterungen_FTEM!W22,Skillserleuterungen_FTEM!J22)","v":0}]
[null,null,null,{"$f":"IF($H$2=\"G\",Skillserleuterungen_FTEM!Q23,Skillserleuterungen_FTEM!D23)","v":"PERFORMANCE LIFESTYLE"},null,null,{"$f":"IF($H$2=\"G\",Skillserleuterungen_FTEM!T23,Skillserleuterungen_FTEM!G23)","v":"Managt Alltag und Umfeld nach dem Leistungsprinzip, kann sich gegen Wiederstände durchsetzten"},null,null,{"$f":"IF($H$2=\"G\",Skillserleuterungen_FTEM!W23,Skillserleuterungen_FTEM!J23)","v":0}]
["POWER",null,null,{"$f":"IF($H$2=\"G\",Skillserleuterungen_FTEM!Q24,Skillserleuterungen_FTEM!D24)","v":"ENERGIEMANAGEMENT"},null,null,{"$f":"IF($H$2=\"G\",Skillserleuterungen_FTEM!T24,Skillserleuterungen_FTEM!G24)","v":"Kann eigene Energie regulieren, bereit zur Regeneration, weiss, wann er \"Vollgas\" geben muss und wann ab-schalten, On/Off-Schalter"},null,null,{"$f":"IF($H$2=\"G\",Skillserleuterungen_FTEM!W24,Skillserleuterungen_FTEM!J24)","v":0},null,null,null,{"$f":"IFERROR(AVERAGE(O33:O36),\"-\")","v":"-"},null,{"$f":"IFERROR(AVERAGE(Q33:Q36),\"-\")","v":"-"},null,{"$f":"IFERROR(AVERAGE(S33:S36),\"-\")","v":"-"},null,{"$f":"IFERROR(AVERAGE(U33:U36),\"-\")","v":"-"},null,{"$f":"IFERROR(AVERAGE(W33:W36),\"-\")","v":"-"},null,{"$f":"IFERROR(AVERAGE(Y33:Y36),\"-\")","v":"-"}]
[null,null,null,{"$f":"IF($H$2=\"G\",Skillserleuterungen_FTEM!Q25,Skillserleuterungen_FTEM!D25)","v":"EINSATZBEREITSCHAFT"},null,null,{"$f":"IF($H$2=\"G\",Skillserleuterungen_FTEM!T25,Skillserleuterungen_FTEM!G25)","v":"Hohe intensität im Spiel und Training, gibt immer sein Maximum, will seine Limiten pushen"},null,null,{"$f":"IF($H$2=\"G\",Skillserleuterungen_FTEM!W25,Skillserleuterungen_FTEM!J25)","v":0}]
[null,null,null,{"$f":"IF($H$2=\"G\",Skillserleuterungen_FTEM!Q26,Skillserleuterungen_FTEM!D26)","v":"EMOTIONSKONTROLLE"},null,null,{"$f":"IF($H$2=\"G\",Skillserleuterungen_FTEM!T26,Skillserleuterungen_FTEM!G26)","v":"Emotionen und Impulse regulieren, unter Druck die Kontrolle behalten, in emotional ansprucksvollen Situationen angemessen agieren können"},null,null,{"$f":"IF($H$2=\"G\",Skillserleuterungen_FTEM!W26,Skillserleuterungen_FTEM!J26)","v":0}]
[null,null,null,{"$f":"IF($H$2=\"G\",Skillserleuterungen_FTEM!Q27,Skillserleuterungen_FTEM!D27)","v":"VORBEREITUNG"},null,null,{"$f":"IF($H$2=\"G\",Skillserleuterungen_FTEM!T27,Skillserleuterungen_FTEM!G27)","v":"Fokus, ILZ, Regeneration, Selbststiumlation, Ernährung"},null,null,{"$f":"IF($H$2=\"G\",Skillserleuterungen_FTEM!W27,Skillserleuterungen_FTEM!J27)","v":0}]
["PYHSE (Athletik)",null,null,{"$f":"IF($H$2=\"G\",Skillserleuterungen_FTEM!Q28,Skillserleuterungen_FTEM!D28)","v":"LEISTUNGSERZEUGUNG (neuromuskuläre Faktoren /Leistungserzeugung)"},null,null,{"$f":"IF($H$2=\"G\",Skillserleuterungen_FTEM!T28,Skillserleuterungen_FTEM!G28)","v":"Verfügt über die nötige Power/ Kraft/ Schnelligkeit in den Beinen un im Oberkörper "},null,null,{"$f":"IF($H$2=\"G\",Skillserleuterungen_FTEM!W28,Skillserleuterungen_FTEM!J28)","v":0},null,null,null,{"$f":"IFERROR(AVERAGE(O37:O40),\"-\")","v":"-"},null,{"$f":"IFERROR(AVERAGE(Q37:Q40),\"-\")","v":"-"},null,{"$f":"IFERROR(AVERAGE(S37:S40),\"-\")","v":"-"},null,{"$f":"IFERROR(AVERAGE(U37:U40),\"-\")","v":"-"},null,{"$f":"IFERROR(AVERAGE(W37:W40),\"-\")","v":"-"},null,{"$f":"IFERROR(AVERAGE(Y37:Y40),\"-\")","v":"-"}]
[null,null,null,{"$f":"IF($H$2=\"G\",Skillserleuterungen_FTEM!Q29,Skillserleuterungen_FTEM!D29)","v":"SPEZ. ERMÜDUNGSRESISTENZ (metabolische, kardiovaskuläre Faktoren)"},null,null,{"$f":"IF($H$2=\"G\",Skillserleuterungen_FTEM!T29,Skillserleuterungen_FTEM!G29)","v":"Ist fähig die Power/ Kraft/ Schnelligkeit innerhalb des Einsatzes lange aufrechtzuerhalten und kann sich zwischen den Einsätzen jeweils vollkommen erholen (auch von Spiel zu Spiel)."},null,null,{"$f":"IF($H$2=\"G\",Skillserleuterungen_FTEM!W29,Skillserleuterungen_FTEM!J29)","v":0}]
[null,null,null,{"$f":"IF($H$2=\"G\",Skillserleuterungen_FTEM!Q30,Skillserleuterungen_FTEM!D30)","v":"BEWEGUNGSKOMPETENZ/ KOORDINATION "},null,null,{"$f":"IF($H$2=\"G\",Skillserleuterungen_FTEM!T30,Skillserleuterungen_FTEM!G30)","v":"Beherrscht die grundlegenden Bewegungsfertigkeiten, die eine unerlässliche Zubringerfunktion für die sportspezifischen \"Skills\" darstellt sowie zur nötigen Bewegungseffizienz führt. "},null,null,{"$f":"IF($H$2=\"G\",Skillserleuterungen_FTEM!W30,Skillserleuterungen_FTEM!J30)","v":0}]
[null,null,null,{"$f":"IF($H$2=\"G\",Skillserleuterungen_FTEM!Q31,Skillserleuterungen_FTEM!D31)","v":"ROBUSTHEIT/ PRÄVENTION"},null,null,{"$f":"IF($H$2=\"G\",Skillserleuterungen_FTEM!T31,Skillserleuterungen_FTEM!G31)","v":"Verletzungsanfälligkeit, Stabilität (Verfügt über die nötige Stabilität, Grundkraft (Körperspannung) \"z.B. Beinachsenstabilität\" und Beweglichkeit in den zentralen Gelenken \"Hüfte, Wirbelsäule\"), Standfestigkeit"},null,null,{"$f":"IF($H$2=\"G\",Skillserleuterungen_FTEM!W31,Skillserleuterungen_FTEM!J31)","v":0}]

{"sheet":"10","index":13,"n_rows":40,"n_cols":36,"rows_kept":40,"cut":false,"hidden":false,"merged":[[38,3,38,5],[38,6,38,11],[39,3,39,5],[39,6,39,11],[32,23,35,23],[32,0,35,2],[32,3,32,5],[32,6,32,11],[32,12,35,12],[32,13,35,13],[36,26,39,32],[36,34,39,34],[21,3,21,5],[21,6,21,11],[34,3,34,5],[34,6,34,11],[36,0,39,2],[36,12,39,12],[36,13,39,13],[36,15,39,15],[36,17,39,17],[36,19,39,19],[36,21,39,21],[36,23,39,23],[36,25,39,25],[36,3,36,5],[36,6,36,11],[37,3,37,5],[37,6,37,11],[32,15,35,15],[27,21,27,22],[28,17,31,17],[28,19,31,19],[28,21,31,21],[29,3,29,5],[29,6,29,11],[30,3,30,5],[30,6,30,11],[32,17,35,17],[32,19,35,19],[32,21,35,21],[33,3,33,5],[33,6,33,11],[35,3,35,5],[35,6,35,11],[23,0,26,2],[23,3,23,5],[23,6,23,11],[23,12,26,12],[23,13,26,13],[23,15,26,15],[27,23,27,24],[27,26,27,32],[28,0,31,2],[28,3,28,5],[28,6,28,11],[28,12,31,12],[28,13,31,13],[28,15,31,15],[31,3,31,5],[31,6,31,11],[28,23,31,23],[27,0,27,2],[27,3,27,5],[27,6,27,11],[27,13,27,14],[27,15,27,16],[27,17,27,18],[27,19,27,20],[19,19,22,19],[19,21,22,21],[19,23,22,23],[20,3,20,5],[20,6,20,11],[22,3,22,5],[22,6,22,11],[26,3,26,5],[26,6,26,11],[23,23,26,23],[23,17,26,17],[23,19,26,19],[23,21,26,21],[24,3,24,5],[24,6,24,11],[25,3,25,5],[25,6,25,11],[12,21,13,21],[15,15,18,15],[15,17,18,17],[15,19,18,19],[15,21,18,21],[15,23,18,23],[18,3,18,5],[18,6,18,11],[19,0,22,2],[19,3,19,5],[19,6,19,11],[19,12,22,12],[19,13,22,13],[19,15,22,15],[19,17,22,17],[15,0,18,2],[15,3,15,5],[15,6,15,11],[15,12,18,12],[15,13,18,13],[16,3,16,5],[16,6,16,11],[17,3,17,5],[17,6,17,11],[11,21,11,22],[11,23,11,24],[11,26,11,32],[11,6,11,11],[12,23,13,23],[13,3,13,5],[13,6,13,11],[14,0,14,2],[14,3,14,5],[14,6,14,11],[14,13,14,14],[14,15,14,16],[14,17,14,18],[14,19,14,20],[14,21,14,22],[14,23,14,24],[12,0,13,2],[12,3,12,5],[12,6,12,11],[12,12,13,12],[12,13,13,13],[12,15,13,15],[12,17,13,17],[12,19,13,19],[4,0,4,1],[4,2,4,5],[4,10,4,24],[10,0,10,24],[10,25,10,35],[32,25,35,25],[32,26,35,32],[32,34,35,34],[12,25,13,25],[12,26,13,32],[12,34,13,34],[15,25,18,25],[15,26,18,32],[15,34,18,34],[19,25,22,25],[19,26,22,32],[19,34,22,34],[14,26,14,32],[11,0,11,2],[11,3,11,5],[11,13,11,14],[11,15,11,16],[11,17,11,18],[11,19,11,20],[0,0,0,24],[0,25,0,26],[0,27,0,32],[0,33,0,35],[23,25,26,25],[23,26,26,32],[23,34,26,34],[28,25,31,25],[28,26,31,32],[28,34,31,34],[1,0,1,1],[1,2,1,5],[1,10,1,24],[2,0,2,1],[2,2,2,5],[2,11,2,24],[6,0,6,1],[6,2,6,35],[7,0,7,1],[7,2,7,35],[8,0,8,1],[8,2,8,35],[3,0,3,1],[3,10,3,24]]}
["Personalien",null,null,null,null,null,null,null,null,null,null,null,null,null,null,null,null,null,null,null,null,null,null,null,null,"Vorausetzungen",null,"Evaluationen",null,null,null,null,null,"Rating"]
["VORNAME",null,{"$f":"IF(ISBLANK(VLOOKUP(10,Tabelle3[],3,0)),\"-\",VLOOKUP(10,Tabelle3[],3,0))","v":"-"},null,null,null,"POSITION",null,null,"ADRESSE",{"$f":"IF(ISBLANK(VLOOKUP(10,Tabelle3[],5,0)),\"-\",VLOOKUP(10,Tabelle3[],5,0))","v":"-"},null,null,null,null,null,null,null,null,null,null,null,null,null,null,"\"Alter\" (Biologisch/Relative Age)",null,"Datum 1",null,null,"cm",null,"Kg",null,"AUSGEZEICHNET",5]
["NAME",null,{"$f":"IF(ISBLANK(VLOOKUP(10,Tabelle3[],2,0)),\"-\",VLOOKUP(10,Tabelle3[],2,0))","v":"-"},null,null,null,"STOCK",null,null,"WOHNORT",{"$f":"IF(ISBLANK(VLOOKUP(10,Tabelle3[],7,0)),\"-\",VLOOKUP(10,Tabelle3[],7,0))","v":"-"},{"$f":"IF(ISBLANK(VLOOKUP(10,Tabelle3[],6,0)),\"-\",VLOOKUP(10,Tabelle3[],6,0))","v":"-"},null,null,null,null,null,null,null,null,null,null,null,null,null,"Veranlagung",null,"Datum 2",null,null,"cm",null,"Kg",null,"GUT",4]
["GEB. DATUM",null,{"$f":"IF(ISBLANK(VLOOKUP(10,Tabelle3[],14,0)),\"-\",VLOOKUP(10,Tabelle3[],14,0))","v":"-"},{"$f":"IF(ISBLANK(VLOOKUP(10,Tabelle3[],15,0)),\"-\",VLOOKUP(10,Tabelle3[],15,0))","v":"-"},{"$f":"IF(ISBLANK(VLOOKUP(10,Tabelle3[],16,0)),\"-\",VLOOKUP(10,Tabelle3[],16,0))","v":"-"},null,"GRÖSSE",null,"cm (Final)","PHONE",{"$f":"IF(ISBLANK(VLOOKUP(10,Tabelle3[],8,0)),\"-\",VLOOKUP(10,Tabelle3[],8,0))","v":"-"},null,null,null,null,null,null,null,null,null,null,null,null,null,null,"Umfeld",null,"Datum 3",null,null,"cm",null,"Kg",null,"DURCHSCHNITT",3]
["SEX",null,{"$f":"IF(ISBLANK(VLOOKUP(10,Tabelle3[],13,0)),\"-\",VLOOKUP(10,Tabelle3[],13,0))","v":"-"},null,null,null,"GEWICHT",null,"Kg (Final)","E-Mail",{"$f":"IF(ISBLANK(VLOOKUP(10,Tabelle3[],9,0)),\"-\",VLOOKUP(10,Tabelle3[],9,0))","v":"-"},null,null,null,null,null,null,null,null,null,null,null,null,null,null,null,null,"Datum 4",null,null,"cm",null,"Kg",null,"MANGELHAFT",2]
[null,null,null,null,null,null,null,null,null,null,null,null,null,null,null,null,null,null,null,null,null,null,null,null,null,null,null,"Datum 5",null,null,"cm",null,"Kg",null,"UNGENÜGEND",1]
["Vision",null,"xxx"]
["Next step",null,"xxx"]
["Stärkenprofil",null,"xxx"]
[]
["EVALUATION (COACH / SPIELER)",null,null,null,null,null,null,null,null,null,null,null,null,null,null,null,null,null,null,null,null,null,null,null,null,"SMART"]
["TEAM",null,null,"FÄHIGKEIT",null,null,"BEOBACHTUNG",null,null,null,null,null,"Final","Datum1",null,"Datum2",null,"Datum3",null,"Datum4",null,"Datum5",null,"Player",null,"ZIEL","MASSNAHME:\nSPEZIFISCH,  MESSBAR, REALISITISCH",null,null,null,null,null,null,"TERMIN","ZIEL-KONTROLLE","Datum"]
["ROLLE, SOZIAL",null,null,{"$f":"IF($H$2=\"G\",Skillserleuterungen_FTEM!Q4,Skillserleuterungen_FTEM!D4)","v":"TEAMDENKEN"},null,null,{"$f":"IF($H$2=\"G\",Skillserleuterungen_FTEM!T4,Skillserleuterungen_FTEM!G4)","v":"Identifikation zur Rolle, Umgang mit Kameraden (sozial integriert)"},null,null,{"$f":"IF($H$2=\"G\",Skillserleuterungen_FTEM!W4,Skillserleuterungen_FTEM!J4)","v":0},null,null,null,{"$f":"IFERROR(AVERAGE(O13:O14),\"-\")","v":"-"},null,{"$f":"IFERROR(AVERAGE(Q13:Q14),\"-\")","v":"-"},null,{"$f":"IFERROR(AVERAGE(S13:S14),\"-\")","v":"-"},null,{"$f":"IFERROR(AVERAGE(U13:U14),\"-\")","v":"-"},null,null,null,{"$f":"IFERROR(AVERAGE(Y13:Y14),\"-\")","v":"-"}]
[null,null,null,{"$f":"IF($H$2=\"G\",Skillserleuterungen_FTEM!Q5,Skillserleuterungen_FTEM!D5)","v":"LEADERSHIP"},null,null,{"$f":"IF($H$2=\"G\",Skillserleuterungen_FTEM!T5,Skillserleuterungen_FTEM!G5)","v":"Übernimmt Verantwortung, macht Mitspieler besser"},null,null,{"$f":"IF($H$2=\"G\",Skillserleuterungen_FTEM!W5,Skillserleuterungen_FTEM!J5)","v":0}]
["ON ICE",null,null,"FÄHIGKEIT",null,null,"BEOBACHTUNG",null,null,null,null,null,null,"Datum1",null,"Datum2",null,"Datum3",null,"Datum4",null,"Datum5",null,"Player",null,"ZIEL","MASSNAHME:\nSPEZIFISCH,  MESSBAR, REALISITISCH",null,null,null,null,null,null,"TERMIN","ZIEL-KONTROLLE","Datum"]
["SKILL",null,null,{"$f":"IF($H$2=\"G\",Skillserleuterungen_FTEM!Q7,Skillserleuterungen_FTEM!D7)","v":"SCHIESSEN"},null,null,{"$f":"IF($H$2=\"G\",Skillserleuterungen_FTEM!T7,Skillserleuterungen_FTEM!G7)","v":"Effizienz / Variantenreichtum, Überraschungsgrad (Quick Release), Präzision, Härte, (taktische Abschlüsse)\nschnell, hart, unter Druck"},null,null,{"$f":"IF($H$2=\"G\",Skillserleuterungen_FTEM!W7,Skillserleuterungen_FTEM!J7)","v":0},null,null,null,{"$f":"IFERROR(AVERAGE(O16:O19),\"-\")","v":"-"},null,{"$f":"IFERROR(AVERAGE(Q16:Q19),\"-\")","v":"-"},null,{"$f":"IFERROR(AVERAGE(S16:S19),\"-\")","v":"-"},null,{"$f":"IFERROR(AVERAGE(U16:U19),\"-\")","v":"-"},null,{"$f":"IFERROR(AVERAGE(W16:W19),\"-\")","v":"-"},null,{"$f":"IFERROR(AVERAGE(Y16:Y19),\"-\")","v":"-"}]
[null,null,null,{"$f":"IF($H$2=\"G\",Skillserleuterungen_FTEM!Q8,Skillserleuterungen_FTEM!D8)","v":"PASSEN"},null,null,{"$f":"IF($H$2=\"G\",Skillserleuterungen_FTEM!T8,Skillserleuterungen_FTEM!G8)","v":"Passabgabe (Distanz, Flippass Backhand), Passannahme (Präzision, Timing, Vorhand, Rückhand, Schlittschuh,Puckspeed"},null,null,{"$f":"IF($H$2=\"G\",Skillserleuterungen_FTEM!W8,Skillserleuterungen_FTEM!J8)","v":0}]
[null,null,null,{"$f":"IF($H$2=\"G\",Skillserleuterungen_FTEM!Q9,Skillserleuterungen_FTEM!D9)","v":"KÖRPERSPIEL"},null,null,{"$f":"IF($H$2=\"G\",Skillserleuterungen_FTEM!T9,Skillserleuterungen_FTEM!G9)","v":"Phyisches Durchsetzungsvermögen, Zweikampf (offenes Eis/Bande), Checks nehmen/Head up, Battle Level, Hart aber fair, mit dem Körper Schüsse blockieren"},null,null,{"$f":"IF($H$2=\"G\",Skillserleuterungen_FTEM!W9,Skillserleuterungen_FTEM!J9)","v":0},null,null,null,{"$f":"IFERROR(AVERAGE(O18:O19),\"-\")","v":"-"},null,{"$f":"IFERROR(AVERAGE(Q18:Q19),\"-\")","v":"-"},null,{"$f":"IFERROR(AVERAGE(S18:S19),\"-\")","v":"-"},null,{"$f":"IFERROR(AVERAGE(U18:U19),\"-\")","v":"-"},null,{"$f":"IFERROR(AVERAGE(W18:W19),\"-\")","v":"-"},null,{"$f":"IFERROR(AVERAGE(Y18:Y19),\"-\")","v":"-"}]
[null,null,null,{"$f":"IF($H$2=\"G\",Skillserleuterungen_FTEM!Q10,Skillserleuterungen_FTEM!D10)","v":"SCHEIBENKONTROLLE"},null,null,{"$f":"IF($H$2=\"G\",Skillserleuterungen_FTEM!T10,Skillserleuterungen_FTEM!G10)","v":"Puckmanagmenet auf engem Raum, Puck Protection,  schwer kontrollierbare Scheiben "},null,null,{"$f":"IF($H$2=\"G\",Skillserleuterungen_FTEM!W10,Skillserleuterungen_FTEM!J10)","v":0}]
["SKATING",null,null,{"$f":"IF($H$2=\"G\",Skillserleuterungen_FTEM!Q11,Skillserleuterungen_FTEM!D11)","v":"FOOTSPEED"},null,null,{"$f":"IF($H$2=\"G\",Skillserleuterungen_FTEM!T11,Skillserleuterungen_FTEM!G11)","v":"Beschleunigung, Antritt, erste 3 Schritte Explosivität, Frequenz"},null,null,{"$f":"IF($H$2=\"G\",Skillserleuterungen_FTEM!W11,Skillserleuterungen_FTEM!J11)","v":0},null,null,null,{"$f":"IFERROR(AVERAGE(O20:O23),\"-\")","v":"-"},null,{"$f":"IFERROR(AVERAGE(Q20:Q23),\"-\")","v":"-"},null,{"$f":"IFERROR(AVERAGE(S20:S23),\"-\")","v":"-"},null,{"$f":"IFERROR(AVERAGE(U20:U23),\"-\")","v":"-"},null,{"$f":"IFERROR(AVERAGE(W20:W23),\"-\")","v":"-"},null,{"$f":"IFERROR(AVERAGE(Y20:Y23),\"-\")","v":"-"}]
[null,null,null,{"$f":"IF($H$2=\"G\",Skillserleuterungen_FTEM!Q12,Skillserleuterungen_FTEM!D12)","v":"AGILITÄT"},null,null,{"$f":"IF($H$2=\"G\",Skillserleuterungen_FTEM!T12,Skillserleuterungen_FTEM!G12)","v":"Richtungsänderung, Drehung, Stop und Start, «Nummelin»"},null,null,{"$f":"IF($H$2=\"G\",Skillserleuterungen_FTEM!W12,Skillserleuterungen_FTEM!J12)","v":0}]
[null,null,null,{"$f":"IF($H$2=\"G\",Skillserleuterungen_FTEM!Q13,Skillserleuterungen_FTEM!D13)","v":"BACKWARDS SKATING"},null,null,{"$f":"IF($H$2=\"G\",Skillserleuterungen_FTEM!T13,Skillserleuterungen_FTEM!G13)","v":"Beschleunigung, Geschwindigkeit, Balance"},null,null,{"$f":"IF($H$2=\"G\",Skillserleuterungen_FTEM!W13,Skillserleuterungen_FTEM!J13)","v":0}]
[null,null,null,{"$f":"IF($H$2=\"G\",Skillserleuterungen_FTEM!Q14,Skillserleuterungen_FTEM!D14)","v":"TOPSPEED"},null,null,{"$f":"IF($H$2=\"G\",Skillserleuterungen_FTEM!T14,Skillserleuterungen_FTEM!G14)","v":"Schnelligkeit, Gleitfähigkeit, vorwärts und rückwärts, Ökonomie"},null,null,{"$f":"IF($H$2=\"G\",Skillserleuterungen_FTEM!W14,Skillserleuterungen_FTEM!J14)","v":0}]
["HOCKEY SENSE",null,null,{"$f":"IF($H$2=\"G\",Skillserleuterungen_FTEM!Q15,Skillserleuterungen_FTEM!D15)","v":"SCORING"},null,null,{"$f":"IF($H$2=\"G\",Skillserleuterungen_FTEM!T15,Skillserleuterungen_FTEM!G15)","v":"Effizienz, variantentreich, überraschend, schnell, hart - Schussvarianten"},null,null,{"$f":"IF($H$2=\"G\",Skillserleuterungen_FTEM!W15,Skillserleuterungen_FTEM!J15)","v":0},null,null,null,{"$f":"IFERROR(AVERAGE(O24:O27),\"-\")","v":"-"},null,{"$f":"IFERROR(AVERAGE(Q24:Q27),\"-\")","v":"-"},null,{"$f":"IFERROR(AVERAGE(S24:S27),\"-\")","v":"-"},null,{"$f":"IFERROR(AVERAGE(U24:U27),\"-\")","v":"-"},null,{"$f":"IFERROR(AVERAGE(W24:W27),\"-\")","v":"-"},null,{"$f":"IFERROR(AVERAGE(Y24:Y27),\"-\")","v":"-"}]
[null,null,null,{"$f":"IF($H$2=\"G\",Skillserleuterungen_FTEM!Q16,Skillserleuterungen_FTEM!D16)","v":"MIT SCHEIBE"},null,null,{"$f":"IF($H$2=\"G\",Skillserleuterungen_FTEM!T16,Skillserleuterungen_FTEM!G16)","v":"Kreativ, performing, batteling, frech, Transition"},null,null,{"$f":"IF($H$2=\"G\",Skillserleuterungen_FTEM!W16,Skillserleuterungen_FTEM!J16)","v":0}]
[null,null,null,{"$f":"IF($H$2=\"G\",Skillserleuterungen_FTEM!Q17,Skillserleuterungen_FTEM!D17)","v":"OHNE SCHEIBE"},null,null,{"$f":"IF($H$2=\"G\",Skillserleuterungen_FTEM!T17,Skillserleuterungen_FTEM!G17)","v":"Anspielbar (Support), 1:1, Gap"},null,null,{"$f":"IF($H$2=\"G\",Skillserleuterungen_FTEM!W17,Skillserleuterungen_FTEM!J17)","v":0}]
[null,null,null,{"$f":"IF($H$2=\"G\",Skillserleuterungen_FTEM!Q18,Skillserleuterungen_FTEM!D18)","v":"DEFENSIV"},null,null,{"$f":"IF($H$2=\"G\",Skillserleuterungen_FTEM!T18,Skillserleuterungen_FTEM!G18)","v":"Verlässlichkeit,  1:1, Gap, Zuordnung"},null,null,{"$f":"IF($H$2=\"G\",Skillserleuterungen_FTEM!W18,Skillserleuterungen_FTEM!J18)","v":0}]
["PERSONALITY",null,null,"FÄHIGKEIT",null,null,"BEOBACHTUNG",null,null,null,null,null,null,"Datum1",null,"Datum2",null,"Datum3",null,"Datum4",null,"Datum5",null,"Player",null,"ZIEL","MASSNAHME:\nSPEZIFISCH,  MESSBAR, REALISITISCH",null,null,null,null,null,null,"TERMIN","ZIEL-KONTROLLE","Datum"]
["PERSON",null,null,{"$f":"IF($H$2=\"G\",Skillserleuterungen_FTEM!Q20,Skillserleuterungen_FTEM!D20)","v":"MOTIVATION"},null,null,{"$f":"IF($H$2=\"G\",Skillserleuterungen_FTEM!T20,Skillserleuterungen_FTEM!G20)","v":"Intrinsischer Antrieb, will sich ständig weiterentwickeln, will der Erste sein und Erfolg haben"},null,null,{"$f":"IF($H$2=\"G\",Skillserleuterungen_FTEM!W20,Skillserleuterungen_FTEM!J20)","v":0},null,null,null,{"$f":"IFERROR(AVERAGE(O29:O32),\"-\")","v":"-"},null,{"$f":"IFERROR(AVERAGE(Q29:Q32),\"-\")","v":"-"},null,{"$f":"IFERROR(AVERAGE(S29:S32),\"-\")","v":"-"},null,{"$f":"IFERROR(AVERAGE(U29:U32),\"-\")","v":"-"},null,{"$f":"IFERROR(AVERAGE(W29:W32),\"-\")","v":"-"},null,{"$f":"IFERROR(AVERAGE(Y29:Y32),\"-\")","v":"-"}]
[null,null,null,{"$f":"IF($H$2=\"G\",Skillserleuterungen_FTEM!Q21,Skillserleuterungen_FTEM!D21)","v":"SELBSBEWUSSTSEIN"},null,null,{"$f":"IF($H$2=\"G\",Skillserleuterungen_FTEM!T21,Skillserleuterungen_FTEM!G21)","v":"Hat das nötige Selbstvertrauen \"I can do it\" haltung, kann eigenen Fähigkeiten einschätzen und agiert mutig"},null,null,{"$f":"IF($H$2=\"G\",Skillserleuterungen_FTEM!W21,Skillserleuterungen_FTEM!J21)","v":0}]
[null,null,null,{"$f":"IF($H$2=\"G\",Skillserleuterungen_FTEM!Q22,Skillserleuterungen_FTEM!D22)","v":"LERNFÄHIGKEIT"},null,null,{"$f":"IF($H$2=\"G\",Skillserleuterungen_FTEM!T22,Skillserleuterungen_FTEM!G22)","v":"Gute Auffassungsgabe (nimmt auf und kann umsetzen), reflektiert eigenes Handeln, versucht aus Fehlern zu lernen und kann Massnahmen ableiten und sich selber coachen"},null,null,{"$f":"IF($H$2=\"G\",Skillserleuterungen_FTEM!W22,Skillserleuterungen_FTEM!J22)","v":0}]
[null,null,null,{"$f":"IF($H$2=\"G\",Skillserleuterungen_FTEM!Q23,Skillserleuterungen_FTEM!D23)","v":"PERFORMANCE LIFESTYLE"},null,null,{"$f":"IF($H$2=\"G\",Skillserleuterungen_FTEM!T23,Skillserleuterungen_FTEM!G23)","v":"Managt Alltag und Umfeld nach dem Leistungsprinzip, kann sich gegen Wiederstände durchsetzten"},null,null,{"$f":"IF($H$2=\"G\",Skillserleuterungen_FTEM!W23,Skillserleuterungen_FTEM!J23)","v":0}]
["POWER",null,null,{"$f":"IF($H$2=\"G\",Skillserleuterungen_FTEM!Q24,Skillserleuterungen_FTEM!D24)","v":"ENERGIEMANAGEMENT"},null,null,{"$f":"IF($H$2=\"G\",Skillserleuterungen_FTEM!T24,Skillserleuterungen_FTEM!G24)","v":"Kann eigene Energie regulieren, bereit zur Regeneration, weiss, wann er \"Vollgas\" geben muss und wann ab-schalten, On/Off-Schalter"},null,null,{"$f":"IF($H$2=\"G\",Skillserleuterungen_FTEM!W24,Skillserleuterungen_FTEM!J24)","v":0},null,null,null,{"$f":"IFERROR(AVERAGE(O33:O36),\"-\")","v":"-"},null,{"$f":"IFERROR(AVERAGE(Q33:Q36),\"-\")","v":"-"},null,{"$f":"IFERROR(AVERAGE(S33:S36),\"-\")","v":"-"},null,{"$f":"IFERROR(AVERAGE(U33:U36),\"-\")","v":"-"},null,{"$f":"IFERROR(AVERAGE(W33:W36),\"-\")","v":"-"},null,{"$f":"IFERROR(AVERAGE(Y33:Y36),\"-\")","v":"-"}]
[null,null,null,{"$f":"IF($H$2=\"G\",Skillserleuterungen_FTEM!Q25,Skillserleuterungen_FTEM!D25)","v":"EINSATZBEREITSCHAFT"},null,null,{"$f":"IF($H$2=\"G\",Skillserleuterungen_FTEM!T25,Skillserleuterungen_FTEM!G25)","v":"Hohe intensität im Spiel und Training, gibt immer sein Maximum, will seine Limiten pushen"},null,null,{"$f":"IF($H$2=\"G\",Skillserleuterungen_FTEM!W25,Skillserleuterungen_FTEM!J25)","v":0}]
[null,null,null,{"$f":"IF($H$2=\"G\",Skillserleuterungen_FTEM!Q26,Skillserleuterungen_FTEM!D26)","v":"EMOTIONSKONTROLLE"},null,null,{"$f":"IF($H$2=\"G\",Skillserleuterungen_FTEM!T26,Skillserleuterungen_FTEM!G26)","v":"Emotionen und Impulse regulieren, unter Druck die Kontrolle behalten, in emotional ansprucksvollen Situationen angemessen agieren können"},null,null,{"$f":"IF($H$2=\"G\",Skillserleuterungen_FTEM!W26,Skillserleuterungen_FTEM!J26)","v":0}]
[null,null,null,{"$f":"IF($H$2=\"G\",Skillserleuterungen_FTEM!Q27,Skillserleuterungen_FTEM!D27)","v":"VORBEREITUNG"},null,null,{"$f":"IF($H$2=\"G\",Skillserleuterungen_FTEM!T27,Skillserleuterungen_FTEM!G27)","v":"Fokus, ILZ, Regeneration, Selbststiumlation, Ernährung"},null,null,{"$f":"IF($H$2=\"G\",Skillserleuterungen_FTEM!W27,Skillserleuterungen_FTEM!J27)","v":0}]
["PYHSE (Athletik)",null,null,{"$f":"IF($H$2=\"G\",Skillserleuterungen_FTEM!Q28,Skillserleuterungen_FTEM!D28)","v":"LEISTUNGSERZEUGUNG (neuromuskuläre Faktoren /Leistungserzeugung)"},null,null,{"$f":"IF($H$2=\"G\",Skillserleuterungen_FTEM!T28,Skillserleuterungen_FTEM!G28)","v":"Verfügt über die nötige Power/ Kraft/ Schnelligkeit in den Beinen un im Oberkörper "},null,null,{"$f":"IF($H$2=\"G\",Skillserleuterungen_FTEM!W28,Skillserleuterungen_FTEM!J28)","v":0},null,null,null,{"$f":"IFERROR(AVERAGE(O37:O40),\"-\")","v":"-"},null,{"$f":"IFERROR(AVERAGE(Q37:Q40),\"-\")","v":"-"},null,{"$f":"IFERROR(AVERAGE(S37:S40),\"-\")","v":"-"},null,{"$f":"IFERROR(AVERAGE(U37:U40),\"-\")","v":"-"},null,{"$f":"IFERROR(AVERAGE(W37:W40),\"-\")","v":"-"},null,{"$f":"IFERROR(AVERAGE(Y37:Y40),\"-\")","v":"-"}]
[null,null,null,{"$f":"IF($H$2=\"G\",Skillserleuterungen_FTEM!Q29,Skillserleuterungen_FTEM!D29)","v":"SPEZ. ERMÜDUNGSRESISTENZ (metabolische, kardiovaskuläre Faktoren)"},null,null,{"$f":"IF($H$2=\"G\",Skillserleuterungen_FTEM!T29,Skillserleuterungen_FTEM!G29)","v":"Ist fähig die Power/ Kraft/ Schnelligkeit innerhalb des Einsatzes lange aufrechtzuerhalten und kann sich zwischen den Einsätzen jeweils vollkommen erholen (auch von Spiel zu Spiel)."},null,null,{"$f":"IF($H$2=\"G\",Skillserleuterungen_FTEM!W29,Skillserleuterungen_FTEM!J29)","v":0}]
[null,null,null,{"$f":"IF($H$2=\"G\",Skillserleuterungen_FTEM!Q30,Skillserleuterungen_FTEM!D30)","v":"BEWEGUNGSKOMPETENZ/ KOORDINATION "},null,null,{"$f":"IF($H$2=\"G\",Skillserleuterungen_FTEM!T30,Skillserleuterungen_FTEM!G30)","v":"Beherrscht die grundlegenden Bewegungsfertigkeiten, die eine unerlässliche Zubringerfunktion für die sportspezifischen \"Skills\" darstellt sowie zur nötigen Bewegungseffizienz führt. "},null,null,{"$f":"IF($H$2=\"G\",Skillserleuterungen_FTEM!W30,Skillserleuterungen_FTEM!J30)","v":0}]
[null,null,null,{"$f":"IF($H$2=\"G\",Skillserleuterungen_FTEM!Q31,Skillserleuterungen_FTEM!D31)","v":"ROBUSTHEIT/ PRÄVENTION"},null,null,{"$f":"IF($H$2=\"G\",Skillserleuterungen_FTEM!T31,Skillserleuterungen_FTEM!G31)","v":"Verletzungsanfälligkeit, Stabilität (Verfügt über die nötige Stabilität, Grundkraft (Körperspannung) \"z.B. Beinachsenstabilität\" und Beweglichkeit in den zentralen Gelenken \"Hüfte, Wirbelsäule\"), Standfestigkeit"},null,null,{"$f":"IF($H$2=\"G\",Skillserleuterungen_FTEM!W31,Skillserleuterungen_FTEM!J31)","v":0}]

{"sheet":"11","index":14,"n_rows":40,"n_cols":36,"rows_kept":40,"cut":false,"hidden":false,"merged":[[38,3,38,5],[38,6,38,11],[39,3,39,5],[39,6,39,11],[32,23,35,23],[32,0,35,2],[32,3,32,5],[32,6,32,11],[32,12,35,12],[32,13,35,13],[36,26,39,32],[36,34,39,34],[21,3,21,5],[21,6,21,11],[34,3,34,5],[34,6,34,11],[36,0,39,2],[36,12,39,12],[36,13,39,13],[36,15,39,15],[36,17,39,17],[36,19,39,19],[36,21,39,21],[36,23,39,23],[36,25,39,25],[36,3,36,5],[36,6,36,11],[37,3,37,5],[37,6,37,11],[32,15,35,15],[27,21,27,22],[28,17,31,17],[28,19,31,19],[28,21,31,21],[29,3,29,5],[29,6,29,11],[30,3,30,5],[30,6,30,11],[32,17,35,17],[32,19,35,19],[32,21,35,21],[33,3,33,5],[33,6,33,11],[35,3,35,5],[35,6,35,11],[23,0,26,2],[23,3,23,5],[23,6,23,11],[23,12,26,12],[23,13,26,13],[23,15,26,15],[27,23,27,24],[27,26,27,32],[28,0,31,2],[28,3,28,5],[28,6,28,11],[28,12,31,12],[28,13,31,13],[28,15,31,15],[31,3,31,5],[31,6,31,11],[28,23,31,23],[27,0,27,2],[27,3,27,5],[27,6,27,11],[27,13,27,14],[27,15,27,16],[27,17,27,18],[27,19,27,20],[19,19,22,19],[19,21,22,21],[19,23,22,23],[20,3,20,5],[20,6,20,11],[22,3,22,5],[22,6,22,11],[26,3,26,5],[26,6,26,11],[23,23,26,23],[23,17,26,17],[23,19,26,19],[23,21,26,21],[24,3,24,5],[24,6,24,11],[25,3,25,5],[25,6,25,11],[12,21,13,21],[15,15,18,15],[15,17,18,17],[15,19,18,19],[15,21,18,21],[15,23,18,23],[18,3,18,5],[18,6,18,11],[19,0,22,2],[19,3,19,5],[19,6,19,11],[19,12,22,12],[19,13,22,13],[19,15,22,15],[19,17,22,17],[15,0,18,2],[15,3,15,5],[15,6,15,11],[15,12,18,12],[15,13,18,13],[16,3,16,5],[16,6,16,11],[17,3,17,5],[17,6,17,11],[11,21,11,22],[11,23,11,24],[11,26,11,32],[11,6,11,11],[12,23,13,23],[13,3,13,5],[13,6,13,11],[14,0,14,2],[14,3,14,5],[14,6,14,11],[14,13,14,14],[14,15,14,16],[14,17,14,18],[14,19,14,20],[14,21,14,22],[14,23,14,24],[12,0,13,2],[12,3,12,5],[12,6,12,11],[12,12,13,12],[12,13,13,13],[12,15,13,15],[12,17,13,17],[12,19,13,19],[4,0,4,1],[4,2,4,5],[4,10,4,24],[10,0,10,24],[10,25,10,35],[32,25,35,25],[32,26,35,32],[32,34,35,34],[12,25,13,25],[12,26,13,32],[12,34,13,34],[15,25,18,25],[15,26,18,32],[15,34,18,34],[19,25,22,25],[19,26,22,32],[19,34,22,34],[14,26,14,32],[11,0,11,2],[11,3,11,5],[11,13,11,14],[11,15,11,16],[11,17,11,18],[11,19,11,20],[0,0,0,24],[0,25,0,26],[0,27,0,32],[0,33,0,35],[23,25,26,25],[23,26,26,32],[23,34,26,34],[28,25,31,25],[28,26,31,32],[28,34,31,34],[1,0,1,1],[1,2,1,5],[1,10,1,24],[2,0,2,1],[2,2,2,5],[2,11,2,24],[6,0,6,1],[6,2,6,35],[7,0,7,1],[7,2,7,35],[8,0,8,1],[8,2,8,35],[3,0,3,1],[3,10,3,24]]}
["Personalien",null,null,null,null,null,null,null,null,null,null,null,null,null,null,null,null,null,null,null,null,null,null,null,null,"Vorausetzungen",null,"Evaluationen",null,null,null,null,null,"Rating"]
["VORNAME",null,{"$f":"IF(ISBLANK(VLOOKUP(11,Tabelle3[],3,0)),\"-\",VLOOKUP(11,Tabelle3[],3,0))","v":"-"},null,null,null,"POSITION",null,null,"ADRESSE",{"$f":"IF(ISBLANK(VLOOKUP(11,Tabelle3[],5,0)),\"-\",VLOOKUP(11,Tabelle3[],5,0))","v":"-"},null,null,null,null,null,null,null,null,null,null,null,null,null,null,"\"Alter\" (Biologisch/Relative Age)",null,"Datum 1",null,null,"cm",null,"Kg",null,"AUSGEZEICHNET",5]
["NAME",null,{"$f":"IF(ISBLANK(VLOOKUP(11,Tabelle3[],2,0)),\"-\",VLOOKUP(11,Tabelle3[],2,0))","v":"-"},null,null,null,"STOCK",null,null,"WOHNORT",{"$f":"IF(ISBLANK(VLOOKUP(11,Tabelle3[],7,0)),\"-\",VLOOKUP(11,Tabelle3[],7,0))","v":"-"},{"$f":"IF(ISBLANK(VLOOKUP(11,Tabelle3[],6,0)),\"-\",VLOOKUP(11,Tabelle3[],6,0))","v":"-"},null,null,null,null,null,null,null,null,null,null,null,null,null,"Veranlagung",null,"Datum 2",null,null,"cm",null,"Kg",null,"GUT",4]
["GEB. DATUM",null,{"$f":"IF(ISBLANK(VLOOKUP(11,Tabelle3[],14,0)),\"-\",VLOOKUP(11,Tabelle3[],14,0))","v":"-"},{"$f":"IF(ISBLANK(VLOOKUP(11,Tabelle3[],15,0)),\"-\",VLOOKUP(11,Tabelle3[],15,0))","v":"-"},{"$f":"IF(ISBLANK(VLOOKUP(11,Tabelle3[],16,0)),\"-\",VLOOKUP(11,Tabelle3[],16,0))","v":"-"},null,"GRÖSSE",null,"cm (Final)","PHONE",{"$f":"IF(ISBLANK(VLOOKUP(11,Tabelle3[],8,0)),\"-\",VLOOKUP(11,Tabelle3[],8,0))","v":"-"},null,null,null,null,null,null,null,null,null,null,null,null,null,null,"Umfeld",null,"Datum 3",null,null,"cm",null,"Kg",null,"DURCHSCHNITT",3]
["SEX",null,{"$f":"IF(ISBLANK(VLOOKUP(11,Tabelle3[],13,0)),\"-\",VLOOKUP(11,Tabelle3[],13,0))","v":"-"},null,null,null,"GEWICHT",null,"Kg (Final)","E-Mail",{"$f":"IF(ISBLANK(VLOOKUP(11,Tabelle3[],9,0)),\"-\",VLOOKUP(11,Tabelle3[],9,0))","v":"-"},null,null,null,null,null,null,null,null,null,null,null,null,null,null,null,null,"Datum 4",null,null,"cm",null,"Kg",null,"MANGELHAFT",2]
[null,null,null,null,null,null,null,null,null,null,null,null,null,null,null,null,null,null,null,null,null,null,null,null,null,null,null,"Datum 5",null,null,"cm",null,"Kg",null,"UNGENÜGEND",1]
["Vision",null,"xxx"]
["Next step",null,"xxx"]
["Stärkenprofil",null,"xxx"]
[]
["EVALUATION (COACH / SPIELER)",null,null,null,null,null,null,null,null,null,null,null,null,null,null,null,null,null,null,null,null,null,null,null,null,"SMART"]
["TEAM",null,null,"FÄHIGKEIT",null,null,"BEOBACHTUNG",null,null,null,null,null,"Final","Datum1",null,"Datum2",null,"Datum3",null,"Datum4",null,"Datum5",null,"Player",null,"ZIEL","MASSNAHME:\nSPEZIFISCH,  MESSBAR, REALISITISCH",null,null,null,null,null,null,"TERMIN","ZIEL-KONTROLLE","Datum"]
["ROLLE, SOZIAL",null,null,{"$f":"IF($H$2=\"G\",Skillserleuterungen_FTEM!Q4,Skillserleuterungen_FTEM!D4)","v":"TEAMDENKEN"},null,null,{"$f":"IF($H$2=\"G\",Skillserleuterungen_FTEM!T4,Skillserleuterungen_FTEM!G4)","v":"Identifikation zur Rolle, Umgang mit Kameraden (sozial integriert)"},null,null,{"$f":"IF($H$2=\"G\",Skillserleuterungen_FTEM!W4,Skillserleuterungen_FTEM!J4)","v":0},null,null,null,{"$f":"IFERROR(AVERAGE(O13:O14),\"-\")","v":"-"},null,{"$f":"IFERROR(AVERAGE(Q13:Q14),\"-\")","v":"-"},null,{"$f":"IFERROR(AVERAGE(S13:S14),\"-\")","v":"-"},null,{"$f":"IFERROR(AVERAGE(U13:U14),\"-\")","v":"-"},null,null,null,{"$f":"IFERROR(AVERAGE(Y13:Y14),\"-\")","v":"-"}]
[null,null,null,{"$f":"IF($H$2=\"G\",Skillserleuterungen_FTEM!Q5,Skillserleuterungen_FTEM!D5)","v":"LEADERSHIP"},null,null,{"$f":"IF($H$2=\"G\",Skillserleuterungen_FTEM!T5,Skillserleuterungen_FTEM!G5)","v":"Übernimmt Verantwortung, macht Mitspieler besser"},null,null,{"$f":"IF($H$2=\"G\",Skillserleuterungen_FTEM!W5,Skillserleuterungen_FTEM!J5)","v":0}]
["ON ICE",null,null,"FÄHIGKEIT",null,null,"BEOBACHTUNG",null,null,null,null,null,null,"Datum1",null,"Datum2",null,"Datum3",null,"Datum4",null,"Datum5",null,"Player",null,"ZIEL","MASSNAHME:\nSPEZIFISCH,  MESSBAR, REALISITISCH",null,null,null,null,null,null,"TERMIN","ZIEL-KONTROLLE","Datum"]
["SKILL",null,null,{"$f":"IF($H$2=\"G\",Skillserleuterungen_FTEM!Q7,Skillserleuterungen_FTEM!D7)","v":"SCHIESSEN"},null,null,{"$f":"IF($H$2=\"G\",Skillserleuterungen_FTEM!T7,Skillserleuterungen_FTEM!G7)","v":"Effizienz / Variantenreichtum, Überraschungsgrad (Quick Release), Präzision, Härte, (taktische Abschlüsse)\nschnell, hart, unter Druck"},null,null,{"$f":"IF($H$2=\"G\",Skillserleuterungen_FTEM!W7,Skillserleuterungen_FTEM!J7)","v":0},null,null,null,{"$f":"IFERROR(AVERAGE(O16:O19),\"-\")","v":"-"},null,{"$f":"IFERROR(AVERAGE(Q16:Q19),\"-\")","v":"-"},null,{"$f":"IFERROR(AVERAGE(S16:S19),\"-\")","v":"-"},null,{"$f":"IFERROR(AVERAGE(U16:U19),\"-\")","v":"-"},null,{"$f":"IFERROR(AVERAGE(W16:W19),\"-\")","v":"-"},null,{"$f":"IFERROR(AVERAGE(Y16:Y19),\"-\")","v":"-"}]
[null,null,null,{"$f":"IF($H$2=\"G\",Skillserleuterungen_FTEM!Q8,Skillserleuterungen_FTEM!D8)","v":"PASSEN"},null,null,{"$f":"IF($H$2=\"G\",Skillserleuterungen_FTEM!T8,Skillserleuterungen_FTEM!G8)","v":"Passabgabe (Distanz, Flippass Backhand), Passannahme (Präzision, Timing, Vorhand, Rückhand, Schlittschuh,Puckspeed"},null,null,{"$f":"IF($H$2=\"G\",Skillserleuterungen_FTEM!W8,Skillserleuterungen_FTEM!J8)","v":0}]
[null,null,null,{"$f":"IF($H$2=\"G\",Skillserleuterungen_FTEM!Q9,Skillserleuterungen_FTEM!D9)","v":"KÖRPERSPIEL"},null,null,{"$f":"IF($H$2=\"G\",Skillserleuterungen_FTEM!T9,Skillserleuterungen_FTEM!G9)","v":"Phyisches Durchsetzungsvermögen, Zweikampf (offenes Eis/Bande), Checks nehmen/Head up, Battle Level, Hart aber fair, mit dem Körper Schüsse blockieren"},null,null,{"$f":"IF($H$2=\"G\",Skillserleuterungen_FTEM!W9,Skillserleuterungen_FTEM!J9)","v":0},null,null,null,{"$f":"IFERROR(AVERAGE(O18:O19),\"-\")","v":"-"},null,{"$f":"IFERROR(AVERAGE(Q18:Q19),\"-\")","v":"-"},null,{"$f":"IFERROR(AVERAGE(S18:S19),\"-\")","v":"-"},null,{"$f":"IFERROR(AVERAGE(U18:U19),\"-\")","v":"-"},null,{"$f":"IFERROR(AVERAGE(W18:W19),\"-\")","v":"-"},null,{"$f":"IFERROR(AVERAGE(Y18:Y19),\"-\")","v":"-"}]
[null,null,null,{"$f":"IF($H$2=\"G\",Skillserleuterungen_FTEM!Q10,Skillserleuterungen_FTEM!D10)","v":"SCHEIBENKONTROLLE"},null,null,{"$f":"IF($H$2=\"G\",Skillserleuterungen_FTEM!T10,Skillserleuterungen_FTEM!G10)","v":"Puckmanagmenet auf engem Raum, Puck Protection,  schwer kontrollierbare Scheiben "},null,null,{"$f":"IF($H$2=\"G\",Skillserleuterungen_FTEM!W10,Skillserleuterungen_FTEM!J10)","v":0}]
["SKATING",null,null,{"$f":"IF($H$2=\"G\",Skillserleuterungen_FTEM!Q11,Skillserleuterungen_FTEM!D11)","v":"FOOTSPEED"},null,null,{"$f":"IF($H$2=\"G\",Skillserleuterungen_FTEM!T11,Skillserleuterungen_FTEM!G11)","v":"Beschleunigung, Antritt, erste 3 Schritte Explosivität, Frequenz"},null,null,{"$f":"IF($H$2=\"G\",Skillserleuterungen_FTEM!W11,Skillserleuterungen_FTEM!J11)","v":0},null,null,null,{"$f":"IFERROR(AVERAGE(O20:O23),\"-\")","v":"-"},null,{"$f":"IFERROR(AVERAGE(Q20:Q23),\"-\")","v":"-"},null,{"$f":"IFERROR(AVERAGE(S20:S23),\"-\")","v":"-"},null,{"$f":"IFERROR(AVERAGE(U20:U23),\"-\")","v":"-"},null,{"$f":"IFERROR(AVERAGE(W20:W23),\"-\")","v":"-"},null,{"$f":"IFERROR(AVERAGE(Y20:Y23),\"-\")","v":"-"}]
[null,null,null,{"$f":"IF($H$2=\"G\",Skillserleuterungen_FTEM!Q12,Skillserleuterungen_FTEM!D12)","v":"AGILITÄT"},null,null,{"$f":"IF($H$2=\"G\",Skillserleuterungen_FTEM!T12,Skillserleuterungen_FTEM!G12)","v":"Richtungsänderung, Drehung, Stop und Start, «Nummelin»"},null,null,{"$f":"IF($H$2=\"G\",Skillserleuterungen_FTEM!W12,Skillserleuterungen_FTEM!J12)","v":0}]
[null,null,null,{"$f":"IF($H$2=\"G\",Skillserleuterungen_FTEM!Q13,Skillserleuterungen_FTEM!D13)","v":"BACKWARDS SKATING"},null,null,{"$f":"IF($H$2=\"G\",Skillserleuterungen_FTEM!T13,Skillserleuterungen_FTEM!G13)","v":"Beschleunigung, Geschwindigkeit, Balance"},null,null,{"$f":"IF($H$2=\"G\",Skillserleuterungen_FTEM!W13,Skillserleuterungen_FTEM!J13)","v":0}]
[null,null,null,{"$f":"IF($H$2=\"G\",Skillserleuterungen_FTEM!Q14,Skillserleuterungen_FTEM!D14)","v":"TOPSPEED"},null,null,{"$f":"IF($H$2=\"G\",Skillserleuterungen_FTEM!T14,Skillserleuterungen_FTEM!G14)","v":"Schnelligkeit, Gleitfähigkeit, vorwärts und rückwärts, Ökonomie"},null,null,{"$f":"IF($H$2=\"G\",Skillserleuterungen_FTEM!W14,Skillserleuterungen_FTEM!J14)","v":0}]
["HOCKEY SENSE",null,null,{"$f":"IF($H$2=\"G\",Skillserleuterungen_FTEM!Q15,Skillserleuterungen_FTEM!D15)","v":"SCORING"},null,null,{"$f":"IF($H$2=\"G\",Skillserleuterungen_FTEM!T15,Skillserleuterungen_FTEM!G15)","v":"Effizienz, variantentreich, überraschend, schnell, hart - Schussvarianten"},null,null,{"$f":"IF($H$2=\"G\",Skillserleuterungen_FTEM!W15,Skillserleuterungen_FTEM!J15)","v":0},null,null,null,{"$f":"IFERROR(AVERAGE(O24:O27),\"-\")","v":"-"},null,{"$f":"IFERROR(AVERAGE(Q24:Q27),\"-\")","v":"-"},null,{"$f":"IFERROR(AVERAGE(S24:S27),\"-\")","v":"-"},null,{"$f":"IFERROR(AVERAGE(U24:U27),\"-\")","v":"-"},null,{"$f":"IFERROR(AVERAGE(W24:W27),\"-\")","v":"-"},null,{"$f":"IFERROR(AVERAGE(Y24:Y27),\"-\")","v":"-"}]
[null,null,null,{"$f":"IF($H$2=\"G\",Skillserleuterungen_FTEM!Q16,Skillserleuterungen_FTEM!D16)","v":"MIT SCHEIBE"},null,null,{"$f":"IF($H$2=\"G\",Skillserleuterungen_FTEM!T16,Skillserleuterungen_FTEM!G16)","v":"Kreativ, performing, batteling, frech, Transition"},null,null,{"$f":"IF($H$2=\"G\",Skillserleuterungen_FTEM!W16,Skillserleuterungen_FTEM!J16)","v":0}]
[null,null,null,{"$f":"IF($H$2=\"G\",Skillserleuterungen_FTEM!Q17,Skillserleuterungen_FTEM!D17)","v":"OHNE SCHEIBE"},null,null,{"$f":"IF($H$2=\"G\",Skillserleuterungen_FTEM!T17,Skillserleuterungen_FTEM!G17)","v":"Anspielbar (Support), 1:1, Gap"},null,null,{"$f":"IF($H$2=\"G\",Skillserleuterungen_FTEM!W17,Skillserleuterungen_FTEM!J17)","v":0}]
[null,null,null,{"$f":"IF($H$2=\"G\",Skillserleuterungen_FTEM!Q18,Skillserleuterungen_FTEM!D18)","v":"DEFENSIV"},null,null,{"$f":"IF($H$2=\"G\",Skillserleuterungen_FTEM!T18,Skillserleuterungen_FTEM!G18)","v":"Verlässlichkeit,  1:1, Gap, Zuordnung"},null,null,{"$f":"IF($H$2=\"G\",Skillserleuterungen_FTEM!W18,Skillserleuterungen_FTEM!J18)","v":0}]
["PERSONALITY",null,null,"FÄHIGKEIT",null,null,"BEOBACHTUNG",null,null,null,null,null,null,"Datum1",null,"Datum2",null,"Datum3",null,"Datum4",null,"Datum5",null,"Player",null,"ZIEL","MASSNAHME:\nSPEZIFISCH,  MESSBAR, REALISITISCH",null,null,null,null,null,null,"TERMIN","ZIEL-KONTROLLE","Datum"]
["PERSON",null,null,{"$f":"IF($H$2=\"G\",Skillserleuterungen_FTEM!Q20,Skillserleuterungen_FTEM!D20)","v":"MOTIVATION"},null,null,{"$f":"IF($H$2=\"G\",Skillserleuterungen_FTEM!T20,Skillserleuterungen_FTEM!G20)","v":"Intrinsischer Antrieb, will sich ständig weiterentwickeln, will der Erste sein und Erfolg haben"},null,null,{"$f":"IF($H$2=\"G\",Skillserleuterungen_FTEM!W20,Skillserleuterungen_FTEM!J20)","v":0},null,null,null,{"$f":"IFERROR(AVERAGE(O29:O32),\"-\")","v":"-"},null,{"$f":"IFERROR(AVERAGE(Q29:Q32),\"-\")","v":"-"},null,{"$f":"IFERROR(AVERAGE(S29:S32),\"-\")","v":"-"},null,{"$f":"IFERROR(AVERAGE(U29:U32),\"-\")","v":"-"},null,{"$f":"IFERROR(AVERAGE(W29:W32),\"-\")","v":"-"},null,{"$f":"IFERROR(AVERAGE(Y29:Y32),\"-\")","v":"-"}]
[null,null,null,{"$f":"IF($H$2=\"G\",Skillserleuterungen_FTEM!Q21,Skillserleuterungen_FTEM!D21)","v":"SELBSBEWUSSTSEIN"},null,null,{"$f":"IF($H$2=\"G\",Skillserleuterungen_FTEM!T21,Skillserleuterungen_FTEM!G21)","v":"Hat das nötige Selbstvertrauen \"I can do it\" haltung, kann eigenen Fähigkeiten einschätzen und agiert mutig"},null,null,{"$f":"IF($H$2=\"G\",Skillserleuterungen_FTEM!W21,Skillserleuterungen_FTEM!J21)","v":0}]
[null,null,null,{"$f":"IF($H$2=\"G\",Skillserleuterungen_FTEM!Q22,Skillserleuterungen_FTEM!D22)","v":"LERNFÄHIGKEIT"},null,null,{"$f":"IF($H$2=\"G\",Skillserleuterungen_FTEM!T22,Skillserleuterungen_FTEM!G22)","v":"Gute Auffassungsgabe (nimmt auf und kann umsetzen), reflektiert eigenes Handeln, versucht aus Fehlern zu lernen und kann Massnahmen ableiten und sich selber coachen"},null,null,{"$f":"IF($H$2=\"G\",Skillserleuterungen_FTEM!W22,Skillserleuterungen_FTEM!J22)","v":0}]
[null,null,null,{"$f":"IF($H$2=\"G\",Skillserleuterungen_FTEM!Q23,Skillserleuterungen_FTEM!D23)","v":"PERFORMANCE LIFESTYLE"},null,null,{"$f":"IF($H$2=\"G\",Skillserleuterungen_FTEM!T23,Skillserleuterungen_FTEM!G23)","v":"Managt Alltag und Umfeld nach dem Leistungsprinzip, kann sich gegen Wiederstände durchsetzten"},null,null,{"$f":"IF($H$2=\"G\",Skillserleuterungen_FTEM!W23,Skillserleuterungen_FTEM!J23)","v":0}]
["POWER",null,null,{"$f":"IF($H$2=\"G\",Skillserleuterungen_FTEM!Q24,Skillserleuterungen_FTEM!D24)","v":"ENERGIEMANAGEMENT"},null,null,{"$f":"IF($H$2=\"G\",Skillserleuterungen_FTEM!T24,Skillserleuterungen_FTEM!G24)","v":"Kann eigene Energie regulieren, bereit zur Regeneration, weiss, wann er \"Vollgas\" geben muss und wann ab-schalten, On/Off-Schalter"},null,null,{"$f":"IF($H$2=\"G\",Skillserleuterungen_FTEM!W24,Skillserleuterungen_FTEM!J24)","v":0},null,null,null,{"$f":"IFERROR(AVERAGE(O33:O36),\"-\")","v":"-"},null,{"$f":"IFERROR(AVERAGE(Q33:Q36),\"-\")","v":"-"},null,{"$f":"IFERROR(AVERAGE(S33:S36),\"-\")","v":"-"},null,{"$f":"IFERROR(AVERAGE(U33:U36),\"-\")","v":"-"},null,{"$f":"IFERROR(AVERAGE(W33:W36),\"-\")","v":"-"},null,{"$f":"IFERROR(AVERAGE(Y33:Y36),\"-\")","v":"-"}]
[null,null,null,{"$f":"IF($H$2=\"G\",Skillserleuterungen_FTEM!Q25,Skillserleuterungen_FTEM!D25)","v":"EINSATZBEREITSCHAFT"},null,null,{"$f":"IF($H$2=\"G\",Skillserleuterungen_FTEM!T25,Skillserleuterungen_FTEM!G25)","v":"Hohe intensität im Spiel und Training, gibt immer sein Maximum, will seine Limiten pushen"},null,null,{"$f":"IF($H$2=\"G\",Skillserleuterungen_FTEM!W25,Skillserleuterungen_FTEM!J25)","v":0}]
[null,null,null,{"$f":"IF($H$2=\"G\",Skillserleuterungen_FTEM!Q26,Skillserleuterungen_FTEM!D26)","v":"EMOTIONSKONTROLLE"},null,null,{"$f":"IF($H$2=\"G\",Skillserleuterungen_FTEM!T26,Skillserleuterungen_FTEM!G26)","v":"Emotionen und Impulse regulieren, unter Druck die Kontrolle behalten, in emotional ansprucksvollen Situationen angemessen agieren können"},null,null,{"$f":"IF($H$2=\"G\",Skillserleuterungen_FTEM!W26,Skillserleuterungen_FTEM!J26)","v":0}]
[null,null,null,{"$f":"IF($H$2=\"G\",Skillserleuterungen_FTEM!Q27,Skillserleuterungen_FTEM!D27)","v":"VORBEREITUNG"},null,null,{"$f":"IF($H$2=\"G\",Skillserleuterungen_FTEM!T27,Skillserleuterungen_FTEM!G27)","v":"Fokus, ILZ, Regeneration, Selbststiumlation, Ernährung"},null,null,{"$f":"IF($H$2=\"G\",Skillserleuterungen_FTEM!W27,Skillserleuterungen_FTEM!J27)","v":0}]
["PYHSE (Athletik)",null,null,{"$f":"IF($H$2=\"G\",Skillserleuterungen_FTEM!Q28,Skillserleuterungen_FTEM!D28)","v":"LEISTUNGSERZEUGUNG (neuromuskuläre Faktoren /Leistungserzeugung)"},null,null,{"$f":"IF($H$2=\"G\",Skillserleuterungen_FTEM!T28,Skillserleuterungen_FTEM!G28)","v":"Verfügt über die nötige Power/ Kraft/ Schnelligkeit in den Beinen un im Oberkörper "},null,null,{"$f":"IF($H$2=\"G\",Skillserleuterungen_FTEM!W28,Skillserleuterungen_FTEM!J28)","v":0},null,null,null,{"$f":"IFERROR(AVERAGE(O37:O40),\"-\")","v":"-"},null,{"$f":"IFERROR(AVERAGE(Q37:Q40),\"-\")","v":"-"},null,{"$f":"IFERROR(AVERAGE(S37:S40),\"-\")","v":"-"},null,{"$f":"IFERROR(AVERAGE(U37:U40),\"-\")","v":"-"},null,{"$f":"IFERROR(AVERAGE(W37:W40),\"-\")","v":"-"},null,{"$f":"IFERROR(AVERAGE(Y37:Y40),\"-\")","v":"-"}]
[null,null,null,{"$f":"IF($H$2=\"G\",Skillserleuterungen_FTEM!Q29,Skillserleuterungen_FTEM!D29)","v":"SPEZ. ERMÜDUNGSRESISTENZ (metabolische, kardiovaskuläre Faktoren)"},null,null,{"$f":"IF($H$2=\"G\",Skillserleuterungen_FTEM!T29,Skillserleuterungen_FTEM!G29)","v":"Ist fähig die Power/ Kraft/ Schnelligkeit innerhalb des Einsatzes lange aufrechtzuerhalten und kann sich zwischen den Einsätzen jeweils vollkommen erholen (auch von Spiel zu Spiel)."},null,null,{"$f":"IF($H$2=\"G\",Skillserleuterungen_FTEM!W29,Skillserleuterungen_FTEM!J29)","v":0}]
[null,null,null,{"$f":"IF($H$2=\"G\",Skillserleuterungen_FTEM!Q30,Skillserleuterungen_FTEM!D30)","v":"BEWEGUNGSKOMPETENZ/ KOORDINATION "},null,null,{"$f":"IF($H$2=\"G\",Skillserleuterungen_FTEM!T30,Skillserleuterungen_FTEM!G30)","v":"Beherrscht die grundlegenden Bewegungsfertigkeiten, die eine unerlässliche Zubringerfunktion für die sportspezifischen \"Skills\" darstellt sowie zur nötigen Bewegungseffizienz führt. "},null,null,{"$f":"IF($H$2=\"G\",Skillserleuterungen_FTEM!W30,Skillserleuterungen_FTEM!J30)","v":0}]
[null,null,null,{"$f":"IF($H$2=\"G\",Skillserleuterungen_FTEM!Q31,Skillserleuterungen_FTEM!D31)","v":"ROBUSTHEIT/ PRÄVENTION"},null,null,{"$f":"IF($H$2=\"G\",Skillserleuterungen_FTEM!T31,Skillserleuterungen_FTEM!G31)","v":"Verletzungsanfälligkeit, Stabilität (Verfügt über die nötige Stabilität, Grundkraft (Körperspannung) \"z.B. Beinachsenstabilität\" und Beweglichkeit in den zentralen Gelenken \"Hüfte, Wirbelsäule\"), Standfestigkeit"},null,null,{"$f":"IF($H$2=\"G\",Skillserleuterungen_FTEM!W31,Skillserleuterungen_FTEM!J31)","v":0}]

{"sheet":"12","index":15,"n_rows":40,"n_cols":36,"rows_kept":40,"cut":false,"hidden":false,"merged":[[38,3,38,5],[38,6,38,11],[39,3,39,5],[39,6,39,11],[32,23,35,23],[32,0,35,2],[32,3,32,5],[32,6,32,11],[32,12,35,12],[32,13,35,13],[36,26,39,32],[36,34,39,34],[21,3,21,5],[21,6,21,11],[34,3,34,5],[34,6,34,11],[36,0,39,2],[36,12,39,12],[36,13,39,13],[36,15,39,15],[36,17,39,17],[36,19,39,19],[36,21,39,21],[36,23,39,23],[36,25,39,25],[36,3,36,5],[36,6,36,11],[37,3,37,5],[37,6,37,11],[32,15,35,15],[27,21,27,22],[28,17,31,17],[28,19,31,19],[28,21,31,21],[29,3,29,5],[29,6,29,11],[30,3,30,5],[30,6,30,11],[32,17,35,17],[32,19,35,19],[32,21,35,21],[33,3,33,5],[33,6,33,11],[35,3,35,5],[35,6,35,11],[23,0,26,2],[23,3,23,5],[23,6,23,11],[23,12,26,12],[23,13,26,13],[23,15,26,15],[27,23,27,24],[27,26,27,32],[28,0,31,2],[28,3,28,5],[28,6,28,11],[28,12,31,12],[28,13,31,13],[28,15,31,15],[31,3,31,5],[31,6,31,11],[28,23,31,23],[27,0,27,2],[27,3,27,5],[27,6,27,11],[27,13,27,14],[27,15,27,16],[27,17,27,18],[27,19,27,20],[19,19,22,19],[19,21,22,21],[19,23,22,23],[20,3,20,5],[20,6,20,11],[22,3,22,5],[22,6,22,11],[26,3,26,5],[26,6,26,11],[23,23,26,23],[23,17,26,17],[23,19,26,19],[23,21,26,21],[24,3,24,5],[24,6,24,11],[25,3,25,5],[25,6,25,11],[12,21,13,21],[15,15,18,15],[15,17,18,17],[15,19,18,19],[15,21,18,21],[15,23,18,23],[18,3,18,5],[18,6,18,11],[19,0,22,2],[19,3,19,5],[19,6,19,11],[19,12,22,12],[19,13,22,13],[19,15,22,15],[19,17,22,17],[15,0,18,2],[15,3,15,5],[15,6,15,11],[15,12,18,12],[15,13,18,13],[16,3,16,5],[16,6,16,11],[17,3,17,5],[17,6,17,11],[11,21,11,22],[11,23,11,24],[11,26,11,32],[11,6,11,11],[12,23,13,23],[13,3,13,5],[13,6,13,11],[14,0,14,2],[14,3,14,5],[14,6,14,11],[14,13,14,14],[14,15,14,16],[14,17,14,18],[14,19,14,20],[14,21,14,22],[14,23,14,24],[12,0,13,2],[12,3,12,5],[12,6,12,11],[12,12,13,12],[12,13,13,13],[12,15,13,15],[12,17,13,17],[12,19,13,19],[4,0,4,1],[4,2,4,5],[4,10,4,24],[10,0,10,24],[10,25,10,35],[32,25,35,25],[32,26,35,32],[32,34,35,34],[12,25,13,25],[12,26,13,32],[12,34,13,34],[15,25,18,25],[15,26,18,32],[15,34,18,34],[19,25,22,25],[19,26,22,32],[19,34,22,34],[14,26,14,32],[11,0,11,2],[11,3,11,5],[11,13,11,14],[11,15,11,16],[11,17,11,18],[11,19,11,20],[0,0,0,24],[0,25,0,26],[0,27,0,32],[0,33,0,35],[23,25,26,25],[23,26,26,32],[23,34,26,34],[28,25,31,25],[28,26,31,32],[28,34,31,34],[1,0,1,1],[1,2,1,5],[1,10,1,24],[2,0,2,1],[2,2,2,5],[2,11,2,24],[6,0,6,1],[6,2,6,35],[7,0,7,1],[7,2,7,35],[8,0,8,1],[8,2,8,35],[3,0,3,1],[3,10,3,24]]}
["Personalien",null,null,null,null,null,null,null,null,null,null,null,null,null,null,null,null,null,null,null,null,null,null,null,null,"Vorausetzungen",null,"Evaluationen",null,null,null,null,null,"Rating"]
["VORNAME",null,{"$f":"IF(ISBLANK(VLOOKUP(12,Tabelle3[],3,0)),\"-\",VLOOKUP(12,Tabelle3[],3,0))","v":"-"},null,null,null,"POSITION",null,null,"ADRESSE",{"$f":"IF(ISBLANK(VLOOKUP(12,Tabelle3[],5,0)),\"-\",VLOOKUP(12,Tabelle3[],5,0))","v":"-"},null,null,null,null,null,null,null,null,null,null,null,null,null,null,"\"Alter\" (Biologisch/Relative Age)",null,"Datum 1",null,null,"cm",null,"Kg",null,"AUSGEZEICHNET",5]
["NAME",null,{"$f":"IF(ISBLANK(VLOOKUP(12,Tabelle3[],2,0)),\"-\",VLOOKUP(12,Tabelle3[],2,0))","v":"-"},null,null,null,"STOCK",null,null,"WOHNORT",{"$f":"IF(ISBLANK(VLOOKUP(12,Tabelle3[],7,0)),\"-\",VLOOKUP(12,Tabelle3[],7,0))","v":"-"},{"$f":"IF(ISBLANK(VLOOKUP(12,Tabelle3[],6,0)),\"-\",VLOOKUP(12,Tabelle3[],6,0))","v":"-"},null,null,null,null,null,null,null,null,null,null,null,null,null,"Veranlagung",null,"Datum 2",null,null,"cm",null,"Kg",null,"GUT",4]
["GEB. DATUM",null,{"$f":"IF(ISBLANK(VLOOKUP(12,Tabelle3[],14,0)),\"-\",VLOOKUP(12,Tabelle3[],14,0))","v":"-"},{"$f":"IF(ISBLANK(VLOOKUP(12,Tabelle3[],15,0)),\"-\",VLOOKUP(12,Tabelle3[],15,0))","v":"-"},{"$f":"IF(ISBLANK(VLOOKUP(12,Tabelle3[],16,0)),\"-\",VLOOKUP(12,Tabelle3[],16,0))","v":"-"},null,"GRÖSSE",null,"cm (Final)","PHONE",{"$f":"IF(ISBLANK(VLOOKUP(12,Tabelle3[],8,0)),\"-\",VLOOKUP(12,Tabelle3[],8,0))","v":"-"},null,null,null,null,null,null,null,null,null,null,null,null,null,null,"Umfeld",null,"Datum 3",null,null,"cm",null,"Kg",null,"DURCHSCHNITT",3]
["SEX",null,{"$f":"IF(ISBLANK(VLOOKUP(12,Tabelle3[],13,0)),\"-\",VLOOKUP(12,Tabelle3[],13,0))","v":"-"},null,null,null,"GEWICHT",null,"Kg (Final)","E-Mail",{"$f":"IF(ISBLANK(VLOOKUP(12,Tabelle3[],9,0)),\"-\",VLOOKUP(12,Tabelle3[],9,0))","v":"-"},null,null,null,null,null,null,null,null,null,null,null,null,null,null,null,null,"Datum 4",null,null,"cm",null,"Kg",null,"MANGELHAFT",2]
[null,null,null,null,null,null,null,null,null,null,null,null,null,null,null,null,null,null,null,null,null,null,null,null,null,null,null,"Datum 5",null,null,"cm",null,"Kg",null,"UNGENÜGEND",1]
["Vision",null,"xxx"]
["Next step",null,"xxx"]
["Stärkenprofil",null,"xxx"]
[]
["EVALUATION (COACH / SPIELER)",null,null,null,null,null,null,null,null,null,null,null,null,null,null,null,null,null,null,null,null,null,null,null,null,"SMART"]
["TEAM",null,null,"FÄHIGKEIT",null,null,"BEOBACHTUNG",null,null,null,null,null,"Final","Datum1",null,"Datum2",null,"Datum3",null,"Datum4",null,"Datum5",null,"Player",null,"ZIEL","MASSNAHME:\nSPEZIFISCH,  MESSBAR, REALISITISCH",null,null,null,null,null,null,"TERMIN","ZIEL-KONTROLLE","Datum"]
["ROLLE, SOZIAL",null,null,{"$f":"IF($H$2=\"G\",Skillserleuterungen_FTEM!Q4,Skillserleuterungen_FTEM!D4)","v":"TEAMDENKEN"},null,null,{"$f":"IF($H$2=\"G\",Skillserleuterungen_FTEM!T4,Skillserleuterungen_FTEM!G4)","v":"Identifikation zur Rolle, Umgang mit Kameraden (sozial integriert)"},null,null,{"$f":"IF($H$2=\"G\",Skillserleuterungen_FTEM!W4,Skillserleuterungen_FTEM!J4)","v":0},null,null,null,{"$f":"IFERROR(AVERAGE(O13:O14),\"-\")","v":"-"},null,{"$f":"IFERROR(AVERAGE(Q13:Q14),\"-\")","v":"-"},null,{"$f":"IFERROR(AVERAGE(S13:S14),\"-\")","v":"-"},null,{"$f":"IFERROR(AVERAGE(U13:U14),\"-\")","v":"-"},null,null,null,{"$f":"IFERROR(AVERAGE(Y13:Y14),\"-\")","v":"-"}]
[null,null,null,{"$f":"IF($H$2=\"G\",Skillserleuterungen_FTEM!Q5,Skillserleuterungen_FTEM!D5)","v":"LEADERSHIP"},null,null,{"$f":"IF($H$2=\"G\",Skillserleuterungen_FTEM!T5,Skillserleuterungen_FTEM!G5)","v":"Übernimmt Verantwortung, macht Mitspieler besser"},null,null,{"$f":"IF($H$2=\"G\",Skillserleuterungen_FTEM!W5,Skillserleuterungen_FTEM!J5)","v":0}]
["ON ICE",null,null,"FÄHIGKEIT",null,null,"BEOBACHTUNG",null,null,null,null,null,null,"Datum1",null,"Datum2",null,"Datum3",null,"Datum4",null,"Datum5",null,"Player",null,"ZIEL","MASSNAHME:\nSPEZIFISCH,  MESSBAR, REALISITISCH",null,null,null,null,null,null,"TERMIN","ZIEL-KONTROLLE","Datum"]
["SKILL",null,null,{"$f":"IF($H$2=\"G\",Skillserleuterungen_FTEM!Q7,Skillserleuterungen_FTEM!D7)","v":"SCHIESSEN"},null,null,{"$f":"IF($H$2=\"G\",Skillserleuterungen_FTEM!T7,Skillserleuterungen_FTEM!G7)","v":"Effizienz / Variantenreichtum, Überraschungsgrad (Quick Release), Präzision, Härte, (taktische Abschlüsse)\nschnell, hart, unter Druck"},null,null,{"$f":"IF($H$2=\"G\",Skillserleuterungen_FTEM!W7,Skillserleuterungen_FTEM!J7)","v":0},null,null,null,{"$f":"IFERROR(AVERAGE(O16:O19),\"-\")","v":"-"},null,{"$f":"IFERROR(AVERAGE(Q16:Q19),\"-\")","v":"-"},null,{"$f":"IFERROR(AVERAGE(S16:S19),\"-\")","v":"-"},null,{"$f":"IFERROR(AVERAGE(U16:U19),\"-\")","v":"-"},null,{"$f":"IFERROR(AVERAGE(W16:W19),\"-\")","v":"-"},null,{"$f":"IFERROR(AVERAGE(Y16:Y19),\"-\")","v":"-"}]
[null,null,null,{"$f":"IF($H$2=\"G\",Skillserleuterungen_FTEM!Q8,Skillserleuterungen_FTEM!D8)","v":"PASSEN"},null,null,{"$f":"IF($H$2=\"G\",Skillserleuterungen_FTEM!T8,Skillserleuterungen_FTEM!G8)","v":"Passabgabe (Distanz, Flippass Backhand), Passannahme (Präzision, Timing, Vorhand, Rückhand, Schlittschuh,Puckspeed"},null,null,{"$f":"IF($H$2=\"G\",Skillserleuterungen_FTEM!W8,Skillserleuterungen_FTEM!J8)","v":0}]
[null,null,null,{"$f":"IF($H$2=\"G\",Skillserleuterungen_FTEM!Q9,Skillserleuterungen_FTEM!D9)","v":"KÖRPERSPIEL"},null,null,{"$f":"IF($H$2=\"G\",Skillserleuterungen_FTEM!T9,Skillserleuterungen_FTEM!G9)","v":"Phyisches Durchsetzungsvermögen, Zweikampf (offenes Eis/Bande), Checks nehmen/Head up, Battle Level, Hart aber fair, mit dem Körper Schüsse blockieren"},null,null,{"$f":"IF($H$2=\"G\",Skillserleuterungen_FTEM!W9,Skillserleuterungen_FTEM!J9)","v":0},null,null,null,{"$f":"IFERROR(AVERAGE(O18:O19),\"-\")","v":"-"},null,{"$f":"IFERROR(AVERAGE(Q18:Q19),\"-\")","v":"-"},null,{"$f":"IFERROR(AVERAGE(S18:S19),\"-\")","v":"-"},null,{"$f":"IFERROR(AVERAGE(U18:U19),\"-\")","v":"-"},null,{"$f":"IFERROR(AVERAGE(W18:W19),\"-\")","v":"-"},null,{"$f":"IFERROR(AVERAGE(Y18:Y19),\"-\")","v":"-"}]
[null,null,null,{"$f":"IF($H$2=\"G\",Skillserleuterungen_FTEM!Q10,Skillserleuterungen_FTEM!D10)","v":"SCHEIBENKONTROLLE"},null,null,{"$f":"IF($H$2=\"G\",Skillserleuterungen_FTEM!T10,Skillserleuterungen_FTEM!G10)","v":"Puckmanagmenet auf engem Raum, Puck Protection,  schwer kontrollierbare Scheiben "},null,null,{"$f":"IF($H$2=\"G\",Skillserleuterungen_FTEM!W10,Skillserleuterungen_FTEM!J10)","v":0}]
["SKATING",null,null,{"$f":"IF($H$2=\"G\",Skillserleuterungen_FTEM!Q11,Skillserleuterungen_FTEM!D11)","v":"FOOTSPEED"},null,null,{"$f":"IF($H$2=\"G\",Skillserleuterungen_FTEM!T11,Skillserleuterungen_FTEM!G11)","v":"Beschleunigung, Antritt, erste 3 Schritte Explosivität, Frequenz"},null,null,{"$f":"IF($H$2=\"G\",Skillserleuterungen_FTEM!W11,Skillserleuterungen_FTEM!J11)","v":0},null,null,null,{"$f":"IFERROR(AVERAGE(O20:O23),\"-\")","v":"-"},null,{"$f":"IFERROR(AVERAGE(Q20:Q23),\"-\")","v":"-"},null,{"$f":"IFERROR(AVERAGE(S20:S23),\"-\")","v":"-"},null,{"$f":"IFERROR(AVERAGE(U20:U23),\"-\")","v":"-"},null,{"$f":"IFERROR(AVERAGE(W20:W23),\"-\")","v":"-"},null,{"$f":"IFERROR(AVERAGE(Y20:Y23),\"-\")","v":"-"}]
[null,null,null,{"$f":"IF($H$2=\"G\",Skillserleuterungen_FTEM!Q12,Skillserleuterungen_FTEM!D12)","v":"AGILITÄT"},null,null,{"$f":"IF($H$2=\"G\",Skillserleuterungen_FTEM!T12,Skillserleuterungen_FTEM!G12)","v":"Richtungsänderung, Drehung, Stop und Start, «Nummelin»"},null,null,{"$f":"IF($H$2=\"G\",Skillserleuterungen_FTEM!W12,Skillserleuterungen_FTEM!J12)","v":0}]
[null,null,null,{"$f":"IF($H$2=\"G\",Skillserleuterungen_FTEM!Q13,Skillserleuterungen_FTEM!D13)","v":"BACKWARDS SKATING"},null,null,{"$f":"IF($H$2=\"G\",Skillserleuterungen_FTEM!T13,Skillserleuterungen_FTEM!G13)","v":"Beschleunigung, Geschwindigkeit, Balance"},null,null,{"$f":"IF($H$2=\"G\",Skillserleuterungen_FTEM!W13,Skillserleuterungen_FTEM!J13)","v":0}]
[null,null,null,{"$f":"IF($H$2=\"G\",Skillserleuterungen_FTEM!Q14,Skillserleuterungen_FTEM!D14)","v":"TOPSPEED"},null,null,{"$f":"IF($H$2=\"G\",Skillserleuterungen_FTEM!T14,Skillserleuterungen_FTEM!G14)","v":"Schnelligkeit, Gleitfähigkeit, vorwärts und rückwärts, Ökonomie"},null,null,{"$f":"IF($H$2=\"G\",Skillserleuterungen_FTEM!W14,Skillserleuterungen_FTEM!J14)","v":0}]
["HOCKEY SENSE",null,null,{"$f":"IF($H$2=\"G\",Skillserleuterungen_FTEM!Q15,Skillserleuterungen_FTEM!D15)","v":"SCORING"},null,null,{"$f":"IF($H$2=\"G\",Skillserleuterungen_FTEM!T15,Skillserleuterungen_FTEM!G15)","v":"Effizienz, variantentreich, überraschend, schnell, hart - Schussvarianten"},null,null,{"$f":"IF($H$2=\"G\",Skillserleuterungen_FTEM!W15,Skillserleuterungen_FTEM!J15)","v":0},null,null,null,{"$f":"IFERROR(AVERAGE(O24:O27),\"-\")","v":"-"},null,{"$f":"IFERROR(AVERAGE(Q24:Q27),\"-\")","v":"-"},null,{"$f":"IFERROR(AVERAGE(S24:S27),\"-\")","v":"-"},null,{"$f":"IFERROR(AVERAGE(U24:U27),\"-\")","v":"-"},null,{"$f":"IFERROR(AVERAGE(W24:W27),\"-\")","v":"-"},null,{"$f":"IFERROR(AVERAGE(Y24:Y27),\"-\")","v":"-"}]
[null,null,null,{"$f":"IF($H$2=\"G\",Skillserleuterungen_FTEM!Q16,Skillserleuterungen_FTEM!D16)","v":"MIT SCHEIBE"},null,null,{"$f":"IF($H$2=\"G\",Skillserleuterungen_FTEM!T16,Skillserleuterungen_FTEM!G16)","v":"Kreativ, performing, batteling, frech, Transition"},null,null,{"$f":"IF($H$2=\"G\",Skillserleuterungen_FTEM!W16,Skillserleuterungen_FTEM!J16)","v":0}]
[null,null,null,{"$f":"IF($H$2=\"G\",Skillserleuterungen_FTEM!Q17,Skillserleuterungen_FTEM!D17)","v":"OHNE SCHEIBE"},null,null,{"$f":"IF($H$2=\"G\",Skillserleuterungen_FTEM!T17,Skillserleuterungen_FTEM!G17)","v":"Anspielbar (Support), 1:1, Gap"},null,null,{"$f":"IF($H$2=\"G\",Skillserleuterungen_FTEM!W17,Skillserleuterungen_FTEM!J17)","v":0}]
[null,null,null,{"$f":"IF($H$2=\"G\",Skillserleuterungen_FTEM!Q18,Skillserleuterungen_FTEM!D18)","v":"DEFENSIV"},null,null,{"$f":"IF($H$2=\"G\",Skillserleuterungen_FTEM!T18,Skillserleuterungen_FTEM!G18)","v":"Verlässlichkeit,  1:1, Gap, Zuordnung"},null,null,{"$f":"IF($H$2=\"G\",Skillserleuterungen_FTEM!W18,Skillserleuterungen_FTEM!J18)","v":0}]
["PERSONALITY",null,null,"FÄHIGKEIT",null,null,"BEOBACHTUNG",null,null,null,null,null,null,"Datum1",null,"Datum2",null,"Datum3",null,"Datum4",null,"Datum5",null,"Player",null,"ZIEL","MASSNAHME:\nSPEZIFISCH,  MESSBAR, REALISITISCH",null,null,null,null,null,null,"TERMIN","ZIEL-KONTROLLE","Datum"]
["PERSON",null,null,{"$f":"IF($H$2=\"G\",Skillserleuterungen_FTEM!Q20,Skillserleuterungen_FTEM!D20)","v":"MOTIVATION"},null,null,{"$f":"IF($H$2=\"G\",Skillserleuterungen_FTEM!T20,Skillserleuterungen_FTEM!G20)","v":"Intrinsischer Antrieb, will sich ständig weiterentwickeln, will der Erste sein und Erfolg haben"},null,null,{"$f":"IF($H$2=\"G\",Skillserleuterungen_FTEM!W20,Skillserleuterungen_FTEM!J20)","v":0},null,null,null,{"$f":"IFERROR(AVERAGE(O29:O32),\"-\")","v":"-"},null,{"$f":"IFERROR(AVERAGE(Q29:Q32),\"-\")","v":"-"},null,{"$f":"IFERROR(AVERAGE(S29:S32),\"-\")","v":"-"},null,{"$f":"IFERROR(AVERAGE(U29:U32),\"-\")","v":"-"},null,{"$f":"IFERROR(AVERAGE(W29:W32),\"-\")","v":"-"},null,{"$f":"IFERROR(AVERAGE(Y29:Y32),\"-\")","v":"-"}]
[null,null,null,{"$f":"IF($H$2=\"G\",Skillserleuterungen_FTEM!Q21,Skillserleuterungen_FTEM!D21)","v":"SELBSBEWUSSTSEIN"},null,null,{"$f":"IF($H$2=\"G\",Skillserleuterungen_FTEM!T21,Skillserleuterungen_FTEM!G21)","v":"Hat das nötige Selbstvertrauen \"I can do it\" haltung, kann eigenen Fähigkeiten einschätzen und agiert mutig"},null,null,{"$f":"IF($H$2=\"G\",Skillserleuterungen_FTEM!W21,Skillserleuterungen_FTEM!J21)","v":0}]
[null,null,null,{"$f":"IF($H$2=\"G\",Skillserleuterungen_FTEM!Q22,Skillserleuterungen_FTEM!D22)","v":"LERNFÄHIGKEIT"},null,null,{"$f":"IF($H$2=\"G\",Skillserleuterungen_FTEM!T22,Skillserleuterungen_FTEM!G22)","v":"Gute Auffassungsgabe (nimmt auf und kann umsetzen), reflektiert eigenes Handeln, versucht aus Fehlern zu lernen und kann Massnahmen ableiten und sich selber coachen"},null,null,{"$f":"IF($H$2=\"G\",Skillserleuterungen_FTEM!W22,Skillserleuterungen_FTEM!J22)","v":0}]
[null,null,null,{"$f":"IF($H$2=\"G\",Skillserleuterungen_FTEM!Q23,Skillserleuterungen_FTEM!D23)","v":"PERFORMANCE LIFESTYLE"},null,null,{"$f":"IF($H$2=\"G\",Skillserleuterungen_FTEM!T23,Skillserleuterungen_FTEM!G23)","v":"Managt Alltag und Umfeld nach dem Leistungsprinzip, kann sich gegen Wiederstände durchsetzten"},null,null,{"$f":"IF($H$2=\"G\",Skillserleuterungen_FTEM!W23,Skillserleuterungen_FTEM!J23)","v":0}]
["POWER",null,null,{"$f":"IF($H$2=\"G\",Skillserleuterungen_FTEM!Q24,Skillserleuterungen_FTEM!D24)","v":"ENERGIEMANAGEMENT"},null,null,{"$f":"IF($H$2=\"G\",Skillserleuterungen_FTEM!T24,Skillserleuterungen_FTEM!G24)","v":"Kann eigene Energie regulieren, bereit zur Regeneration, weiss, wann er \"Vollgas\" geben muss und wann ab-schalten, On/Off-Schalter"},null,null,{"$f":"IF($H$2=\"G\",Skillserleuterungen_FTEM!W24,Skillserleuterungen_FTEM!J24)","v":0},null,null,null,{"$f":"IFERROR(AVERAGE(O33:O36),\"-\")","v":"-"},null,{"$f":"IFERROR(AVERAGE(Q33:Q36),\"-\")","v":"-"},null,{"$f":"IFERROR(AVERAGE(S33:S36),\"-\")","v":"-"},null,{"$f":"IFERROR(AVERAGE(U33:U36),\"-\")","v":"-"},null,{"$f":"IFERROR(AVERAGE(W33:W36),\"-\")","v":"-"},null,{"$f":"IFERROR(AVERAGE(Y33:Y36),\"-\")","v":"-"}]
[null,null,null,{"$f":"IF($H$2=\"G\",Skillserleuterungen_FTEM!Q25,Skillserleuterungen_FTEM!D25)","v":"EINSATZBEREITSCHAFT"},null,null,{"$f":"IF($H$2=\"G\",Skillserleuterungen_FTEM!T25,Skillserleuterungen_FTEM!G25)","v":"Hohe intensität im Spiel und Training, gibt immer sein Maximum, will seine Limiten pushen"},null,null,{"$f":"IF($H$2=\"G\",Skillserleuterungen_FTEM!W25,Skillserleuterungen_FTEM!J25)","v":0}]
[null,null,null,{"$f":"IF($H$2=\"G\",Skillserleuterungen_FTEM!Q26,Skillserleuterungen_FTEM!D26)","v":"EMOTIONSKONTROLLE"},null,null,{"$f":"IF($H$2=\"G\",Skillserleuterungen_FTEM!T26,Skillserleuterungen_FTEM!G26)","v":"Emotionen und Impulse regulieren, unter Druck die Kontrolle behalten, in emotional ansprucksvollen Situationen angemessen agieren können"},null,null,{"$f":"IF($H$2=\"G\",Skillserleuterungen_FTEM!W26,Skillserleuterungen_FTEM!J26)","v":0}]
[null,null,null,{"$f":"IF($H$2=\"G\",Skillserleuterungen_FTEM!Q27,Skillserleuterungen_FTEM!D27)","v":"VORBEREITUNG"},null,null,{"$f":"IF($H$2=\"G\",Skillserleuterungen_FTEM!T27,Skillserleuterungen_FTEM!G27)","v":"Fokus, ILZ, Regeneration, Selbststiumlation, Ernährung"},null,null,{"$f":"IF($H$2=\"G\",Skillserleuterungen_FTEM!W27,Skillserleuterungen_FTEM!J27)","v":0}]
["PYHSE (Athletik)",null,null,{"$f":"IF($H$2=\"G\",Skillserleuterungen_FTEM!Q28,Skillserleuterungen_FTEM!D28)","v":"LEISTUNGSERZEUGUNG (neuromuskuläre Faktoren /Leistungserzeugung)"},null,null,{"$f":"IF($H$2=\"G\",Skillserleuterungen_FTEM!T28,Skillserleuterungen_FTEM!G28)","v":"Verfügt über die nötige Power/ Kraft/ Schnelligkeit in den Beinen un im Oberkörper "},null,null,{"$f":"IF($H$2=\"G\",Skillserleuterungen_FTEM!W28,Skillserleuterungen_FTEM!J28)","v":0},null,null,null,{"$f":"IFERROR(AVERAGE(O37:O40),\"-\")","v":"-"},null,{"$f":"IFERROR(AVERAGE(Q37:Q40),\"-\")","v":"-"},null,{"$f":"IFERROR(AVERAGE(S37:S40),\"-\")","v":"-"},null,{"$f":"IFERROR(AVERAGE(U37:U40),\"-\")","v":"-"},null,{"$f":"IFERROR(AVERAGE(W37:W40),\"-\")","v":"-"},null,{"$f":"IFERROR(AVERAGE(Y37:Y40),\"-\")","v":"-"}]
[null,null,null,{"$f":"IF($H$2=\"G\",Skillserleuterungen_FTEM!Q29,Skillserleuterungen_FTEM!D29)","v":"SPEZ. ERMÜDUNGSRESISTENZ (metabolische, kardiovaskuläre Faktoren)"},null,null,{"$f":"IF($H$2=\"G\",Skillserleuterungen_FTEM!T29,Skillserleuterungen_FTEM!G29)","v":"Ist fähig die Power/ Kraft/ Schnelligkeit innerhalb des Einsatzes lange aufrechtzuerhalten und kann sich zwischen den Einsätzen jeweils vollkommen erholen (auch von Spiel zu Spiel)."},null,null,{"$f":"IF($H$2=\"G\",Skillserleuterungen_FTEM!W29,Skillserleuterungen_FTEM!J29)","v":0}]
[null,null,null,{"$f":"IF($H$2=\"G\",Skillserleuterungen_FTEM!Q30,Skillserleuterungen_FTEM!D30)","v":"BEWEGUNGSKOMPETENZ/ KOORDINATION "},null,null,{"$f":"IF($H$2=\"G\",Skillserleuterungen_FTEM!T30,Skillserleuterungen_FTEM!G30)","v":"Beherrscht die grundlegenden Bewegungsfertigkeiten, die eine unerlässliche Zubringerfunktion für die sportspezifischen \"Skills\" darstellt sowie zur nötigen Bewegungseffizienz führt. "},null,null,{"$f":"IF($H$2=\"G\",Skillserleuterungen_FTEM!W30,Skillserleuterungen_FTEM!J30)","v":0}]
[null,null,null,{"$f":"IF($H$2=\"G\",Skillserleuterungen_FTEM!Q31,Skillserleuterungen_FTEM!D31)","v":"ROBUSTHEIT/ PRÄVENTION"},null,null,{"$f":"IF($H$2=\"G\",Skillserleuterungen_FTEM!T31,Skillserleuterungen_FTEM!G31)","v":"Verletzungsanfälligkeit, Stabilität (Verfügt über die nötige Stabilität, Grundkraft (Körperspannung) \"z.B. Beinachsenstabilität\" und Beweglichkeit in den zentralen Gelenken \"Hüfte, Wirbelsäule\"), Standfestigkeit"},null,null,{"$f":"IF($H$2=\"G\",Skillserleuterungen_FTEM!W31,Skillserleuterungen_FTEM!J31)","v":0}]

{"sheet":"13","index":16,"n_rows":40,"n_cols":36,"rows_kept":40,"cut":false,"hidden":false,"merged":[[38,3,38,5],[38,6,38,11],[39,3,39,5],[39,6,39,11],[32,23,35,23],[32,0,35,2],[32,3,32,5],[32,6,32,11],[32,12,35,12],[32,13,35,13],[36,26,39,32],[36,34,39,34],[21,3,21,5],[21,6,21,11],[34,3,34,5],[34,6,34,11],[36,0,39,2],[36,12,39,12],[36,13,39,13],[36,15,39,15],[36,17,39,17],[36,19,39,19],[36,21,39,21],[36,23,39,23],[36,25,39,25],[36,3,36,5],[36,6,36,11],[37,3,37,5],[37,6,37,11],[32,15,35,15],[27,21,27,22],[28,17,31,17],[28,19,31,19],[28,21,31,21],[29,3,29,5],[29,6,29,11],[30,3,30,5],[30,6,30,11],[32,17,35,17],[32,19,35,19],[32,21,35,21],[33,3,33,5],[33,6,33,11],[35,3,35,5],[35,6,35,11],[23,0,26,2],[23,3,23,5],[23,6,23,11],[23,12,26,12],[23,13,26,13],[23,15,26,15],[27,23,27,24],[27,26,27,32],[28,0,31,2],[28,3,28,5],[28,6,28,11],[28,12,31,12],[28,13,31,13],[28,15,31,15],[31,3,31,5],[31,6,31,11],[28,23,31,23],[27,0,27,2],[27,3,27,5],[27,6,27,11],[27,13,27,14],[27,15,27,16],[27,17,27,18],[27,19,27,20],[19,19,22,19],[19,21,22,21],[19,23,22,23],[20,3,20,5],[20,6,20,11],[22,3,22,5],[22,6,22,11],[26,3,26,5],[26,6,26,11],[23,23,26,23],[23,17,26,17],[23,19,26,19],[23,21,26,21],[24,3,24,5],[24,6,24,11],[25,3,25,5],[25,6,25,11],[12,21,13,21],[15,15,18,15],[15,17,18,17],[15,19,18,19],[15,21,18,21],[15,23,18,23],[18,3,18,5],[18,6,18,11],[19,0,22,2],[19,3,19,5],[19,6,19,11],[19,12,22,12],[19,13,22,13],[19,15,22,15],[19,17,22,17],[15,0,18,2],[15,3,15,5],[15,6,15,11],[15,12,18,12],[15,13,18,13],[16,3,16,5],[16,6,16,11],[17,3,17,5],[17,6,17,11],[11,21,11,22],[11,23,11,24],[11,26,11,32],[11,6,11,11],[12,23,13,23],[13,3,13,5],[13,6,13,11],[14,0,14,2],[14,3,14,5],[14,6,14,11],[14,13,14,14],[14,15,14,16],[14,17,14,18],[14,19,14,20],[14,21,14,22],[14,23,14,24],[12,0,13,2],[12,3,12,5],[12,6,12,11],[12,12,13,12],[12,13,13,13],[12,15,13,15],[12,17,13,17],[12,19,13,19],[4,0,4,1],[4,2,4,5],[4,10,4,24],[10,0,10,24],[10,25,10,35],[32,25,35,25],[32,26,35,32],[32,34,35,34],[12,25,13,25],[12,26,13,32],[12,34,13,34],[15,25,18,25],[15,26,18,32],[15,34,18,34],[19,25,22,25],[19,26,22,32],[19,34,22,34],[14,26,14,32],[11,0,11,2],[11,3,11,5],[11,13,11,14],[11,15,11,16],[11,17,11,18],[11,19,11,20],[0,0,0,24],[0,25,0,26],[0,27,0,32],[0,33,0,35],[23,25,26,25],[23,26,26,32],[23,34,26,34],[28,25,31,25],[28,26,31,32],[28,34,31,34],[1,0,1,1],[1,2,1,5],[1,10,1,24],[2,0,2,1],[2,2,2,5],[2,11,2,24],[6,0,6,1],[6,2,6,35],[7,0,7,1],[7,2,7,35],[8,0,8,1],[8,2,8,35],[3,0,3,1],[3,10,3,24]]}
["Personalien",null,null,null,null,null,null,null,null,null,null,null,null,null,null,null,null,null,null,null,null,null,null,null,null,"Vorausetzungen",null,"Evaluationen",null,null,null,null,null,"Rating"]
["VORNAME",null,{"$f":"IF(ISBLANK(VLOOKUP(13,Tabelle3[],3,0)),\"-\",VLOOKUP(13,Tabelle3[],3,0))","v":"-"},null,null,null,"POSITION",null,null,"ADRESSE",{"$f":"IF(ISBLANK(VLOOKUP(13,Tabelle3[],5,0)),\"-\",VLOOKUP(13,Tabelle3[],5,0))","v":"-"},null,null,null,null,null,null,null,null,null,null,null,null,null,null,"\"Alter\" (Biologisch/Relative Age)",null,"Datum 1",null,null,"cm",null,"Kg",null,"AUSGEZEICHNET",5]
["NAME",null,{"$f":"IF(ISBLANK(VLOOKUP(13,Tabelle3[],2,0)),\"-\",VLOOKUP(13,Tabelle3[],2,0))","v":"-"},null,null,null,"STOCK",null,null,"WOHNORT",{"$f":"IF(ISBLANK(VLOOKUP(13,Tabelle3[],7,0)),\"-\",VLOOKUP(13,Tabelle3[],7,0))","v":"-"},{"$f":"IF(ISBLANK(VLOOKUP(13,Tabelle3[],6,0)),\"-\",VLOOKUP(13,Tabelle3[],6,0))","v":"-"},null,null,null,null,null,null,null,null,null,null,null,null,null,"Veranlagung",null,"Datum 2",null,null,"cm",null,"Kg",null,"GUT",4]
["GEB. DATUM",null,{"$f":"IF(ISBLANK(VLOOKUP(13,Tabelle3[],14,0)),\"-\",VLOOKUP(13,Tabelle3[],14,0))","v":"-"},{"$f":"IF(ISBLANK(VLOOKUP(13,Tabelle3[],15,0)),\"-\",VLOOKUP(13,Tabelle3[],15,0))","v":"-"},{"$f":"IF(ISBLANK(VLOOKUP(13,Tabelle3[],16,0)),\"-\",VLOOKUP(13,Tabelle3[],16,0))","v":"-"},null,"GRÖSSE",null,"cm (Final)","PHONE",{"$f":"IF(ISBLANK(VLOOKUP(13,Tabelle3[],8,0)),\"-\",VLOOKUP(13,Tabelle3[],8,0))","v":"-"},null,null,null,null,null,null,null,null,null,null,null,null,null,null,"Umfeld",null,"Datum 3",null,null,"cm",null,"Kg",null,"DURCHSCHNITT",3]
["SEX",null,{"$f":"IF(ISBLANK(VLOOKUP(13,Tabelle3[],13,0)),\"-\",VLOOKUP(13,Tabelle3[],13,0))","v":"-"},null,null,null,"GEWICHT",null,"Kg (Final)","E-Mail",{"$f":"IF(ISBLANK(VLOOKUP(13,Tabelle3[],9,0)),\"-\",VLOOKUP(13,Tabelle3[],9,0))","v":"-"},null,null,null,null,null,null,null,null,null,null,null,null,null,null,null,null,"Datum 4",null,null,"cm",null,"Kg",null,"MANGELHAFT",2]
[null,null,null,null,null,null,null,null,null,null,null,null,null,null,null,null,null,null,null,null,null,null,null,null,null,null,null,"Datum 5",null,null,"cm",null,"Kg",null,"UNGENÜGEND",1]
["Vision",null,"xxx"]
["Next step",null,"xxx"]
["Stärkenprofil",null,"xxx"]
[]
["EVALUATION (COACH / SPIELER)",null,null,null,null,null,null,null,null,null,null,null,null,null,null,null,null,null,null,null,null,null,null,null,null,"SMART"]
["TEAM",null,null,"FÄHIGKEIT",null,null,"BEOBACHTUNG",null,null,null,null,null,"Final","Datum1",null,"Datum2",null,"Datum3",null,"Datum4",null,"Datum5",null,"Player",null,"ZIEL","MASSNAHME:\nSPEZIFISCH,  MESSBAR, REALISITISCH",null,null,null,null,null,null,"TERMIN","ZIEL-KONTROLLE","Datum"]
["ROLLE, SOZIAL",null,null,{"$f":"IF($H$2=\"G\",Skillserleuterungen_FTEM!Q4,Skillserleuterungen_FTEM!D4)","v":"TEAMDENKEN"},null,null,{"$f":"IF($H$2=\"G\",Skillserleuterungen_FTEM!T4,Skillserleuterungen_FTEM!G4)","v":"Identifikation zur Rolle, Umgang mit Kameraden (sozial integriert)"},null,null,{"$f":"IF($H$2=\"G\",Skillserleuterungen_FTEM!W4,Skillserleuterungen_FTEM!J4)","v":0},null,null,null,{"$f":"IFERROR(AVERAGE(O13:O14),\"-\")","v":"-"},null,{"$f":"IFERROR(AVERAGE(Q13:Q14),\"-\")","v":"-"},null,{"$f":"IFERROR(AVERAGE(S13:S14),\"-\")","v":"-"},null,{"$f":"IFERROR(AVERAGE(U13:U14),\"-\")","v":"-"},null,null,null,{"$f":"IFERROR(AVERAGE(Y13:Y14),\"-\")","v":"-"}]
[null,null,null,{"$f":"IF($H$2=\"G\",Skillserleuterungen_FTEM!Q5,Skillserleuterungen_FTEM!D5)","v":"LEADERSHIP"},null,null,{"$f":"IF($H$2=\"G\",Skillserleuterungen_FTEM!T5,Skillserleuterungen_FTEM!G5)","v":"Übernimmt Verantwortung, macht Mitspieler besser"},null,null,{"$f":"IF($H$2=\"G\",Skillserleuterungen_FTEM!W5,Skillserleuterungen_FTEM!J5)","v":0}]
["ON ICE",null,null,"FÄHIGKEIT",null,null,"BEOBACHTUNG",null,null,null,null,null,null,"Datum1",null,"Datum2",null,"Datum3",null,"Datum4",null,"Datum5",null,"Player",null,"ZIEL","MASSNAHME:\nSPEZIFISCH,  MESSBAR, REALISITISCH",null,null,null,null,null,null,"TERMIN","ZIEL-KONTROLLE","Datum"]
["SKILL",null,null,{"$f":"IF($H$2=\"G\",Skillserleuterungen_FTEM!Q7,Skillserleuterungen_FTEM!D7)","v":"SCHIESSEN"},null,null,{"$f":"IF($H$2=\"G\",Skillserleuterungen_FTEM!T7,Skillserleuterungen_FTEM!G7)","v":"Effizienz / Variantenreichtum, Überraschungsgrad (Quick Release), Präzision, Härte, (taktische Abschlüsse)\nschnell, hart, unter Druck"},null,null,{"$f":"IF($H$2=\"G\",Skillserleuterungen_FTEM!W7,Skillserleuterungen_FTEM!J7)","v":0},null,null,null,{"$f":"IFERROR(AVERAGE(O16:O19),\"-\")","v":"-"},null,{"$f":"IFERROR(AVERAGE(Q16:Q19),\"-\")","v":"-"},null,{"$f":"IFERROR(AVERAGE(S16:S19),\"-\")","v":"-"},null,{"$f":"IFERROR(AVERAGE(U16:U19),\"-\")","v":"-"},null,{"$f":"IFERROR(AVERAGE(W16:W19),\"-\")","v":"-"},null,{"$f":"IFERROR(AVERAGE(Y16:Y19),\"-\")","v":"-"}]
[null,null,null,{"$f":"IF($H$2=\"G\",Skillserleuterungen_FTEM!Q8,Skillserleuterungen_FTEM!D8)","v":"PASSEN"},null,null,{"$f":"IF($H$2=\"G\",Skillserleuterungen_FTEM!T8,Skillserleuterungen_FTEM!G8)","v":"Passabgabe (Distanz, Flippass Backhand), Passannahme (Präzision, Timing, Vorhand, Rückhand, Schlittschuh,Puckspeed"},null,null,{"$f":"IF($H$2=\"G\",Skillserleuterungen_FTEM!W8,Skillserleuterungen_FTEM!J8)","v":0}]
[null,null,null,{"$f":"IF($H$2=\"G\",Skillserleuterungen_FTEM!Q9,Skillserleuterungen_FTEM!D9)","v":"KÖRPERSPIEL"},null,null,{"$f":"IF($H$2=\"G\",Skillserleuterungen_FTEM!T9,Skillserleuterungen_FTEM!G9)","v":"Phyisches Durchsetzungsvermögen, Zweikampf (offenes Eis/Bande), Checks nehmen/Head up, Battle Level, Hart aber fair, mit dem Körper Schüsse blockieren"},null,null,{"$f":"IF($H$2=\"G\",Skillserleuterungen_FTEM!W9,Skillserleuterungen_FTEM!J9)","v":0},null,null,null,{"$f":"IFERROR(AVERAGE(O18:O19),\"-\")","v":"-"},null,{"$f":"IFERROR(AVERAGE(Q18:Q19),\"-\")","v":"-"},null,{"$f":"IFERROR(AVERAGE(S18:S19),\"-\")","v":"-"},null,{"$f":"IFERROR(AVERAGE(U18:U19),\"-\")","v":"-"},null,{"$f":"IFERROR(AVERAGE(W18:W19),\"-\")","v":"-"},null,{"$f":"IFERROR(AVERAGE(Y18:Y19),\"-\")","v":"-"}]
[null,null,null,{"$f":"IF($H$2=\"G\",Skillserleuterungen_FTEM!Q10,Skillserleuterungen_FTEM!D10)","v":"SCHEIBENKONTROLLE"},null,null,{"$f":"IF($H$2=\"G\",Skillserleuterungen_FTEM!T10,Skillserleuterungen_FTEM!G10)","v":"Puckmanagmenet auf engem Raum, Puck Protection,  schwer kontrollierbare Scheiben "},null,null,{"$f":"IF($H$2=\"G\",Skillserleuterungen_FTEM!W10,Skillserleuterungen_FTEM!J10)","v":0}]
["SKATING",null,null,{"$f":"IF($H$2=\"G\",Skillserleuterungen_FTEM!Q11,Skillserleuterungen_FTEM!D11)","v":"FOOTSPEED"},null,null,{"$f":"IF($H$2=\"G\",Skillserleuterungen_FTEM!T11,Skillserleuterungen_FTEM!G11)","v":"Beschleunigung, Antritt, erste 3 Schritte Explosivität, Frequenz"},null,null,{"$f":"IF($H$2=\"G\",Skillserleuterungen_FTEM!W11,Skillserleuterungen_FTEM!J11)","v":0},null,null,null,{"$f":"IFERROR(AVERAGE(O20:O23),\"-\")","v":"-"},null,{"$f":"IFERROR(AVERAGE(Q20:Q23),\"-\")","v":"-"},null,{"$f":"IFERROR(AVERAGE(S20:S23),\"-\")","v":"-"},null,{"$f":"IFERROR(AVERAGE(U20:U23),\"-\")","v":"-"},null,{"$f":"IFERROR(AVERAGE(W20:W23),\"-\")","v":"-"},null,{"$f":"IFERROR(AVERAGE(Y20:Y23),\"-\")","v":"-"}]
[null,null,null,{"$f":"IF($H$2=\"G\",Skillserleuterungen_FTEM!Q12,Skillserleuterungen_FTEM!D12)","v":"AGILITÄT"},null,null,{"$f":"IF($H$2=\"G\",Skillserleuterungen_FTEM!T12,Skillserleuterungen_FTEM!G12)","v":"Richtungsänderung, Drehung, Stop und Start, «Nummelin»"},null,null,{"$f":"IF($H$2=\"G\",Skillserleuterungen_FTEM!W12,Skillserleuterungen_FTEM!J12)","v":0}]
[null,null,null,{"$f":"IF($H$2=\"G\",Skillserleuterungen_FTEM!Q13,Skillserleuterungen_FTEM!D13)","v":"BACKWARDS SKATING"},null,null,{"$f":"IF($H$2=\"G\",Skillserleuterungen_FTEM!T13,Skillserleuterungen_FTEM!G13)","v":"Beschleunigung, Geschwindigkeit, Balance"},null,null,{"$f":"IF($H$2=\"G\",Skillserleuterungen_FTEM!W13,Skillserleuterungen_FTEM!J13)","v":0}]
[null,null,null,{"$f":"IF($H$2=\"G\",Skillserleuterungen_FTEM!Q14,Skillserleuterungen_FTEM!D14)","v":"TOPSPEED"},null,null,{"$f":"IF($H$2=\"G\",Skillserleuterungen_FTEM!T14,Skillserleuterungen_FTEM!G14)","v":"Schnelligkeit, Gleitfähigkeit, vorwärts und rückwärts, Ökonomie"},null,null,{"$f":"IF($H$2=\"G\",Skillserleuterungen_FTEM!W14,Skillserleuterungen_FTEM!J14)","v":0}]
["HOCKEY SENSE",null,null,{"$f":"IF($H$2=\"G\",Skillserleuterungen_FTEM!Q15,Skillserleuterungen_FTEM!D15)","v":"SCORING"},null,null,{"$f":"IF($H$2=\"G\",Skillserleuterungen_FTEM!T15,Skillserleuterungen_FTEM!G15)","v":"Effizienz, variantentreich, überraschend, schnell, hart - Schussvarianten"},null,null,{"$f":"IF($H$2=\"G\",Skillserleuterungen_FTEM!W15,Skillserleuterungen_FTEM!J15)","v":0},null,null,null,{"$f":"IFERROR(AVERAGE(O24:O27),\"-\")","v":"-"},null,{"$f":"IFERROR(AVERAGE(Q24:Q27),\"-\")","v":"-"},null,{"$f":"IFERROR(AVERAGE(S24:S27),\"-\")","v":"-"},null,{"$f":"IFERROR(AVERAGE(U24:U27),\"-\")","v":"-"},null,{"$f":"IFERROR(AVERAGE(W24:W27),\"-\")","v":"-"},null,{"$f":"IFERROR(AVERAGE(Y24:Y27),\"-\")","v":"-"}]
[null,null,null,{"$f":"IF($H$2=\"G\",Skillserleuterungen_FTEM!Q16,Skillserleuterungen_FTEM!D16)","v":"MIT SCHEIBE"},null,null,{"$f":"IF($H$2=\"G\",Skillserleuterungen_FTEM!T16,Skillserleuterungen_FTEM!G16)","v":"Kreativ, performing, batteling, frech, Transition"},null,null,{"$f":"IF($H$2=\"G\",Skillserleuterungen_FTEM!W16,Skillserleuterungen_FTEM!J16)","v":0}]
[null,null,null,{"$f":"IF($H$2=\"G\",Skillserleuterungen_FTEM!Q17,Skillserleuterungen_FTEM!D17)","v":"OHNE SCHEIBE"},null,null,{"$f":"IF($H$2=\"G\",Skillserleuterungen_FTEM!T17,Skillserleuterungen_FTEM!G17)","v":"Anspielbar (Support), 1:1, Gap"},null,null,{"$f":"IF($H$2=\"G\",Skillserleuterungen_FTEM!W17,Skillserleuterungen_FTEM!J17)","v":0}]
[null,null,null,{"$f":"IF($H$2=\"G\",Skillserleuterungen_FTEM!Q18,Skillserleuterungen_FTEM!D18)","v":"DEFENSIV"},null,null,{"$f":"IF($H$2=\"G\",Skillserleuterungen_FTEM!T18,Skillserleuterungen_FTEM!G18)","v":"Verlässlichkeit,  1:1, Gap, Zuordnung"},null,null,{"$f":"IF($H$2=\"G\",Skillserleuterungen_FTEM!W18,Skillserleuterungen_FTEM!J18)","v":0}]
["PERSONALITY",null,null,"FÄHIGKEIT",null,null,"BEOBACHTUNG",null,null,null,null,null,null,"Datum1",null,"Datum2",null,"Datum3",null,"Datum4",null,"Datum5",null,"Player",null,"ZIEL","MASSNAHME:\nSPEZIFISCH,  MESSBAR, REALISITISCH",null,null,null,null,null,null,"TERMIN","ZIEL-KONTROLLE","Datum"]
["PERSON",null,null,{"$f":"IF($H$2=\"G\",Skillserleuterungen_FTEM!Q20,Skillserleuterungen_FTEM!D20)","v":"MOTIVATION"},null,null,{"$f":"IF($H$2=\"G\",Skillserleuterungen_FTEM!T20,Skillserleuterungen_FTEM!G20)","v":"Intrinsischer Antrieb, will sich ständig weiterentwickeln, will der Erste sein und Erfolg haben"},null,null,{"$f":"IF($H$2=\"G\",Skillserleuterungen_FTEM!W20,Skillserleuterungen_FTEM!J20)","v":0},null,null,null,{"$f":"IFERROR(AVERAGE(O29:O32),\"-\")","v":"-"},null,{"$f":"IFERROR(AVERAGE(Q29:Q32),\"-\")","v":"-"},null,{"$f":"IFERROR(AVERAGE(S29:S32),\"-\")","v":"-"},null,{"$f":"IFERROR(AVERAGE(U29:U32),\"-\")","v":"-"},null,{"$f":"IFERROR(AVERAGE(W29:W32),\"-\")","v":"-"},null,{"$f":"IFERROR(AVERAGE(Y29:Y32),\"-\")","v":"-"}]
[null,null,null,{"$f":"IF($H$2=\"G\",Skillserleuterungen_FTEM!Q21,Skillserleuterungen_FTEM!D21)","v":"SELBSBEWUSSTSEIN"},null,null,{"$f":"IF($H$2=\"G\",Skillserleuterungen_FTEM!T21,Skillserleuterungen_FTEM!G21)","v":"Hat das nötige Selbstvertrauen \"I can do it\" haltung, kann eigenen Fähigkeiten einschätzen und agiert mutig"},null,null,{"$f":"IF($H$2=\"G\",Skillserleuterungen_FTEM!W21,Skillserleuterungen_FTEM!J21)","v":0}]
[null,null,null,{"$f":"IF($H$2=\"G\",Skillserleuterungen_FTEM!Q22,Skillserleuterungen_FTEM!D22)","v":"LERNFÄHIGKEIT"},null,null,{"$f":"IF($H$2=\"G\",Skillserleuterungen_FTEM!T22,Skillserleuterungen_FTEM!G22)","v":"Gute Auffassungsgabe (nimmt auf und kann umsetzen), reflektiert eigenes Handeln, versucht aus Fehlern zu lernen und kann Massnahmen ableiten und sich selber coachen"},null,null,{"$f":"IF($H$2=\"G\",Skillserleuterungen_FTEM!W22,Skillserleuterungen_FTEM!J22)","v":0}]
[null,null,null,{"$f":"IF($H$2=\"G\",Skillserleuterungen_FTEM!Q23,Skillserleuterungen_FTEM!D23)","v":"PERFORMANCE LIFESTYLE"},null,null,{"$f":"IF($H$2=\"G\",Skillserleuterungen_FTEM!T23,Skillserleuterungen_FTEM!G23)","v":"Managt Alltag und Umfeld nach dem Leistungsprinzip, kann sich gegen Wiederstände durchsetzten"},null,null,{"$f":"IF($H$2=\"G\",Skillserleuterungen_FTEM!W23,Skillserleuterungen_FTEM!J23)","v":0}]
["POWER",null,null,{"$f":"IF($H$2=\"G\",Skillserleuterungen_FTEM!Q24,Skillserleuterungen_FTEM!D24)","v":"ENERGIEMANAGEMENT"},null,null,{"$f":"IF($H$2=\"G\",Skillserleuterungen_FTEM!T24,Skillserleuterungen_FTEM!G24)","v":"Kann eigene Energie regulieren, bereit zur Regeneration, weiss, wann er \"Vollgas\" geben muss und wann ab-schalten, On/Off-Schalter"},null,null,{"$f":"IF($H$2=\"G\",Skillserleuterungen_FTEM!W24,Skillserleuterungen_FTEM!J24)","v":0},null,null,null,{"$f":"IFERROR(AVERAGE(O33:O36),\"-\")","v":"-"},null,{"$f":"IFERROR(AVERAGE(Q33:Q36),\"-\")","v":"-"},null,{"$f":"IFERROR(AVERAGE(S33:S36),\"-\")","v":"-"},null,{"$f":"IFERROR(AVERAGE(U33:U36),\"-\")","v":"-"},null,{"$f":"IFERROR(AVERAGE(W33:W36),\"-\")","v":"-"},null,{"$f":"IFERROR(AVERAGE(Y33:Y36),\"-\")","v":"-"}]
[null,null,null,{"$f":"IF($H$2=\"G\",Skillserleuterungen_FTEM!Q25,Skillserleuterungen_FTEM!D25)","v":"EINSATZBEREITSCHAFT"},null,null,{"$f":"IF($H$2=\"G\",Skillserleuterungen_FTEM!T25,Skillserleuterungen_FTEM!G25)","v":"Hohe intensität im Spiel und Training, gibt immer sein Maximum, will seine Limiten pushen"},null,null,{"$f":"IF($H$2=\"G\",Skillserleuterungen_FTEM!W25,Skillserleuterungen_FTEM!J25)","v":0}]
[null,null,null,{"$f":"IF($H$2=\"G\",Skillserleuterungen_FTEM!Q26,Skillserleuterungen_FTEM!D26)","v":"EMOTIONSKONTROLLE"},null,null,{"$f":"IF($H$2=\"G\",Skillserleuterungen_FTEM!T26,Skillserleuterungen_FTEM!G26)","v":"Emotionen und Impulse regulieren, unter Druck die Kontrolle behalten, in emotional ansprucksvollen Situationen angemessen agieren können"},null,null,{"$f":"IF($H$2=\"G\",Skillserleuterungen_FTEM!W26,Skillserleuterungen_FTEM!J26)","v":0}]
[null,null,null,{"$f":"IF($H$2=\"G\",Skillserleuterungen_FTEM!Q27,Skillserleuterungen_FTEM!D27)","v":"VORBEREITUNG"},null,null,{"$f":"IF($H$2=\"G\",Skillserleuterungen_FTEM!T27,Skillserleuterungen_FTEM!G27)","v":"Fokus, ILZ, Regeneration, Selbststiumlation, Ernährung"},null,null,{"$f":"IF($H$2=\"G\",Skillserleuterungen_FTEM!W27,Skillserleuterungen_FTEM!J27)","v":0}]
["PYHSE (Athletik)",null,null,{"$f":"IF($H$2=\"G\",Skillserleuterungen_FTEM!Q28,Skillserleuterungen_FTEM!D28)","v":"LEISTUNGSERZEUGUNG (neuromuskuläre Faktoren /Leistungserzeugung)"},null,null,{"$f":"IF($H$2=\"G\",Skillserleuterungen_FTEM!T28,Skillserleuterungen_FTEM!G28)","v":"Verfügt über die nötige Power/ Kraft/ Schnelligkeit in den Beinen un im Oberkörper "},null,null,{"$f":"IF($H$2=\"G\",Skillserleuterungen_FTEM!W28,Skillserleuterungen_FTEM!J28)","v":0},null,null,null,{"$f":"IFERROR(AVERAGE(O37:O40),\"-\")","v":"-"},null,{"$f":"IFERROR(AVERAGE(Q37:Q40),\"-\")","v":"-"},null,{"$f":"IFERROR(AVERAGE(S37:S40),\"-\")","v":"-"},null,{"$f":"IFERROR(AVERAGE(U37:U40),\"-\")","v":"-"},null,{"$f":"IFERROR(AVERAGE(W37:W40),\"-\")","v":"-"},null,{"$f":"IFERROR(AVERAGE(Y37:Y40),\"-\")","v":"-"}]
[null,null,null,{"$f":"IF($H$2=\"G\",Skillserleuterungen_FTEM!Q29,Skillserleuterungen_FTEM!D29)","v":"SPEZ. ERMÜDUNGSRESISTENZ (metabolische, kardiovaskuläre Faktoren)"},null,null,{"$f":"IF($H$2=\"G\",Skillserleuterungen_FTEM!T29,Skillserleuterungen_FTEM!G29)","v":"Ist fähig die Power/ Kraft/ Schnelligkeit innerhalb des Einsatzes lange aufrechtzuerhalten und kann sich zwischen den Einsätzen jeweils vollkommen erholen (auch von Spiel zu Spiel)."},null,null,{"$f":"IF($H$2=\"G\",Skillserleuterungen_FTEM!W29,Skillserleuterungen_FTEM!J29)","v":0}]
[null,null,null,{"$f":"IF($H$2=\"G\",Skillserleuterungen_FTEM!Q30,Skillserleuterungen_FTEM!D30)","v":"BEWEGUNGSKOMPETENZ/ KOORDINATION "},null,null,{"$f":"IF($H$2=\"G\",Skillserleuterungen_FTEM!T30,Skillserleuterungen_FTEM!G30)","v":"Beherrscht die grundlegenden Bewegungsfertigkeiten, die eine unerlässliche Zubringerfunktion für die sportspezifischen \"Skills\" darstellt sowie zur nötigen Bewegungseffizienz führt. "},null,null,{"$f":"IF($H$2=\"G\",Skillserleuterungen_FTEM!W30,Skillserleuterungen_FTEM!J30)","v":0}]
[null,null,null,{"$f":"IF($H$2=\"G\",Skillserleuterungen_FTEM!Q31,Skillserleuterungen_FTEM!D31)","v":"ROBUSTHEIT/ PRÄVENTION"},null,null,{"$f":"IF($H$2=\"G\",Skillserleuterungen_FTEM!T31,Skillserleuterungen_FTEM!G31)","v":"Verletzungsanfälligkeit, Stabilität (Verfügt über die nötige Stabilität, Grundkraft (Körperspannung) \"z.B. Beinachsenstabilität\" und Beweglichkeit in den zentralen Gelenken \"Hüfte, Wirbelsäule\"), Standfestigkeit"},null,null,{"$f":"IF($H$2=\"G\",Skillserleuterungen_FTEM!W31,Skillserleuterungen_FTEM!J31)","v":0}]

{"sheet":"14","index":17,"n_rows":40,"n_cols":36,"rows_kept":40,"cut":false,"hidden":false,"merged":[[38,3,38,5],[38,6,38,11],[39,3,39,5],[39,6,39,11],[32,23,35,23],[32,0,35,2],[32,3,32,5],[32,6,32,11],[32,12,35,12],[32,13,35,13],[36,26,39,32],[36,34,39,34],[21,3,21,5],[21,6,21,11],[34,3,34,5],[34,6,34,11],[36,0,39,2],[36,12,39,12],[36,13,39,13],[36,15,39,15],[36,17,39,17],[36,19,39,19],[36,21,39,21],[36,23,39,23],[36,25,39,25],[36,3,36,5],[36,6,36,11],[37,3,37,5],[37,6,37,11],[32,15,35,15],[27,21,27,22],[28,17,31,17],[28,19,31,19],[28,21,31,21],[29,3,29,5],[29,6,29,11],[30,3,30,5],[30,6,30,11],[32,17,35,17],[32,19,35,19],[32,21,35,21],[33,3,33,5],[33,6,33,11],[35,3,35,5],[35,6,35,11],[23,0,26,2],[23,3,23,5],[23,6,23,11],[23,12,26,12],[23,13,26,13],[23,15,26,15],[27,23,27,24],[27,26,27,32],[28,0,31,2],[28,3,28,5],[28,6,28,11],[28,12,31,12],[28,13,31,13],[28,15,31,15],[31,3,31,5],[31,6,31,11],[28,23,31,23],[27,0,27,2],[27,3,27,5],[27,6,27,11],[27,13,27,14],[27,15,27,16],[27,17,27,18],[27,19,27,20],[19,19,22,19],[19,21,22,21],[19,23,22,23],[20,3,20,5],[20,6,20,11],[22,3,22,5],[22,6,22,11],[26,3,26,5],[26,6,26,11],[23,23,26,23],[23,17,26,17],[23,19,26,19],[23,21,26,21],[24,3,24,5],[24,6,24,11],[25,3,25,5],[25,6,25,11],[12,21,13,21],[15,15,18,15],[15,17,18,17],[15,19,18,19],[15,21,18,21],[15,23,18,23],[18,3,18,5],[18,6,18,11],[19,0,22,2],[19,3,19,5],[19,6,19,11],[19,12,22,12],[19,13,22,13],[19,15,22,15],[19,17,22,17],[15,0,18,2],[15,3,15,5],[15,6,15,11],[15,12,18,12],[15,13,18,13],[16,3,16,5],[16,6,16,11],[17,3,17,5],[17,6,17,11],[11,21,11,22],[11,23,11,24],[11,26,11,32],[11,6,11,11],[12,23,13,23],[13,3,13,5],[13,6,13,11],[14,0,14,2],[14,3,14,5],[14,6,14,11],[14,13,14,14],[14,15,14,16],[14,17,14,18],[14,19,14,20],[14,21,14,22],[14,23,14,24],[12,0,13,2],[12,3,12,5],[12,6,12,11],[12,12,13,12],[12,13,13,13],[12,15,13,15],[12,17,13,17],[12,19,13,19],[4,0,4,1],[4,2,4,5],[4,10,4,24],[10,0,10,24],[10,25,10,35],[32,25,35,25],[32,26,35,32],[32,34,35,34],[12,25,13,25],[12,26,13,32],[12,34,13,34],[15,25,18,25],[15,26,18,32],[15,34,18,34],[19,25,22,25],[19,26,22,32],[19,34,22,34],[14,26,14,32],[11,0,11,2],[11,3,11,5],[11,13,11,14],[11,15,11,16],[11,17,11,18],[11,19,11,20],[0,0,0,24],[0,25,0,26],[0,27,0,32],[0,33,0,35],[23,25,26,25],[23,26,26,32],[23,34,26,34],[28,25,31,25],[28,26,31,32],[28,34,31,34],[1,0,1,1],[1,2,1,5],[1,10,1,24],[2,0,2,1],[2,2,2,5],[2,11,2,24],[6,0,6,1],[6,2,6,35],[7,0,7,1],[7,2,7,35],[8,0,8,1],[8,2,8,35],[3,0,3,1],[3,10,3,24]]}
["Personalien",null,null,null,null,null,null,null,null,null,null,null,null,null,null,null,null,null,null,null,null,null,null,null,null,"Vorausetzungen",null,"Evaluationen",null,null,null,null,null,"Rating"]
["VORNAME",null,{"$f":"IF(ISBLANK(VLOOKUP(14,Tabelle3[],3,0)),\"-\",VLOOKUP(14,Tabelle3[],3,0))","v":"-"},null,null,null,"POSITION",null,null,"ADRESSE",{"$f":"IF(ISBLANK(VLOOKUP(14,Tabelle3[],5,0)),\"-\",VLOOKUP(14,Tabelle3[],5,0))","v":"-"},null,null,null,null,null,null,null,null,null,null,null,null,null,null,"\"Alter\" (Biologisch/Relative Age)",null,"Datum 1",null,null,"cm",null,"Kg",null,"AUSGEZEICHNET",5]
["NAME",null,{"$f":"IF(ISBLANK(VLOOKUP(14,Tabelle3[],2,0)),\"-\",VLOOKUP(14,Tabelle3[],2,0))","v":"-"},null,null,null,"STOCK",null,null,"WOHNORT",{"$f":"IF(ISBLANK(VLOOKUP(14,Tabelle3[],7,0)),\"-\",VLOOKUP(14,Tabelle3[],7,0))","v":"-"},{"$f":"IF(ISBLANK(VLOOKUP(14,Tabelle3[],6,0)),\"-\",VLOOKUP(14,Tabelle3[],6,0))","v":"-"},null,null,null,null,null,null,null,null,null,null,null,null,null,"Veranlagung",null,"Datum 2",null,null,"cm",null,"Kg",null,"GUT",4]
["GEB. DATUM",null,{"$f":"IF(ISBLANK(VLOOKUP(14,Tabelle3[],14,0)),\"-\",VLOOKUP(14,Tabelle3[],14,0))","v":"-"},{"$f":"IF(ISBLANK(VLOOKUP(14,Tabelle3[],15,0)),\"-\",VLOOKUP(14,Tabelle3[],15,0))","v":"-"},{"$f":"IF(ISBLANK(VLOOKUP(14,Tabelle3[],16,0)),\"-\",VLOOKUP(14,Tabelle3[],16,0))","v":"-"},null,"GRÖSSE",null,"cm (Final)","PHONE",{"$f":"IF(ISBLANK(VLOOKUP(14,Tabelle3[],8,0)),\"-\",VLOOKUP(14,Tabelle3[],8,0))","v":"-"},null,null,null,null,null,null,null,null,null,null,null,null,null,null,"Umfeld",null,"Datum 3",null,null,"cm",null,"Kg",null,"DURCHSCHNITT",3]
["SEX",null,{"$f":"IF(ISBLANK(VLOOKUP(14,Tabelle3[],13,0)),\"-\",VLOOKUP(14,Tabelle3[],13,0))","v":"-"},null,null,null,"GEWICHT",null,"Kg (Final)","E-Mail",{"$f":"IF(ISBLANK(VLOOKUP(14,Tabelle3[],9,0)),\"-\",VLOOKUP(14,Tabelle3[],9,0))","v":"-"},null,null,null,null,null,null,null,null,null,null,null,null,null,null,null,null,"Datum 4",null,null,"cm",null,"Kg",null,"MANGELHAFT",2]
[null,null,null,null,null,null,null,null,null,null,null,null,null,null,null,null,null,null,null,null,null,null,null,null,null,null,null,"Datum 5",null,null,"cm",null,"Kg",null,"UNGENÜGEND",1]
["Vision",null,"xxx"]
["Next step",null,"xxx"]
["Stärkenprofil",null,"xxx"]
[]
["EVALUATION (COACH / SPIELER)",null,null,null,null,null,null,null,null,null,null,null,null,null,null,null,null,null,null,null,null,null,null,null,null,"SMART"]
["TEAM",null,null,"FÄHIGKEIT",null,null,"BEOBACHTUNG",null,null,null,null,null,"Final","Datum1",null,"Datum2",null,"Datum3",null,"Datum4",null,"Datum5",null,"Player",null,"ZIEL","MASSNAHME:\nSPEZIFISCH,  MESSBAR, REALISITISCH",null,null,null,null,null,null,"TERMIN","ZIEL-KONTROLLE","Datum"]
["ROLLE, SOZIAL",null,null,{"$f":"IF($H$2=\"G\",Skillserleuterungen_FTEM!Q4,Skillserleuterungen_FTEM!D4)","v":"TEAMDENKEN"},null,null,{"$f":"IF($H$2=\"G\",Skillserleuterungen_FTEM!T4,Skillserleuterungen_FTEM!G4)","v":"Identifikation zur Rolle, Umgang mit Kameraden (sozial integriert)"},null,null,{"$f":"IF($H$2=\"G\",Skillserleuterungen_FTEM!W4,Skillserleuterungen_FTEM!J4)","v":0},null,null,null,{"$f":"IFERROR(AVERAGE(O13:O14),\"-\")","v":"-"},null,{"$f":"IFERROR(AVERAGE(Q13:Q14),\"-\")","v":"-"},null,{"$f":"IFERROR(AVERAGE(S13:S14),\"-\")","v":"-"},null,{"$f":"IFERROR(AVERAGE(U13:U14),\"-\")","v":"-"},null,null,null,{"$f":"IFERROR(AVERAGE(Y13:Y14),\"-\")","v":"-"}]
[null,null,null,{"$f":"IF($H$2=\"G\",Skillserleuterungen_FTEM!Q5,Skillserleuterungen_FTEM!D5)","v":"LEADERSHIP"},null,null,{"$f":"IF($H$2=\"G\",Skillserleuterungen_FTEM!T5,Skillserleuterungen_FTEM!G5)","v":"Übernimmt Verantwortung, macht Mitspieler besser"},null,null,{"$f":"IF($H$2=\"G\",Skillserleuterungen_FTEM!W5,Skillserleuterungen_FTEM!J5)","v":0}]
["ON ICE",null,null,"FÄHIGKEIT",null,null,"BEOBACHTUNG",null,null,null,null,null,null,"Datum1",null,"Datum2",null,"Datum3",null,"Datum4",null,"Datum5",null,"Player",null,"ZIEL","MASSNAHME:\nSPEZIFISCH,  MESSBAR, REALISITISCH",null,null,null,null,null,null,"TERMIN","ZIEL-KONTROLLE","Datum"]
["SKILL",null,null,{"$f":"IF($H$2=\"G\",Skillserleuterungen_FTEM!Q7,Skillserleuterungen_FTEM!D7)","v":"SCHIESSEN"},null,null,{"$f":"IF($H$2=\"G\",Skillserleuterungen_FTEM!T7,Skillserleuterungen_FTEM!G7)","v":"Effizienz / Variantenreichtum, Überraschungsgrad (Quick Release), Präzision, Härte, (taktische Abschlüsse)\nschnell, hart, unter Druck"},null,null,{"$f":"IF($H$2=\"G\",Skillserleuterungen_FTEM!W7,Skillserleuterungen_FTEM!J7)","v":0},null,null,null,{"$f":"IFERROR(AVERAGE(O16:O19),\"-\")","v":"-"},null,{"$f":"IFERROR(AVERAGE(Q16:Q19),\"-\")","v":"-"},null,{"$f":"IFERROR(AVERAGE(S16:S19),\"-\")","v":"-"},null,{"$f":"IFERROR(AVERAGE(U16:U19),\"-\")","v":"-"},null,{"$f":"IFERROR(AVERAGE(W16:W19),\"-\")","v":"-"},null,{"$f":"IFERROR(AVERAGE(Y16:Y19),\"-\")","v":"-"}]
[null,null,null,{"$f":"IF($H$2=\"G\",Skillserleuterungen_FTEM!Q8,Skillserleuterungen_FTEM!D8)","v":"PASSEN"},null,null,{"$f":"IF($H$2=\"G\",Skillserleuterungen_FTEM!T8,Skillserleuterungen_FTEM!G8)","v":"Passabgabe (Distanz, Flippass Backhand), Passannahme (Präzision, Timing, Vorhand, Rückhand, Schlittschuh,Puckspeed"},null,null,{"$f":"IF($H$2=\"G\",Skillserleuterungen_FTEM!W8,Skillserleuterungen_FTEM!J8)","v":0}]
[null,null,null,{"$f":"IF($H$2=\"G\",Skillserleuterungen_FTEM!Q9,Skillserleuterungen_FTEM!D9)","v":"KÖRPERSPIEL"},null,null,{"$f":"IF($H$2=\"G\",Skillserleuterungen_FTEM!T9,Skillserleuterungen_FTEM!G9)","v":"Phyisches Durchsetzungsvermögen, Zweikampf (offenes Eis/Bande), Checks nehmen/Head up, Battle Level, Hart aber fair, mit dem Körper Schüsse blockieren"},null,null,{"$f":"IF($H$2=\"G\",Skillserleuterungen_FTEM!W9,Skillserleuterungen_FTEM!J9)","v":0},null,null,null,{"$f":"IFERROR(AVERAGE(O18:O19),\"-\")","v":"-"},null,{"$f":"IFERROR(AVERAGE(Q18:Q19),\"-\")","v":"-"},null,{"$f":"IFERROR(AVERAGE(S18:S19),\"-\")","v":"-"},null,{"$f":"IFERROR(AVERAGE(U18:U19),\"-\")","v":"-"},null,{"$f":"IFERROR(AVERAGE(W18:W19),\"-\")","v":"-"},null,{"$f":"IFERROR(AVERAGE(Y18:Y19),\"-\")","v":"-"}]
[null,null,null,{"$f":"IF($H$2=\"G\",Skillserleuterungen_FTEM!Q10,Skillserleuterungen_FTEM!D10)","v":"SCHEIBENKONTROLLE"},null,null,{"$f":"IF($H$2=\"G\",Skillserleuterungen_FTEM!T10,Skillserleuterungen_FTEM!G10)","v":"Puckmanagmenet auf engem Raum, Puck Protection,  schwer kontrollierbare Scheiben "},null,null,{"$f":"IF($H$2=\"G\",Skillserleuterungen_FTEM!W10,Skillserleuterungen_FTEM!J10)","v":0}]
["SKATING",null,null,{"$f":"IF($H$2=\"G\",Skillserleuterungen_FTEM!Q11,Skillserleuterungen_FTEM!D11)","v":"FOOTSPEED"},null,null,{"$f":"IF($H$2=\"G\",Skillserleuterungen_FTEM!T11,Skillserleuterungen_FTEM!G11)","v":"Beschleunigung, Antritt, erste 3 Schritte Explosivität, Frequenz"},null,null,{"$f":"IF($H$2=\"G\",Skillserleuterungen_FTEM!W11,Skillserleuterungen_FTEM!J11)","v":0},null,null,null,{"$f":"IFERROR(AVERAGE(O20:O23),\"-\")","v":"-"},null,{"$f":"IFERROR(AVERAGE(Q20:Q23),\"-\")","v":"-"},null,{"$f":"IFERROR(AVERAGE(S20:S23),\"-\")","v":"-"},null,{"$f":"IFERROR(AVERAGE(U20:U23),\"-\")","v":"-"},null,{"$f":"IFERROR(AVERAGE(W20:W23),\"-\")","v":"-"},null,{"$f":"IFERROR(AVERAGE(Y20:Y23),\"-\")","v":"-"}]
[null,null,null,{"$f":"IF($H$2=\"G\",Skillserleuterungen_FTEM!Q12,Skillserleuterungen_FTEM!D12)","v":"AGILITÄT"},null,null,{"$f":"IF($H$2=\"G\",Skillserleuterungen_FTEM!T12,Skillserleuterungen_FTEM!G12)","v":"Richtungsänderung, Drehung, Stop und Start, «Nummelin»"},null,null,{"$f":"IF($H$2=\"G\",Skillserleuterungen_FTEM!W12,Skillserleuterungen_FTEM!J12)","v":0}]
[null,null,null,{"$f":"IF($H$2=\"G\",Skillserleuterungen_FTEM!Q13,Skillserleuterungen_FTEM!D13)","v":"BACKWARDS SKATING"},null,null,{"$f":"IF($H$2=\"G\",Skillserleuterungen_FTEM!T13,Skillserleuterungen_FTEM!G13)","v":"Beschleunigung, Geschwindigkeit, Balance"},null,null,{"$f":"IF($H$2=\"G\",Skillserleuterungen_FTEM!W13,Skillserleuterungen_FTEM!J13)","v":0}]
[null,null,null,{"$f":"IF($H$2=\"G\",Skillserleuterungen_FTEM!Q14,Skillserleuterungen_FTEM!D14)","v":"TOPSPEED"},null,null,{"$f":"IF($H$2=\"G\",Skillserleuterungen_FTEM!T14,Skillserleuterungen_FTEM!G14)","v":"Schnelligkeit, Gleitfähigkeit, vorwärts und rückwärts, Ökonomie"},null,null,{"$f":"IF($H$2=\"G\",Skillserleuterungen_FTEM!W14,Skillserleuterungen_FTEM!J14)","v":0}]
["HOCKEY SENSE",null,null,{"$f":"IF($H$2=\"G\",Skillserleuterungen_FTEM!Q15,Skillserleuterungen_FTEM!D15)","v":"SCORING"},null,null,{"$f":"IF($H$2=\"G\",Skillserleuterungen_FTEM!T15,Skillserleuterungen_FTEM!G15)","v":"Effizienz, variantentreich, überraschend, schnell, hart - Schussvarianten"},null,null,{"$f":"IF($H$2=\"G\",Skillserleuterungen_FTEM!W15,Skillserleuterungen_FTEM!J15)","v":0},null,null,null,{"$f":"IFERROR(AVERAGE(O24:O27),\"-\")","v":"-"},null,{"$f":"IFERROR(AVERAGE(Q24:Q27),\"-\")","v":"-"},null,{"$f":"IFERROR(AVERAGE(S24:S27),\"-\")","v":"-"},null,{"$f":"IFERROR(AVERAGE(U24:U27),\"-\")","v":"-"},null,{"$f":"IFERROR(AVERAGE(W24:W27),\"-\")","v":"-"},null,{"$f":"IFERROR(AVERAGE(Y24:Y27),\"-\")","v":"-"}]
[null,null,null,{"$f":"IF($H$2=\"G\",Skillserleuterungen_FTEM!Q16,Skillserleuterungen_FTEM!D16)","v":"MIT SCHEIBE"},null,null,{"$f":"IF($H$2=\"G\",Skillserleuterungen_FTEM!T16,Skillserleuterungen_FTEM!G16)","v":"Kreativ, performing, batteling, frech, Transition"},null,null,{"$f":"IF($H$2=\"G\",Skillserleuterungen_FTEM!W16,Skillserleuterungen_FTEM!J16)","v":0}]
[null,null,null,{"$f":"IF($H$2=\"G\",Skillserleuterungen_FTEM!Q17,Skillserleuterungen_FTEM!D17)","v":"OHNE SCHEIBE"},null,null,{"$f":"IF($H$2=\"G\",Skillserleuterungen_FTEM!T17,Skillserleuterungen_FTEM!G17)","v":"Anspielbar (Support), 1:1, Gap"},null,null,{"$f":"IF($H$2=\"G\",Skillserleuterungen_FTEM!W17,Skillserleuterungen_FTEM!J17)","v":0}]
[null,null,null,{"$f":"IF($H$2=\"G\",Skillserleuterungen_FTEM!Q18,Skillserleuterungen_FTEM!D18)","v":"DEFENSIV"},null,null,{"$f":"IF($H$2=\"G\",Skillserleuterungen_FTEM!T18,Skillserleuterungen_FTEM!G18)","v":"Verlässlichkeit,  1:1, Gap, Zuordnung"},null,null,{"$f":"IF($H$2=\"G\",Skillserleuterungen_FTEM!W18,Skillserleuterungen_FTEM!J18)","v":0}]
["PERSONALITY",null,null,"FÄHIGKEIT",null,null,"BEOBACHTUNG",null,null,null,null,null,null,"Datum1",null,"Datum2",null,"Datum3",null,"Datum4",null,"Datum5",null,"Player",null,"ZIEL","MASSNAHME:\nSPEZIFISCH,  MESSBAR, REALISITISCH",null,null,null,null,null,null,"TERMIN","ZIEL-KONTROLLE","Datum"]
["PERSON",null,null,{"$f":"IF($H$2=\"G\",Skillserleuterungen_FTEM!Q20,Skillserleuterungen_FTEM!D20)","v":"MOTIVATION"},null,null,{"$f":"IF($H$2=\"G\",Skillserleuterungen_FTEM!T20,Skillserleuterungen_FTEM!G20)","v":"Intrinsischer Antrieb, will sich ständig weiterentwickeln, will der Erste sein und Erfolg haben"},null,null,{"$f":"IF($H$2=\"G\",Skillserleuterungen_FTEM!W20,Skillserleuterungen_FTEM!J20)","v":0},null,null,null,{"$f":"IFERROR(AVERAGE(O29:O32),\"-\")","v":"-"},null,{"$f":"IFERROR(AVERAGE(Q29:Q32),\"-\")","v":"-"},null,{"$f":"IFERROR(AVERAGE(S29:S32),\"-\")","v":"-"},null,{"$f":"IFERROR(AVERAGE(U29:U32),\"-\")","v":"-"},null,{"$f":"IFERROR(AVERAGE(W29:W32),\"-\")","v":"-"},null,{"$f":"IFERROR(AVERAGE(Y29:Y32),\"-\")","v":"-"}]
[null,null,null,{"$f":"IF($H$2=\"G\",Skillserleuterungen_FTEM!Q21,Skillserleuterungen_FTEM!D21)","v":"SELBSBEWUSSTSEIN"},null,null,{"$f":"IF($H$2=\"G\",Skillserleuterungen_FTEM!T21,Skillserleuterungen_FTEM!G21)","v":"Hat das nötige Selbstvertrauen \"I can do it\" haltung, kann eigenen Fähigkeiten einschätzen und agiert mutig"},null,null,{"$f":"IF($H$2=\"G\",Skillserleuterungen_FTEM!W21,Skillserleuterungen_FTEM!J21)","v":0}]
[null,null,null,{"$f":"IF($H$2=\"G\",Skillserleuterungen_FTEM!Q22,Skillserleuterungen_FTEM!D22)","v":"LERNFÄHIGKEIT"},null,null,{"$f":"IF($H$2=\"G\",Skillserleuterungen_FTEM!T22,Skillserleuterungen_FTEM!G22)","v":"Gute Auffassungsgabe (nimmt auf und kann umsetzen), reflektiert eigenes Handeln, versucht aus Fehlern zu lernen und kann Massnahmen ableiten und sich selber coachen"},null,null,{"$f":"IF($H$2=\"G\",Skillserleuterungen_FTEM!W22,Skillserleuterungen_FTEM!J22)","v":0}]
[null,null,null,{"$f":"IF($H$2=\"G\",Skillserleuterungen_FTEM!Q23,Skillserleuterungen_FTEM!D23)","v":"PERFORMANCE LIFESTYLE"},null,null,{"$f":"IF($H$2=\"G\",Skillserleuterungen_FTEM!T23,Skillserleuterungen_FTEM!G23)","v":"Managt Alltag und Umfeld nach dem Leistungsprinzip, kann sich gegen Wiederstände durchsetzten"},null,null,{"$f":"IF($H$2=\"G\",Skillserleuterungen_FTEM!W23,Skillserleuterungen_FTEM!J23)","v":0}]
["POWER",null,null,{"$f":"IF($H$2=\"G\",Skillserleuterungen_FTEM!Q24,Skillserleuterungen_FTEM!D24)","v":"ENERGIEMANAGEMENT"},null,null,{"$f":"IF($H$2=\"G\",Skillserleuterungen_FTEM!T24,Skillserleuterungen_FTEM!G24)","v":"Kann eigene Energie regulieren, bereit zur Regeneration, weiss, wann er \"Vollgas\" geben muss und wann ab-schalten, On/Off-Schalter"},null,null,{"$f":"IF($H$2=\"G\",Skillserleuterungen_FTEM!W24,Skillserleuterungen_FTEM!J24)","v":0},null,null,null,{"$f":"IFERROR(AVERAGE(O33:O36),\"-\")","v":"-"},null,{"$f":"IFERROR(AVERAGE(Q33:Q36),\"-\")","v":"-"},null,{"$f":"IFERROR(AVERAGE(S33:S36),\"-\")","v":"-"},null,{"$f":"IFERROR(AVERAGE(U33:U36),\"-\")","v":"-"},null,{"$f":"IFERROR(AVERAGE(W33:W36),\"-\")","v":"-"},null,{"$f":"IFERROR(AVERAGE(Y33:Y36),\"-\")","v":"-"}]
[null,null,null,{"$f":"IF($H$2=\"G\",Skillserleuterungen_FTEM!Q25,Skillserleuterungen_FTEM!D25)","v":"EINSATZBEREITSCHAFT"},null,null,{"$f":"IF($H$2=\"G\",Skillserleuterungen_FTEM!T25,Skillserleuterungen_FTEM!G25)","v":"Hohe intensität im Spiel und Training, gibt immer sein Maximum, will seine Limiten pushen"},null,null,{"$f":"IF($H$2=\"G\",Skillserleuterungen_FTEM!W25,Skillserleuterungen_FTEM!J25)","v":0}]
[null,null,null,{"$f":"IF($H$2=\"G\",Skillserleuterungen_FTEM!Q26,Skillserleuterungen_FTEM!D26)","v":"EMOTIONSKONTROLLE"},null,null,{"$f":"IF($H$2=\"G\",Skillserleuterungen_FTEM!T26,Skillserleuterungen_FTEM!G26)","v":"Emotionen und Impulse regulieren, unter Druck die Kontrolle behalten, in emotional ansprucksvollen Situationen angemessen agieren können"},null,null,{"$f":"IF($H$2=\"G\",Skillserleuterungen_FTEM!W26,Skillserleuterungen_FTEM!J26)","v":0}]
[null,null,null,{"$f":"IF($H$2=\"G\",Skillserleuterungen_FTEM!Q27,Skillserleuterungen_FTEM!D27)","v":"VORBEREITUNG"},null,null,{"$f":"IF($H$2=\"G\",Skillserleuterungen_FTEM!T27,Skillserleuterungen_FTEM!G27)","v":"Fokus, ILZ, Regeneration, Selbststiumlation, Ernährung"},null,null,{"$f":"IF($H$2=\"G\",Skillserleuterungen_FTEM!W27,Skillserleuterungen_FTEM!J27)","v":0}]
["PYHSE (Athletik)",null,null,{"$f":"IF($H$2=\"G\",Skillserleuterungen_FTEM!Q28,Skillserleuterungen_FTEM!D28)","v":"LEISTUNGSERZEUGUNG (neuromuskuläre Faktoren /Leistungserzeugung)"},null,null,{"$f":"IF($H$2=\"G\",Skillserleuterungen_FTEM!T28,Skillserleuterungen_FTEM!G28)","v":"Verfügt über die nötige Power/ Kraft/ Schnelligkeit in den Beinen un im Oberkörper "},null,null,{"$f":"IF($H$2=\"G\",Skillserleuterungen_FTEM!W28,Skillserleuterungen_FTEM!J28)","v":0},null,null,null,{"$f":"IFERROR(AVERAGE(O37:O40),\"-\")","v":"-"},null,{"$f":"IFERROR(AVERAGE(Q37:Q40),\"-\")","v":"-"},null,{"$f":"IFERROR(AVERAGE(S37:S40),\"-\")","v":"-"},null,{"$f":"IFERROR(AVERAGE(U37:U40),\"-\")","v":"-"},null,{"$f":"IFERROR(AVERAGE(W37:W40),\"-\")","v":"-"},null,{"$f":"IFERROR(AVERAGE(Y37:Y40),\"-\")","v":"-"}]
[null,null,null,{"$f":"IF($H$2=\"G\",Skillserleuterungen_FTEM!Q29,Skillserleuterungen_FTEM!D29)","v":"SPEZ. ERMÜDUNGSRESISTENZ (metabolische, kardiovaskuläre Faktoren)"},null,null,{"$f":"IF($H$2=\"G\",Skillserleuterungen_FTEM!T29,Skillserleuterungen_FTEM!G29)","v":"Ist fähig die Power/ Kraft/ Schnelligkeit innerhalb des Einsatzes lange aufrechtzuerhalten und kann sich zwischen den Einsätzen jeweils vollkommen erholen (auch von Spiel zu Spiel)."},null,null,{"$f":"IF($H$2=\"G\",Skillserleuterungen_FTEM!W29,Skillserleuterungen_FTEM!J29)","v":0}]
[null,null,null,{"$f":"IF($H$2=\"G\",Skillserleuterungen_FTEM!Q30,Skillserleuterungen_FTEM!D30)","v":"BEWEGUNGSKOMPETENZ/ KOORDINATION "},null,null,{"$f":"IF($H$2=\"G\",Skillserleuterungen_FTEM!T30,Skillserleuterungen_FTEM!G30)","v":"Beherrscht die grundlegenden Bewegungsfertigkeiten, die eine unerlässliche Zubringerfunktion für die sportspezifischen \"Skills\" darstellt sowie zur nötigen Bewegungseffizienz führt. "},null,null,{"$f":"IF($H$2=\"G\",Skillserleuterungen_FTEM!W30,Skillserleuterungen_FTEM!J30)","v":0}]
[null,null,null,{"$f":"IF($H$2=\"G\",Skillserleuterungen_FTEM!Q31,Skillserleuterungen_FTEM!D31)","v":"ROBUSTHEIT/ PRÄVENTION"},null,null,{"$f":"IF($H$2=\"G\",Skillserleuterungen_FTEM!T31,Skillserleuterungen_FTEM!G31)","v":"Verletzungsanfälligkeit, Stabilität (Verfügt über die nötige Stabilität, Grundkraft (Körperspannung) \"z.B. Beinachsenstabilität\" und Beweglichkeit in den zentralen Gelenken \"Hüfte, Wirbelsäule\"), Standfestigkeit"},null,null,{"$f":"IF($H$2=\"G\",Skillserleuterungen_FTEM!W31,Skillserleuterungen_FTEM!J31)","v":0}]

{"sheet":"15","index":18,"n_rows":40,"n_cols":36,"rows_kept":40,"cut":false,"hidden":false,"merged":[[38,3,38,5],[38,6,38,11],[39,3,39,5],[39,6,39,11],[32,23,35,23],[32,0,35,2],[32,3,32,5],[32,6,32,11],[32,12,35,12],[32,13,35,13],[36,26,39,32],[36,34,39,34],[21,3,21,5],[21,6,21,11],[34,3,34,5],[34,6,34,11],[36,0,39,2],[36,12,39,12],[36,13,39,13],[36,15,39,15],[36,17,39,17],[36,19,39,19],[36,21,39,21],[36,23,39,23],[36,25,39,25],[36,3,36,5],[36,6,36,11],[37,3,37,5],[37,6,37,11],[32,15,35,15],[27,21,27,22],[28,17,31,17],[28,19,31,19],[28,21,31,21],[29,3,29,5],[29,6,29,11],[30,3,30,5],[30,6,30,11],[32,17,35,17],[32,19,35,19],[32,21,35,21],[33,3,33,5],[33,6,33,11],[35,3,35,5],[35,6,35,11],[23,0,26,2],[23,3,23,5],[23,6,23,11],[23,12,26,12],[23,13,26,13],[23,15,26,15],[27,23,27,24],[27,26,27,32],[28,0,31,2],[28,3,28,5],[28,6,28,11],[28,12,31,12],[28,13,31,13],[28,15,31,15],[31,3,31,5],[31,6,31,11],[28,23,31,23],[27,0,27,2],[27,3,27,5],[27,6,27,11],[27,13,27,14],[27,15,27,16],[27,17,27,18],[27,19,27,20],[19,19,22,19],[19,21,22,21],[19,23,22,23],[20,3,20,5],[20,6,20,11],[22,3,22,5],[22,6,22,11],[26,3,26,5],[26,6,26,11],[23,23,26,23],[23,17,26,17],[23,19,26,19],[23,21,26,21],[24,3,24,5],[24,6,24,11],[25,3,25,5],[25,6,25,11],[12,21,13,21],[15,15,18,15],[15,17,18,17],[15,19,18,19],[15,21,18,21],[15,23,18,23],[18,3,18,5],[18,6,18,11],[19,0,22,2],[19,3,19,5],[19,6,19,11],[19,12,22,12],[19,13,22,13],[19,15,22,15],[19,17,22,17],[15,0,18,2],[15,3,15,5],[15,6,15,11],[15,12,18,12],[15,13,18,13],[16,3,16,5],[16,6,16,11],[17,3,17,5],[17,6,17,11],[11,21,11,22],[11,23,11,24],[11,26,11,32],[11,6,11,11],[12,23,13,23],[13,3,13,5],[13,6,13,11],[14,0,14,2],[14,3,14,5],[14,6,14,11],[14,13,14,14],[14,15,14,16],[14,17,14,18],[14,19,14,20],[14,21,14,22],[14,23,14,24],[12,0,13,2],[12,3,12,5],[12,6,12,11],[12,12,13,12],[12,13,13,13],[12,15,13,15],[12,17,13,17],[12,19,13,19],[4,0,4,1],[4,2,4,5],[4,10,4,24],[10,0,10,24],[10,25,10,35],[32,25,35,25],[32,26,35,32],[32,34,35,34],[12,25,13,25],[12,26,13,32],[12,34,13,34],[15,25,18,25],[15,26,18,32],[15,34,18,34],[19,25,22,25],[19,26,22,32],[19,34,22,34],[14,26,14,32],[11,0,11,2],[11,3,11,5],[11,13,11,14],[11,15,11,16],[11,17,11,18],[11,19,11,20],[0,0,0,24],[0,25,0,26],[0,27,0,32],[0,33,0,35],[23,25,26,25],[23,26,26,32],[23,34,26,34],[28,25,31,25],[28,26,31,32],[28,34,31,34],[1,0,1,1],[1,2,1,5],[1,10,1,24],[2,0,2,1],[2,2,2,5],[2,11,2,24],[6,0,6,1],[6,2,6,35],[7,0,7,1],[7,2,7,35],[8,0,8,1],[8,2,8,35],[3,0,3,1],[3,10,3,24]]}
["Personalien",null,null,null,null,null,null,null,null,null,null,null,null,null,null,null,null,null,null,null,null,null,null,null,null,"Vorausetzungen",null,"Evaluationen",null,null,null,null,null,"Rating"]
["VORNAME",null,{"$f":"IF(ISBLANK(VLOOKUP(15,Tabelle3[],3,0)),\"-\",VLOOKUP(15,Tabelle3[],3,0))","v":"-"},null,null,null,"POSITION",null,null,"ADRESSE",{"$f":"IF(ISBLANK(VLOOKUP(15,Tabelle3[],5,0)),\"-\",VLOOKUP(15,Tabelle3[],5,0))","v":"-"},null,null,null,null,null,null,null,null,null,null,null,null,null,null,"\"Alter\" (Biologisch/Relative Age)",null,"Datum 1",null,null,"cm",null,"Kg",null,"AUSGEZEICHNET",5]
["NAME",null,{"$f":"IF(ISBLANK(VLOOKUP(15,Tabelle3[],2,0)),\"-\",VLOOKUP(15,Tabelle3[],2,0))","v":"-"},null,null,null,"STOCK",null,null,"WOHNORT",{"$f":"IF(ISBLANK(VLOOKUP(15,Tabelle3[],7,0)),\"-\",VLOOKUP(15,Tabelle3[],7,0))","v":"-"},{"$f":"IF(ISBLANK(VLOOKUP(15,Tabelle3[],6,0)),\"-\",VLOOKUP(15,Tabelle3[],6,0))","v":"-"},null,null,null,null,null,null,null,null,null,null,null,null,null,"Veranlagung",null,"Datum 2",null,null,"cm",null,"Kg",null,"GUT",4]
["GEB. DATUM",null,{"$f":"IF(ISBLANK(VLOOKUP(15,Tabelle3[],14,0)),\"-\",VLOOKUP(15,Tabelle3[],14,0))","v":"-"},{"$f":"IF(ISBLANK(VLOOKUP(15,Tabelle3[],15,0)),\"-\",VLOOKUP(15,Tabelle3[],15,0))","v":"-"},{"$f":"IF(ISBLANK(VLOOKUP(15,Tabelle3[],16,0)),\"-\",VLOOKUP(15,Tabelle3[],16,0))","v":"-"},null,"GRÖSSE",null,"cm (Final)","PHONE",{"$f":"IF(ISBLANK(VLOOKUP(15,Tabelle3[],8,0)),\"-\",VLOOKUP(15,Tabelle3[],8,0))","v":"-"},null,null,null,null,null,null,null,null,null,null,null,null,null,null,"Umfeld",null,"Datum 3",null,null,"cm",null,"Kg",null,"DURCHSCHNITT",3]
["SEX",null,{"$f":"IF(ISBLANK(VLOOKUP(15,Tabelle3[],13,0)),\"-\",VLOOKUP(15,Tabelle3[],13,0))","v":"-"},null,null,null,"GEWICHT",null,"Kg (Final)","E-Mail",{"$f":"IF(ISBLANK(VLOOKUP(15,Tabelle3[],9,0)),\"-\",VLOOKUP(15,Tabelle3[],9,0))","v":"-"},null,null,null,null,null,null,null,null,null,null,null,null,null,null,null,null,"Datum 4",null,null,"cm",null,"Kg",null,"MANGELHAFT",2]
[null,null,null,null,null,null,null,null,null,null,null,null,null,null,null,null,null,null,null,null,null,null,null,null,null,null,null,"Datum 5",null,null,"cm",null,"Kg",null,"UNGENÜGEND",1]
["Vision",null,"xxx"]
["Next step",null,"xxx"]
["Stärkenprofil",null,"xxx"]
[]
["EVALUATION (COACH / SPIELER)",null,null,null,null,null,null,null,null,null,null,null,null,null,null,null,null,null,null,null,null,null,null,null,null,"SMART"]
["TEAM",null,null,"FÄHIGKEIT",null,null,"BEOBACHTUNG",null,null,null,null,null,"Final","Datum1",null,"Datum2",null,"Datum3",null,"Datum4",null,"Datum5",null,"Player",null,"ZIEL","MASSNAHME:\nSPEZIFISCH,  MESSBAR, REALISITISCH",null,null,null,null,null,null,"TERMIN","ZIEL-KONTROLLE","Datum"]
["ROLLE, SOZIAL",null,null,{"$f":"IF($H$2=\"G\",Skillserleuterungen_FTEM!Q4,Skillserleuterungen_FTEM!D4)","v":"TEAMDENKEN"},null,null,{"$f":"IF($H$2=\"G\",Skillserleuterungen_FTEM!T4,Skillserleuterungen_FTEM!G4)","v":"Identifikation zur Rolle, Umgang mit Kameraden (sozial integriert)"},null,null,{"$f":"IF($H$2=\"G\",Skillserleuterungen_FTEM!W4,Skillserleuterungen_FTEM!J4)","v":0},null,null,null,{"$f":"IFERROR(AVERAGE(O13:O14),\"-\")","v":"-"},null,{"$f":"IFERROR(AVERAGE(Q13:Q14),\"-\")","v":"-"},null,{"$f":"IFERROR(AVERAGE(S13:S14),\"-\")","v":"-"},null,{"$f":"IFERROR(AVERAGE(U13:U14),\"-\")","v":"-"},null,null,null,{"$f":"IFERROR(AVERAGE(Y13:Y14),\"-\")","v":"-"}]
[null,null,null,{"$f":"IF($H$2=\"G\",Skillserleuterungen_FTEM!Q5,Skillserleuterungen_FTEM!D5)","v":"LEADERSHIP"},null,null,{"$f":"IF($H$2=\"G\",Skillserleuterungen_FTEM!T5,Skillserleuterungen_FTEM!G5)","v":"Übernimmt Verantwortung, macht Mitspieler besser"},null,null,{"$f":"IF($H$2=\"G\",Skillserleuterungen_FTEM!W5,Skillserleuterungen_FTEM!J5)","v":0}]
["ON ICE",null,null,"FÄHIGKEIT",null,null,"BEOBACHTUNG",null,null,null,null,null,null,"Datum1",null,"Datum2",null,"Datum3",null,"Datum4",null,"Datum5",null,"Player",null,"ZIEL","MASSNAHME:\nSPEZIFISCH,  MESSBAR, REALISITISCH",null,null,null,null,null,null,"TERMIN","ZIEL-KONTROLLE","Datum"]
["SKILL",null,null,{"$f":"IF($H$2=\"G\",Skillserleuterungen_FTEM!Q7,Skillserleuterungen_FTEM!D7)","v":"SCHIESSEN"},null,null,{"$f":"IF($H$2=\"G\",Skillserleuterungen_FTEM!T7,Skillserleuterungen_FTEM!G7)","v":"Effizienz / Variantenreichtum, Überraschungsgrad (Quick Release), Präzision, Härte, (taktische Abschlüsse)\nschnell, hart, unter Druck"},null,null,{"$f":"IF($H$2=\"G\",Skillserleuterungen_FTEM!W7,Skillserleuterungen_FTEM!J7)","v":0},null,null,null,{"$f":"IFERROR(AVERAGE(O16:O19),\"-\")","v":"-"},null,{"$f":"IFERROR(AVERAGE(Q16:Q19),\"-\")","v":"-"},null,{"$f":"IFERROR(AVERAGE(S16:S19),\"-\")","v":"-"},null,{"$f":"IFERROR(AVERAGE(U16:U19),\"-\")","v":"-"},null,{"$f":"IFERROR(AVERAGE(W16:W19),\"-\")","v":"-"},null,{"$f":"IFERROR(AVERAGE(Y16:Y19),\"-\")","v":"-"}]
[null,null,null,{"$f":"IF($H$2=\"G\",Skillserleuterungen_FTEM!Q8,Skillserleuterungen_FTEM!D8)","v":"PASSEN"},null,null,{"$f":"IF($H$2=\"G\",Skillserleuterungen_FTEM!T8,Skillserleuterungen_FTEM!G8)","v":"Passabgabe (Distanz, Flippass Backhand), Passannahme (Präzision, Timing, Vorhand, Rückhand, Schlittschuh,Puckspeed"},null,null,{"$f":"IF($H$2=\"G\",Skillserleuterungen_FTEM!W8,Skillserleuterungen_FTEM!J8)","v":0}]
[null,null,null,{"$f":"IF($H$2=\"G\",Skillserleuterungen_FTEM!Q9,Skillserleuterungen_FTEM!D9)","v":"KÖRPERSPIEL"},null,null,{"$f":"IF($H$2=\"G\",Skillserleuterungen_FTEM!T9,Skillserleuterungen_FTEM!G9)","v":"Phyisches Durchsetzungsvermögen, Zweikampf (offenes Eis/Bande), Checks nehmen/Head up, Battle Level, Hart aber fair, mit dem Körper Schüsse blockieren"},null,null,{"$f":"IF($H$2=\"G\",Skillserleuterungen_FTEM!W9,Skillserleuterungen_FTEM!J9)","v":0},null,null,null,{"$f":"IFERROR(AVERAGE(O18:O19),\"-\")","v":"-"},null,{"$f":"IFERROR(AVERAGE(Q18:Q19),\"-\")","v":"-"},null,{"$f":"IFERROR(AVERAGE(S18:S19),\"-\")","v":"-"},null,{"$f":"IFERROR(AVERAGE(U18:U19),\"-\")","v":"-"},null,{"$f":"IFERROR(AVERAGE(W18:W19),\"-\")","v":"-"},null,{"$f":"IFERROR(AVERAGE(Y18:Y19),\"-\")","v":"-"}]
[null,null,null,{"$f":"IF($H$2=\"G\",Skillserleuterungen_FTEM!Q10,Skillserleuterungen_FTEM!D10)","v":"SCHEIBENKONTROLLE"},null,null,{"$f":"IF($H$2=\"G\",Skillserleuterungen_FTEM!T10,Skillserleuterungen_FTEM!G10)","v":"Puckmanagmenet auf engem Raum, Puck Protection,  schwer kontrollierbare Scheiben "},null,null,{"$f":"IF($H$2=\"G\",Skillserleuterungen_FTEM!W10,Skillserleuterungen_FTEM!J10)","v":0}]
["SKATING",null,null,{"$f":"IF($H$2=\"G\",Skillserleuterungen_FTEM!Q11,Skillserleuterungen_FTEM!D11)","v":"FOOTSPEED"},null,null,{"$f":"IF($H$2=\"G\",Skillserleuterungen_FTEM!T11,Skillserleuterungen_FTEM!G11)","v":"Beschleunigung, Antritt, erste 3 Schritte Explosivität, Frequenz"},null,null,{"$f":"IF($H$2=\"G\",Skillserleuterungen_FTEM!W11,Skillserleuterungen_FTEM!J11)","v":0},null,null,null,{"$f":"IFERROR(AVERAGE(O20:O23),\"-\")","v":"-"},null,{"$f":"IFERROR(AVERAGE(Q20:Q23),\"-\")","v":"-"},null,{"$f":"IFERROR(AVERAGE(S20:S23),\"-\")","v":"-"},null,{"$f":"IFERROR(AVERAGE(U20:U23),\"-\")","v":"-"},null,{"$f":"IFERROR(AVERAGE(W20:W23),\"-\")","v":"-"},null,{"$f":"IFERROR(AVERAGE(Y20:Y23),\"-\")","v":"-"}]
[null,null,null,{"$f":"IF($H$2=\"G\",Skillserleuterungen_FTEM!Q12,Skillserleuterungen_FTEM!D12)","v":"AGILITÄT"},null,null,{"$f":"IF($H$2=\"G\",Skillserleuterungen_FTEM!T12,Skillserleuterungen_FTEM!G12)","v":"Richtungsänderung, Drehung, Stop und Start, «Nummelin»"},null,null,{"$f":"IF($H$2=\"G\",Skillserleuterungen_FTEM!W12,Skillserleuterungen_FTEM!J12)","v":0}]
[null,null,null,{"$f":"IF($H$2=\"G\",Skillserleuterungen_FTEM!Q13,Skillserleuterungen_FTEM!D13)","v":"BACKWARDS SKATING"},null,null,{"$f":"IF($H$2=\"G\",Skillserleuterungen_FTEM!T13,Skillserleuterungen_FTEM!G13)","v":"Beschleunigung, Geschwindigkeit, Balance"},null,null,{"$f":"IF($H$2=\"G\",Skillserleuterungen_FTEM!W13,Skillserleuterungen_FTEM!J13)","v":0}]
[null,null,null,{"$f":"IF($H$2=\"G\",Skillserleuterungen_FTEM!Q14,Skillserleuterungen_FTEM!D14)","v":"TOPSPEED"},null,null,{"$f":"IF($H$2=\"G\",Skillserleuterungen_FTEM!T14,Skillserleuterungen_FTEM!G14)","v":"Schnelligkeit, Gleitfähigkeit, vorwärts und rückwärts, Ökonomie"},null,null,{"$f":"IF($H$2=\"G\",Skillserleuterungen_FTEM!W14,Skillserleuterungen_FTEM!J14)","v":0}]
["HOCKEY SENSE",null,null,{"$f":"IF($H$2=\"G\",Skillserleuterungen_FTEM!Q15,Skillserleuterungen_FTEM!D15)","v":"SCORING"},null,null,{"$f":"IF($H$2=\"G\",Skillserleuterungen_FTEM!T15,Skillserleuterungen_FTEM!G15)","v":"Effizienz, variantentreich, überraschend, schnell, hart - Schussvarianten"},null,null,{"$f":"IF($H$2=\"G\",Skillserleuterungen_FTEM!W15,Skillserleuterungen_FTEM!J15)","v":0},null,null,null,{"$f":"IFERROR(AVERAGE(O24:O27),\"-\")","v":"-"},null,{"$f":"IFERROR(AVERAGE(Q24:Q27),\"-\")","v":"-"},null,{"$f":"IFERROR(AVERAGE(S24:S27),\"-\")","v":"-"},null,{"$f":"IFERROR(AVERAGE(U24:U27),\"-\")","v":"-"},null,{"$f":"IFERROR(AVERAGE(W24:W27),\"-\")","v":"-"},null,{"$f":"IFERROR(AVERAGE(Y24:Y27),\"-\")","v":"-"}]
[null,null,null,{"$f":"IF($H$2=\"G\",Skillserleuterungen_FTEM!Q16,Skillserleuterungen_FTEM!D16)","v":"MIT SCHEIBE"},null,null,{"$f":"IF($H$2=\"G\",Skillserleuterungen_FTEM!T16,Skillserleuterungen_FTEM!G16)","v":"Kreativ, performing, batteling, frech, Transition"},null,null,{"$f":"IF($H$2=\"G\",Skillserleuterungen_FTEM!W16,Skillserleuterungen_FTEM!J16)","v":0}]
[null,null,null,{"$f":"IF($H$2=\"G\",Skillserleuterungen_FTEM!Q17,Skillserleuterungen_FTEM!D17)","v":"OHNE SCHEIBE"},null,null,{"$f":"IF($H$2=\"G\",Skillserleuterungen_FTEM!T17,Skillserleuterungen_FTEM!G17)","v":"Anspielbar (Support), 1:1, Gap"},null,null,{"$f":"IF($H$2=\"G\",Skillserleuterungen_FTEM!W17,Skillserleuterungen_FTEM!J17)","v":0}]
[null,null,null,{"$f":"IF($H$2=\"G\",Skillserleuterungen_FTEM!Q18,Skillserleuterungen_FTEM!D18)","v":"DEFENSIV"},null,null,{"$f":"IF($H$2=\"G\",Skillserleuterungen_FTEM!T18,Skillserleuterungen_FTEM!G18)","v":"Verlässlichkeit,  1:1, Gap, Zuordnung"},null,null,{"$f":"IF($H$2=\"G\",Skillserleuterungen_FTEM!W18,Skillserleuterungen_FTEM!J18)","v":0}]
["PERSONALITY",null,null,"FÄHIGKEIT",null,null,"BEOBACHTUNG",null,null,null,null,null,null,"Datum1",null,"Datum2",null,"Datum3",null,"Datum4",null,"Datum5",null,"Player",null,"ZIEL","MASSNAHME:\nSPEZIFISCH,  MESSBAR, REALISITISCH",null,null,null,null,null,null,"TERMIN","ZIEL-KONTROLLE","Datum"]
["PERSON",null,null,{"$f":"IF($H$2=\"G\",Skillserleuterungen_FTEM!Q20,Skillserleuterungen_FTEM!D20)","v":"MOTIVATION"},null,null,{"$f":"IF($H$2=\"G\",Skillserleuterungen_FTEM!T20,Skillserleuterungen_FTEM!G20)","v":"Intrinsischer Antrieb, will sich ständig weiterentwickeln, will der Erste sein und Erfolg haben"},null,null,{"$f":"IF($H$2=\"G\",Skillserleuterungen_FTEM!W20,Skillserleuterungen_FTEM!J20)","v":0},null,null,null,{"$f":"IFERROR(AVERAGE(O29:O32),\"-\")","v":"-"},null,{"$f":"IFERROR(AVERAGE(Q29:Q32),\"-\")","v":"-"},null,{"$f":"IFERROR(AVERAGE(S29:S32),\"-\")","v":"-"},null,{"$f":"IFERROR(AVERAGE(U29:U32),\"-\")","v":"-"},null,{"$f":"IFERROR(AVERAGE(W29:W32),\"-\")","v":"-"},null,{"$f":"IFERROR(AVERAGE(Y29:Y32),\"-\")","v":"-"}]
[null,null,null,{"$f":"IF($H$2=\"G\",Skillserleuterungen_FTEM!Q21,Skillserleuterungen_FTEM!D21)","v":"SELBSBEWUSSTSEIN"},null,null,{"$f":"IF($H$2=\"G\",Skillserleuterungen_FTEM!T21,Skillserleuterungen_FTEM!G21)","v":"Hat das nötige Selbstvertrauen \"I can do it\" haltung, kann eigenen Fähigkeiten einschätzen und agiert mutig"},null,null,{"$f":"IF($H$2=\"G\",Skillserleuterungen_FTEM!W21,Skillserleuterungen_FTEM!J21)","v":0}]
[null,null,null,{"$f":"IF($H$2=\"G\",Skillserleuterungen_FTEM!Q22,Skillserleuterungen_FTEM!D22)","v":"LERNFÄHIGKEIT"},null,null,{"$f":"IF($H$2=\"G\",Skillserleuterungen_FTEM!T22,Skillserleuterungen_FTEM!G22)","v":"Gute Auffassungsgabe (nimmt auf und kann umsetzen), reflektiert eigenes Handeln, versucht aus Fehlern zu lernen und kann Massnahmen ableiten und sich selber coachen"},null,null,{"$f":"IF($H$2=\"G\",Skillserleuterungen_FTEM!W22,Skillserleuterungen_FTEM!J22)","v":0}]
[null,null,null,{"$f":"IF($H$2=\"G\",Skillserleuterungen_FTEM!Q23,Skillserleuterungen_FTEM!D23)","v":"PERFORMANCE LIFESTYLE"},null,null,{"$f":"IF($H$2=\"G\",Skillserleuterungen_FTEM!T23,Skillserleuterungen_FTEM!G23)","v":"Managt Alltag und Umfeld nach dem Leistungsprinzip, kann sich gegen Wiederstände durchsetzten"},null,null,{"$f":"IF($H$2=\"G\",Skillserleuterungen_FTEM!W23,Skillserleuterungen_FTEM!J23)","v":0}]
["POWER",null,null,{"$f":"IF($H$2=\"G\",Skillserleuterungen_FTEM!Q24,Skillserleuterungen_FTEM!D24)","v":"ENERGIEMANAGEMENT"},null,null,{"$f":"IF($H$2=\"G\",Skillserleuterungen_FTEM!T24,Skillserleuterungen_FTEM!G24)","v":"Kann eigene Energie regulieren, bereit zur Regeneration, weiss, wann er \"Vollgas\" geben muss und wann ab-schalten, On/Off-Schalter"},null,null,{"$f":"IF($H$2=\"G\",Skillserleuterungen_FTEM!W24,Skillserleuterungen_FTEM!J24)","v":0},null,null,null,{"$f":"IFERROR(AVERAGE(O33:O36),\"-\")","v":"-"},null,{"$f":"IFERROR(AVERAGE(Q33:Q36),\"-\")","v":"-"},null,{"$f":"IFERROR(AVERAGE(S33:S36),\"-\")","v":"-"},null,{"$f":"IFERROR(AVERAGE(U33:U36),\"-\")","v":"-"},null,{"$f":"IFERROR(AVERAGE(W33:W36),\"-\")","v":"-"},null,{"$f":"IFERROR(AVERAGE(Y33:Y36),\"-\")","v":"-"}]
[null,null,null,{"$f":"IF($H$2=\"G\",Skillserleuterungen_FTEM!Q25,Skillserleuterungen_FTEM!D25)","v":"EINSATZBEREITSCHAFT"},null,null,{"$f":"IF($H$2=\"G\",Skillserleuterungen_FTEM!T25,Skillserleuterungen_FTEM!G25)","v":"Hohe intensität im Spiel und Training, gibt immer sein Maximum, will seine Limiten pushen"},null,null,{"$f":"IF($H$2=\"G\",Skillserleuterungen_FTEM!W25,Skillserleuterungen_FTEM!J25)","v":0}]
[null,null,null,{"$f":"IF($H$2=\"G\",Skillserleuterungen_FTEM!Q26,Skillserleuterungen_FTEM!D26)","v":"EMOTIONSKONTROLLE"},null,null,{"$f":"IF($H$2=\"G\",Skillserleuterungen_FTEM!T26,Skillserleuterungen_FTEM!G26)","v":"Emotionen und Impulse regulieren, unter Druck die Kontrolle behalten, in emotional ansprucksvollen Situationen angemessen agieren können"},null,null,{"$f":"IF($H$2=\"G\",Skillserleuterungen_FTEM!W26,Skillserleuterungen_FTEM!J26)","v":0}]
[null,null,null,{"$f":"IF($H$2=\"G\",Skillserleuterungen_FTEM!Q27,Skillserleuterungen_FTEM!D27)","v":"VORBEREITUNG"},null,null,{"$f":"IF($H$2=\"G\",Skillserleuterungen_FTEM!T27,Skillserleuterungen_FTEM!G27)","v":"Fokus, ILZ, Regeneration, Selbststiumlation, Ernährung"},null,null,{"$f":"IF($H$2=\"G\",Skillserleuterungen_FTEM!W27,Skillserleuterungen_FTEM!J27)","v":0}]
["PYHSE (Athletik)",null,null,{"$f":"IF($H$2=\"G\",Skillserleuterungen_FTEM!Q28,Skillserleuterungen_FTEM!D28)","v":"LEISTUNGSERZEUGUNG (neuromuskuläre Faktoren /Leistungserzeugung)"},null,null,{"$f":"IF($H$2=\"G\",Skillserleuterungen_FTEM!T28,Skillserleuterungen_FTEM!G28)","v":"Verfügt über die nötige Power/ Kraft/ Schnelligkeit in den Beinen un im Oberkörper "},null,null,{"$f":"IF($H$2=\"G\",Skillserleuterungen_FTEM!W28,Skillserleuterungen_FTEM!J28)","v":0},null,null,null,{"$f":"IFERROR(AVERAGE(O37:O40),\"-\")","v":"-"},null,{"$f":"IFERROR(AVERAGE(Q37:Q40),\"-\")","v":"-"},null,{"$f":"IFERROR(AVERAGE(S37:S40),\"-\")","v":"-"},null,{"$f":"IFERROR(AVERAGE(U37:U40),\"-\")","v":"-"},null,{"$f":"IFERROR(AVERAGE(W37:W40),\"-\")","v":"-"},null,{"$f":"IFERROR(AVERAGE(Y37:Y40),\"-\")","v":"-"}]
[null,null,null,{"$f":"IF($H$2=\"G\",Skillserleuterungen_FTEM!Q29,Skillserleuterungen_FTEM!D29)","v":"SPEZ. ERMÜDUNGSRESISTENZ (metabolische, kardiovaskuläre Faktoren)"},null,null,{"$f":"IF($H$2=\"G\",Skillserleuterungen_FTEM!T29,Skillserleuterungen_FTEM!G29)","v":"Ist fähig die Power/ Kraft/ Schnelligkeit innerhalb des Einsatzes lange aufrechtzuerhalten und kann sich zwischen den Einsätzen jeweils vollkommen erholen (auch von Spiel zu Spiel)."},null,null,{"$f":"IF($H$2=\"G\",Skillserleuterungen_FTEM!W29,Skillserleuterungen_FTEM!J29)","v":0}]
[null,null,null,{"$f":"IF($H$2=\"G\",Skillserleuterungen_FTEM!Q30,Skillserleuterungen_FTEM!D30)","v":"BEWEGUNGSKOMPETENZ/ KOORDINATION "},null,null,{"$f":"IF($H$2=\"G\",Skillserleuterungen_FTEM!T30,Skillserleuterungen_FTEM!G30)","v":"Beherrscht die grundlegenden Bewegungsfertigkeiten, die eine unerlässliche Zubringerfunktion für die sportspezifischen \"Skills\" darstellt sowie zur nötigen Bewegungseffizienz führt. "},null,null,{"$f":"IF($H$2=\"G\",Skillserleuterungen_FTEM!W30,Skillserleuterungen_FTEM!J30)","v":0}]
[null,null,null,{"$f":"IF($H$2=\"G\",Skillserleuterungen_FTEM!Q31,Skillserleuterungen_FTEM!D31)","v":"ROBUSTHEIT/ PRÄVENTION"},null,null,{"$f":"IF($H$2=\"G\",Skillserleuterungen_FTEM!T31,Skillserleuterungen_FTEM!G31)","v":"Verletzungsanfälligkeit, Stabilität (Verfügt über die nötige Stabilität, Grundkraft (Körperspannung) \"z.B. Beinachsenstabilität\" und Beweglichkeit in den zentralen Gelenken \"Hüfte, Wirbelsäule\"), Standfestigkeit"},null,null,{"$f":"IF($H$2=\"G\",Skillserleuterungen_FTEM!W31,Skillserleuterungen_FTEM!J31)","v":0}]

{"sheet":"16","index":19,"n_rows":40,"n_cols":36,"rows_kept":40,"cut":false,"hidden":false,"merged":[[38,3,38,5],[38,6,38,11],[39,3,39,5],[39,6,39,11],[32,23,35,23],[32,0,35,2],[32,3,32,5],[32,6,32,11],[32,12,35,12],[32,13,35,13],[36,26,39,32],[36,34,39,34],[21,3,21,5],[21,6,21,11],[34,3,34,5],[34,6,34,11],[36,0,39,2],[36,12,39,12],[36,13,39,13],[36,15,39,15],[36,17,39,17],[36,19,39,19],[36,21,39,21],[36,23,39,23],[36,25,39,25],[36,3,36,5],[36,6,36,11],[37,3,37,5],[37,6,37,11],[32,15,35,15],[27,21,27,22],[28,17,31,17],[28,19,31,19],[28,21,31,21],[29,3,29,5],[29,6,29,11],[30,3,30,5],[30,6,30,11],[32,17,35,17],[32,19,35,19],[32,21,35,21],[33,3,33,5],[33,6,33,11],[35,3,35,5],[35,6,35,11],[23,0,26,2],[23,3,23,5],[23,6,23,11],[23,12,26,12],[23,13,26,13],[23,15,26,15],[27,23,27,24],[27,26,27,32],[28,0,31,2],[28,3,28,5],[28,6,28,11],[28,12,31,12],[28,13,31,13],[28,15,31,15],[31,3,31,5],[31,6,31,11],[28,23,31,23],[27,0,27,2],[27,3,27,5],[27,6,27,11],[27,13,27,14],[27,15,27,16],[27,17,27,18],[27,19,27,20],[19,19,22,19],[19,21,22,21],[19,23,22,23],[20,3,20,5],[20,6,20,11],[22,3,22,5],[22,6,22,11],[26,3,26,5],[26,6,26,11],[23,23,26,23],[23,17,26,17],[23,19,26,19],[23,21,26,21],[24,3,24,5],[24,6,24,11],[25,3,25,5],[25,6,25,11],[12,21,13,21],[15,15,18,15],[15,17,18,17],[15,19,18,19],[15,21,18,21],[15,23,18,23],[18,3,18,5],[18,6,18,11],[19,0,22,2],[19,3,19,5],[19,6,19,11],[19,12,22,12],[19,13,22,13],[19,15,22,15],[19,17,22,17],[15,0,18,2],[15,3,15,5],[15,6,15,11],[15,12,18,12],[15,13,18,13],[16,3,16,5],[16,6,16,11],[17,3,17,5],[17,6,17,11],[11,21,11,22],[11,23,11,24],[11,26,11,32],[11,6,11,11],[12,23,13,23],[13,3,13,5],[13,6,13,11],[14,0,14,2],[14,3,14,5],[14,6,14,11],[14,13,14,14],[14,15,14,16],[14,17,14,18],[14,19,14,20],[14,21,14,22],[14,23,14,24],[12,0,13,2],[12,3,12,5],[12,6,12,11],[12,12,13,12],[12,13,13,13],[12,15,13,15],[12,17,13,17],[12,19,13,19],[4,0,4,1],[4,2,4,5],[4,10,4,24],[10,0,10,24],[10,25,10,35],[32,25,35,25],[32,26,35,32],[32,34,35,34],[12,25,13,25],[12,26,13,32],[12,34,13,34],[15,25,18,25],[15,26,18,32],[15,34,18,34],[19,25,22,25],[19,26,22,32],[19,34,22,34],[14,26,14,32],[11,0,11,2],[11,3,11,5],[11,13,11,14],[11,15,11,16],[11,17,11,18],[11,19,11,20],[0,0,0,24],[0,25,0,26],[0,27,0,32],[0,33,0,35],[23,25,26,25],[23,26,26,32],[23,34,26,34],[28,25,31,25],[28,26,31,32],[28,34,31,34],[1,0,1,1],[1,2,1,5],[1,10,1,24],[2,0,2,1],[2,2,2,5],[2,11,2,24],[6,0,6,1],[6,2,6,35],[7,0,7,1],[7,2,7,35],[8,0,8,1],[8,2,8,35],[3,0,3,1],[3,10,3,24]]}
["Personalien",null,null,null,null,null,null,null,null,null,null,null,null,null,null,null,null,null,null,null,null,null,null,null,null,"Vorausetzungen",null,"Evaluationen",null,null,null,null,null,"Rating"]
["VORNAME",null,{"$f":"IF(ISBLANK(VLOOKUP(16,Tabelle3[],3,0)),\"-\",VLOOKUP(16,Tabelle3[],3,0))","v":"-"},null,null,null,"POSITION",null,null,"ADRESSE",{"$f":"IF(ISBLANK(VLOOKUP(16,Tabelle3[],5,0)),\"-\",VLOOKUP(16,Tabelle3[],5,0))","v":"-"},null,null,null,null,null,null,null,null,null,null,null,null,null,null,"\"Alter\" (Biologisch/Relative Age)",null,"Datum 1",null,null,"cm",null,"Kg",null,"AUSGEZEICHNET",5]
["NAME",null,{"$f":"IF(ISBLANK(VLOOKUP(16,Tabelle3[],2,0)),\"-\",VLOOKUP(16,Tabelle3[],2,0))","v":"-"},null,null,null,"STOCK",null,null,"WOHNORT",{"$f":"IF(ISBLANK(VLOOKUP(16,Tabelle3[],7,0)),\"-\",VLOOKUP(16,Tabelle3[],7,0))","v":"-"},{"$f":"IF(ISBLANK(VLOOKUP(16,Tabelle3[],6,0)),\"-\",VLOOKUP(16,Tabelle3[],6,0))","v":"-"},null,null,null,null,null,null,null,null,null,null,null,null,null,"Veranlagung",null,"Datum 2",null,null,"cm",null,"Kg",null,"GUT",4]
["GEB. DATUM",null,{"$f":"IF(ISBLANK(VLOOKUP(16,Tabelle3[],14,0)),\"-\",VLOOKUP(16,Tabelle3[],14,0))","v":"-"},{"$f":"IF(ISBLANK(VLOOKUP(16,Tabelle3[],15,0)),\"-\",VLOOKUP(16,Tabelle3[],15,0))","v":"-"},{"$f":"IF(ISBLANK(VLOOKUP(16,Tabelle3[],16,0)),\"-\",VLOOKUP(16,Tabelle3[],16,0))","v":"-"},null,"GRÖSSE",null,"cm (Final)","PHONE",{"$f":"IF(ISBLANK(VLOOKUP(16,Tabelle3[],8,0)),\"-\",VLOOKUP(16,Tabelle3[],8,0))","v":"-"},null,null,null,null,null,null,null,null,null,null,null,null,null,null,"Umfeld",null,"Datum 3",null,null,"cm",null,"Kg",null,"DURCHSCHNITT",3]
["SEX",null,{"$f":"IF(ISBLANK(VLOOKUP(16,Tabelle3[],13,0)),\"-\",VLOOKUP(16,Tabelle3[],13,0))","v":"-"},null,null,null,"GEWICHT",null,"Kg (Final)","E-Mail",{"$f":"IF(ISBLANK(VLOOKUP(16,Tabelle3[],9,0)),\"-\",VLOOKUP(16,Tabelle3[],9,0))","v":"-"},null,null,null,null,null,null,null,null,null,null,null,null,null,null,null,null,"Datum 4",null,null,"cm",null,"Kg",null,"MANGELHAFT",2]
[null,null,null,null,null,null,null,null,null,null,null,null,null,null,null,null,null,null,null,null,null,null,null,null,null,null,null,"Datum 5",null,null,"cm",null,"Kg",null,"UNGENÜGEND",1]
["Vision",null,"xxx"]
["Next step",null,"xxx"]
["Stärkenprofil",null,"xxx"]
[]
["EVALUATION (COACH / SPIELER)",null,null,null,null,null,null,null,null,null,null,null,null,null,null,null,null,null,null,null,null,null,null,null,null,"SMART"]
["TEAM",null,null,"FÄHIGKEIT",null,null,"BEOBACHTUNG",null,null,null,null,null,"Final","Datum1",null,"Datum2",null,"Datum3",null,"Datum4",null,"Datum5",null,"Player",null,"ZIEL","MASSNAHME:\nSPEZIFISCH,  MESSBAR, REALISITISCH",null,null,null,null,null,null,"TERMIN","ZIEL-KONTROLLE","Datum"]
["ROLLE, SOZIAL",null,null,{"$f":"IF($H$2=\"G\",Skillserleuterungen_FTEM!Q4,Skillserleuterungen_FTEM!D4)","v":"TEAMDENKEN"},null,null,{"$f":"IF($H$2=\"G\",Skillserleuterungen_FTEM!T4,Skillserleuterungen_FTEM!G4)","v":"Identifikation zur Rolle, Umgang mit Kameraden (sozial integriert)"},null,null,{"$f":"IF($H$2=\"G\",Skillserleuterungen_FTEM!W4,Skillserleuterungen_FTEM!J4)","v":0},null,null,null,{"$f":"IFERROR(AVERAGE(O13:O14),\"-\")","v":"-"},null,{"$f":"IFERROR(AVERAGE(Q13:Q14),\"-\")","v":"-"},null,{"$f":"IFERROR(AVERAGE(S13:S14),\"-\")","v":"-"},null,{"$f":"IFERROR(AVERAGE(U13:U14),\"-\")","v":"-"},null,null,null,{"$f":"IFERROR(AVERAGE(Y13:Y14),\"-\")","v":"-"}]
[null,null,null,{"$f":"IF($H$2=\"G\",Skillserleuterungen_FTEM!Q5,Skillserleuterungen_FTEM!D5)","v":"LEADERSHIP"},null,null,{"$f":"IF($H$2=\"G\",Skillserleuterungen_FTEM!T5,Skillserleuterungen_FTEM!G5)","v":"Übernimmt Verantwortung, macht Mitspieler besser"},null,null,{"$f":"IF($H$2=\"G\",Skillserleuterungen_FTEM!W5,Skillserleuterungen_FTEM!J5)","v":0}]
["ON ICE",null,null,"FÄHIGKEIT",null,null,"BEOBACHTUNG",null,null,null,null,null,null,"Datum1",null,"Datum2",null,"Datum3",null,"Datum4",null,"Datum5",null,"Player",null,"ZIEL","MASSNAHME:\nSPEZIFISCH,  MESSBAR, REALISITISCH",null,null,null,null,null,null,"TERMIN","ZIEL-KONTROLLE","Datum"]
["SKILL",null,null,{"$f":"IF($H$2=\"G\",Skillserleuterungen_FTEM!Q7,Skillserleuterungen_FTEM!D7)","v":"SCHIESSEN"},null,null,{"$f":"IF($H$2=\"G\",Skillserleuterungen_FTEM!T7,Skillserleuterungen_FTEM!G7)","v":"Effizienz / Variantenreichtum, Überraschungsgrad (Quick Release), Präzision, Härte, (taktische Abschlüsse)\nschnell, hart, unter Druck"},null,null,{"$f":"IF($H$2=\"G\",Skillserleuterungen_FTEM!W7,Skillserleuterungen_FTEM!J7)","v":0},null,null,null,{"$f":"IFERROR(AVERAGE(O16:O19),\"-\")","v":"-"},null,{"$f":"IFERROR(AVERAGE(Q16:Q19),\"-\")","v":"-"},null,{"$f":"IFERROR(AVERAGE(S16:S19),\"-\")","v":"-"},null,{"$f":"IFERROR(AVERAGE(U16:U19),\"-\")","v":"-"},null,{"$f":"IFERROR(AVERAGE(W16:W19),\"-\")","v":"-"},null,{"$f":"IFERROR(AVERAGE(Y16:Y19),\"-\")","v":"-"}]
[null,null,null,{"$f":"IF($H$2=\"G\",Skillserleuterungen_FTEM!Q8,Skillserleuterungen_FTEM!D8)","v":"PASSEN"},null,null,{"$f":"IF($H$2=\"G\",Skillserleuterungen_FTEM!T8,Skillserleuterungen_FTEM!G8)","v":"Passabgabe (Distanz, Flippass Backhand), Passannahme (Präzision, Timing, Vorhand, Rückhand, Schlittschuh,Puckspeed"},null,null,{"$f":"IF($H$2=\"G\",Skillserleuterungen_FTEM!W8,Skillserleuterungen_FTEM!J8)","v":0}]
[null,null,null,{"$f":"IF($H$2=\"G\",Skillserleuterungen_FTEM!Q9,Skillserleuterungen_FTEM!D9)","v":"KÖRPERSPIEL"},null,null,{"$f":"IF($H$2=\"G\",Skillserleuterungen_FTEM!T9,Skillserleuterungen_FTEM!G9)","v":"Phyisches Durchsetzungsvermögen, Zweikampf (offenes Eis/Bande), Checks nehmen/Head up, Battle Level, Hart aber fair, mit dem Körper Schüsse blockieren"},null,null,{"$f":"IF($H$2=\"G\",Skillserleuterungen_FTEM!W9,Skillserleuterungen_FTEM!J9)","v":0},null,null,null,{"$f":"IFERROR(AVERAGE(O18:O19),\"-\")","v":"-"},null,{"$f":"IFERROR(AVERAGE(Q18:Q19),\"-\")","v":"-"},null,{"$f":"IFERROR(AVERAGE(S18:S19),\"-\")","v":"-"},null,{"$f":"IFERROR(AVERAGE(U18:U19),\"-\")","v":"-"},null,{"$f":"IFERROR(AVERAGE(W18:W19),\"-\")","v":"-"},null,{"$f":"IFERROR(AVERAGE(Y18:Y19),\"-\")","v":"-"}]
[null,null,null,{"$f":"IF($H$2=\"G\",Skillserleuterungen_FTEM!Q10,Skillserleuterungen_FTEM!D10)","v":"SCHEIBENKONTROLLE"},null,null,{"$f":"IF($H$2=\"G\",Skillserleuterungen_FTEM!T10,Skillserleuterungen_FTEM!G10)","v":"Puckmanagmenet auf engem Raum, Puck Protection,  schwer kontrollierbare Scheiben "},null,null,{"$f":"IF($H$2=\"G\",Skillserleuterungen_FTEM!W10,Skillserleuterungen_FTEM!J10)","v":0}]
["SKATING",null,null,{"$f":"IF($H$2=\"G\",Skillserleuterungen_FTEM!Q11,Skillserleuterungen_FTEM!D11)","v":"FOOTSPEED"},null,null,{"$f":"IF($H$2=\"G\",Skillserleuterungen_FTEM!T11,Skillserleuterungen_FTEM!G11)","v":"Beschleunigung, Antritt, erste 3 Schritte Explosivität, Frequenz"},null,null,{"$f":"IF($H$2=\"G\",Skillserleuterungen_FTEM!W11,Skillserleuterungen_FTEM!J11)","v":0},null,null,null,{"$f":"IFERROR(AVERAGE(O20:O23),\"-\")","v":"-"},null,{"$f":"IFERROR(AVERAGE(Q20:Q23),\"-\")","v":"-"},null,{"$f":"IFERROR(AVERAGE(S20:S23),\"-\")","v":"-"},null,{"$f":"IFERROR(AVERAGE(U20:U23),\"-\")","v":"-"},null,{"$f":"IFERROR(AVERAGE(W20:W23),\"-\")","v":"-"},null,{"$f":"IFERROR(AVERAGE(Y20:Y23),\"-\")","v":"-"}]
[null,null,null,{"$f":"IF($H$2=\"G\",Skillserleuterungen_FTEM!Q12,Skillserleuterungen_FTEM!D12)","v":"AGILITÄT"},null,null,{"$f":"IF($H$2=\"G\",Skillserleuterungen_FTEM!T12,Skillserleuterungen_FTEM!G12)","v":"Richtungsänderung, Drehung, Stop und Start, «Nummelin»"},null,null,{"$f":"IF($H$2=\"G\",Skillserleuterungen_FTEM!W12,Skillserleuterungen_FTEM!J12)","v":0}]
[null,null,null,{"$f":"IF($H$2=\"G\",Skillserleuterungen_FTEM!Q13,Skillserleuterungen_FTEM!D13)","v":"BACKWARDS SKATING"},null,null,{"$f":"IF($H$2=\"G\",Skillserleuterungen_FTEM!T13,Skillserleuterungen_FTEM!G13)","v":"Beschleunigung, Geschwindigkeit, Balance"},null,null,{"$f":"IF($H$2=\"G\",Skillserleuterungen_FTEM!W13,Skillserleuterungen_FTEM!J13)","v":0}]
[null,null,null,{"$f":"IF($H$2=\"G\",Skillserleuterungen_FTEM!Q14,Skillserleuterungen_FTEM!D14)","v":"TOPSPEED"},null,null,{"$f":"IF($H$2=\"G\",Skillserleuterungen_FTEM!T14,Skillserleuterungen_FTEM!G14)","v":"Schnelligkeit, Gleitfähigkeit, vorwärts und rückwärts, Ökonomie"},null,null,{"$f":"IF($H$2=\"G\",Skillserleuterungen_FTEM!W14,Skillserleuterungen_FTEM!J14)","v":0}]
["HOCKEY SENSE",null,null,{"$f":"IF($H$2=\"G\",Skillserleuterungen_FTEM!Q15,Skillserleuterungen_FTEM!D15)","v":"SCORING"},null,null,{"$f":"IF($H$2=\"G\",Skillserleuterungen_FTEM!T15,Skillserleuterungen_FTEM!G15)","v":"Effizienz, variantentreich, überraschend, schnell, hart - Schussvarianten"},null,null,{"$f":"IF($H$2=\"G\",Skillserleuterungen_FTEM!W15,Skillserleuterungen_FTEM!J15)","v":0},null,null,null,{"$f":"IFERROR(AVERAGE(O24:O27),\"-\")","v":"-"},null,{"$f":"IFERROR(AVERAGE(Q24:Q27),\"-\")","v":"-"},null,{"$f":"IFERROR(AVERAGE(S24:S27),\"-\")","v":"-"},null,{"$f":"IFERROR(AVERAGE(U24:U27),\"-\")","v":"-"},null,{"$f":"IFERROR(AVERAGE(W24:W27),\"-\")","v":"-"},null,{"$f":"IFERROR(AVERAGE(Y24:Y27),\"-\")","v":"-"}]
[null,null,null,{"$f":"IF($H$2=\"G\",Skillserleuterungen_FTEM!Q16,Skillserleuterungen_FTEM!D16)","v":"MIT SCHEIBE"},null,null,{"$f":"IF($H$2=\"G\",Skillserleuterungen_FTEM!T16,Skillserleuterungen_FTEM!G16)","v":"Kreativ, performing, batteling, frech, Transition"},null,null,{"$f":"IF($H$2=\"G\",Skillserleuterungen_FTEM!W16,Skillserleuterungen_FTEM!J16)","v":0}]
[null,null,null,{"$f":"IF($H$2=\"G\",Skillserleuterungen_FTEM!Q17,Skillserleuterungen_FTEM!D17)","v":"OHNE SCHEIBE"},null,null,{"$f":"IF($H$2=\"G\",Skillserleuterungen_FTEM!T17,Skillserleuterungen_FTEM!G17)","v":"Anspielbar (Support), 1:1, Gap"},null,null,{"$f":"IF($H$2=\"G\",Skillserleuterungen_FTEM!W17,Skillserleuterungen_FTEM!J17)","v":0}]
[null,null,null,{"$f":"IF($H$2=\"G\",Skillserleuterungen_FTEM!Q18,Skillserleuterungen_FTEM!D18)","v":"DEFENSIV"},null,null,{"$f":"IF($H$2=\"G\",Skillserleuterungen_FTEM!T18,Skillserleuterungen_FTEM!G18)","v":"Verlässlichkeit,  1:1, Gap, Zuordnung"},null,null,{"$f":"IF($H$2=\"G\",Skillserleuterungen_FTEM!W18,Skillserleuterungen_FTEM!J18)","v":0}]
["PERSONALITY",null,null,"FÄHIGKEIT",null,null,"BEOBACHTUNG",null,null,null,null,null,null,"Datum1",null,"Datum2",null,"Datum3",null,"Datum4",null,"Datum5",null,"Player",null,"ZIEL","MASSNAHME:\nSPEZIFISCH,  MESSBAR, REALISITISCH",null,null,null,null,null,null,"TERMIN","ZIEL-KONTROLLE","Datum"]
["PERSON",null,null,{"$f":"IF($H$2=\"G\",Skillserleuterungen_FTEM!Q20,Skillserleuterungen_FTEM!D20)","v":"MOTIVATION"},null,null,{"$f":"IF($H$2=\"G\",Skillserleuterungen_FTEM!T20,Skillserleuterungen_FTEM!G20)","v":"Intrinsischer Antrieb, will sich ständig weiterentwickeln, will der Erste sein und Erfolg haben"},null,null,{"$f":"IF($H$2=\"G\",Skillserleuterungen_FTEM!W20,Skillserleuterungen_FTEM!J20)","v":0},null,null,null,{"$f":"IFERROR(AVERAGE(O29:O32),\"-\")","v":"-"},null,{"$f":"IFERROR(AVERAGE(Q29:Q32),\"-\")","v":"-"},null,{"$f":"IFERROR(AVERAGE(S29:S32),\"-\")","v":"-"},null,{"$f":"IFERROR(AVERAGE(U29:U32),\"-\")","v":"-"},null,{"$f":"IFERROR(AVERAGE(W29:W32),\"-\")","v":"-"},null,{"$f":"IFERROR(AVERAGE(Y29:Y32),\"-\")","v":"-"}]
[null,null,null,{"$f":"IF($H$2=\"G\",Skillserleuterungen_FTEM!Q21,Skillserleuterungen_FTEM!D21)","v":"SELBSBEWUSSTSEIN"},null,null,{"$f":"IF($H$2=\"G\",Skillserleuterungen_FTEM!T21,Skillserleuterungen_FTEM!G21)","v":"Hat das nötige Selbstvertrauen \"I can do it\" haltung, kann eigenen Fähigkeiten einschätzen und agiert mutig"},null,null,{"$f":"IF($H$2=\"G\",Skillserleuterungen_FTEM!W21,Skillserleuterungen_FTEM!J21)","v":0}]
[null,null,null,{"$f":"IF($H$2=\"G\",Skillserleuterungen_FTEM!Q22,Skillserleuterungen_FTEM!D22)","v":"LERNFÄHIGKEIT"},null,null,{"$f":"IF($H$2=\"G\",Skillserleuterungen_FTEM!T22,Skillserleuterungen_FTEM!G22)","v":"Gute Auffassungsgabe (nimmt auf und kann umsetzen), reflektiert eigenes Handeln, versucht aus Fehlern zu lernen und kann Massnahmen ableiten und sich selber coachen"},null,null,{"$f":"IF($H$2=\"G\",Skillserleuterungen_FTEM!W22,Skillserleuterungen_FTEM!J22)","v":0}]
[null,null,null,{"$f":"IF($H$2=\"G\",Skillserleuterungen_FTEM!Q23,Skillserleuterungen_FTEM!D23)","v":"PERFORMANCE LIFESTYLE"},null,null,{"$f":"IF($H$2=\"G\",Skillserleuterungen_FTEM!T23,Skillserleuterungen_FTEM!G23)","v":"Managt Alltag und Umfeld nach dem Leistungsprinzip, kann sich gegen Wiederstände durchsetzten"},null,null,{"$f":"IF($H$2=\"G\",Skillserleuterungen_FTEM!W23,Skillserleuterungen_FTEM!J23)","v":0}]
["POWER",null,null,{"$f":"IF($H$2=\"G\",Skillserleuterungen_FTEM!Q24,Skillserleuterungen_FTEM!D24)","v":"ENERGIEMANAGEMENT"},null,null,{"$f":"IF($H$2=\"G\",Skillserleuterungen_FTEM!T24,Skillserleuterungen_FTEM!G24)","v":"Kann eigene Energie regulieren, bereit zur Regeneration, weiss, wann er \"Vollgas\" geben muss und wann ab-schalten, On/Off-Schalter"},null,null,{"$f":"IF($H$2=\"G\",Skillserleuterungen_FTEM!W24,Skillserleuterungen_FTEM!J24)","v":0},null,null,null,{"$f":"IFERROR(AVERAGE(O33:O36),\"-\")","v":"-"},null,{"$f":"IFERROR(AVERAGE(Q33:Q36),\"-\")","v":"-"},null,{"$f":"IFERROR(AVERAGE(S33:S36),\"-\")","v":"-"},null,{"$f":"IFERROR(AVERAGE(U33:U36),\"-\")","v":"-"},null,{"$f":"IFERROR(AVERAGE(W33:W36),\"-\")","v":"-"},null,{"$f":"IFERROR(AVERAGE(Y33:Y36),\"-\")","v":"-"}]
[null,null,null,{"$f":"IF($H$2=\"G\",Skillserleuterungen_FTEM!Q25,Skillserleuterungen_FTEM!D25)","v":"EINSATZBEREITSCHAFT"},null,null,{"$f":"IF($H$2=\"G\",Skillserleuterungen_FTEM!T25,Skillserleuterungen_FTEM!G25)","v":"Hohe intensität im Spiel und Training, gibt immer sein Maximum, will seine Limiten pushen"},null,null,{"$f":"IF($H$2=\"G\",Skillserleuterungen_FTEM!W25,Skillserleuterungen_FTEM!J25)","v":0}]
[null,null,null,{"$f":"IF($H$2=\"G\",Skillserleuterungen_FTEM!Q26,Skillserleuterungen_FTEM!D26)","v":"EMOTIONSKONTROLLE"},null,null,{"$f":"IF($H$2=\"G\",Skillserleuterungen_FTEM!T26,Skillserleuterungen_FTEM!G26)","v":"Emotionen und Impulse regulieren, unter Druck die Kontrolle behalten, in emotional ansprucksvollen Situationen angemessen agieren können"},null,null,{"$f":"IF($H$2=\"G\",Skillserleuterungen_FTEM!W26,Skillserleuterungen_FTEM!J26)","v":0}]
[null,null,null,{"$f":"IF($H$2=\"G\",Skillserleuterungen_FTEM!Q27,Skillserleuterungen_FTEM!D27)","v":"VORBEREITUNG"},null,null,{"$f":"IF($H$2=\"G\",Skillserleuterungen_FTEM!T27,Skillserleuterungen_FTEM!G27)","v":"Fokus, ILZ, Regeneration, Selbststiumlation, Ernährung"},null,null,{"$f":"IF($H$2=\"G\",Skillserleuterungen_FTEM!W27,Skillserleuterungen_FTEM!J27)","v":0}]
["PYHSE (Athletik)",null,null,{"$f":"IF($H$2=\"G\",Skillserleuterungen_FTEM!Q28,Skillserleuterungen_FTEM!D28)","v":"LEISTUNGSERZEUGUNG (neuromuskuläre Faktoren /Leistungserzeugung)"},null,null,{"$f":"IF($H$2=\"G\",Skillserleuterungen_FTEM!T28,Skillserleuterungen_FTEM!G28)","v":"Verfügt über die nötige Power/ Kraft/ Schnelligkeit in den Beinen un im Oberkörper "},null,null,{"$f":"IF($H$2=\"G\",Skillserleuterungen_FTEM!W28,Skillserleuterungen_FTEM!J28)","v":0},null,null,null,{"$f":"IFERROR(AVERAGE(O37:O40),\"-\")","v":"-"},null,{"$f":"IFERROR(AVERAGE(Q37:Q40),\"-\")","v":"-"},null,{"$f":"IFERROR(AVERAGE(S37:S40),\"-\")","v":"-"},null,{"$f":"IFERROR(AVERAGE(U37:U40),\"-\")","v":"-"},null,{"$f":"IFERROR(AVERAGE(W37:W40),\"-\")","v":"-"},null,{"$f":"IFERROR(AVERAGE(Y37:Y40),\"-\")","v":"-"}]
[null,null,null,{"$f":"IF($H$2=\"G\",Skillserleuterungen_FTEM!Q29,Skillserleuterungen_FTEM!D29)","v":"SPEZ. ERMÜDUNGSRESISTENZ (metabolische, kardiovaskuläre Faktoren)"},null,null,{"$f":"IF($H$2=\"G\",Skillserleuterungen_FTEM!T29,Skillserleuterungen_FTEM!G29)","v":"Ist fähig die Power/ Kraft/ Schnelligkeit innerhalb des Einsatzes lange aufrechtzuerhalten und kann sich zwischen den Einsätzen jeweils vollkommen erholen (auch von Spiel zu Spiel)."},null,null,{"$f":"IF($H$2=\"G\",Skillserleuterungen_FTEM!W29,Skillserleuterungen_FTEM!J29)","v":0}]
[null,null,null,{"$f":"IF($H$2=\"G\",Skillserleuterungen_FTEM!Q30,Skillserleuterungen_FTEM!D30)","v":"BEWEGUNGSKOMPETENZ/ KOORDINATION "},null,null,{"$f":"IF($H$2=\"G\",Skillserleuterungen_FTEM!T30,Skillserleuterungen_FTEM!G30)","v":"Beherrscht die grundlegenden Bewegungsfertigkeiten, die eine unerlässliche Zubringerfunktion für die sportspezifischen \"Skills\" darstellt sowie zur nötigen Bewegungseffizienz führt. "},null,null,{"$f":"IF($H$2=\"G\",Skillserleuterungen_FTEM!W30,Skillserleuterungen_FTEM!J30)","v":0}]
[null,null,null,{"$f":"IF($H$2=\"G\",Skillserleuterungen_FTEM!Q31,Skillserleuterungen_FTEM!D31)","v":"ROBUSTHEIT/ PRÄVENTION"},null,null,{"$f":"IF($H$2=\"G\",Skillserleuterungen_FTEM!T31,Skillserleuterungen_FTEM!G31)","v":"Verletzungsanfälligkeit, Stabilität (Verfügt über die nötige Stabilität, Grundkraft (Körperspannung) \"z.B. Beinachsenstabilität\" und Beweglichkeit in den zentralen Gelenken \"Hüfte, Wirbelsäule\"), Standfestigkeit"},null,null,{"$f":"IF($H$2=\"G\",Skillserleuterungen_FTEM!W31,Skillserleuterungen_FTEM!J31)","v":0}]

{"sheet":"17","index":20,"n_rows":40,"n_cols":36,"rows_kept":40,"cut":false,"hidden":false,"merged":[[38,3,38,5],[38,6,38,11],[39,3,39,5],[39,6,39,11],[32,23,35,23],[32,0,35,2],[32,3,32,5],[32,6,32,11],[32,12,35,12],[32,13,35,13],[36,26,39,32],[36,34,39,34],[21,3,21,5],[21,6,21,11],[34,3,34,5],[34,6,34,11],[36,0,39,2],[36,12,39,12],[36,13,39,13],[36,15,39,15],[36,17,39,17],[36,19,39,19],[36,21,39,21],[36,23,39,23],[36,25,39,25],[36,3,36,5],[36,6,36,11],[37,3,37,5],[37,6,37,11],[32,15,35,15],[27,21,27,22],[28,17,31,17],[28,19,31,19],[28,21,31,21],[29,3,29,5],[29,6,29,11],[30,3,30,5],[30,6,30,11],[32,17,35,17],[32,19,35,19],[32,21,35,21],[33,3,33,5],[33,6,33,11],[35,3,35,5],[35,6,35,11],[23,0,26,2],[23,3,23,5],[23,6,23,11],[23,12,26,12],[23,13,26,13],[23,15,26,15],[27,23,27,24],[27,26,27,32],[28,0,31,2],[28,3,28,5],[28,6,28,11],[28,12,31,12],[28,13,31,13],[28,15,31,15],[31,3,31,5],[31,6,31,11],[28,23,31,23],[27,0,27,2],[27,3,27,5],[27,6,27,11],[27,13,27,14],[27,15,27,16],[27,17,27,18],[27,19,27,20],[19,19,22,19],[19,21,22,21],[19,23,22,23],[20,3,20,5],[20,6,20,11],[22,3,22,5],[22,6,22,11],[26,3,26,5],[26,6,26,11],[23,23,26,23],[23,17,26,17],[23,19,26,19],[23,21,26,21],[24,3,24,5],[24,6,24,11],[25,3,25,5],[25,6,25,11],[12,21,13,21],[15,15,18,15],[15,17,18,17],[15,19,18,19],[15,21,18,21],[15,23,18,23],[18,3,18,5],[18,6,18,11],[19,0,22,2],[19,3,19,5],[19,6,19,11],[19,12,22,12],[19,13,22,13],[19,15,22,15],[19,17,22,17],[15,0,18,2],[15,3,15,5],[15,6,15,11],[15,12,18,12],[15,13,18,13],[16,3,16,5],[16,6,16,11],[17,3,17,5],[17,6,17,11],[11,21,11,22],[11,23,11,24],[11,26,11,32],[11,6,11,11],[12,23,13,23],[13,3,13,5],[13,6,13,11],[14,0,14,2],[14,3,14,5],[14,6,14,11],[14,13,14,14],[14,15,14,16],[14,17,14,18],[14,19,14,20],[14,21,14,22],[14,23,14,24],[12,0,13,2],[12,3,12,5],[12,6,12,11],[12,12,13,12],[12,13,13,13],[12,15,13,15],[12,17,13,17],[12,19,13,19],[4,0,4,1],[4,2,4,5],[4,10,4,24],[10,0,10,24],[10,25,10,35],[32,25,35,25],[32,26,35,32],[32,34,35,34],[12,25,13,25],[12,26,13,32],[12,34,13,34],[15,25,18,25],[15,26,18,32],[15,34,18,34],[19,25,22,25],[19,26,22,32],[19,34,22,34],[14,26,14,32],[11,0,11,2],[11,3,11,5],[11,13,11,14],[11,15,11,16],[11,17,11,18],[11,19,11,20],[0,0,0,24],[0,25,0,26],[0,27,0,32],[0,33,0,35],[23,25,26,25],[23,26,26,32],[23,34,26,34],[28,25,31,25],[28,26,31,32],[28,34,31,34],[1,0,1,1],[1,2,1,5],[1,10,1,24],[2,0,2,1],[2,2,2,5],[2,11,2,24],[6,0,6,1],[6,2,6,35],[7,0,7,1],[7,2,7,35],[8,0,8,1],[8,2,8,35],[3,0,3,1],[3,10,3,24]]}
["Personalien",null,null,null,null,null,null,null,null,null,null,null,null,null,null,null,null,null,null,null,null,null,null,null,null,"Vorausetzungen",null,"Evaluationen",null,null,null,null,null,"Rating"]
["VORNAME",null,{"$f":"IF(ISBLANK(VLOOKUP(17,Tabelle3[],3,0)),\"-\",VLOOKUP(17,Tabelle3[],3,0))","v":"-"},null,null,null,"POSITION",null,null,"ADRESSE",{"$f":"IF(ISBLANK(VLOOKUP(17,Tabelle3[],5,0)),\"-\",VLOOKUP(17,Tabelle3[],5,0))","v":"-"},null,null,null,null,null,null,null,null,null,null,null,null,null,null,"\"Alter\" (Biologisch/Relative Age)",null,"Datum 1",null,null,"cm",null,"Kg",null,"AUSGEZEICHNET",5]
["NAME",null,{"$f":"IF(ISBLANK(VLOOKUP(17,Tabelle3[],2,0)),\"-\",VLOOKUP(17,Tabelle3[],2,0))","v":"-"},null,null,null,"STOCK",null,null,"WOHNORT",{"$f":"IF(ISBLANK(VLOOKUP(17,Tabelle3[],7,0)),\"-\",VLOOKUP(17,Tabelle3[],7,0))","v":"-"},{"$f":"IF(ISBLANK(VLOOKUP(17,Tabelle3[],6,0)),\"-\",VLOOKUP(17,Tabelle3[],6,0))","v":"-"},null,null,null,null,null,null,null,null,null,null,null,null,null,"Veranlagung",null,"Datum 2",null,null,"cm",null,"Kg",null,"GUT",4]
["GEB. DATUM",null,{"$f":"IF(ISBLANK(VLOOKUP(17,Tabelle3[],14,0)),\"-\",VLOOKUP(17,Tabelle3[],14,0))","v":"-"},{"$f":"IF(ISBLANK(VLOOKUP(17,Tabelle3[],15,0)),\"-\",VLOOKUP(17,Tabelle3[],15,0))","v":"-"},{"$f":"IF(ISBLANK(VLOOKUP(17,Tabelle3[],16,0)),\"-\",VLOOKUP(17,Tabelle3[],16,0))","v":"-"},null,"GRÖSSE",null,"cm (Final)","PHONE",{"$f":"IF(ISBLANK(VLOOKUP(17,Tabelle3[],8,0)),\"-\",VLOOKUP(17,Tabelle3[],8,0))","v":"-"},null,null,null,null,null,null,null,null,null,null,null,null,null,null,"Umfeld",null,"Datum 3",null,null,"cm",null,"Kg",null,"DURCHSCHNITT",3]
["SEX",null,{"$f":"IF(ISBLANK(VLOOKUP(17,Tabelle3[],13,0)),\"-\",VLOOKUP(17,Tabelle3[],13,0))","v":"-"},null,null,null,"GEWICHT",null,"Kg (Final)","E-Mail",{"$f":"IF(ISBLANK(VLOOKUP(17,Tabelle3[],9,0)),\"-\",VLOOKUP(17,Tabelle3[],9,0))","v":"-"},null,null,null,null,null,null,null,null,null,null,null,null,null,null,null,null,"Datum 4",null,null,"cm",null,"Kg",null,"MANGELHAFT",2]
[null,null,null,null,null,null,null,null,null,null,null,null,null,null,null,null,null,null,null,null,null,null,null,null,null,null,null,"Datum 5",null,null,"cm",null,"Kg",null,"UNGENÜGEND",1]
["Vision",null,"xxx"]
["Next step",null,"xxx"]
["Stärkenprofil",null,"xxx"]
[]
["EVALUATION (COACH / SPIELER)",null,null,null,null,null,null,null,null,null,null,null,null,null,null,null,null,null,null,null,null,null,null,null,null,"SMART"]
["TEAM",null,null,"FÄHIGKEIT",null,null,"BEOBACHTUNG",null,null,null,null,null,"Final","Datum1",null,"Datum2",null,"Datum3",null,"Datum4",null,"Datum5",null,"Player",null,"ZIEL","MASSNAHME:\nSPEZIFISCH,  MESSBAR, REALISITISCH",null,null,null,null,null,null,"TERMIN","ZIEL-KONTROLLE","Datum"]
["ROLLE, SOZIAL",null,null,{"$f":"IF($H$2=\"G\",Skillserleuterungen_FTEM!Q4,Skillserleuterungen_FTEM!D4)","v":"TEAMDENKEN"},null,null,{"$f":"IF($H$2=\"G\",Skillserleuterungen_FTEM!T4,Skillserleuterungen_FTEM!G4)","v":"Identifikation zur Rolle, Umgang mit Kameraden (sozial integriert)"},null,null,{"$f":"IF($H$2=\"G\",Skillserleuterungen_FTEM!W4,Skillserleuterungen_FTEM!J4)","v":0},null,null,null,{"$f":"IFERROR(AVERAGE(O13:O14),\"-\")","v":"-"},null,{"$f":"IFERROR(AVERAGE(Q13:Q14),\"-\")","v":"-"},null,{"$f":"IFERROR(AVERAGE(S13:S14),\"-\")","v":"-"},null,{"$f":"IFERROR(AVERAGE(U13:U14),\"-\")","v":"-"},null,null,null,{"$f":"IFERROR(AVERAGE(Y13:Y14),\"-\")","v":"-"}]
[null,null,null,{"$f":"IF($H$2=\"G\",Skillserleuterungen_FTEM!Q5,Skillserleuterungen_FTEM!D5)","v":"LEADERSHIP"},null,null,{"$f":"IF($H$2=\"G\",Skillserleuterungen_FTEM!T5,Skillserleuterungen_FTEM!G5)","v":"Übernimmt Verantwortung, macht Mitspieler besser"},null,null,{"$f":"IF($H$2=\"G\",Skillserleuterungen_FTEM!W5,Skillserleuterungen_FTEM!J5)","v":0}]
["ON ICE",null,null,"FÄHIGKEIT",null,null,"BEOBACHTUNG",null,null,null,null,null,null,"Datum1",null,"Datum2",null,"Datum3",null,"Datum4",null,"Datum5",null,"Player",null,"ZIEL","MASSNAHME:\nSPEZIFISCH,  MESSBAR, REALISITISCH",null,null,null,null,null,null,"TERMIN","ZIEL-KONTROLLE","Datum"]
["SKILL",null,null,{"$f":"IF($H$2=\"G\",Skillserleuterungen_FTEM!Q7,Skillserleuterungen_FTEM!D7)","v":"SCHIESSEN"},null,null,{"$f":"IF($H$2=\"G\",Skillserleuterungen_FTEM!T7,Skillserleuterungen_FTEM!G7)","v":"Effizienz / Variantenreichtum, Überraschungsgrad (Quick Release), Präzision, Härte, (taktische Abschlüsse)\nschnell, hart, unter Druck"},null,null,{"$f":"IF($H$2=\"G\",Skillserleuterungen_FTEM!W7,Skillserleuterungen_FTEM!J7)","v":0},null,null,null,{"$f":"IFERROR(AVERAGE(O16:O19),\"-\")","v":"-"},null,{"$f":"IFERROR(AVERAGE(Q16:Q19),\"-\")","v":"-"},null,{"$f":"IFERROR(AVERAGE(S16:S19),\"-\")","v":"-"},null,{"$f":"IFERROR(AVERAGE(U16:U19),\"-\")","v":"-"},null,{"$f":"IFERROR(AVERAGE(W16:W19),\"-\")","v":"-"},null,{"$f":"IFERROR(AVERAGE(Y16:Y19),\"-\")","v":"-"}]
[null,null,null,{"$f":"IF($H$2=\"G\",Skillserleuterungen_FTEM!Q8,Skillserleuterungen_FTEM!D8)","v":"PASSEN"},null,null,{"$f":"IF($H$2=\"G\",Skillserleuterungen_FTEM!T8,Skillserleuterungen_FTEM!G8)","v":"Passabgabe (Distanz, Flippass Backhand), Passannahme (Präzision, Timing, Vorhand, Rückhand, Schlittschuh,Puckspeed"},null,null,{"$f":"IF($H$2=\"G\",Skillserleuterungen_FTEM!W8,Skillserleuterungen_FTEM!J8)","v":0}]
[null,null,null,{"$f":"IF($H$2=\"G\",Skillserleuterungen_FTEM!Q9,Skillserleuterungen_FTEM!D9)","v":"KÖRPERSPIEL"},null,null,{"$f":"IF($H$2=\"G\",Skillserleuterungen_FTEM!T9,Skillserleuterungen_FTEM!G9)","v":"Phyisches Durchsetzungsvermögen, Zweikampf (offenes Eis/Bande), Checks nehmen/Head up, Battle Level, Hart aber fair, mit dem Körper Schüsse blockieren"},null,null,{"$f":"IF($H$2=\"G\",Skillserleuterungen_FTEM!W9,Skillserleuterungen_FTEM!J9)","v":0},null,null,null,{"$f":"IFERROR(AVERAGE(O18:O19),\"-\")","v":"-"},null,{"$f":"IFERROR(AVERAGE(Q18:Q19),\"-\")","v":"-"},null,{"$f":"IFERROR(AVERAGE(S18:S19),\"-\")","v":"-"},null,{"$f":"IFERROR(AVERAGE(U18:U19),\"-\")","v":"-"},null,{"$f":"IFERROR(AVERAGE(W18:W19),\"-\")","v":"-"},null,{"$f":"IFERROR(AVERAGE(Y18:Y19),\"-\")","v":"-"}]
[null,null,null,{"$f":"IF($H$2=\"G\",Skillserleuterungen_FTEM!Q10,Skillserleuterungen_FTEM!D10)","v":"SCHEIBENKONTROLLE"},null,null,{"$f":"IF($H$2=\"G\",Skillserleuterungen_FTEM!T10,Skillserleuterungen_FTEM!G10)","v":"Puckmanagmenet auf engem Raum, Puck Protection,  schwer kontrollierbare Scheiben "},null,null,{"$f":"IF($H$2=\"G\",Skillserleuterungen_FTEM!W10,Skillserleuterungen_FTEM!J10)","v":0}]
["SKATING",null,null,{"$f":"IF($H$2=\"G\",Skillserleuterungen_FTEM!Q11,Skillserleuterungen_FTEM!D11)","v":"FOOTSPEED"},null,null,{"$f":"IF($H$2=\"G\",Skillserleuterungen_FTEM!T11,Skillserleuterungen_FTEM!G11)","v":"Beschleunigung, Antritt, erste 3 Schritte Explosivität, Frequenz"},null,null,{"$f":"IF($H$2=\"G\",Skillserleuterungen_FTEM!W11,Skillserleuterungen_FTEM!J11)","v":0},null,null,null,{"$f":"IFERROR(AVERAGE(O20:O23),\"-\")","v":"-"},null,{"$f":"IFERROR(AVERAGE(Q20:Q23),\"-\")","v":"-"},null,{"$f":"IFERROR(AVERAGE(S20:S23),\"-\")","v":"-"},null,{"$f":"IFERROR(AVERAGE(U20:U23),\"-\")","v":"-"},null,{"$f":"IFERROR(AVERAGE(W20:W23),\"-\")","v":"-"},null,{"$f":"IFERROR(AVERAGE(Y20:Y23),\"-\")","v":"-"}]
[null,null,null,{"$f":"IF($H$2=\"G\",Skillserleuterungen_FTEM!Q12,Skillserleuterungen_FTEM!D12)","v":"AGILITÄT"},null,null,{"$f":"IF($H$2=\"G\",Skillserleuterungen_FTEM!T12,Skillserleuterungen_FTEM!G12)","v":"Richtungsänderung, Drehung, Stop und Start, «Nummelin»"},null,null,{"$f":"IF($H$2=\"G\",Skillserleuterungen_FTEM!W12,Skillserleuterungen_FTEM!J12)","v":0}]
[null,null,null,{"$f":"IF($H$2=\"G\",Skillserleuterungen_FTEM!Q13,Skillserleuterungen_FTEM!D13)","v":"BACKWARDS SKATING"},null,null,{"$f":"IF($H$2=\"G\",Skillserleuterungen_FTEM!T13,Skillserleuterungen_FTEM!G13)","v":"Beschleunigung, Geschwindigkeit, Balance"},null,null,{"$f":"IF($H$2=\"G\",Skillserleuterungen_FTEM!W13,Skillserleuterungen_FTEM!J13)","v":0}]
[null,null,null,{"$f":"IF($H$2=\"G\",Skillserleuterungen_FTEM!Q14,Skillserleuterungen_FTEM!D14)","v":"TOPSPEED"},null,null,{"$f":"IF($H$2=\"G\",Skillserleuterungen_FTEM!T14,Skillserleuterungen_FTEM!G14)","v":"Schnelligkeit, Gleitfähigkeit, vorwärts und rückwärts, Ökonomie"},null,null,{"$f":"IF($H$2=\"G\",Skillserleuterungen_FTEM!W14,Skillserleuterungen_FTEM!J14)","v":0}]
["HOCKEY SENSE",null,null,{"$f":"IF($H$2=\"G\",Skillserleuterungen_FTEM!Q15,Skillserleuterungen_FTEM!D15)","v":"SCORING"},null,null,{"$f":"IF($H$2=\"G\",Skillserleuterungen_FTEM!T15,Skillserleuterungen_FTEM!G15)","v":"Effizienz, variantentreich, überraschend, schnell, hart - Schussvarianten"},null,null,{"$f":"IF($H$2=\"G\",Skillserleuterungen_FTEM!W15,Skillserleuterungen_FTEM!J15)","v":0},null,null,null,{"$f":"IFERROR(AVERAGE(O24:O27),\"-\")","v":"-"},null,{"$f":"IFERROR(AVERAGE(Q24:Q27),\"-\")","v":"-"},null,{"$f":"IFERROR(AVERAGE(S24:S27),\"-\")","v":"-"},null,{"$f":"IFERROR(AVERAGE(U24:U27),\"-\")","v":"-"},null,{"$f":"IFERROR(AVERAGE(W24:W27),\"-\")","v":"-"},null,{"$f":"IFERROR(AVERAGE(Y24:Y27),\"-\")","v":"-"}]
[null,null,null,{"$f":"IF($H$2=\"G\",Skillserleuterungen_FTEM!Q16,Skillserleuterungen_FTEM!D16)","v":"MIT SCHEIBE"},null,null,{"$f":"IF($H$2=\"G\",Skillserleuterungen_FTEM!T16,Skillserleuterungen_FTEM!G16)","v":"Kreativ, performing, batteling, frech, Transition"},null,null,{"$f":"IF($H$2=\"G\",Skillserleuterungen_FTEM!W16,Skillserleuterungen_FTEM!J16)","v":0}]
[null,null,null,{"$f":"IF($H$2=\"G\",Skillserleuterungen_FTEM!Q17,Skillserleuterungen_FTEM!D17)","v":"OHNE SCHEIBE"},null,null,{"$f":"IF($H$2=\"G\",Skillserleuterungen_FTEM!T17,Skillserleuterungen_FTEM!G17)","v":"Anspielbar (Support), 1:1, Gap"},null,null,{"$f":"IF($H$2=\"G\",Skillserleuterungen_FTEM!W17,Skillserleuterungen_FTEM!J17)","v":0}]
[null,null,null,{"$f":"IF($H$2=\"G\",Skillserleuterungen_FTEM!Q18,Skillserleuterungen_FTEM!D18)","v":"DEFENSIV"},null,null,{"$f":"IF($H$2=\"G\",Skillserleuterungen_FTEM!T18,Skillserleuterungen_FTEM!G18)","v":"Verlässlichkeit,  1:1, Gap, Zuordnung"},null,null,{"$f":"IF($H$2=\"G\",Skillserleuterungen_FTEM!W18,Skillserleuterungen_FTEM!J18)","v":0}]
["PERSONALITY",null,null,"FÄHIGKEIT",null,null,"BEOBACHTUNG",null,null,null,null,null,null,"Datum1",null,"Datum2",null,"Datum3",null,"Datum4",null,"Datum5",null,"Player",null,"ZIEL","MASSNAHME:\nSPEZIFISCH,  MESSBAR, REALISITISCH",null,null,null,null,null,null,"TERMIN","ZIEL-KONTROLLE","Datum"]
["PERSON",null,null,{"$f":"IF($H$2=\"G\",Skillserleuterungen_FTEM!Q20,Skillserleuterungen_FTEM!D20)","v":"MOTIVATION"},null,null,{"$f":"IF($H$2=\"G\",Skillserleuterungen_FTEM!T20,Skillserleuterungen_FTEM!G20)","v":"Intrinsischer Antrieb, will sich ständig weiterentwickeln, will der Erste sein und Erfolg haben"},null,null,{"$f":"IF($H$2=\"G\",Skillserleuterungen_FTEM!W20,Skillserleuterungen_FTEM!J20)","v":0},null,null,null,{"$f":"IFERROR(AVERAGE(O29:O32),\"-\")","v":"-"},null,{"$f":"IFERROR(AVERAGE(Q29:Q32),\"-\")","v":"-"},null,{"$f":"IFERROR(AVERAGE(S29:S32),\"-\")","v":"-"},null,{"$f":"IFERROR(AVERAGE(U29:U32),\"-\")","v":"-"},null,{"$f":"IFERROR(AVERAGE(W29:W32),\"-\")","v":"-"},null,{"$f":"IFERROR(AVERAGE(Y29:Y32),\"-\")","v":"-"}]
[null,null,null,{"$f":"IF($H$2=\"G\",Skillserleuterungen_FTEM!Q21,Skillserleuterungen_FTEM!D21)","v":"SELBSBEWUSSTSEIN"},null,null,{"$f":"IF($H$2=\"G\",Skillserleuterungen_FTEM!T21,Skillserleuterungen_FTEM!G21)","v":"Hat das nötige Selbstvertrauen \"I can do it\" haltung, kann eigenen Fähigkeiten einschätzen und agiert mutig"},null,null,{"$f":"IF($H$2=\"G\",Skillserleuterungen_FTEM!W21,Skillserleuterungen_FTEM!J21)","v":0}]
[null,null,null,{"$f":"IF($H$2=\"G\",Skillserleuterungen_FTEM!Q22,Skillserleuterungen_FTEM!D22)","v":"LERNFÄHIGKEIT"},null,null,{"$f":"IF($H$2=\"G\",Skillserleuterungen_FTEM!T22,Skillserleuterungen_FTEM!G22)","v":"Gute Auffassungsgabe (nimmt auf und kann umsetzen), reflektiert eigenes Handeln, versucht aus Fehlern zu lernen und kann Massnahmen ableiten und sich selber coachen"},null,null,{"$f":"IF($H$2=\"G\",Skillserleuterungen_FTEM!W22,Skillserleuterungen_FTEM!J22)","v":0}]
[null,null,null,{"$f":"IF($H$2=\"G\",Skillserleuterungen_FTEM!Q23,Skillserleuterungen_FTEM!D23)","v":"PERFORMANCE LIFESTYLE"},null,null,{"$f":"IF($H$2=\"G\",Skillserleuterungen_FTEM!T23,Skillserleuterungen_FTEM!G23)","v":"Managt Alltag und Umfeld nach dem Leistungsprinzip, kann sich gegen Wiederstände durchsetzten"},null,null,{"$f":"IF($H$2=\"G\",Skillserleuterungen_FTEM!W23,Skillserleuterungen_FTEM!J23)","v":0}]
["POWER",null,null,{"$f":"IF($H$2=\"G\",Skillserleuterungen_FTEM!Q24,Skillserleuterungen_FTEM!D24)","v":"ENERGIEMANAGEMENT"},null,null,{"$f":"IF($H$2=\"G\",Skillserleuterungen_FTEM!T24,Skillserleuterungen_FTEM!G24)","v":"Kann eigene Energie regulieren, bereit zur Regeneration, weiss, wann er \"Vollgas\" geben muss und wann ab-schalten, On/Off-Schalter"},null,null,{"$f":"IF($H$2=\"G\",Skillserleuterungen_FTEM!W24,Skillserleuterungen_FTEM!J24)","v":0},null,null,null,{"$f":"IFERROR(AVERAGE(O33:O36),\"-\")","v":"-"},null,{"$f":"IFERROR(AVERAGE(Q33:Q36),\"-\")","v":"-"},null,{"$f":"IFERROR(AVERAGE(S33:S36),\"-\")","v":"-"},null,{"$f":"IFERROR(AVERAGE(U33:U36),\"-\")","v":"-"},null,{"$f":"IFERROR(AVERAGE(W33:W36),\"-\")","v":"-"},null,{"$f":"IFERROR(AVERAGE(Y33:Y36),\"-\")","v":"-"}]
[null,null,null,{"$f":"IF($H$2=\"G\",Skillserleuterungen_FTEM!Q25,Skillserleuterungen_FTEM!D25)","v":"EINSATZBEREITSCHAFT"},null,null,{"$f":"IF($H$2=\"G\",Skillserleuterungen_FTEM!T25,Skillserleuterungen_FTEM!G25)","v":"Hohe intensität im Spiel und Training, gibt immer sein Maximum, will seine Limiten pushen"},null,null,{"$f":"IF($H$2=\"G\",Skillserleuterungen_FTEM!W25,Skillserleuterungen_FTEM!J25)","v":0}]
[null,null,null,{"$f":"IF($H$2=\"G\",Skillserleuterungen_FTEM!Q26,Skillserleuterungen_FTEM!D26)","v":"EMOTIONSKONTROLLE"},null,null,{"$f":"IF($H$2=\"G\",Skillserleuterungen_FTEM!T26,Skillserleuterungen_FTEM!G26)","v":"Emotionen und Impulse regulieren, unter Druck die Kontrolle behalten, in emotional ansprucksvollen Situationen angemessen agieren können"},null,null,{"$f":"IF($H$2=\"G\",Skillserleuterungen_FTEM!W26,Skillserleuterungen_FTEM!J26)","v":0}]
[null,null,null,{"$f":"IF($H$2=\"G\",Skillserleuterungen_FTEM!Q27,Skillserleuterungen_FTEM!D27)","v":"VORBEREITUNG"},null,null,{"$f":"IF($H$2=\"G\",Skillserleuterungen_FTEM!T27,Skillserleuterungen_FTEM!G27)","v":"Fokus, ILZ, Regeneration, Selbststiumlation, Ernährung"},null,null,{"$f":"IF($H$2=\"G\",Skillserleuterungen_FTEM!W27,Skillserleuterungen_FTEM!J27)","v":0}]
["PYHSE (Athletik)",null,null,{"$f":"IF($H$2=\"G\",Skillserleuterungen_FTEM!Q28,Skillserleuterungen_FTEM!D28)","v":"LEISTUNGSERZEUGUNG (neuromuskuläre Faktoren /Leistungserzeugung)"},null,null,{"$f":"IF($H$2=\"G\",Skillserleuterungen_FTEM!T28,Skillserleuterungen_FTEM!G28)","v":"Verfügt über die nötige Power/ Kraft/ Schnelligkeit in den Beinen un im Oberkörper "},null,null,{"$f":"IF($H$2=\"G\",Skillserleuterungen_FTEM!W28,Skillserleuterungen_FTEM!J28)","v":0},null,null,null,{"$f":"IFERROR(AVERAGE(O37:O40),\"-\")","v":"-"},null,{"$f":"IFERROR(AVERAGE(Q37:Q40),\"-\")","v":"-"},null,{"$f":"IFERROR(AVERAGE(S37:S40),\"-\")","v":"-"},null,{"$f":"IFERROR(AVERAGE(U37:U40),\"-\")","v":"-"},null,{"$f":"IFERROR(AVERAGE(W37:W40),\"-\")","v":"-"},null,{"$f":"IFERROR(AVERAGE(Y37:Y40),\"-\")","v":"-"}]
[null,null,null,{"$f":"IF($H$2=\"G\",Skillserleuterungen_FTEM!Q29,Skillserleuterungen_FTEM!D29)","v":"SPEZ. ERMÜDUNGSRESISTENZ (metabolische, kardiovaskuläre Faktoren)"},null,null,{"$f":"IF($H$2=\"G\",Skillserleuterungen_FTEM!T29,Skillserleuterungen_FTEM!G29)","v":"Ist fähig die Power/ Kraft/ Schnelligkeit innerhalb des Einsatzes lange aufrechtzuerhalten und kann sich zwischen den Einsätzen jeweils vollkommen erholen (auch von Spiel zu Spiel)."},null,null,{"$f":"IF($H$2=\"G\",Skillserleuterungen_FTEM!W29,Skillserleuterungen_FTEM!J29)","v":0}]
[null,null,null,{"$f":"IF($H$2=\"G\",Skillserleuterungen_FTEM!Q30,Skillserleuterungen_FTEM!D30)","v":"BEWEGUNGSKOMPETENZ/ KOORDINATION "},null,null,{"$f":"IF($H$2=\"G\",Skillserleuterungen_FTEM!T30,Skillserleuterungen_FTEM!G30)","v":"Beherrscht die grundlegenden Bewegungsfertigkeiten, die eine unerlässliche Zubringerfunktion für die sportspezifischen \"Skills\" darstellt sowie zur nötigen Bewegungseffizienz führt. "},null,null,{"$f":"IF($H$2=\"G\",Skillserleuterungen_FTEM!W30,Skillserleuterungen_FTEM!J30)","v":0}]
[null,null,null,{"$f":"IF($H$2=\"G\",Skillserleuterungen_FTEM!Q31,Skillserleuterungen_FTEM!D31)","v":"ROBUSTHEIT/ PRÄVENTION"},null,null,{"$f":"IF($H$2=\"G\",Skillserleuterungen_FTEM!T31,Skillserleuterungen_FTEM!G31)","v":"Verletzungsanfälligkeit, Stabilität (Verfügt über die nötige Stabilität, Grundkraft (Körperspannung) \"z.B. Beinachsenstabilität\" und Beweglichkeit in den zentralen Gelenken \"Hüfte, Wirbelsäule\"), Standfestigkeit"},null,null,{"$f":"IF($H$2=\"G\",Skillserleuterungen_FTEM!W31,Skillserleuterungen_FTEM!J31)","v":0}]

{"sheet":"18","index":21,"n_rows":40,"n_cols":36,"rows_kept":40,"cut":false,"hidden":false,"merged":[[38,3,38,5],[38,6,38,11],[39,3,39,5],[39,6,39,11],[32,23,35,23],[32,0,35,2],[32,3,32,5],[32,6,32,11],[32,12,35,12],[32,13,35,13],[36,26,39,32],[36,34,39,34],[21,3,21,5],[21,6,21,11],[34,3,34,5],[34,6,34,11],[36,0,39,2],[36,12,39,12],[36,13,39,13],[36,15,39,15],[36,17,39,17],[36,19,39,19],[36,21,39,21],[36,23,39,23],[36,25,39,25],[36,3,36,5],[36,6,36,11],[37,3,37,5],[37,6,37,11],[32,15,35,15],[27,21,27,22],[28,17,31,17],[28,19,31,19],[28,21,31,21],[29,3,29,5],[29,6,29,11],[30,3,30,5],[30,6,30,11],[32,17,35,17],[32,19,35,19],[32,21,35,21],[33,3,33,5],[33,6,33,11],[35,3,35,5],[35,6,35,11],[23,0,26,2],[23,3,23,5],[23,6,23,11],[23,12,26,12],[23,13,26,13],[23,15,26,15],[27,23,27,24],[27,26,27,32],[28,0,31,2],[28,3,28,5],[28,6,28,11],[28,12,31,12],[28,13,31,13],[28,15,31,15],[31,3,31,5],[31,6,31,11],[28,23,31,23],[27,0,27,2],[27,3,27,5],[27,6,27,11],[27,13,27,14],[27,15,27,16],[27,17,27,18],[27,19,27,20],[19,19,22,19],[19,21,22,21],[19,23,22,23],[20,3,20,5],[20,6,20,11],[22,3,22,5],[22,6,22,11],[26,3,26,5],[26,6,26,11],[23,23,26,23],[23,17,26,17],[23,19,26,19],[23,21,26,21],[24,3,24,5],[24,6,24,11],[25,3,25,5],[25,6,25,11],[12,21,13,21],[15,15,18,15],[15,17,18,17],[15,19,18,19],[15,21,18,21],[15,23,18,23],[18,3,18,5],[18,6,18,11],[19,0,22,2],[19,3,19,5],[19,6,19,11],[19,12,22,12],[19,13,22,13],[19,15,22,15],[19,17,22,17],[15,0,18,2],[15,3,15,5],[15,6,15,11],[15,12,18,12],[15,13,18,13],[16,3,16,5],[16,6,16,11],[17,3,17,5],[17,6,17,11],[11,21,11,22],[11,23,11,24],[11,26,11,32],[11,6,11,11],[12,23,13,23],[13,3,13,5],[13,6,13,11],[14,0,14,2],[14,3,14,5],[14,6,14,11],[14,13,14,14],[14,15,14,16],[14,17,14,18],[14,19,14,20],[14,21,14,22],[14,23,14,24],[12,0,13,2],[12,3,12,5],[12,6,12,11],[12,12,13,12],[12,13,13,13],[12,15,13,15],[12,17,13,17],[12,19,13,19],[4,0,4,1],[4,2,4,5],[4,10,4,24],[10,0,10,24],[10,25,10,35],[32,25,35,25],[32,26,35,32],[32,34,35,34],[12,25,13,25],[12,26,13,32],[12,34,13,34],[15,25,18,25],[15,26,18,32],[15,34,18,34],[19,25,22,25],[19,26,22,32],[19,34,22,34],[14,26,14,32],[11,0,11,2],[11,3,11,5],[11,13,11,14],[11,15,11,16],[11,17,11,18],[11,19,11,20],[0,0,0,24],[0,25,0,26],[0,27,0,32],[0,33,0,35],[23,25,26,25],[23,26,26,32],[23,34,26,34],[28,25,31,25],[28,26,31,32],[28,34,31,34],[1,0,1,1],[1,2,1,5],[1,10,1,24],[2,0,2,1],[2,2,2,5],[2,11,2,24],[6,0,6,1],[6,2,6,35],[7,0,7,1],[7,2,7,35],[8,0,8,1],[8,2,8,35],[3,0,3,1],[3,10,3,24]]}
["Personalien",null,null,null,null,null,null,null,null,null,null,null,null,null,null,null,null,null,null,null,null,null,null,null,null,"Vorausetzungen",null,"Evaluationen",null,null,null,null,null,"Rating"]
["VORNAME",null,{"$f":"IF(ISBLANK(VLOOKUP(18,Tabelle3[],3,0)),\"-\",VLOOKUP(18,Tabelle3[],3,0))","v":"-"},null,null,null,"POSITION",null,null,"ADRESSE",{"$f":"IF(ISBLANK(VLOOKUP(18,Tabelle3[],5,0)),\"-\",VLOOKUP(18,Tabelle3[],5,0))","v":"-"},null,null,null,null,null,null,null,null,null,null,null,null,null,null,"\"Alter\" (Biologisch/Relative Age)",null,"Datum 1",null,null,"cm",null,"Kg",null,"AUSGEZEICHNET",5]
["NAME",null,{"$f":"IF(ISBLANK(VLOOKUP(18,Tabelle3[],2,0)),\"-\",VLOOKUP(18,Tabelle3[],2,0))","v":"-"},null,null,null,"STOCK",null,null,"WOHNORT",{"$f":"IF(ISBLANK(VLOOKUP(18,Tabelle3[],7,0)),\"-\",VLOOKUP(18,Tabelle3[],7,0))","v":"-"},{"$f":"IF(ISBLANK(VLOOKUP(18,Tabelle3[],6,0)),\"-\",VLOOKUP(18,Tabelle3[],6,0))","v":"-"},null,null,null,null,null,null,null,null,null,null,null,null,null,"Veranlagung",null,"Datum 2",null,null,"cm",null,"Kg",null,"GUT",4]
["GEB. DATUM",null,{"$f":"IF(ISBLANK(VLOOKUP(18,Tabelle3[],14,0)),\"-\",VLOOKUP(18,Tabelle3[],14,0))","v":"-"},{"$f":"IF(ISBLANK(VLOOKUP(18,Tabelle3[],15,0)),\"-\",VLOOKUP(18,Tabelle3[],15,0))","v":"-"},{"$f":"IF(ISBLANK(VLOOKUP(18,Tabelle3[],16,0)),\"-\",VLOOKUP(18,Tabelle3[],16,0))","v":"-"},null,"GRÖSSE",null,"cm (Final)","PHONE",{"$f":"IF(ISBLANK(VLOOKUP(18,Tabelle3[],8,0)),\"-\",VLOOKUP(18,Tabelle3[],8,0))","v":"-"},null,null,null,null,null,null,null,null,null,null,null,null,null,null,"Umfeld",null,"Datum 3",null,null,"cm",null,"Kg",null,"DURCHSCHNITT",3]
["SEX",null,{"$f":"IF(ISBLANK(VLOOKUP(18,Tabelle3[],13,0)),\"-\",VLOOKUP(18,Tabelle3[],13,0))","v":"-"},null,null,null,"GEWICHT",null,"Kg (Final)","E-Mail",{"$f":"IF(ISBLANK(VLOOKUP(18,Tabelle3[],9,0)),\"-\",VLOOKUP(18,Tabelle3[],9,0))","v":"-"},null,null,null,null,null,null,null,null,null,null,null,null,null,null,null,null,"Datum 4",null,null,"cm",null,"Kg",null,"MANGELHAFT",2]
[null,null,null,null,null,null,null,null,null,null,null,null,null,null,null,null,null,null,null,null,null,null,null,null,null,null,null,"Datum 5",null,null,"cm",null,"Kg",null,"UNGENÜGEND",1]
["Vision",null,"xxx"]
["Next step",null,"xxx"]
["Stärkenprofil",null,"xxx"]
[]
["EVALUATION (COACH / SPIELER)",null,null,null,null,null,null,null,null,null,null,null,null,null,null,null,null,null,null,null,null,null,null,null,null,"SMART"]
["TEAM",null,null,"FÄHIGKEIT",null,null,"BEOBACHTUNG",null,null,null,null,null,"Final","Datum1",null,"Datum2",null,"Datum3",null,"Datum4",null,"Datum5",null,"Player",null,"ZIEL","MASSNAHME:\nSPEZIFISCH,  MESSBAR, REALISITISCH",null,null,null,null,null,null,"TERMIN","ZIEL-KONTROLLE","Datum"]
["ROLLE, SOZIAL",null,null,{"$f":"IF($H$2=\"G\",Skillserleuterungen_FTEM!Q4,Skillserleuterungen_FTEM!D4)","v":"TEAMDENKEN"},null,null,{"$f":"IF($H$2=\"G\",Skillserleuterungen_FTEM!T4,Skillserleuterungen_FTEM!G4)","v":"Identifikation zur Rolle, Umgang mit Kameraden (sozial integriert)"},null,null,{"$f":"IF($H$2=\"G\",Skillserleuterungen_FTEM!W4,Skillserleuterungen_FTEM!J4)","v":0},null,null,null,{"$f":"IFERROR(AVERAGE(O13:O14),\"-\")","v":"-"},null,{"$f":"IFERROR(AVERAGE(Q13:Q14),\"-\")","v":"-"},null,{"$f":"IFERROR(AVERAGE(S13:S14),\"-\")","v":"-"},null,{"$f":"IFERROR(AVERAGE(U13:U14),\"-\")","v":"-"},null,null,null,{"$f":"IFERROR(AVERAGE(Y13:Y14),\"-\")","v":"-"}]
[null,null,null,{"$f":"IF($H$2=\"G\",Skillserleuterungen_FTEM!Q5,Skillserleuterungen_FTEM!D5)","v":"LEADERSHIP"},null,null,{"$f":"IF($H$2=\"G\",Skillserleuterungen_FTEM!T5,Skillserleuterungen_FTEM!G5)","v":"Übernimmt Verantwortung, macht Mitspieler besser"},null,null,{"$f":"IF($H$2=\"G\",Skillserleuterungen_FTEM!W5,Skillserleuterungen_FTEM!J5)","v":0}]
["ON ICE",null,null,"FÄHIGKEIT",null,null,"BEOBACHTUNG",null,null,null,null,null,null,"Datum1",null,"Datum2",null,"Datum3",null,"Datum4",null,"Datum5",null,"Player",null,"ZIEL","MASSNAHME:\nSPEZIFISCH,  MESSBAR, REALISITISCH",null,null,null,null,null,null,"TERMIN","ZIEL-KONTROLLE","Datum"]
["SKILL",null,null,{"$f":"IF($H$2=\"G\",Skillserleuterungen_FTEM!Q7,Skillserleuterungen_FTEM!D7)","v":"SCHIESSEN"},null,null,{"$f":"IF($H$2=\"G\",Skillserleuterungen_FTEM!T7,Skillserleuterungen_FTEM!G7)","v":"Effizienz / Variantenreichtum, Überraschungsgrad (Quick Release), Präzision, Härte, (taktische Abschlüsse)\nschnell, hart, unter Druck"},null,null,{"$f":"IF($H$2=\"G\",Skillserleuterungen_FTEM!W7,Skillserleuterungen_FTEM!J7)","v":0},null,null,null,{"$f":"IFERROR(AVERAGE(O16:O19),\"-\")","v":"-"},null,{"$f":"IFERROR(AVERAGE(Q16:Q19),\"-\")","v":"-"},null,{"$f":"IFERROR(AVERAGE(S16:S19),\"-\")","v":"-"},null,{"$f":"IFERROR(AVERAGE(U16:U19),\"-\")","v":"-"},null,{"$f":"IFERROR(AVERAGE(W16:W19),\"-\")","v":"-"},null,{"$f":"IFERROR(AVERAGE(Y16:Y19),\"-\")","v":"-"}]
[null,null,null,{"$f":"IF($H$2=\"G\",Skillserleuterungen_FTEM!Q8,Skillserleuterungen_FTEM!D8)","v":"PASSEN"},null,null,{"$f":"IF($H$2=\"G\",Skillserleuterungen_FTEM!T8,Skillserleuterungen_FTEM!G8)","v":"Passabgabe (Distanz, Flippass Backhand), Passannahme (Präzision, Timing, Vorhand, Rückhand, Schlittschuh,Puckspeed"},null,null,{"$f":"IF($H$2=\"G\",Skillserleuterungen_FTEM!W8,Skillserleuterungen_FTEM!J8)","v":0}]
[null,null,null,{"$f":"IF($H$2=\"G\",Skillserleuterungen_FTEM!Q9,Skillserleuterungen_FTEM!D9)","v":"KÖRPERSPIEL"},null,null,{"$f":"IF($H$2=\"G\",Skillserleuterungen_FTEM!T9,Skillserleuterungen_FTEM!G9)","v":"Phyisches Durchsetzungsvermögen, Zweikampf (offenes Eis/Bande), Checks nehmen/Head up, Battle Level, Hart aber fair, mit dem Körper Schüsse blockieren"},null,null,{"$f":"IF($H$2=\"G\",Skillserleuterungen_FTEM!W9,Skillserleuterungen_FTEM!J9)","v":0},null,null,null,{"$f":"IFERROR(AVERAGE(O18:O19),\"-\")","v":"-"},null,{"$f":"IFERROR(AVERAGE(Q18:Q19),\"-\")","v":"-"},null,{"$f":"IFERROR(AVERAGE(S18:S19),\"-\")","v":"-"},null,{"$f":"IFERROR(AVERAGE(U18:U19),\"-\")","v":"-"},null,{"$f":"IFERROR(AVERAGE(W18:W19),\"-\")","v":"-"},null,{"$f":"IFERROR(AVERAGE(Y18:Y19),\"-\")","v":"-"}]
[null,null,null,{"$f":"IF($H$2=\"G\",Skillserleuterungen_FTEM!Q10,Skillserleuterungen_FTEM!D10)","v":"SCHEIBENKONTROLLE"},null,null,{"$f":"IF($H$2=\"G\",Skillserleuterungen_FTEM!T10,Skillserleuterungen_FTEM!G10)","v":"Puckmanagmenet auf engem Raum, Puck Protection,  schwer kontrollierbare Scheiben "},null,null,{"$f":"IF($H$2=\"G\",Skillserleuterungen_FTEM!W10,Skillserleuterungen_FTEM!J10)","v":0}]
["SKATING",null,null,{"$f":"IF($H$2=\"G\",Skillserleuterungen_FTEM!Q11,Skillserleuterungen_FTEM!D11)","v":"FOOTSPEED"},null,null,{"$f":"IF($H$2=\"G\",Skillserleuterungen_FTEM!T11,Skillserleuterungen_FTEM!G11)","v":"Beschleunigung, Antritt, erste 3 Schritte Explosivität, Frequenz"},null,null,{"$f":"IF($H$2=\"G\",Skillserleuterungen_FTEM!W11,Skillserleuterungen_FTEM!J11)","v":0},null,null,null,{"$f":"IFERROR(AVERAGE(O20:O23),\"-\")","v":"-"},null,{"$f":"IFERROR(AVERAGE(Q20:Q23),\"-\")","v":"-"},null,{"$f":"IFERROR(AVERAGE(S20:S23),\"-\")","v":"-"},null,{"$f":"IFERROR(AVERAGE(U20:U23),\"-\")","v":"-"},null,{"$f":"IFERROR(AVERAGE(W20:W23),\"-\")","v":"-"},null,{"$f":"IFERROR(AVERAGE(Y20:Y23),\"-\")","v":"-"}]
[null,null,null,{"$f":"IF($H$2=\"G\",Skillserleuterungen_FTEM!Q12,Skillserleuterungen_FTEM!D12)","v":"AGILITÄT"},null,null,{"$f":"IF($H$2=\"G\",Skillserleuterungen_FTEM!T12,Skillserleuterungen_FTEM!G12)","v":"Richtungsänderung, Drehung, Stop und Start, «Nummelin»"},null,null,{"$f":"IF($H$2=\"G\",Skillserleuterungen_FTEM!W12,Skillserleuterungen_FTEM!J12)","v":0}]
[null,null,null,{"$f":"IF($H$2=\"G\",Skillserleuterungen_FTEM!Q13,Skillserleuterungen_FTEM!D13)","v":"BACKWARDS SKATING"},null,null,{"$f":"IF($H$2=\"G\",Skillserleuterungen_FTEM!T13,Skillserleuterungen_FTEM!G13)","v":"Beschleunigung, Geschwindigkeit, Balance"},null,null,{"$f":"IF($H$2=\"G\",Skillserleuterungen_FTEM!W13,Skillserleuterungen_FTEM!J13)","v":0}]
[null,null,null,{"$f":"IF($H$2=\"G\",Skillserleuterungen_FTEM!Q14,Skillserleuterungen_FTEM!D14)","v":"TOPSPEED"},null,null,{"$f":"IF($H$2=\"G\",Skillserleuterungen_FTEM!T14,Skillserleuterungen_FTEM!G14)","v":"Schnelligkeit, Gleitfähigkeit, vorwärts und rückwärts, Ökonomie"},null,null,{"$f":"IF($H$2=\"G\",Skillserleuterungen_FTEM!W14,Skillserleuterungen_FTEM!J14)","v":0}]
["HOCKEY SENSE",null,null,{"$f":"IF($H$2=\"G\",Skillserleuterungen_FTEM!Q15,Skillserleuterungen_FTEM!D15)","v":"SCORING"},null,null,{"$f":"IF($H$2=\"G\",Skillserleuterungen_FTEM!T15,Skillserleuterungen_FTEM!G15)","v":"Effizienz, variantentreich, überraschend, schnell, hart - Schussvarianten"},null,null,{"$f":"IF($H$2=\"G\",Skillserleuterungen_FTEM!W15,Skillserleuterungen_FTEM!J15)","v":0},null,null,null,{"$f":"IFERROR(AVERAGE(O24:O27),\"-\")","v":"-"},null,{"$f":"IFERROR(AVERAGE(Q24:Q27),\"-\")","v":"-"},null,{"$f":"IFERROR(AVERAGE(S24:S27),\"-\")","v":"-"},null,{"$f":"IFERROR(AVERAGE(U24:U27),\"-\")","v":"-"},null,{"$f":"IFERROR(AVERAGE(W24:W27),\"-\")","v":"-"},null,{"$f":"IFERROR(AVERAGE(Y24:Y27),\"-\")","v":"-"}]
[null,null,null,{"$f":"IF($H$2=\"G\",Skillserleuterungen_FTEM!Q16,Skillserleuterungen_FTEM!D16)","v":"MIT SCHEIBE"},null,null,{"$f":"IF($H$2=\"G\",Skillserleuterungen_FTEM!T16,Skillserleuterungen_FTEM!G16)","v":"Kreativ, performing, batteling, frech, Transition"},null,null,{"$f":"IF($H$2=\"G\",Skillserleuterungen_FTEM!W16,Skillserleuterungen_FTEM!J16)","v":0}]
[null,null,null,{"$f":"IF($H$2=\"G\",Skillserleuterungen_FTEM!Q17,Skillserleuterungen_FTEM!D17)","v":"OHNE SCHEIBE"},null,null,{"$f":"IF($H$2=\"G\",Skillserleuterungen_FTEM!T17,Skillserleuterungen_FTEM!G17)","v":"Anspielbar (Support), 1:1, Gap"},null,null,{"$f":"IF($H$2=\"G\",Skillserleuterungen_FTEM!W17,Skillserleuterungen_FTEM!J17)","v":0}]
[null,null,null,{"$f":"IF($H$2=\"G\",Skillserleuterungen_FTEM!Q18,Skillserleuterungen_FTEM!D18)","v":"DEFENSIV"},null,null,{"$f":"IF($H$2=\"G\",Skillserleuterungen_FTEM!T18,Skillserleuterungen_FTEM!G18)","v":"Verlässlichkeit,  1:1, Gap, Zuordnung"},null,null,{"$f":"IF($H$2=\"G\",Skillserleuterungen_FTEM!W18,Skillserleuterungen_FTEM!J18)","v":0}]
["PERSONALITY",null,null,"FÄHIGKEIT",null,null,"BEOBACHTUNG",null,null,null,null,null,null,"Datum1",null,"Datum2",null,"Datum3",null,"Datum4",null,"Datum5",null,"Player",null,"ZIEL","MASSNAHME:\nSPEZIFISCH,  MESSBAR, REALISITISCH",null,null,null,null,null,null,"TERMIN","ZIEL-KONTROLLE","Datum"]
["PERSON",null,null,{"$f":"IF($H$2=\"G\",Skillserleuterungen_FTEM!Q20,Skillserleuterungen_FTEM!D20)","v":"MOTIVATION"},null,null,{"$f":"IF($H$2=\"G\",Skillserleuterungen_FTEM!T20,Skillserleuterungen_FTEM!G20)","v":"Intrinsischer Antrieb, will sich ständig weiterentwickeln, will der Erste sein und Erfolg haben"},null,null,{"$f":"IF($H$2=\"G\",Skillserleuterungen_FTEM!W20,Skillserleuterungen_FTEM!J20)","v":0},null,null,null,{"$f":"IFERROR(AVERAGE(O29:O32),\"-\")","v":"-"},null,{"$f":"IFERROR(AVERAGE(Q29:Q32),\"-\")","v":"-"},null,{"$f":"IFERROR(AVERAGE(S29:S32),\"-\")","v":"-"},null,{"$f":"IFERROR(AVERAGE(U29:U32),\"-\")","v":"-"},null,{"$f":"IFERROR(AVERAGE(W29:W32),\"-\")","v":"-"},null,{"$f":"IFERROR(AVERAGE(Y29:Y32),\"-\")","v":"-"}]
[null,null,null,{"$f":"IF($H$2=\"G\",Skillserleuterungen_FTEM!Q21,Skillserleuterungen_FTEM!D21)","v":"SELBSBEWUSSTSEIN"},null,null,{"$f":"IF($H$2=\"G\",Skillserleuterungen_FTEM!T21,Skillserleuterungen_FTEM!G21)","v":"Hat das nötige Selbstvertrauen \"I can do it\" haltung, kann eigenen Fähigkeiten einschätzen und agiert mutig"},null,null,{"$f":"IF($H$2=\"G\",Skillserleuterungen_FTEM!W21,Skillserleuterungen_FTEM!J21)","v":0}]
[null,null,null,{"$f":"IF($H$2=\"G\",Skillserleuterungen_FTEM!Q22,Skillserleuterungen_FTEM!D22)","v":"LERNFÄHIGKEIT"},null,null,{"$f":"IF($H$2=\"G\",Skillserleuterungen_FTEM!T22,Skillserleuterungen_FTEM!G22)","v":"Gute Auffassungsgabe (nimmt auf und kann umsetzen), reflektiert eigenes Handeln, versucht aus Fehlern zu lernen und kann Massnahmen ableiten und sich selber coachen"},null,null,{"$f":"IF($H$2=\"G\",Skillserleuterungen_FTEM!W22,Skillserleuterungen_FTEM!J22)","v":0}]
[null,null,null,{"$f":"IF($H$2=\"G\",Skillserleuterungen_FTEM!Q23,Skillserleuterungen_FTEM!D23)","v":"PERFORMANCE LIFESTYLE"},null,null,{"$f":"IF($H$2=\"G\",Skillserleuterungen_FTEM!T23,Skillserleuterungen_FTEM!G23)","v":"Managt Alltag und Umfeld nach dem Leistungsprinzip, kann sich gegen Wiederstände durchsetzten"},null,null,{"$f":"IF($H$2=\"G\",Skillserleuterungen_FTEM!W23,Skillserleuterungen_FTEM!J23)","v":0}]
["POWER",null,null,{"$f":"IF($H$2=\"G\",Skillserleuterungen_FTEM!Q24,Skillserleuterungen_FTEM!D24)","v":"ENERGIEMANAGEMENT"},null,null,{"$f":"IF($H$2=\"G\",Skillserleuterungen_FTEM!T24,Skillserleuterungen_FTEM!G24)","v":"Kann eigene Energie regulieren, bereit zur Regeneration, weiss, wann er \"Vollgas\" geben muss und wann ab-schalten, On/Off-Schalter"},null,null,{"$f":"IF($H$2=\"G\",Skillserleuterungen_FTEM!W24,Skillserleuterungen_FTEM!J24)","v":0},null,null,null,{"$f":"IFERROR(AVERAGE(O33:O36),\"-\")","v":"-"},null,{"$f":"IFERROR(AVERAGE(Q33:Q36),\"-\")","v":"-"},null,{"$f":"IFERROR(AVERAGE(S33:S36),\"-\")","v":"-"},null,{"$f":"IFERROR(AVERAGE(U33:U36),\"-\")","v":"-"},null,{"$f":"IFERROR(AVERAGE(W33:W36),\"-\")","v":"-"},null,{"$f":"IFERROR(AVERAGE(Y33:Y36),\"-\")","v":"-"}]
[null,null,null,{"$f":"IF($H$2=\"G\",Skillserleuterungen_FTEM!Q25,Skillserleuterungen_FTEM!D25)","v":"EINSATZBEREITSCHAFT"},null,null,{"$f":"IF($H$2=\"G\",Skillserleuterungen_FTEM!T25,Skillserleuterungen_FTEM!G25)","v":"Hohe intensität im Spiel und Training, gibt immer sein Maximum, will seine Limiten pushen"},null,null,{"$f":"IF($H$2=\"G\",Skillserleuterungen_FTEM!W25,Skillserleuterungen_FTEM!J25)","v":0}]
[null,null,null,{"$f":"IF($H$2=\"G\",Skillserleuterungen_FTEM!Q26,Skillserleuterungen_FTEM!D26)","v":"EMOTIONSKONTROLLE"},null,null,{"$f":"IF($H$2=\"G\",Skillserleuterungen_FTEM!T26,Skillserleuterungen_FTEM!G26)","v":"Emotionen und Impulse regulieren, unter Druck die Kontrolle behalten, in emotional ansprucksvollen Situationen angemessen agieren können"},null,null,{"$f":"IF($H$2=\"G\",Skillserleuterungen_FTEM!W26,Skillserleuterungen_FTEM!J26)","v":0}]
[null,null,null,{"$f":"IF($H$2=\"G\",Skillserleuterungen_FTEM!Q27,Skillserleuterungen_FTEM!D27)","v":"VORBEREITUNG"},null,null,{"$f":"IF($H$2=\"G\",Skillserleuterungen_FTEM!T27,Skillserleuterungen_FTEM!G27)","v":"Fokus, ILZ, Regeneration, Selbststiumlation, Ernährung"},null,null,{"$f":"IF($H$2=\"G\",Skillserleuterungen_FTEM!W27,Skillserleuterungen_FTEM!J27)","v":0}]
["PYHSE (Athletik)",null,null,{"$f":"IF($H$2=\"G\",Skillserleuterungen_FTEM!Q28,Skillserleuterungen_FTEM!D28)","v":"LEISTUNGSERZEUGUNG (neuromuskuläre Faktoren /Leistungserzeugung)"},null,null,{"$f":"IF($H$2=\"G\",Skillserleuterungen_FTEM!T28,Skillserleuterungen_FTEM!G28)","v":"Verfügt über die nötige Power/ Kraft/ Schnelligkeit in den Beinen un im Oberkörper "},null,null,{"$f":"IF($H$2=\"G\",Skillserleuterungen_FTEM!W28,Skillserleuterungen_FTEM!J28)","v":0},null,null,null,{"$f":"IFERROR(AVERAGE(O37:O40),\"-\")","v":"-"},null,{"$f":"IFERROR(AVERAGE(Q37:Q40),\"-\")","v":"-"},null,{"$f":"IFERROR(AVERAGE(S37:S40),\"-\")","v":"-"},null,{"$f":"IFERROR(AVERAGE(U37:U40),\"-\")","v":"-"},null,{"$f":"IFERROR(AVERAGE(W37:W40),\"-\")","v":"-"},null,{"$f":"IFERROR(AVERAGE(Y37:Y40),\"-\")","v":"-"}]
[null,null,null,{"$f":"IF($H$2=\"G\",Skillserleuterungen_FTEM!Q29,Skillserleuterungen_FTEM!D29)","v":"SPEZ. ERMÜDUNGSRESISTENZ (metabolische, kardiovaskuläre Faktoren)"},null,null,{"$f":"IF($H$2=\"G\",Skillserleuterungen_FTEM!T29,Skillserleuterungen_FTEM!G29)","v":"Ist fähig die Power/ Kraft/ Schnelligkeit innerhalb des Einsatzes lange aufrechtzuerhalten und kann sich zwischen den Einsätzen jeweils vollkommen erholen (auch von Spiel zu Spiel)."},null,null,{"$f":"IF($H$2=\"G\",Skillserleuterungen_FTEM!W29,Skillserleuterungen_FTEM!J29)","v":0}]
[null,null,null,{"$f":"IF($H$2=\"G\",Skillserleuterungen_FTEM!Q30,Skillserleuterungen_FTEM!D30)","v":"BEWEGUNGSKOMPETENZ/ KOORDINATION "},null,null,{"$f":"IF($H$2=\"G\",Skillserleuterungen_FTEM!T30,Skillserleuterungen_FTEM!G30)","v":"Beherrscht die grundlegenden Bewegungsfertigkeiten, die eine unerlässliche Zubringerfunktion für die sportspezifischen \"Skills\" darstellt sowie zur nötigen Bewegungseffizienz führt. "},null,null,{"$f":"IF($H$2=\"G\",Skillserleuterungen_FTEM!W30,Skillserleuterungen_FTEM!J30)","v":0}]
[null,null,null,{"$f":"IF($H$2=\"G\",Skillserleuterungen_FTEM!Q31,Skillserleuterungen_FTEM!D31)","v":"ROBUSTHEIT/ PRÄVENTION"},null,null,{"$f":"IF($H$2=\"G\",Skillserleuterungen_FTEM!T31,Skillserleuterungen_FTEM!G31)","v":"Verletzungsanfälligkeit, Stabilität (Verfügt über die nötige Stabilität, Grundkraft (Körperspannung) \"z.B. Beinachsenstabilität\" und Beweglichkeit in den zentralen Gelenken \"Hüfte, Wirbelsäule\"), Standfestigkeit"},null,null,{"$f":"IF($H$2=\"G\",Skillserleuterungen_FTEM!W31,Skillserleuterungen_FTEM!J31)","v":0}]

{"sheet":"19","index":22,"n_rows":40,"n_cols":36,"rows_kept":40,"cut":false,"hidden":false,"merged":[[38,3,38,5],[38,6,38,11],[39,3,39,5],[39,6,39,11],[32,23,35,23],[32,0,35,2],[32,3,32,5],[32,6,32,11],[32,12,35,12],[32,13,35,13],[36,26,39,32],[36,34,39,34],[21,3,21,5],[21,6,21,11],[34,3,34,5],[34,6,34,11],[36,0,39,2],[36,12,39,12],[36,13,39,13],[36,15,39,15],[36,17,39,17],[36,19,39,19],[36,21,39,21],[36,23,39,23],[36,25,39,25],[36,3,36,5],[36,6,36,11],[37,3,37,5],[37,6,37,11],[32,15,35,15],[27,21,27,22],[28,17,31,17],[28,19,31,19],[28,21,31,21],[29,3,29,5],[29,6,29,11],[30,3,30,5],[30,6,30,11],[32,17,35,17],[32,19,35,19],[32,21,35,21],[33,3,33,5],[33,6,33,11],[35,3,35,5],[35,6,35,11],[23,0,26,2],[23,3,23,5],[23,6,23,11],[23,12,26,12],[23,13,26,13],[23,15,26,15],[27,23,27,24],[27,26,27,32],[28,0,31,2],[28,3,28,5],[28,6,28,11],[28,12,31,12],[28,13,31,13],[28,15,31,15],[31,3,31,5],[31,6,31,11],[28,23,31,23],[27,0,27,2],[27,3,27,5],[27,6,27,11],[27,13,27,14],[27,15,27,16],[27,17,27,18],[27,19,27,20],[19,19,22,19],[19,21,22,21],[19,23,22,23],[20,3,20,5],[20,6,20,11],[22,3,22,5],[22,6,22,11],[26,3,26,5],[26,6,26,11],[23,23,26,23],[23,17,26,17],[23,19,26,19],[23,21,26,21],[24,3,24,5],[24,6,24,11],[25,3,25,5],[25,6,25,11],[12,21,13,21],[15,15,18,15],[15,17,18,17],[15,19,18,19],[15,21,18,21],[15,23,18,23],[18,3,18,5],[18,6,18,11],[19,0,22,2],[19,3,19,5],[19,6,19,11],[19,12,22,12],[19,13,22,13],[19,15,22,15],[19,17,22,17],[15,0,18,2],[15,3,15,5],[15,6,15,11],[15,12,18,12],[15,13,18,13],[16,3,16,5],[16,6,16,11],[17,3,17,5],[17,6,17,11],[11,21,11,22],[11,23,11,24],[11,26,11,32],[11,6,11,11],[12,23,13,23],[13,3,13,5],[13,6,13,11],[14,0,14,2],[14,3,14,5],[14,6,14,11],[14,13,14,14],[14,15,14,16],[14,17,14,18],[14,19,14,20],[14,21,14,22],[14,23,14,24],[12,0,13,2],[12,3,12,5],[12,6,12,11],[12,12,13,12],[12,13,13,13],[12,15,13,15],[12,17,13,17],[12,19,13,19],[4,0,4,1],[4,2,4,5],[4,10,4,24],[10,0,10,24],[10,25,10,35],[32,25,35,25],[32,26,35,32],[32,34,35,34],[12,25,13,25],[12,26,13,32],[12,34,13,34],[15,25,18,25],[15,26,18,32],[15,34,18,34],[19,25,22,25],[19,26,22,32],[19,34,22,34],[14,26,14,32],[11,0,11,2],[11,3,11,5],[11,13,11,14],[11,15,11,16],[11,17,11,18],[11,19,11,20],[0,0,0,24],[0,25,0,26],[0,27,0,32],[0,33,0,35],[23,25,26,25],[23,26,26,32],[23,34,26,34],[28,25,31,25],[28,26,31,32],[28,34,31,34],[1,0,1,1],[1,2,1,5],[1,10,1,24],[2,0,2,1],[2,2,2,5],[2,11,2,24],[6,0,6,1],[6,2,6,35],[7,0,7,1],[7,2,7,35],[8,0,8,1],[8,2,8,35],[3,0,3,1],[3,10,3,24]]}
["Personalien",null,null,null,null,null,null,null,null,null,null,null,null,null,null,null,null,null,null,null,null,null,null,null,null,"Vorausetzungen",null,"Evaluationen",null,null,null,null,null,"Rating"]
["VORNAME",null,{"$f":"IF(ISBLANK(VLOOKUP(19,Tabelle3[],3,0)),\"-\",VLOOKUP(19,Tabelle3[],3,0))","v":"-"},null,null,null,"POSITION",null,null,"ADRESSE",{"$f":"IF(ISBLANK(VLOOKUP(19,Tabelle3[],5,0)),\"-\",VLOOKUP(19,Tabelle3[],5,0))","v":"-"},null,null,null,null,null,null,null,null,null,null,null,null,null,null,"\"Alter\" (Biologisch/Relative Age)",null,"Datum 1",null,null,"cm",null,"Kg",null,"AUSGEZEICHNET",5]
["NAME",null,{"$f":"IF(ISBLANK(VLOOKUP(19,Tabelle3[],2,0)),\"-\",VLOOKUP(19,Tabelle3[],2,0))","v":"-"},null,null,null,"STOCK",null,null,"WOHNORT",{"$f":"IF(ISBLANK(VLOOKUP(19,Tabelle3[],7,0)),\"-\",VLOOKUP(19,Tabelle3[],7,0))","v":"-"},{"$f":"IF(ISBLANK(VLOOKUP(19,Tabelle3[],6,0)),\"-\",VLOOKUP(19,Tabelle3[],6,0))","v":"-"},null,null,null,null,null,null,null,null,null,null,null,null,null,"Veranlagung",null,"Datum 2",null,null,"cm",null,"Kg",null,"GUT",4]
["GEB. DATUM",null,{"$f":"IF(ISBLANK(VLOOKUP(19,Tabelle3[],14,0)),\"-\",VLOOKUP(19,Tabelle3[],14,0))","v":"-"},{"$f":"IF(ISBLANK(VLOOKUP(19,Tabelle3[],15,0)),\"-\",VLOOKUP(19,Tabelle3[],15,0))","v":"-"},{"$f":"IF(ISBLANK(VLOOKUP(19,Tabelle3[],16,0)),\"-\",VLOOKUP(19,Tabelle3[],16,0))","v":"-"},null,"GRÖSSE",null,"cm (Final)","PHONE",{"$f":"IF(ISBLANK(VLOOKUP(19,Tabelle3[],8,0)),\"-\",VLOOKUP(19,Tabelle3[],8,0))","v":"-"},null,null,null,null,null,null,null,null,null,null,null,null,null,null,"Umfeld",null,"Datum 3",null,null,"cm",null,"Kg",null,"DURCHSCHNITT",3]
["SEX",null,{"$f":"IF(ISBLANK(VLOOKUP(19,Tabelle3[],13,0)),\"-\",VLOOKUP(19,Tabelle3[],13,0))","v":"-"},null,null,null,"GEWICHT",null,"Kg (Final)","E-Mail",{"$f":"IF(ISBLANK(VLOOKUP(19,Tabelle3[],9,0)),\"-\",VLOOKUP(19,Tabelle3[],9,0))","v":"-"},null,null,null,null,null,null,null,null,null,null,null,null,null,null,null,null,"Datum 4",null,null,"cm",null,"Kg",null,"MANGELHAFT",2]
[null,null,null,null,null,null,null,null,null,null,null,null,null,null,null,null,null,null,null,null,null,null,null,null,null,null,null,"Datum 5",null,null,"cm",null,"Kg",null,"UNGENÜGEND",1]
["Vision",null,"xxx"]
["Next step",null,"xxx"]
["Stärkenprofil",null,"xxx"]
[]
["EVALUATION (COACH / SPIELER)",null,null,null,null,null,null,null,null,null,null,null,null,null,null,null,null,null,null,null,null,null,null,null,null,"SMART"]
["TEAM",null,null,"FÄHIGKEIT",null,null,"BEOBACHTUNG",null,null,null,null,null,"Final","Datum1",null,"Datum2",null,"Datum3",null,"Datum4",null,"Datum5",null,"Player",null,"ZIEL","MASSNAHME:\nSPEZIFISCH,  MESSBAR, REALISITISCH",null,null,null,null,null,null,"TERMIN","ZIEL-KONTROLLE","Datum"]
["ROLLE, SOZIAL",null,null,{"$f":"IF($H$2=\"G\",Skillserleuterungen_FTEM!Q4,Skillserleuterungen_FTEM!D4)","v":"TEAMDENKEN"},null,null,{"$f":"IF($H$2=\"G\",Skillserleuterungen_FTEM!T4,Skillserleuterungen_FTEM!G4)","v":"Identifikation zur Rolle, Umgang mit Kameraden (sozial integriert)"},null,null,{"$f":"IF($H$2=\"G\",Skillserleuterungen_FTEM!W4,Skillserleuterungen_FTEM!J4)","v":0},null,null,null,{"$f":"IFERROR(AVERAGE(O13:O14),\"-\")","v":"-"},null,{"$f":"IFERROR(AVERAGE(Q13:Q14),\"-\")","v":"-"},null,{"$f":"IFERROR(AVERAGE(S13:S14),\"-\")","v":"-"},null,{"$f":"IFERROR(AVERAGE(U13:U14),\"-\")","v":"-"},null,null,null,{"$f":"IFERROR(AVERAGE(Y13:Y14),\"-\")","v":"-"}]
[null,null,null,{"$f":"IF($H$2=\"G\",Skillserleuterungen_FTEM!Q5,Skillserleuterungen_FTEM!D5)","v":"LEADERSHIP"},null,null,{"$f":"IF($H$2=\"G\",Skillserleuterungen_FTEM!T5,Skillserleuterungen_FTEM!G5)","v":"Übernimmt Verantwortung, macht Mitspieler besser"},null,null,{"$f":"IF($H$2=\"G\",Skillserleuterungen_FTEM!W5,Skillserleuterungen_FTEM!J5)","v":0}]
["ON ICE",null,null,"FÄHIGKEIT",null,null,"BEOBACHTUNG",null,null,null,null,null,null,"Datum1",null,"Datum2",null,"Datum3",null,"Datum4",null,"Datum5",null,"Player",null,"ZIEL","MASSNAHME:\nSPEZIFISCH,  MESSBAR, REALISITISCH",null,null,null,null,null,null,"TERMIN","ZIEL-KONTROLLE","Datum"]
["SKILL",null,null,{"$f":"IF($H$2=\"G\",Skillserleuterungen_FTEM!Q7,Skillserleuterungen_FTEM!D7)","v":"SCHIESSEN"},null,null,{"$f":"IF($H$2=\"G\",Skillserleuterungen_FTEM!T7,Skillserleuterungen_FTEM!G7)","v":"Effizienz / Variantenreichtum, Überraschungsgrad (Quick Release), Präzision, Härte, (taktische Abschlüsse)\nschnell, hart, unter Druck"},null,null,{"$f":"IF($H$2=\"G\",Skillserleuterungen_FTEM!W7,Skillserleuterungen_FTEM!J7)","v":0},null,null,null,{"$f":"IFERROR(AVERAGE(O16:O19),\"-\")","v":"-"},null,{"$f":"IFERROR(AVERAGE(Q16:Q19),\"-\")","v":"-"},null,{"$f":"IFERROR(AVERAGE(S16:S19),\"-\")","v":"-"},null,{"$f":"IFERROR(AVERAGE(U16:U19),\"-\")","v":"-"},null,{"$f":"IFERROR(AVERAGE(W16:W19),\"-\")","v":"-"},null,{"$f":"IFERROR(AVERAGE(Y16:Y19),\"-\")","v":"-"}]
[null,null,null,{"$f":"IF($H$2=\"G\",Skillserleuterungen_FTEM!Q8,Skillserleuterungen_FTEM!D8)","v":"PASSEN"},null,null,{"$f":"IF($H$2=\"G\",Skillserleuterungen_FTEM!T8,Skillserleuterungen_FTEM!G8)","v":"Passabgabe (Distanz, Flippass Backhand), Passannahme (Präzision, Timing, Vorhand, Rückhand, Schlittschuh,Puckspeed"},null,null,{"$f":"IF($H$2=\"G\",Skillserleuterungen_FTEM!W8,Skillserleuterungen_FTEM!J8)","v":0}]
[null,null,null,{"$f":"IF($H$2=\"G\",Skillserleuterungen_FTEM!Q9,Skillserleuterungen_FTEM!D9)","v":"KÖRPERSPIEL"},null,null,{"$f":"IF($H$2=\"G\",Skillserleuterungen_FTEM!T9,Skillserleuterungen_FTEM!G9)","v":"Phyisches Durchsetzungsvermögen, Zweikampf (offenes Eis/Bande), Checks nehmen/Head up, Battle Level, Hart aber fair, mit dem Körper Schüsse blockieren"},null,null,{"$f":"IF($H$2=\"G\",Skillserleuterungen_FTEM!W9,Skillserleuterungen_FTEM!J9)","v":0},null,null,null,{"$f":"IFERROR(AVERAGE(O18:O19),\"-\")","v":"-"},null,{"$f":"IFERROR(AVERAGE(Q18:Q19),\"-\")","v":"-"},null,{"$f":"IFERROR(AVERAGE(S18:S19),\"-\")","v":"-"},null,{"$f":"IFERROR(AVERAGE(U18:U19),\"-\")","v":"-"},null,{"$f":"IFERROR(AVERAGE(W18:W19),\"-\")","v":"-"},null,{"$f":"IFERROR(AVERAGE(Y18:Y19),\"-\")","v":"-"}]
[null,null,null,{"$f":"IF($H$2=\"G\",Skillserleuterungen_FTEM!Q10,Skillserleuterungen_FTEM!D10)","v":"SCHEIBENKONTROLLE"},null,null,{"$f":"IF($H$2=\"G\",Skillserleuterungen_FTEM!T10,Skillserleuterungen_FTEM!G10)","v":"Puckmanagmenet auf engem Raum, Puck Protection,  schwer kontrollierbare Scheiben "},null,null,{"$f":"IF($H$2=\"G\",Skillserleuterungen_FTEM!W10,Skillserleuterungen_FTEM!J10)","v":0}]
["SKATING",null,null,{"$f":"IF($H$2=\"G\",Skillserleuterungen_FTEM!Q11,Skillserleuterungen_FTEM!D11)","v":"FOOTSPEED"},null,null,{"$f":"IF($H$2=\"G\",Skillserleuterungen_FTEM!T11,Skillserleuterungen_FTEM!G11)","v":"Beschleunigung, Antritt, erste 3 Schritte Explosivität, Frequenz"},null,null,{"$f":"IF($H$2=\"G\",Skillserleuterungen_FTEM!W11,Skillserleuterungen_FTEM!J11)","v":0},null,null,null,{"$f":"IFERROR(AVERAGE(O20:O23),\"-\")","v":"-"},null,{"$f":"IFERROR(AVERAGE(Q20:Q23),\"-\")","v":"-"},null,{"$f":"IFERROR(AVERAGE(S20:S23),\"-\")","v":"-"},null,{"$f":"IFERROR(AVERAGE(U20:U23),\"-\")","v":"-"},null,{"$f":"IFERROR(AVERAGE(W20:W23),\"-\")","v":"-"},null,{"$f":"IFERROR(AVERAGE(Y20:Y23),\"-\")","v":"-"}]
[null,null,null,{"$f":"IF($H$2=\"G\",Skillserleuterungen_FTEM!Q12,Skillserleuterungen_FTEM!D12)","v":"AGILITÄT"},null,null,{"$f":"IF($H$2=\"G\",Skillserleuterungen_FTEM!T12,Skillserleuterungen_FTEM!G12)","v":"Richtungsänderung, Drehung, Stop und Start, «Nummelin»"},null,null,{"$f":"IF($H$2=\"G\",Skillserleuterungen_FTEM!W12,Skillserleuterungen_FTEM!J12)","v":0}]
[null,null,null,{"$f":"IF($H$2=\"G\",Skillserleuterungen_FTEM!Q13,Skillserleuterungen_FTEM!D13)","v":"BACKWARDS SKATING"},null,null,{"$f":"IF($H$2=\"G\",Skillserleuterungen_FTEM!T13,Skillserleuterungen_FTEM!G13)","v":"Beschleunigung, Geschwindigkeit, Balance"},null,null,{"$f":"IF($H$2=\"G\",Skillserleuterungen_FTEM!W13,Skillserleuterungen_FTEM!J13)","v":0}]
[null,null,null,{"$f":"IF($H$2=\"G\",Skillserleuterungen_FTEM!Q14,Skillserleuterungen_FTEM!D14)","v":"TOPSPEED"},null,null,{"$f":"IF($H$2=\"G\",Skillserleuterungen_FTEM!T14,Skillserleuterungen_FTEM!G14)","v":"Schnelligkeit, Gleitfähigkeit, vorwärts und rückwärts, Ökonomie"},null,null,{"$f":"IF($H$2=\"G\",Skillserleuterungen_FTEM!W14,Skillserleuterungen_FTEM!J14)","v":0}]
["HOCKEY SENSE",null,null,{"$f":"IF($H$2=\"G\",Skillserleuterungen_FTEM!Q15,Skillserleuterungen_FTEM!D15)","v":"SCORING"},null,null,{"$f":"IF($H$2=\"G\",Skillserleuterungen_FTEM!T15,Skillserleuterungen_FTEM!G15)","v":"Effizienz, variantentreich, überraschend, schnell, hart - Schussvarianten"},null,null,{"$f":"IF($H$2=\"G\",Skillserleuterungen_FTEM!W15,Skillserleuterungen_FTEM!J15)","v":0},null,null,null,{"$f":"IFERROR(AVERAGE(O24:O27),\"-\")","v":"-"},null,{"$f":"IFERROR(AVERAGE(Q24:Q27),\"-\")","v":"-"},null,{"$f":"IFERROR(AVERAGE(S24:S27),\"-\")","v":"-"},null,{"$f":"IFERROR(AVERAGE(U24:U27),\"-\")","v":"-"},null,{"$f":"IFERROR(AVERAGE(W24:W27),\"-\")","v":"-"},null,{"$f":"IFERROR(AVERAGE(Y24:Y27),\"-\")","v":"-"}]
[null,null,null,{"$f":"IF($H$2=\"G\",Skillserleuterungen_FTEM!Q16,Skillserleuterungen_FTEM!D16)","v":"MIT SCHEIBE"},null,null,{"$f":"IF($H$2=\"G\",Skillserleuterungen_FTEM!T16,Skillserleuterungen_FTEM!G16)","v":"Kreativ, performing, batteling, frech, Transition"},null,null,{"$f":"IF($H$2=\"G\",Skillserleuterungen_FTEM!W16,Skillserleuterungen_FTEM!J16)","v":0}]
[null,null,null,{"$f":"IF($H$2=\"G\",Skillserleuterungen_FTEM!Q17,Skillserleuterungen_FTEM!D17)","v":"OHNE SCHEIBE"},null,null,{"$f":"IF($H$2=\"G\",Skillserleuterungen_FTEM!T17,Skillserleuterungen_FTEM!G17)","v":"Anspielbar (Support), 1:1, Gap"},null,null,{"$f":"IF($H$2=\"G\",Skillserleuterungen_FTEM!W17,Skillserleuterungen_FTEM!J17)","v":0}]
[null,null,null,{"$f":"IF($H$2=\"G\",Skillserleuterungen_FTEM!Q18,Skillserleuterungen_FTEM!D18)","v":"DEFENSIV"},null,null,{"$f":"IF($H$2=\"G\",Skillserleuterungen_FTEM!T18,Skillserleuterungen_FTEM!G18)","v":"Verlässlichkeit,  1:1, Gap, Zuordnung"},null,null,{"$f":"IF($H$2=\"G\",Skillserleuterungen_FTEM!W18,Skillserleuterungen_FTEM!J18)","v":0}]
["PERSONALITY",null,null,"FÄHIGKEIT",null,null,"BEOBACHTUNG",null,null,null,null,null,null,"Datum1",null,"Datum2",null,"Datum3",null,"Datum4",null,"Datum5",null,"Player",null,"ZIEL","MASSNAHME:\nSPEZIFISCH,  MESSBAR, REALISITISCH",null,null,null,null,null,null,"TERMIN","ZIEL-KONTROLLE","Datum"]
["PERSON",null,null,{"$f":"IF($H$2=\"G\",Skillserleuterungen_FTEM!Q20,Skillserleuterungen_FTEM!D20)","v":"MOTIVATION"},null,null,{"$f":"IF($H$2=\"G\",Skillserleuterungen_FTEM!T20,Skillserleuterungen_FTEM!G20)","v":"Intrinsischer Antrieb, will sich ständig weiterentwickeln, will der Erste sein und Erfolg haben"},null,null,{"$f":"IF($H$2=\"G\",Skillserleuterungen_FTEM!W20,Skillserleuterungen_FTEM!J20)","v":0},null,null,null,{"$f":"IFERROR(AVERAGE(O29:O32),\"-\")","v":"-"},null,{"$f":"IFERROR(AVERAGE(Q29:Q32),\"-\")","v":"-"},null,{"$f":"IFERROR(AVERAGE(S29:S32),\"-\")","v":"-"},null,{"$f":"IFERROR(AVERAGE(U29:U32),\"-\")","v":"-"},null,{"$f":"IFERROR(AVERAGE(W29:W32),\"-\")","v":"-"},null,{"$f":"IFERROR(AVERAGE(Y29:Y32),\"-\")","v":"-"}]
[null,null,null,{"$f":"IF($H$2=\"G\",Skillserleuterungen_FTEM!Q21,Skillserleuterungen_FTEM!D21)","v":"SELBSBEWUSSTSEIN"},null,null,{"$f":"IF($H$2=\"G\",Skillserleuterungen_FTEM!T21,Skillserleuterungen_FTEM!G21)","v":"Hat das nötige Selbstvertrauen \"I can do it\" haltung, kann eigenen Fähigkeiten einschätzen und agiert mutig"},null,null,{"$f":"IF($H$2=\"G\",Skillserleuterungen_FTEM!W21,Skillserleuterungen_FTEM!J21)","v":0}]
[null,null,null,{"$f":"IF($H$2=\"G\",Skillserleuterungen_FTEM!Q22,Skillserleuterungen_FTEM!D22)","v":"LERNFÄHIGKEIT"},null,null,{"$f":"IF($H$2=\"G\",Skillserleuterungen_FTEM!T22,Skillserleuterungen_FTEM!G22)","v":"Gute Auffassungsgabe (nimmt auf und kann umsetzen), reflektiert eigenes Handeln, versucht aus Fehlern zu lernen und kann Massnahmen ableiten und sich selber coachen"},null,null,{"$f":"IF($H$2=\"G\",Skillserleuterungen_FTEM!W22,Skillserleuterungen_FTEM!J22)","v":0}]
[null,null,null,{"$f":"IF($H$2=\"G\",Skillserleuterungen_FTEM!Q23,Skillserleuterungen_FTEM!D23)","v":"PERFORMANCE LIFESTYLE"},null,null,{"$f":"IF($H$2=\"G\",Skillserleuterungen_FTEM!T23,Skillserleuterungen_FTEM!G23)","v":"Managt Alltag und Umfeld nach dem Leistungsprinzip, kann sich gegen Wiederstände durchsetzten"},null,null,{"$f":"IF($H$2=\"G\",Skillserleuterungen_FTEM!W23,Skillserleuterungen_FTEM!J23)","v":0}]
["POWER",null,null,{"$f":"IF($H$2=\"G\",Skillserleuterungen_FTEM!Q24,Skillserleuterungen_FTEM!D24)","v":"ENERGIEMANAGEMENT"},null,null,{"$f":"IF($H$2=\"G\",Skillserleuterungen_FTEM!T24,Skillserleuterungen_FTEM!G24)","v":"Kann eigene Energie regulieren, bereit zur Regeneration, weiss, wann er \"Vollgas\" geben muss und wann ab-schalten, On/Off-Schalter"},null,null,{"$f":"IF($H$2=\"G\",Skillserleuterungen_FTEM!W24,Skillserleuterungen_FTEM!J24)","v":0},null,null,null,{"$f":"IFERROR(AVERAGE(O33:O36),\"-\")","v":"-"},null,{"$f":"IFERROR(AVERAGE(Q33:Q36),\"-\")","v":"-"},null,{"$f":"IFERROR(AVERAGE(S33:S36),\"-\")","v":"-"},null,{"$f":"IFERROR(AVERAGE(U33:U36),\"-\")","v":"-"},null,{"$f":"IFERROR(AVERAGE(W33:W36),\"-\")","v":"-"},null,{"$f":"IFERROR(AVERAGE(Y33:Y36),\"-\")","v":"-"}]
[null,null,null,{"$f":"IF($H$2=\"G\",Skillserleuterungen_FTEM!Q25,Skillserleuterungen_FTEM!D25)","v":"EINSATZBEREITSCHAFT"},null,null,{"$f":"IF($H$2=\"G\",Skillserleuterungen_FTEM!T25,Skillserleuterungen_FTEM!G25)","v":"Hohe intensität im Spiel und Training, gibt immer sein Maximum, will seine Limiten pushen"},null,null,{"$f":"IF($H$2=\"G\",Skillserleuterungen_FTEM!W25,Skillserleuterungen_FTEM!J25)","v":0}]
[null,null,null,{"$f":"IF($H$2=\"G\",Skillserleuterungen_FTEM!Q26,Skillserleuterungen_FTEM!D26)","v":"EMOTIONSKONTROLLE"},null,null,{"$f":"IF($H$2=\"G\",Skillserleuterungen_FTEM!T26,Skillserleuterungen_FTEM!G26)","v":"Emotionen und Impulse regulieren, unter Druck die Kontrolle behalten, in emotional ansprucksvollen Situationen angemessen agieren können"},null,null,{"$f":"IF($H$2=\"G\",Skillserleuterungen_FTEM!W26,Skillserleuterungen_FTEM!J26)","v":0}]
[null,null,null,{"$f":"IF($H$2=\"G\",Skillserleuterungen_FTEM!Q27,Skillserleuterungen_FTEM!D27)","v":"VORBEREITUNG"},null,null,{"$f":"IF($H$2=\"G\",Skillserleuterungen_FTEM!T27,Skillserleuterungen_FTEM!G27)","v":"Fokus, ILZ, Regeneration, Selbststiumlation, Ernährung"},null,null,{"$f":"IF($H$2=\"G\",Skillserleuterungen_FTEM!W27,Skillserleuterungen_FTEM!J27)","v":0}]
["PYHSE (Athletik)",null,null,{"$f":"IF($H$2=\"G\",Skillserleuterungen_FTEM!Q28,Skillserleuterungen_FTEM!D28)","v":"LEISTUNGSERZEUGUNG (neuromuskuläre Faktoren /Leistungserzeugung)"},null,null,{"$f":"IF($H$2=\"G\",Skillserleuterungen_FTEM!T28,Skillserleuterungen_FTEM!G28)","v":"Verfügt über die nötige Power/ Kraft/ Schnelligkeit in den Beinen un im Oberkörper "},null,null,{"$f":"IF($H$2=\"G\",Skillserleuterungen_FTEM!W28,Skillserleuterungen_FTEM!J28)","v":0},null,null,null,{"$f":"IFERROR(AVERAGE(O37:O40),\"-\")","v":"-"},null,{"$f":"IFERROR(AVERAGE(Q37:Q40),\"-\")","v":"-"},null,{"$f":"IFERROR(AVERAGE(S37:S40),\"-\")","v":"-"},null,{"$f":"IFERROR(AVERAGE(U37:U40),\"-\")","v":"-"},null,{"$f":"IFERROR(AVERAGE(W37:W40),\"-\")","v":"-"},null,{"$f":"IFERROR(AVERAGE(Y37:Y40),\"-\")","v":"-"}]
[null,null,null,{"$f":"IF($H$2=\"G\",Skillserleuterungen_FTEM!Q29,Skillserleuterungen_FTEM!D29)","v":"SPEZ. ERMÜDUNGSRESISTENZ (metabolische, kardiovaskuläre Faktoren)"},null,null,{"$f":"IF($H$2=\"G\",Skillserleuterungen_FTEM!T29,Skillserleuterungen_FTEM!G29)","v":"Ist fähig die Power/ Kraft/ Schnelligkeit innerhalb des Einsatzes lange aufrechtzuerhalten und kann sich zwischen den Einsätzen jeweils vollkommen erholen (auch von Spiel zu Spiel)."},null,null,{"$f":"IF($H$2=\"G\",Skillserleuterungen_FTEM!W29,Skillserleuterungen_FTEM!J29)","v":0}]
[null,null,null,{"$f":"IF($H$2=\"G\",Skillserleuterungen_FTEM!Q30,Skillserleuterungen_FTEM!D30)","v":"BEWEGUNGSKOMPETENZ/ KOORDINATION "},null,null,{"$f":"IF($H$2=\"G\",Skillserleuterungen_FTEM!T30,Skillserleuterungen_FTEM!G30)","v":"Beherrscht die grundlegenden Bewegungsfertigkeiten, die eine unerlässliche Zubringerfunktion für die sportspezifischen \"Skills\" darstellt sowie zur nötigen Bewegungseffizienz führt. "},null,null,{"$f":"IF($H$2=\"G\",Skillserleuterungen_FTEM!W30,Skillserleuterungen_FTEM!J30)","v":0}]
[null,null,null,{"$f":"IF($H$2=\"G\",Skillserleuterungen_FTEM!Q31,Skillserleuterungen_FTEM!D31)","v":"ROBUSTHEIT/ PRÄVENTION"},null,null,{"$f":"IF($H$2=\"G\",Skillserleuterungen_FTEM!T31,Skillserleuterungen_FTEM!G31)","v":"Verletzungsanfälligkeit, Stabilität (Verfügt über die nötige Stabilität, Grundkraft (Körperspannung) \"z.B. Beinachsenstabilität\" und Beweglichkeit in den zentralen Gelenken \"Hüfte, Wirbelsäule\"), Standfestigkeit"},null,null,{"$f":"IF($H$2=\"G\",Skillserleuterungen_FTEM!W31,Skillserleuterungen_FTEM!J31)","v":0}]

{"sheet":"20","index":23,"n_rows":40,"n_cols":36,"rows_kept":40,"cut":false,"hidden":false,"merged":[[38,3,38,5],[38,6,38,11],[39,3,39,5],[39,6,39,11],[32,23,35,23],[32,0,35,2],[32,3,32,5],[32,6,32,11],[32,12,35,12],[32,13,35,13],[36,26,39,32],[36,34,39,34],[21,3,21,5],[21,6,21,11],[34,3,34,5],[34,6,34,11],[36,0,39,2],[36,12,39,12],[36,13,39,13],[36,15,39,15],[36,17,39,17],[36,19,39,19],[36,21,39,21],[36,23,39,23],[36,25,39,25],[36,3,36,5],[36,6,36,11],[37,3,37,5],[37,6,37,11],[32,15,35,15],[27,21,27,22],[28,17,31,17],[28,19,31,19],[28,21,31,21],[29,3,29,5],[29,6,29,11],[30,3,30,5],[30,6,30,11],[32,17,35,17],[32,19,35,19],[32,21,35,21],[33,3,33,5],[33,6,33,11],[35,3,35,5],[35,6,35,11],[23,0,26,2],[23,3,23,5],[23,6,23,11],[23,12,26,12],[23,13,26,13],[23,15,26,15],[27,23,27,24],[27,26,27,32],[28,0,31,2],[28,3,28,5],[28,6,28,11],[28,12,31,12],[28,13,31,13],[28,15,31,15],[31,3,31,5],[31,6,31,11],[28,23,31,23],[27,0,27,2],[27,3,27,5],[27,6,27,11],[27,13,27,14],[27,15,27,16],[27,17,27,18],[27,19,27,20],[19,19,22,19],[19,21,22,21],[19,23,22,23],[20,3,20,5],[20,6,20,11],[22,3,22,5],[22,6,22,11],[26,3,26,5],[26,6,26,11],[23,23,26,23],[23,17,26,17],[23,19,26,19],[23,21,26,21],[24,3,24,5],[24,6,24,11],[25,3,25,5],[25,6,25,11],[12,21,13,21],[15,15,18,15],[15,17,18,17],[15,19,18,19],[15,21,18,21],[15,23,18,23],[18,3,18,5],[18,6,18,11],[19,0,22,2],[19,3,19,5],[19,6,19,11],[19,12,22,12],[19,13,22,13],[19,15,22,15],[19,17,22,17],[15,0,18,2],[15,3,15,5],[15,6,15,11],[15,12,18,12],[15,13,18,13],[16,3,16,5],[16,6,16,11],[17,3,17,5],[17,6,17,11],[11,21,11,22],[11,23,11,24],[11,26,11,32],[11,6,11,11],[12,23,13,23],[13,3,13,5],[13,6,13,11],[14,0,14,2],[14,3,14,5],[14,6,14,11],[14,13,14,14],[14,15,14,16],[14,17,14,18],[14,19,14,20],[14,21,14,22],[14,23,14,24],[12,0,13,2],[12,3,12,5],[12,6,12,11],[12,12,13,12],[12,13,13,13],[12,15,13,15],[12,17,13,17],[12,19,13,19],[4,0,4,1],[4,2,4,5],[4,10,4,24],[10,0,10,24],[10,25,10,35],[32,25,35,25],[32,26,35,32],[32,34,35,34],[12,25,13,25],[12,26,13,32],[12,34,13,34],[15,25,18,25],[15,26,18,32],[15,34,18,34],[19,25,22,25],[19,26,22,32],[19,34,22,34],[14,26,14,32],[11,0,11,2],[11,3,11,5],[11,13,11,14],[11,15,11,16],[11,17,11,18],[11,19,11,20],[0,0,0,24],[0,25,0,26],[0,27,0,32],[0,33,0,35],[23,25,26,25],[23,26,26,32],[23,34,26,34],[28,25,31,25],[28,26,31,32],[28,34,31,34],[1,0,1,1],[1,2,1,5],[1,10,1,24],[2,0,2,1],[2,2,2,5],[2,11,2,24],[6,0,6,1],[6,2,6,35],[7,0,7,1],[7,2,7,35],[8,0,8,1],[8,2,8,35],[3,0,3,1],[3,10,3,24]]}
["Personalien",null,null,null,null,null,null,null,null,null,null,null,null,null,null,null,null,null,null,null,null,null,null,null,null,"Vorausetzungen",null,"Evaluationen",null,null,null,null,null,"Rating"]
["VORNAME",null,{"$f":"IF(ISBLANK(VLOOKUP(20,Tabelle3[],3,0)),\"-\",VLOOKUP(20,Tabelle3[],3,0))","v":"-"},null,null,null,"POSITION",null,null,"ADRESSE",{"$f":"IF(ISBLANK(VLOOKUP(20,Tabelle3[],5,0)),\"-\",VLOOKUP(20,Tabelle3[],5,0))","v":"-"},null,null,null,null,null,null,null,null,null,null,null,null,null,null,"\"Alter\" (Biologisch/Relative Age)",null,"Datum 1",null,null,"cm",null,"Kg",null,"AUSGEZEICHNET",5]
["NAME",null,{"$f":"IF(ISBLANK(VLOOKUP(20,Tabelle3[],2,0)),\"-\",VLOOKUP(20,Tabelle3[],2,0))","v":"-"},null,null,null,"STOCK",null,null,"WOHNORT",{"$f":"IF(ISBLANK(VLOOKUP(20,Tabelle3[],7,0)),\"-\",VLOOKUP(20,Tabelle3[],7,0))","v":"-"},{"$f":"IF(ISBLANK(VLOOKUP(20,Tabelle3[],6,0)),\"-\",VLOOKUP(20,Tabelle3[],6,0))","v":"-"},null,null,null,null,null,null,null,null,null,null,null,null,null,"Veranlagung",null,"Datum 2",null,null,"cm",null,"Kg",null,"GUT",4]
["GEB. DATUM",null,{"$f":"IF(ISBLANK(VLOOKUP(20,Tabelle3[],14,0)),\"-\",VLOOKUP(20,Tabelle3[],14,0))","v":"-"},{"$f":"IF(ISBLANK(VLOOKUP(20,Tabelle3[],15,0)),\"-\",VLOOKUP(20,Tabelle3[],15,0))","v":"-"},{"$f":"IF(ISBLANK(VLOOKUP(20,Tabelle3[],16,0)),\"-\",VLOOKUP(20,Tabelle3[],16,0))","v":"-"},null,"GRÖSSE",null,"cm (Final)","PHONE",{"$f":"IF(ISBLANK(VLOOKUP(20,Tabelle3[],8,0)),\"-\",VLOOKUP(20,Tabelle3[],8,0))","v":"-"},null,null,null,null,null,null,null,null,null,null,null,null,null,null,"Umfeld",null,"Datum 3",null,null,"cm",null,"Kg",null,"DURCHSCHNITT",3]
["SEX",null,{"$f":"IF(ISBLANK(VLOOKUP(20,Tabelle3[],13,0)),\"-\",VLOOKUP(20,Tabelle3[],13,0))","v":"-"},null,null,null,"GEWICHT",null,"Kg (Final)","E-Mail",{"$f":"IF(ISBLANK(VLOOKUP(20,Tabelle3[],9,0)),\"-\",VLOOKUP(20,Tabelle3[],9,0))","v":"-"},null,null,null,null,null,null,null,null,null,null,null,null,null,null,null,null,"Datum 4",null,null,"cm",null,"Kg",null,"MANGELHAFT",2]
[null,null,null,null,null,null,null,null,null,null,null,null,null,null,null,null,null,null,null,null,null,null,null,null,null,null,null,"Datum 5",null,null,"cm",null,"Kg",null,"UNGENÜGEND",1]
["Vision",null,"xxx"]
["Next step",null,"xxx"]
["Stärkenprofil",null,"xxx"]
[]
["EVALUATION (COACH / SPIELER)",null,null,null,null,null,null,null,null,null,null,null,null,null,null,null,null,null,null,null,null,null,null,null,null,"SMART"]
["TEAM",null,null,"FÄHIGKEIT",null,null,"BEOBACHTUNG",null,null,null,null,null,"Final","Datum1",null,"Datum2",null,"Datum3",null,"Datum4",null,"Datum5",null,"Player",null,"ZIEL","MASSNAHME:\nSPEZIFISCH,  MESSBAR, REALISITISCH",null,null,null,null,null,null,"TERMIN","ZIEL-KONTROLLE","Datum"]
["ROLLE, SOZIAL",null,null,{"$f":"IF($H$2=\"G\",Skillserleuterungen_FTEM!Q4,Skillserleuterungen_FTEM!D4)","v":"TEAMDENKEN"},null,null,{"$f":"IF($H$2=\"G\",Skillserleuterungen_FTEM!T4,Skillserleuterungen_FTEM!G4)","v":"Identifikation zur Rolle, Umgang mit Kameraden (sozial integriert)"},null,null,{"$f":"IF($H$2=\"G\",Skillserleuterungen_FTEM!W4,Skillserleuterungen_FTEM!J4)","v":0},null,null,null,{"$f":"IFERROR(AVERAGE(O13:O14),\"-\")","v":"-"},null,{"$f":"IFERROR(AVERAGE(Q13:Q14),\"-\")","v":"-"},null,{"$f":"IFERROR(AVERAGE(S13:S14),\"-\")","v":"-"},null,{"$f":"IFERROR(AVERAGE(U13:U14),\"-\")","v":"-"},null,null,null,{"$f":"IFERROR(AVERAGE(Y13:Y14),\"-\")","v":"-"}]
[null,null,null,{"$f":"IF($H$2=\"G\",Skillserleuterungen_FTEM!Q5,Skillserleuterungen_FTEM!D5)","v":"LEADERSHIP"},null,null,{"$f":"IF($H$2=\"G\",Skillserleuterungen_FTEM!T5,Skillserleuterungen_FTEM!G5)","v":"Übernimmt Verantwortung, macht Mitspieler besser"},null,null,{"$f":"IF($H$2=\"G\",Skillserleuterungen_FTEM!W5,Skillserleuterungen_FTEM!J5)","v":0}]
["ON ICE",null,null,"FÄHIGKEIT",null,null,"BEOBACHTUNG",null,null,null,null,null,null,"Datum1",null,"Datum2",null,"Datum3",null,"Datum4",null,"Datum5",null,"Player",null,"ZIEL","MASSNAHME:\nSPEZIFISCH,  MESSBAR, REALISITISCH",null,null,null,null,null,null,"TERMIN","ZIEL-KONTROLLE","Datum"]
["SKILL",null,null,{"$f":"IF($H$2=\"G\",Skillserleuterungen_FTEM!Q7,Skillserleuterungen_FTEM!D7)","v":"SCHIESSEN"},null,null,{"$f":"IF($H$2=\"G\",Skillserleuterungen_FTEM!T7,Skillserleuterungen_FTEM!G7)","v":"Effizienz / Variantenreichtum, Überraschungsgrad (Quick Release), Präzision, Härte, (taktische Abschlüsse)\nschnell, hart, unter Druck"},null,null,{"$f":"IF($H$2=\"G\",Skillserleuterungen_FTEM!W7,Skillserleuterungen_FTEM!J7)","v":0},null,null,null,{"$f":"IFERROR(AVERAGE(O16:O19),\"-\")","v":"-"},null,{"$f":"IFERROR(AVERAGE(Q16:Q19),\"-\")","v":"-"},null,{"$f":"IFERROR(AVERAGE(S16:S19),\"-\")","v":"-"},null,{"$f":"IFERROR(AVERAGE(U16:U19),\"-\")","v":"-"},null,{"$f":"IFERROR(AVERAGE(W16:W19),\"-\")","v":"-"},null,{"$f":"IFERROR(AVERAGE(Y16:Y19),\"-\")","v":"-"}]
[null,null,null,{"$f":"IF($H$2=\"G\",Skillserleuterungen_FTEM!Q8,Skillserleuterungen_FTEM!D8)","v":"PASSEN"},null,null,{"$f":"IF($H$2=\"G\",Skillserleuterungen_FTEM!T8,Skillserleuterungen_FTEM!G8)","v":"Passabgabe (Distanz, Flippass Backhand), Passannahme (Präzision, Timing, Vorhand, Rückhand, Schlittschuh,Puckspeed"},null,null,{"$f":"IF($H$2=\"G\",Skillserleuterungen_FTEM!W8,Skillserleuterungen_FTEM!J8)","v":0}]
[null,null,null,{"$f":"IF($H$2=\"G\",Skillserleuterungen_FTEM!Q9,Skillserleuterungen_FTEM!D9)","v":"KÖRPERSPIEL"},null,null,{"$f":"IF($H$2=\"G\",Skillserleuterungen_FTEM!T9,Skillserleuterungen_FTEM!G9)","v":"Phyisches Durchsetzungsvermögen, Zweikampf (offenes Eis/Bande), Checks nehmen/Head up, Battle Level, Hart aber fair, mit dem Körper Schüsse blockieren"},null,null,{"$f":"IF($H$2=\"G\",Skillserleuterungen_FTEM!W9,Skillserleuterungen_FTEM!J9)","v":0},null,null,null,{"$f":"IFERROR(AVERAGE(O18:O19),\"-\")","v":"-"},null,{"$f":"IFERROR(AVERAGE(Q18:Q19),\"-\")","v":"-"},null,{"$f":"IFERROR(AVERAGE(S18:S19),\"-\")","v":"-"},null,{"$f":"IFERROR(AVERAGE(U18:U19),\"-\")","v":"-"},null,{"$f":"IFERROR(AVERAGE(W18:W19),\"-\")","v":"-"},null,{"$f":"IFERROR(AVERAGE(Y18:Y19),\"-\")","v":"-"}]
[null,null,null,{"$f":"IF($H$2=\"G\",Skillserleuterungen_FTEM!Q10,Skillserleuterungen_FTEM!D10)","v":"SCHEIBENKONTROLLE"},null,null,{"$f":"IF($H$2=\"G\",Skillserleuterungen_FTEM!T10,Skillserleuterungen_FTEM!G10)","v":"Puckmanagmenet auf engem Raum, Puck Protection,  schwer kontrollierbare Scheiben "},null,null,{"$f":"IF($H$2=\"G\",Skillserleuterungen_FTEM!W10,Skillserleuterungen_FTEM!J10)","v":0}]
["SKATING",null,null,{"$f":"IF($H$2=\"G\",Skillserleuterungen_FTEM!Q11,Skillserleuterungen_FTEM!D11)","v":"FOOTSPEED"},null,null,{"$f":"IF($H$2=\"G\",Skillserleuterungen_FTEM!T11,Skillserleuterungen_FTEM!G11)","v":"Beschleunigung, Antritt, erste 3 Schritte Explosivität, Frequenz"},null,null,{"$f":"IF($H$2=\"G\",Skillserleuterungen_FTEM!W11,Skillserleuterungen_FTEM!J11)","v":0},null,null,null,{"$f":"IFERROR(AVERAGE(O20:O23),\"-\")","v":"-"},null,{"$f":"IFERROR(AVERAGE(Q20:Q23),\"-\")","v":"-"},null,{"$f":"IFERROR(AVERAGE(S20:S23),\"-\")","v":"-"},null,{"$f":"IFERROR(AVERAGE(U20:U23),\"-\")","v":"-"},null,{"$f":"IFERROR(AVERAGE(W20:W23),\"-\")","v":"-"},null,{"$f":"IFERROR(AVERAGE(Y20:Y23),\"-\")","v":"-"}]
[null,null,null,{"$f":"IF($H$2=\"G\",Skillserleuterungen_FTEM!Q12,Skillserleuterungen_FTEM!D12)","v":"AGILITÄT"},null,null,{"$f":"IF($H$2=\"G\",Skillserleuterungen_FTEM!T12,Skillserleuterungen_FTEM!G12)","v":"Richtungsänderung, Drehung, Stop und Start, «Nummelin»"},null,null,{"$f":"IF($H$2=\"G\",Skillserleuterungen_FTEM!W12,Skillserleuterungen_FTEM!J12)","v":0}]
[null,null,null,{"$f":"IF($H$2=\"G\",Skillserleuterungen_FTEM!Q13,Skillserleuterungen_FTEM!D13)","v":"BACKWARDS SKATING"},null,null,{"$f":"IF($H$2=\"G\",Skillserleuterungen_FTEM!T13,Skillserleuterungen_FTEM!G13)","v":"Beschleunigung, Geschwindigkeit, Balance"},null,null,{"$f":"IF($H$2=\"G\",Skillserleuterungen_FTEM!W13,Skillserleuterungen_FTEM!J13)","v":0}]
[null,null,null,{"$f":"IF($H$2=\"G\",Skillserleuterungen_FTEM!Q14,Skillserleuterungen_FTEM!D14)","v":"TOPSPEED"},null,null,{"$f":"IF($H$2=\"G\",Skillserleuterungen_FTEM!T14,Skillserleuterungen_FTEM!G14)","v":"Schnelligkeit, Gleitfähigkeit, vorwärts und rückwärts, Ökonomie"},null,null,{"$f":"IF($H$2=\"G\",Skillserleuterungen_FTEM!W14,Skillserleuterungen_FTEM!J14)","v":0}]
["HOCKEY SENSE",null,null,{"$f":"IF($H$2=\"G\",Skillserleuterungen_FTEM!Q15,Skillserleuterungen_FTEM!D15)","v":"SCORING"},null,null,{"$f":"IF($H$2=\"G\",Skillserleuterungen_FTEM!T15,Skillserleuterungen_FTEM!G15)","v":"Effizienz, variantentreich, überraschend, schnell, hart - Schussvarianten"},null,null,{"$f":"IF($H$2=\"G\",Skillserleuterungen_FTEM!W15,Skillserleuterungen_FTEM!J15)","v":0},null,null,null,{"$f":"IFERROR(AVERAGE(O24:O27),\"-\")","v":"-"},null,{"$f":"IFERROR(AVERAGE(Q24:Q27),\"-\")","v":"-"},null,{"$f":"IFERROR(AVERAGE(S24:S27),\"-\")","v":"-"},null,{"$f":"IFERROR(AVERAGE(U24:U27),\"-\")","v":"-"},null,{"$f":"IFERROR(AVERAGE(W24:W27),\"-\")","v":"-"},null,{"$f":"IFERROR(AVERAGE(Y24:Y27),\"-\")","v":"-"}]
[null,null,null,{"$f":"IF($H$2=\"G\",Skillserleuterungen_FTEM!Q16,Skillserleuterungen_FTEM!D16)","v":"MIT SCHEIBE"},null,null,{"$f":"IF($H$2=\"G\",Skillserleuterungen_FTEM!T16,Skillserleuterungen_FTEM!G16)","v":"Kreativ, performing, batteling, frech, Transition"},null,null,{"$f":"IF($H$2=\"G\",Skillserleuterungen_FTEM!W16,Skillserleuterungen_FTEM!J16)","v":0}]
[null,null,null,{"$f":"IF($H$2=\"G\",Skillserleuterungen_FTEM!Q17,Skillserleuterungen_FTEM!D17)","v":"OHNE SCHEIBE"},null,null,{"$f":"IF($H$2=\"G\",Skillserleuterungen_FTEM!T17,Skillserleuterungen_FTEM!G17)","v":"Anspielbar (Support), 1:1, Gap"},null,null,{"$f":"IF($H$2=\"G\",Skillserleuterungen_FTEM!W17,Skillserleuterungen_FTEM!J17)","v":0}]
[null,null,null,{"$f":"IF($H$2=\"G\",Skillserleuterungen_FTEM!Q18,Skillserleuterungen_FTEM!D18)","v":"DEFENSIV"},null,null,{"$f":"IF($H$2=\"G\",Skillserleuterungen_FTEM!T18,Skillserleuterungen_FTEM!G18)","v":"Verlässlichkeit,  1:1, Gap, Zuordnung"},null,null,{"$f":"IF($H$2=\"G\",Skillserleuterungen_FTEM!W18,Skillserleuterungen_FTEM!J18)","v":0}]
["PERSONALITY",null,null,"FÄHIGKEIT",null,null,"BEOBACHTUNG",null,null,null,null,null,null,"Datum1",null,"Datum2",null,"Datum3",null,"Datum4",null,"Datum5",null,"Player",null,"ZIEL","MASSNAHME:\nSPEZIFISCH,  MESSBAR, REALISITISCH",null,null,null,null,null,null,"TERMIN","ZIEL-KONTROLLE","Datum"]
["PERSON",null,null,{"$f":"IF($H$2=\"G\",Skillserleuterungen_FTEM!Q20,Skillserleuterungen_FTEM!D20)","v":"MOTIVATION"},null,null,{"$f":"IF($H$2=\"G\",Skillserleuterungen_FTEM!T20,Skillserleuterungen_FTEM!G20)","v":"Intrinsischer Antrieb, will sich ständig weiterentwickeln, will der Erste sein und Erfolg haben"},null,null,{"$f":"IF($H$2=\"G\",Skillserleuterungen_FTEM!W20,Skillserleuterungen_FTEM!J20)","v":0},null,null,null,{"$f":"IFERROR(AVERAGE(O29:O32),\"-\")","v":"-"},null,{"$f":"IFERROR(AVERAGE(Q29:Q32),\"-\")","v":"-"},null,{"$f":"IFERROR(AVERAGE(S29:S32),\"-\")","v":"-"},null,{"$f":"IFERROR(AVERAGE(U29:U32),\"-\")","v":"-"},null,{"$f":"IFERROR(AVERAGE(W29:W32),\"-\")","v":"-"},null,{"$f":"IFERROR(AVERAGE(Y29:Y32),\"-\")","v":"-"}]
[null,null,null,{"$f":"IF($H$2=\"G\",Skillserleuterungen_FTEM!Q21,Skillserleuterungen_FTEM!D21)","v":"SELBSBEWUSSTSEIN"},null,null,{"$f":"IF($H$2=\"G\",Skillserleuterungen_FTEM!T21,Skillserleuterungen_FTEM!G21)","v":"Hat das nötige Selbstvertrauen \"I can do it\" haltung, kann eigenen Fähigkeiten einschätzen und agiert mutig"},null,null,{"$f":"IF($H$2=\"G\",Skillserleuterungen_FTEM!W21,Skillserleuterungen_FTEM!J21)","v":0}]
[null,null,null,{"$f":"IF($H$2=\"G\",Skillserleuterungen_FTEM!Q22,Skillserleuterungen_FTEM!D22)","v":"LERNFÄHIGKEIT"},null,null,{"$f":"IF($H$2=\"G\",Skillserleuterungen_FTEM!T22,Skillserleuterungen_FTEM!G22)","v":"Gute Auffassungsgabe (nimmt auf und kann umsetzen), reflektiert eigenes Handeln, versucht aus Fehlern zu lernen und kann Massnahmen ableiten und sich selber coachen"},null,null,{"$f":"IF($H$2=\"G\",Skillserleuterungen_FTEM!W22,Skillserleuterungen_FTEM!J22)","v":0}]
[null,null,null,{"$f":"IF($H$2=\"G\",Skillserleuterungen_FTEM!Q23,Skillserleuterungen_FTEM!D23)","v":"PERFORMANCE LIFESTYLE"},null,null,{"$f":"IF($H$2=\"G\",Skillserleuterungen_FTEM!T23,Skillserleuterungen_FTEM!G23)","v":"Managt Alltag und Umfeld nach dem Leistungsprinzip, kann sich gegen Wiederstände durchsetzten"},null,null,{"$f":"IF($H$2=\"G\",Skillserleuterungen_FTEM!W23,Skillserleuterungen_FTEM!J23)","v":0}]
["POWER",null,null,{"$f":"IF($H$2=\"G\",Skillserleuterungen_FTEM!Q24,Skillserleuterungen_FTEM!D24)","v":"ENERGIEMANAGEMENT"},null,null,{"$f":"IF($H$2=\"G\",Skillserleuterungen_FTEM!T24,Skillserleuterungen_FTEM!G24)","v":"Kann eigene Energie regulieren, bereit zur Regeneration, weiss, wann er \"Vollgas\" geben muss und wann ab-schalten, On/Off-Schalter"},null,null,{"$f":"IF($H$2=\"G\",Skillserleuterungen_FTEM!W24,Skillserleuterungen_FTEM!J24)","v":0},null,null,null,{"$f":"IFERROR(AVERAGE(O33:O36),\"-\")","v":"-"},null,{"$f":"IFERROR(AVERAGE(Q33:Q36),\"-\")","v":"-"},null,{"$f":"IFERROR(AVERAGE(S33:S36),\"-\")","v":"-"},null,{"$f":"IFERROR(AVERAGE(U33:U36),\"-\")","v":"-"},null,{"$f":"IFERROR(AVERAGE(W33:W36),\"-\")","v":"-"},null,{"$f":"IFERROR(AVERAGE(Y33:Y36),\"-\")","v":"-"}]
[null,null,null,{"$f":"IF($H$2=\"G\",Skillserleuterungen_FTEM!Q25,Skillserleuterungen_FTEM!D25)","v":"EINSATZBEREITSCHAFT"},null,null,{"$f":"IF($H$2=\"G\",Skillserleuterungen_FTEM!T25,Skillserleuterungen_FTEM!G25)","v":"Hohe intensität im Spiel und Training, gibt immer sein Maximum, will seine Limiten pushen"},null,null,{"$f":"IF($H$2=\"G\",Skillserleuterungen_FTEM!W25,Skillserleuterungen_FTEM!J25)","v":0}]
[null,null,null,{"$f":"IF($H$2=\"G\",Skillserleuterungen_FTEM!Q26,Skillserleuterungen_FTEM!D26)","v":"EMOTIONSKONTROLLE"},null,null,{"$f":"IF($H$2=\"G\",Skillserleuterungen_FTEM!T26,Skillserleuterungen_FTEM!G26)","v":"Emotionen und Impulse regulieren, unter Druck die Kontrolle behalten, in emotional ansprucksvollen Situationen angemessen agieren können"},null,null,{"$f":"IF($H$2=\"G\",Skillserleuterungen_FTEM!W26,Skillserleuterungen_FTEM!J26)","v":0}]
[null,null,null,{"$f":"IF($H$2=\"G\",Skillserleuterungen_FTEM!Q27,Skillserleuterungen_FTEM!D27)","v":"VORBEREITUNG"},null,null,{"$f":"IF($H$2=\"G\",Skillserleuterungen_FTEM!T27,Skillserleuterungen_FTEM!G27)","v":"Fokus, ILZ, Regeneration, Selbststiumlation, Ernährung"},null,null,{"$f":"IF($H$2=\"G\",Skillserleuterungen_FTEM!W27,Skillserleuterungen_FTEM!J27)","v":0}]
["PYHSE (Athletik)",null,null,{"$f":"IF($H$2=\"G\",Skillserleuterungen_FTEM!Q28,Skillserleuterungen_FTEM!D28)","v":"LEISTUNGSERZEUGUNG (neuromuskuläre Faktoren /Leistungserzeugung)"},null,null,{"$f":"IF($H$2=\"G\",Skillserleuterungen_FTEM!T28,Skillserleuterungen_FTEM!G28)","v":"Verfügt über die nötige Power/ Kraft/ Schnelligkeit in den Beinen un im Oberkörper "},null,null,{"$f":"IF($H$2=\"G\",Skillserleuterungen_FTEM!W28,Skillserleuterungen_FTEM!J28)","v":0},null,null,null,{"$f":"IFERROR(AVERAGE(O37:O40),\"-\")","v":"-"},null,{"$f":"IFERROR(AVERAGE(Q37:Q40),\"-\")","v":"-"},null,{"$f":"IFERROR(AVERAGE(S37:S40),\"-\")","v":"-"},null,{"$f":"IFERROR(AVERAGE(U37:U40),\"-\")","v":"-"},null,{"$f":"IFERROR(AVERAGE(W37:W40),\"-\")","v":"-"},null,{"$f":"IFERROR(AVERAGE(Y37:Y40),\"-\")","v":"-"}]
[null,null,null,{"$f":"IF($H$2=\"G\",Skillserleuterungen_FTEM!Q29,Skillserleuterungen_FTEM!D29)","v":"SPEZ. ERMÜDUNGSRESISTENZ (metabolische, kardiovaskuläre Faktoren)"},null,null,{"$f":"IF($H$2=\"G\",Skillserleuterungen_FTEM!T29,Skillserleuterungen_FTEM!G29)","v":"Ist fähig die Power/ Kraft/ Schnelligkeit innerhalb des Einsatzes lange aufrechtzuerhalten und kann sich zwischen den Einsätzen jeweils vollkommen erholen (auch von Spiel zu Spiel)."},null,null,{"$f":"IF($H$2=\"G\",Skillserleuterungen_FTEM!W29,Skillserleuterungen_FTEM!J29)","v":0}]
[null,null,null,{"$f":"IF($H$2=\"G\",Skillserleuterungen_FTEM!Q30,Skillserleuterungen_FTEM!D30)","v":"BEWEGUNGSKOMPETENZ/ KOORDINATION "},null,null,{"$f":"IF($H$2=\"G\",Skillserleuterungen_FTEM!T30,Skillserleuterungen_FTEM!G30)","v":"Beherrscht die grundlegenden Bewegungsfertigkeiten, die eine unerlässliche Zubringerfunktion für die sportspezifischen \"Skills\" darstellt sowie zur nötigen Bewegungseffizienz führt. "},null,null,{"$f":"IF($H$2=\"G\",Skillserleuterungen_FTEM!W30,Skillserleuterungen_FTEM!J30)","v":0}]
[null,null,null,{"$f":"IF($H$2=\"G\",Skillserleuterungen_FTEM!Q31,Skillserleuterungen_FTEM!D31)","v":"ROBUSTHEIT/ PRÄVENTION"},null,null,{"$f":"IF($H$2=\"G\",Skillserleuterungen_FTEM!T31,Skillserleuterungen_FTEM!G31)","v":"Verletzungsanfälligkeit, Stabilität (Verfügt über die nötige Stabilität, Grundkraft (Körperspannung) \"z.B. Beinachsenstabilität\" und Beweglichkeit in den zentralen Gelenken \"Hüfte, Wirbelsäule\"), Standfestigkeit"},null,null,{"$f":"IF($H$2=\"G\",Skillserleuterungen_FTEM!W31,Skillserleuterungen_FTEM!J31)","v":0}]

{"sheet":"21","index":24,"n_rows":40,"n_cols":36,"rows_kept":40,"cut":false,"hidden":false,"merged":[[38,3,38,5],[38,6,38,11],[39,3,39,5],[39,6,39,11],[32,23,35,23],[32,0,35,2],[32,3,32,5],[32,6,32,11],[32,12,35,12],[32,13,35,13],[36,26,39,32],[36,34,39,34],[21,3,21,5],[21,6,21,11],[34,3,34,5],[34,6,34,11],[36,0,39,2],[36,12,39,12],[36,13,39,13],[36,15,39,15],[36,17,39,17],[36,19,39,19],[36,21,39,21],[36,23,39,23],[36,25,39,25],[36,3,36,5],[36,6,36,11],[37,3,37,5],[37,6,37,11],[32,15,35,15],[27,21,27,22],[28,17,31,17],[28,19,31,19],[28,21,31,21],[29,3,29,5],[29,6,29,11],[30,3,30,5],[30,6,30,11],[32,17,35,17],[32,19,35,19],[32,21,35,21],[33,3,33,5],[33,6,33,11],[35,3,35,5],[35,6,35,11],[23,0,26,2],[23,3,23,5],[23,6,23,11],[23,12,26,12],[23,13,26,13],[23,15,26,15],[27,23,27,24],[27,26,27,32],[28,0,31,2],[28,3,28,5],[28,6,28,11],[28,12,31,12],[28,13,31,13],[28,15,31,15],[31,3,31,5],[31,6,31,11],[28,23,31,23],[27,0,27,2],[27,3,27,5],[27,6,27,11],[27,13,27,14],[27,15,27,16],[27,17,27,18],[27,19,27,20],[19,19,22,19],[19,21,22,21],[19,23,22,23],[20,3,20,5],[20,6,20,11],[22,3,22,5],[22,6,22,11],[26,3,26,5],[26,6,26,11],[23,23,26,23],[23,17,26,17],[23,19,26,19],[23,21,26,21],[24,3,24,5],[24,6,24,11],[25,3,25,5],[25,6,25,11],[12,21,13,21],[15,15,18,15],[15,17,18,17],[15,19,18,19],[15,21,18,21],[15,23,18,23],[18,3,18,5],[18,6,18,11],[19,0,22,2],[19,3,19,5],[19,6,19,11],[19,12,22,12],[19,13,22,13],[19,15,22,15],[19,17,22,17],[15,0,18,2],[15,3,15,5],[15,6,15,11],[15,12,18,12],[15,13,18,13],[16,3,16,5],[16,6,16,11],[17,3,17,5],[17,6,17,11],[11,21,11,22],[11,23,11,24],[11,26,11,32],[11,6,11,11],[12,23,13,23],[13,3,13,5],[13,6,13,11],[14,0,14,2],[14,3,14,5],[14,6,14,11],[14,13,14,14],[14,15,14,16],[14,17,14,18],[14,19,14,20],[14,21,14,22],[14,23,14,24],[12,0,13,2],[12,3,12,5],[12,6,12,11],[12,12,13,12],[12,13,13,13],[12,15,13,15],[12,17,13,17],[12,19,13,19],[4,0,4,1],[4,2,4,5],[4,10,4,24],[10,0,10,24],[10,25,10,35],[32,25,35,25],[32,26,35,32],[32,34,35,34],[12,25,13,25],[12,26,13,32],[12,34,13,34],[15,25,18,25],[15,26,18,32],[15,34,18,34],[19,25,22,25],[19,26,22,32],[19,34,22,34],[14,26,14,32],[11,0,11,2],[11,3,11,5],[11,13,11,14],[11,15,11,16],[11,17,11,18],[11,19,11,20],[0,0,0,24],[0,25,0,26],[0,27,0,32],[0,33,0,35],[23,25,26,25],[23,26,26,32],[23,34,26,34],[28,25,31,25],[28,26,31,32],[28,34,31,34],[1,0,1,1],[1,2,1,5],[1,10,1,24],[2,0,2,1],[2,2,2,5],[2,11,2,24],[6,0,6,1],[6,2,6,35],[7,0,7,1],[7,2,7,35],[8,0,8,1],[8,2,8,35],[3,0,3,1],[3,10,3,24]]}
["Personalien",null,null,null,null,null,null,null,null,null,null,null,null,null,null,null,null,null,null,null,null,null,null,null,null,"Vorausetzungen",null,"Evaluationen",null,null,null,null,null,"Rating"]
["VORNAME",null,{"$f":"IF(ISBLANK(VLOOKUP(21,Tabelle3[],3,0)),\"-\",VLOOKUP(21,Tabelle3[],3,0))","v":"-"},null,null,null,"POSITION",null,null,"ADRESSE",{"$f":"IF(ISBLANK(VLOOKUP(21,Tabelle3[],5,0)),\"-\",VLOOKUP(21,Tabelle3[],5,0))","v":"-"},null,null,null,null,null,null,null,null,null,null,null,null,null,null,"\"Alter\" (Biologisch/Relative Age)",null,"Datum 1",null,null,"cm",null,"Kg",null,"AUSGEZEICHNET",5]
["NAME",null,{"$f":"IF(ISBLANK(VLOOKUP(21,Tabelle3[],2,0)),\"-\",VLOOKUP(21,Tabelle3[],2,0))","v":"-"},null,null,null,"STOCK",null,null,"WOHNORT",{"$f":"IF(ISBLANK(VLOOKUP(21,Tabelle3[],7,0)),\"-\",VLOOKUP(21,Tabelle3[],7,0))","v":"-"},{"$f":"IF(ISBLANK(VLOOKUP(21,Tabelle3[],6,0)),\"-\",VLOOKUP(21,Tabelle3[],6,0))","v":"-"},null,null,null,null,null,null,null,null,null,null,null,null,null,"Veranlagung",null,"Datum 2",null,null,"cm",null,"Kg",null,"GUT",4]
["GEB. DATUM",null,{"$f":"IF(ISBLANK(VLOOKUP(21,Tabelle3[],14,0)),\"-\",VLOOKUP(21,Tabelle3[],14,0))","v":"-"},{"$f":"IF(ISBLANK(VLOOKUP(21,Tabelle3[],15,0)),\"-\",VLOOKUP(21,Tabelle3[],15,0))","v":"-"},{"$f":"IF(ISBLANK(VLOOKUP(21,Tabelle3[],16,0)),\"-\",VLOOKUP(21,Tabelle3[],16,0))","v":"-"},null,"GRÖSSE",null,"cm (Final)","PHONE",{"$f":"IF(ISBLANK(VLOOKUP(21,Tabelle3[],8,0)),\"-\",VLOOKUP(21,Tabelle3[],8,0))","v":"-"},null,null,null,null,null,null,null,null,null,null,null,null,null,null,"Umfeld",null,"Datum 3",null,null,"cm",null,"Kg",null,"DURCHSCHNITT",3]
["SEX",null,{"$f":"IF(ISBLANK(VLOOKUP(21,Tabelle3[],13,0)),\"-\",VLOOKUP(21,Tabelle3[],13,0))","v":"-"},null,null,null,"GEWICHT",null,"Kg (Final)","E-Mail",{"$f":"IF(ISBLANK(VLOOKUP(21,Tabelle3[],9,0)),\"-\",VLOOKUP(21,Tabelle3[],9,0))","v":"-"},null,null,null,null,null,null,null,null,null,null,null,null,null,null,null,null,"Datum 4",null,null,"cm",null,"Kg",null,"MANGELHAFT",2]
[null,null,null,null,null,null,null,null,null,null,null,null,null,null,null,null,null,null,null,null,null,null,null,null,null,null,null,"Datum 5",null,null,"cm",null,"Kg",null,"UNGENÜGEND",1]
["Vision",null,"xxx"]
["Next step",null,"xxx"]
["Stärkenprofil",null,"xxx"]
[]
["EVALUATION (COACH / SPIELER)",null,null,null,null,null,null,null,null,null,null,null,null,null,null,null,null,null,null,null,null,null,null,null,null,"SMART"]
["TEAM",null,null,"FÄHIGKEIT",null,null,"BEOBACHTUNG",null,null,null,null,null,"Final","Datum1",null,"Datum2",null,"Datum3",null,"Datum4",null,"Datum5",null,"Player",null,"ZIEL","MASSNAHME:\nSPEZIFISCH,  MESSBAR, REALISITISCH",null,null,null,null,null,null,"TERMIN","ZIEL-KONTROLLE","Datum"]
["ROLLE, SOZIAL",null,null,{"$f":"IF($H$2=\"G\",Skillserleuterungen_FTEM!Q4,Skillserleuterungen_FTEM!D4)","v":"TEAMDENKEN"},null,null,{"$f":"IF($H$2=\"G\",Skillserleuterungen_FTEM!T4,Skillserleuterungen_FTEM!G4)","v":"Identifikation zur Rolle, Umgang mit Kameraden (sozial integriert)"},null,null,{"$f":"IF($H$2=\"G\",Skillserleuterungen_FTEM!W4,Skillserleuterungen_FTEM!J4)","v":0},null,null,null,{"$f":"IFERROR(AVERAGE(O13:O14),\"-\")","v":"-"},null,{"$f":"IFERROR(AVERAGE(Q13:Q14),\"-\")","v":"-"},null,{"$f":"IFERROR(AVERAGE(S13:S14),\"-\")","v":"-"},null,{"$f":"IFERROR(AVERAGE(U13:U14),\"-\")","v":"-"},null,null,null,{"$f":"IFERROR(AVERAGE(Y13:Y14),\"-\")","v":"-"}]
[null,null,null,{"$f":"IF($H$2=\"G\",Skillserleuterungen_FTEM!Q5,Skillserleuterungen_FTEM!D5)","v":"LEADERSHIP"},null,null,{"$f":"IF($H$2=\"G\",Skillserleuterungen_FTEM!T5,Skillserleuterungen_FTEM!G5)","v":"Übernimmt Verantwortung, macht Mitspieler besser"},null,null,{"$f":"IF($H$2=\"G\",Skillserleuterungen_FTEM!W5,Skillserleuterungen_FTEM!J5)","v":0}]
["ON ICE",null,null,"FÄHIGKEIT",null,null,"BEOBACHTUNG",null,null,null,null,null,null,"Datum1",null,"Datum2",null,"Datum3",null,"Datum4",null,"Datum5",null,"Player",null,"ZIEL","MASSNAHME:\nSPEZIFISCH,  MESSBAR, REALISITISCH",null,null,null,null,null,null,"TERMIN","ZIEL-KONTROLLE","Datum"]
["SKILL",null,null,{"$f":"IF($H$2=\"G\",Skillserleuterungen_FTEM!Q7,Skillserleuterungen_FTEM!D7)","v":"SCHIESSEN"},null,null,{"$f":"IF($H$2=\"G\",Skillserleuterungen_FTEM!T7,Skillserleuterungen_FTEM!G7)","v":"Effizienz / Variantenreichtum, Überraschungsgrad (Quick Release), Präzision, Härte, (taktische Abschlüsse)\nschnell, hart, unter Druck"},null,null,{"$f":"IF($H$2=\"G\",Skillserleuterungen_FTEM!W7,Skillserleuterungen_FTEM!J7)","v":0},null,null,null,{"$f":"IFERROR(AVERAGE(O16:O19),\"-\")","v":"-"},null,{"$f":"IFERROR(AVERAGE(Q16:Q19),\"-\")","v":"-"},null,{"$f":"IFERROR(AVERAGE(S16:S19),\"-\")","v":"-"},null,{"$f":"IFERROR(AVERAGE(U16:U19),\"-\")","v":"-"},null,{"$f":"IFERROR(AVERAGE(W16:W19),\"-\")","v":"-"},null,{"$f":"IFERROR(AVERAGE(Y16:Y19),\"-\")","v":"-"}]
[null,null,null,{"$f":"IF($H$2=\"G\",Skillserleuterungen_FTEM!Q8,Skillserleuterungen_FTEM!D8)","v":"PASSEN"},null,null,{"$f":"IF($H$2=\"G\",Skillserleuterungen_FTEM!T8,Skillserleuterungen_FTEM!G8)","v":"Passabgabe (Distanz, Flippass Backhand), Passannahme (Präzision, Timing, Vorhand, Rückhand, Schlittschuh,Puckspeed"},null,null,{"$f":"IF($H$2=\"G\",Skillserleuterungen_FTEM!W8,Skillserleuterungen_FTEM!J8)","v":0}]
[null,null,null,{"$f":"IF($H$2=\"G\",Skillserleuterungen_FTEM!Q9,Skillserleuterungen_FTEM!D9)","v":"KÖRPERSPIEL"},null,null,{"$f":"IF($H$2=\"G\",Skillserleuterungen_FTEM!T9,Skillserleuterungen_FTEM!G9)","v":"Phyisches Durchsetzungsvermögen, Zweikampf (offenes Eis/Bande), Checks nehmen/Head up, Battle Level, Hart aber fair, mit dem Körper Schüsse blockieren"},null,null,{"$f":"IF($H$2=\"G\",Skillserleuterungen_FTEM!W9,Skillserleuterungen_FTEM!J9)","v":0},null,null,null,{"$f":"IFERROR(AVERAGE(O18:O19),\"-\")","v":"-"},null,{"$f":"IFERROR(AVERAGE(Q18:Q19),\"-\")","v":"-"},null,{"$f":"IFERROR(AVERAGE(S18:S19),\"-\")","v":"-"},null,{"$f":"IFERROR(AVERAGE(U18:U19),\"-\")","v":"-"},null,{"$f":"IFERROR(AVERAGE(W18:W19),\"-\")","v":"-"},null,{"$f":"IFERROR(AVERAGE(Y18:Y19),\"-\")","v":"-"}]
[null,null,null,{"$f":"IF($H$2=\"G\",Skillserleuterungen_FTEM!Q10,Skillserleuterungen_FTEM!D10)","v":"SCHEIBENKONTROLLE"},null,null,{"$f":"IF($H$2=\"G\",Skillserleuterungen_FTEM!T10,Skillserleuterungen_FTEM!G10)","v":"Puckmanagmenet auf engem Raum, Puck Protection,  schwer kontrollierbare Scheiben "},null,null,{"$f":"IF($H$2=\"G\",Skillserleuterungen_FTEM!W10,Skillserleuterungen_FTEM!J10)","v":0}]
["SKATING",null,null,{"$f":"IF($H$2=\"G\",Skillserleuterungen_FTEM!Q11,Skillserleuterungen_FTEM!D11)","v":"FOOTSPEED"},null,null,{"$f":"IF($H$2=\"G\",Skillserleuterungen_FTEM!T11,Skillserleuterungen_FTEM!G11)","v":"Beschleunigung, Antritt, erste 3 Schritte Explosivität, Frequenz"},null,null,{"$f":"IF($H$2=\"G\",Skillserleuterungen_FTEM!W11,Skillserleuterungen_FTEM!J11)","v":0},null,null,null,{"$f":"IFERROR(AVERAGE(O20:O23),\"-\")","v":"-"},null,{"$f":"IFERROR(AVERAGE(Q20:Q23),\"-\")","v":"-"},null,{"$f":"IFERROR(AVERAGE(S20:S23),\"-\")","v":"-"},null,{"$f":"IFERROR(AVERAGE(U20:U23),\"-\")","v":"-"},null,{"$f":"IFERROR(AVERAGE(W20:W23),\"-\")","v":"-"},null,{"$f":"IFERROR(AVERAGE(Y20:Y23),\"-\")","v":"-"}]
[null,null,null,{"$f":"IF($H$2=\"G\",Skillserleuterungen_FTEM!Q12,Skillserleuterungen_FTEM!D12)","v":"AGILITÄT"},null,null,{"$f":"IF($H$2=\"G\",Skillserleuterungen_FTEM!T12,Skillserleuterungen_FTEM!G12)","v":"Richtungsänderung, Drehung, Stop und Start, «Nummelin»"},null,null,{"$f":"IF($H$2=\"G\",Skillserleuterungen_FTEM!W12,Skillserleuterungen_FTEM!J12)","v":0}]
[null,null,null,{"$f":"IF($H$2=\"G\",Skillserleuterungen_FTEM!Q13,Skillserleuterungen_FTEM!D13)","v":"BACKWARDS SKATING"},null,null,{"$f":"IF($H$2=\"G\",Skillserleuterungen_FTEM!T13,Skillserleuterungen_FTEM!G13)","v":"Beschleunigung, Geschwindigkeit, Balance"},null,null,{"$f":"IF($H$2=\"G\",Skillserleuterungen_FTEM!W13,Skillserleuterungen_FTEM!J13)","v":0}]
[null,null,null,{"$f":"IF($H$2=\"G\",Skillserleuterungen_FTEM!Q14,Skillserleuterungen_FTEM!D14)","v":"TOPSPEED"},null,null,{"$f":"IF($H$2=\"G\",Skillserleuterungen_FTEM!T14,Skillserleuterungen_FTEM!G14)","v":"Schnelligkeit, Gleitfähigkeit, vorwärts und rückwärts, Ökonomie"},null,null,{"$f":"IF($H$2=\"G\",Skillserleuterungen_FTEM!W14,Skillserleuterungen_FTEM!J14)","v":0}]
["HOCKEY SENSE",null,null,{"$f":"IF($H$2=\"G\",Skillserleuterungen_FTEM!Q15,Skillserleuterungen_FTEM!D15)","v":"SCORING"},null,null,{"$f":"IF($H$2=\"G\",Skillserleuterungen_FTEM!T15,Skillserleuterungen_FTEM!G15)","v":"Effizienz, variantentreich, überraschend, schnell, hart - Schussvarianten"},null,null,{"$f":"IF($H$2=\"G\",Skillserleuterungen_FTEM!W15,Skillserleuterungen_FTEM!J15)","v":0},null,null,null,{"$f":"IFERROR(AVERAGE(O24:O27),\"-\")","v":"-"},null,{"$f":"IFERROR(AVERAGE(Q24:Q27),\"-\")","v":"-"},null,{"$f":"IFERROR(AVERAGE(S24:S27),\"-\")","v":"-"},null,{"$f":"IFERROR(AVERAGE(U24:U27),\"-\")","v":"-"},null,{"$f":"IFERROR(AVERAGE(W24:W27),\"-\")","v":"-"},null,{"$f":"IFERROR(AVERAGE(Y24:Y27),\"-\")","v":"-"}]
[null,null,null,{"$f":"IF($H$2=\"G\",Skillserleuterungen_FTEM!Q16,Skillserleuterungen_FTEM!D16)","v":"MIT SCHEIBE"},null,null,{"$f":"IF($H$2=\"G\",Skillserleuterungen_FTEM!T16,Skillserleuterungen_FTEM!G16)","v":"Kreativ, performing, batteling, frech, Transition"},null,null,{"$f":"IF($H$2=\"G\",Skillserleuterungen_FTEM!W16,Skillserleuterungen_FTEM!J16)","v":0}]
[null,null,null,{"$f":"IF($H$2=\"G\",Skillserleuterungen_FTEM!Q17,Skillserleuterungen_FTEM!D17)","v":"OHNE SCHEIBE"},null,null,{"$f":"IF($H$2=\"G\",Skillserleuterungen_FTEM!T17,Skillserleuterungen_FTEM!G17)","v":"Anspielbar (Support), 1:1, Gap"},null,null,{"$f":"IF($H$2=\"G\",Skillserleuterungen_FTEM!W17,Skillserleuterungen_FTEM!J17)","v":0}]
[null,null,null,{"$f":"IF($H$2=\"G\",Skillserleuterungen_FTEM!Q18,Skillserleuterungen_FTEM!D18)","v":"DEFENSIV"},null,null,{"$f":"IF($H$2=\"G\",Skillserleuterungen_FTEM!T18,Skillserleuterungen_FTEM!G18)","v":"Verlässlichkeit,  1:1, Gap, Zuordnung"},null,null,{"$f":"IF($H$2=\"G\",Skillserleuterungen_FTEM!W18,Skillserleuterungen_FTEM!J18)","v":0}]
["PERSONALITY",null,null,"FÄHIGKEIT",null,null,"BEOBACHTUNG",null,null,null,null,null,null,"Datum1",null,"Datum2",null,"Datum3",null,"Datum4",null,"Datum5",null,"Player",null,"ZIEL","MASSNAHME:\nSPEZIFISCH,  MESSBAR, REALISITISCH",null,null,null,null,null,null,"TERMIN","ZIEL-KONTROLLE","Datum"]
["PERSON",null,null,{"$f":"IF($H$2=\"G\",Skillserleuterungen_FTEM!Q20,Skillserleuterungen_FTEM!D20)","v":"MOTIVATION"},null,null,{"$f":"IF($H$2=\"G\",Skillserleuterungen_FTEM!T20,Skillserleuterungen_FTEM!G20)","v":"Intrinsischer Antrieb, will sich ständig weiterentwickeln, will der Erste sein und Erfolg haben"},null,null,{"$f":"IF($H$2=\"G\",Skillserleuterungen_FTEM!W20,Skillserleuterungen_FTEM!J20)","v":0},null,null,null,{"$f":"IFERROR(AVERAGE(O29:O32),\"-\")","v":"-"},null,{"$f":"IFERROR(AVERAGE(Q29:Q32),\"-\")","v":"-"},null,{"$f":"IFERROR(AVERAGE(S29:S32),\"-\")","v":"-"},null,{"$f":"IFERROR(AVERAGE(U29:U32),\"-\")","v":"-"},null,{"$f":"IFERROR(AVERAGE(W29:W32),\"-\")","v":"-"},null,{"$f":"IFERROR(AVERAGE(Y29:Y32),\"-\")","v":"-"}]
[null,null,null,{"$f":"IF($H$2=\"G\",Skillserleuterungen_FTEM!Q21,Skillserleuterungen_FTEM!D21)","v":"SELBSBEWUSSTSEIN"},null,null,{"$f":"IF($H$2=\"G\",Skillserleuterungen_FTEM!T21,Skillserleuterungen_FTEM!G21)","v":"Hat das nötige Selbstvertrauen \"I can do it\" haltung, kann eigenen Fähigkeiten einschätzen und agiert mutig"},null,null,{"$f":"IF($H$2=\"G\",Skillserleuterungen_FTEM!W21,Skillserleuterungen_FTEM!J21)","v":0}]
[null,null,null,{"$f":"IF($H$2=\"G\",Skillserleuterungen_FTEM!Q22,Skillserleuterungen_FTEM!D22)","v":"LERNFÄHIGKEIT"},null,null,{"$f":"IF($H$2=\"G\",Skillserleuterungen_FTEM!T22,Skillserleuterungen_FTEM!G22)","v":"Gute Auffassungsgabe (nimmt auf und kann umsetzen), reflektiert eigenes Handeln, versucht aus Fehlern zu lernen und kann Massnahmen ableiten und sich selber coachen"},null,null,{"$f":"IF($H$2=\"G\",Skillserleuterungen_FTEM!W22,Skillserleuterungen_FTEM!J22)","v":0}]
[null,null,null,{"$f":"IF($H$2=\"G\",Skillserleuterungen_FTEM!Q23,Skillserleuterungen_FTEM!D23)","v":"PERFORMANCE LIFESTYLE"},null,null,{"$f":"IF($H$2=\"G\",Skillserleuterungen_FTEM!T23,Skillserleuterungen_FTEM!G23)","v":"Managt Alltag und Umfeld nach dem Leistungsprinzip, kann sich gegen Wiederstände durchsetzten"},null,null,{"$f":"IF($H$2=\"G\",Skillserleuterungen_FTEM!W23,Skillserleuterungen_FTEM!J23)","v":0}]
["POWER",null,null,{"$f":"IF($H$2=\"G\",Skillserleuterungen_FTEM!Q24,Skillserleuterungen_FTEM!D24)","v":"ENERGIEMANAGEMENT"},null,null,{"$f":"IF($H$2=\"G\",Skillserleuterungen_FTEM!T24,Skillserleuterungen_FTEM!G24)","v":"Kann eigene Energie regulieren, bereit zur Regeneration, weiss, wann er \"Vollgas\" geben muss und wann ab-schalten, On/Off-Schalter"},null,null,{"$f":"IF($H$2=\"G\",Skillserleuterungen_FTEM!W24,Skillserleuterungen_FTEM!J24)","v":0},null,null,null,{"$f":"IFERROR(AVERAGE(O33:O36),\"-\")","v":"-"},null,{"$f":"IFERROR(AVERAGE(Q33:Q36),\"-\")","v":"-"},null,{"$f":"IFERROR(AVERAGE(S33:S36),\"-\")","v":"-"},null,{"$f":"IFERROR(AVERAGE(U33:U36),\"-\")","v":"-"},null,{"$f":"IFERROR(AVERAGE(W33:W36),\"-\")","v":"-"},null,{"$f":"IFERROR(AVERAGE(Y33:Y36),\"-\")","v":"-"}]
[null,null,null,{"$f":"IF($H$2=\"G\",Skillserleuterungen_FTEM!Q25,Skillserleuterungen_FTEM!D25)","v":"EINSATZBEREITSCHAFT"},null,null,{"$f":"IF($H$2=\"G\",Skillserleuterungen_FTEM!T25,Skillserleuterungen_FTEM!G25)","v":"Hohe intensität im Spiel und Training, gibt immer sein Maximum, will seine Limiten pushen"},null,null,{"$f":"IF($H$2=\"G\",Skillserleuterungen_FTEM!W25,Skillserleuterungen_FTEM!J25)","v":0}]
[null,null,null,{"$f":"IF($H$2=\"G\",Skillserleuterungen_FTEM!Q26,Skillserleuterungen_FTEM!D26)","v":"EMOTIONSKONTROLLE"},null,null,{"$f":"IF($H$2=\"G\",Skillserleuterungen_FTEM!T26,Skillserleuterungen_FTEM!G26)","v":"Emotionen und Impulse regulieren, unter Druck die Kontrolle behalten, in emotional ansprucksvollen Situationen angemessen agieren können"},null,null,{"$f":"IF($H$2=\"G\",Skillserleuterungen_FTEM!W26,Skillserleuterungen_FTEM!J26)","v":0}]
[null,null,null,{"$f":"IF($H$2=\"G\",Skillserleuterungen_FTEM!Q27,Skillserleuterungen_FTEM!D27)","v":"VORBEREITUNG"},null,null,{"$f":"IF($H$2=\"G\",Skillserleuterungen_FTEM!T27,Skillserleuterungen_FTEM!G27)","v":"Fokus, ILZ, Regeneration, Selbststiumlation, Ernährung"},null,null,{"$f":"IF($H$2=\"G\",Skillserleuterungen_FTEM!W27,Skillserleuterungen_FTEM!J27)","v":0}]
["PYHSE (Athletik)",null,null,{"$f":"IF($H$2=\"G\",Skillserleuterungen_FTEM!Q28,Skillserleuterungen_FTEM!D28)","v":"LEISTUNGSERZEUGUNG (neuromuskuläre Faktoren /Leistungserzeugung)"},null,null,{"$f":"IF($H$2=\"G\",Skillserleuterungen_FTEM!T28,Skillserleuterungen_FTEM!G28)","v":"Verfügt über die nötige Power/ Kraft/ Schnelligkeit in den Beinen un im Oberkörper "},null,null,{"$f":"IF($H$2=\"G\",Skillserleuterungen_FTEM!W28,Skillserleuterungen_FTEM!J28)","v":0},null,null,null,{"$f":"IFERROR(AVERAGE(O37:O40),\"-\")","v":"-"},null,{"$f":"IFERROR(AVERAGE(Q37:Q40),\"-\")","v":"-"},null,{"$f":"IFERROR(AVERAGE(S37:S40),\"-\")","v":"-"},null,{"$f":"IFERROR(AVERAGE(U37:U40),\"-\")","v":"-"},null,{"$f":"IFERROR(AVERAGE(W37:W40),\"-\")","v":"-"},null,{"$f":"IFERROR(AVERAGE(Y37:Y40),\"-\")","v":"-"}]
[null,null,null,{"$f":"IF($H$2=\"G\",Skillserleuterungen_FTEM!Q29,Skillserleuterungen_FTEM!D29)","v":"SPEZ. ERMÜDUNGSRESISTENZ (metabolische, kardiovaskuläre Faktoren)"},null,null,{"$f":"IF($H$2=\"G\",Skillserleuterungen_FTEM!T29,Skillserleuterungen_FTEM!G29)","v":"Ist fähig die Power/ Kraft/ Schnelligkeit innerhalb des Einsatzes lange aufrechtzuerhalten und kann sich zwischen den Einsätzen jeweils vollkommen erholen (auch von Spiel zu Spiel)."},null,null,{"$f":"IF($H$2=\"G\",Skillserleuterungen_FTEM!W29,Skillserleuterungen_FTEM!J29)","v":0}]
[null,null,null,{"$f":"IF($H$2=\"G\",Skillserleuterungen_FTEM!Q30,Skillserleuterungen_FTEM!D30)","v":"BEWEGUNGSKOMPETENZ/ KOORDINATION "},null,null,{"$f":"IF($H$2=\"G\",Skillserleuterungen_FTEM!T30,Skillserleuterungen_FTEM!G30)","v":"Beherrscht die grundlegenden Bewegungsfertigkeiten, die eine unerlässliche Zubringerfunktion für die sportspezifischen \"Skills\" darstellt sowie zur nötigen Bewegungseffizienz führt. "},null,null,{"$f":"IF($H$2=\"G\",Skillserleuterungen_FTEM!W30,Skillserleuterungen_FTEM!J30)","v":0}]
[null,null,null,{"$f":"IF($H$2=\"G\",Skillserleuterungen_FTEM!Q31,Skillserleuterungen_FTEM!D31)","v":"ROBUSTHEIT/ PRÄVENTION"},null,null,{"$f":"IF($H$2=\"G\",Skillserleuterungen_FTEM!T31,Skillserleuterungen_FTEM!G31)","v":"Verletzungsanfälligkeit, Stabilität (Verfügt über die nötige Stabilität, Grundkraft (Körperspannung) \"z.B. Beinachsenstabilität\" und Beweglichkeit in den zentralen Gelenken \"Hüfte, Wirbelsäule\"), Standfestigkeit"},null,null,{"$f":"IF($H$2=\"G\",Skillserleuterungen_FTEM!W31,Skillserleuterungen_FTEM!J31)","v":0}]

{"sheet":"22","index":25,"n_rows":40,"n_cols":36,"rows_kept":40,"cut":false,"hidden":false,"merged":[[38,3,38,5],[38,6,38,11],[39,3,39,5],[39,6,39,11],[32,23,35,23],[32,0,35,2],[32,3,32,5],[32,6,32,11],[32,12,35,12],[32,13,35,13],[36,26,39,32],[36,34,39,34],[21,3,21,5],[21,6,21,11],[34,3,34,5],[34,6,34,11],[36,0,39,2],[36,12,39,12],[36,13,39,13],[36,15,39,15],[36,17,39,17],[36,19,39,19],[36,21,39,21],[36,23,39,23],[36,25,39,25],[36,3,36,5],[36,6,36,11],[37,3,37,5],[37,6,37,11],[32,15,35,15],[27,21,27,22],[28,17,31,17],[28,19,31,19],[28,21,31,21],[29,3,29,5],[29,6,29,11],[30,3,30,5],[30,6,30,11],[32,17,35,17],[32,19,35,19],[32,21,35,21],[33,3,33,5],[33,6,33,11],[35,3,35,5],[35,6,35,11],[23,0,26,2],[23,3,23,5],[23,6,23,11],[23,12,26,12],[23,13,26,13],[23,15,26,15],[27,23,27,24],[27,26,27,32],[28,0,31,2],[28,3,28,5],[28,6,28,11],[28,12,31,12],[28,13,31,13],[28,15,31,15],[31,3,31,5],[31,6,31,11],[28,23,31,23],[27,0,27,2],[27,3,27,5],[27,6,27,11],[27,13,27,14],[27,15,27,16],[27,17,27,18],[27,19,27,20],[19,19,22,19],[19,21,22,21],[19,23,22,23],[20,3,20,5],[20,6,20,11],[22,3,22,5],[22,6,22,11],[26,3,26,5],[26,6,26,11],[23,23,26,23],[23,17,26,17],[23,19,26,19],[23,21,26,21],[24,3,24,5],[24,6,24,11],[25,3,25,5],[25,6,25,11],[12,21,13,21],[15,15,18,15],[15,17,18,17],[15,19,18,19],[15,21,18,21],[15,23,18,23],[18,3,18,5],[18,6,18,11],[19,0,22,2],[19,3,19,5],[19,6,19,11],[19,12,22,12],[19,13,22,13],[19,15,22,15],[19,17,22,17],[15,0,18,2],[15,3,15,5],[15,6,15,11],[15,12,18,12],[15,13,18,13],[16,3,16,5],[16,6,16,11],[17,3,17,5],[17,6,17,11],[11,21,11,22],[11,23,11,24],[11,26,11,32],[11,6,11,11],[12,23,13,23],[13,3,13,5],[13,6,13,11],[14,0,14,2],[14,3,14,5],[14,6,14,11],[14,13,14,14],[14,15,14,16],[14,17,14,18],[14,19,14,20],[14,21,14,22],[14,23,14,24],[12,0,13,2],[12,3,12,5],[12,6,12,11],[12,12,13,12],[12,13,13,13],[12,15,13,15],[12,17,13,17],[12,19,13,19],[4,0,4,1],[4,2,4,5],[4,10,4,24],[10,0,10,24],[10,25,10,35],[32,25,35,25],[32,26,35,32],[32,34,35,34],[12,25,13,25],[12,26,13,32],[12,34,13,34],[15,25,18,25],[15,26,18,32],[15,34,18,34],[19,25,22,25],[19,26,22,32],[19,34,22,34],[14,26,14,32],[11,0,11,2],[11,3,11,5],[11,13,11,14],[11,15,11,16],[11,17,11,18],[11,19,11,20],[0,0,0,24],[0,25,0,26],[0,27,0,32],[0,33,0,35],[23,25,26,25],[23,26,26,32],[23,34,26,34],[28,25,31,25],[28,26,31,32],[28,34,31,34],[1,0,1,1],[1,2,1,5],[1,10,1,24],[2,0,2,1],[2,2,2,5],[2,11,2,24],[6,0,6,1],[6,2,6,35],[7,0,7,1],[7,2,7,35],[8,0,8,1],[8,2,8,35],[3,0,3,1],[3,10,3,24]]}
["Personalien",null,null,null,null,null,null,null,null,null,null,null,null,null,null,null,null,null,null,null,null,null,null,null,null,"Vorausetzungen",null,"Evaluationen",null,null,null,null,null,"Rating"]
["VORNAME",null,{"$f":"IF(ISBLANK(VLOOKUP(22,Tabelle3[],3,0)),\"-\",VLOOKUP(22,Tabelle3[],3,0))","v":"-"},null,null,null,"POSITION",null,null,"ADRESSE",{"$f":"IF(ISBLANK(VLOOKUP(22,Tabelle3[],5,0)),\"-\",VLOOKUP(22,Tabelle3[],5,0))","v":"-"},null,null,null,null,null,null,null,null,null,null,null,null,null,null,"\"Alter\" (Biologisch/Relative Age)",null,"Datum 1",null,null,"cm",null,"Kg",null,"AUSGEZEICHNET",5]
["NAME",null,{"$f":"IF(ISBLANK(VLOOKUP(22,Tabelle3[],2,0)),\"-\",VLOOKUP(22,Tabelle3[],2,0))","v":"-"},null,null,null,"STOCK",null,null,"WOHNORT",{"$f":"IF(ISBLANK(VLOOKUP(22,Tabelle3[],7,0)),\"-\",VLOOKUP(22,Tabelle3[],7,0))","v":"-"},{"$f":"IF(ISBLANK(VLOOKUP(22,Tabelle3[],6,0)),\"-\",VLOOKUP(22,Tabelle3[],6,0))","v":"-"},null,null,null,null,null,null,null,null,null,null,null,null,null,"Veranlagung",null,"Datum 2",null,null,"cm",null,"Kg",null,"GUT",4]
["GEB. DATUM",null,{"$f":"IF(ISBLANK(VLOOKUP(22,Tabelle3[],14,0)),\"-\",VLOOKUP(22,Tabelle3[],14,0))","v":"-"},{"$f":"IF(ISBLANK(VLOOKUP(22,Tabelle3[],15,0)),\"-\",VLOOKUP(22,Tabelle3[],15,0))","v":"-"},{"$f":"IF(ISBLANK(VLOOKUP(22,Tabelle3[],16,0)),\"-\",VLOOKUP(22,Tabelle3[],16,0))","v":"-"},null,"GRÖSSE",null,"cm (Final)","PHONE",{"$f":"IF(ISBLANK(VLOOKUP(22,Tabelle3[],8,0)),\"-\",VLOOKUP(22,Tabelle3[],8,0))","v":"-"},null,null,null,null,null,null,null,null,null,null,null,null,null,null,"Umfeld",null,"Datum 3",null,null,"cm",null,"Kg",null,"DURCHSCHNITT",3]
["SEX",null,{"$f":"IF(ISBLANK(VLOOKUP(22,Tabelle3[],13,0)),\"-\",VLOOKUP(22,Tabelle3[],13,0))","v":"-"},null,null,null,"GEWICHT",null,"Kg (Final)","E-Mail",{"$f":"IF(ISBLANK(VLOOKUP(22,Tabelle3[],9,0)),\"-\",VLOOKUP(22,Tabelle3[],9,0))","v":"-"},null,null,null,null,null,null,null,null,null,null,null,null,null,null,null,null,"Datum 4",null,null,"cm",null,"Kg",null,"MANGELHAFT",2]
[null,null,null,null,null,null,null,null,null,null,null,null,null,null,null,null,null,null,null,null,null,null,null,null,null,null,null,"Datum 5",null,null,"cm",null,"Kg",null,"UNGENÜGEND",1]
["Vision",null,"xxx"]
["Next step",null,"xxx"]
["Stärkenprofil",null,"xxx"]
[]
["EVALUATION (COACH / SPIELER)",null,null,null,null,null,null,null,null,null,null,null,null,null,null,null,null,null,null,null,null,null,null,null,null,"SMART"]
["TEAM",null,null,"FÄHIGKEIT",null,null,"BEOBACHTUNG",null,null,null,null,null,"Final","Datum1",null,"Datum2",null,"Datum3",null,"Datum4",null,"Datum5",null,"Player",null,"ZIEL","MASSNAHME:\nSPEZIFISCH,  MESSBAR, REALISITISCH",null,null,null,null,null,null,"TERMIN","ZIEL-KONTROLLE","Datum"]
["ROLLE, SOZIAL",null,null,{"$f":"IF($H$2=\"G\",Skillserleuterungen_FTEM!Q4,Skillserleuterungen_FTEM!D4)","v":"TEAMDENKEN"},null,null,{"$f":"IF($H$2=\"G\",Skillserleuterungen_FTEM!T4,Skillserleuterungen_FTEM!G4)","v":"Identifikation zur Rolle, Umgang mit Kameraden (sozial integriert)"},null,null,{"$f":"IF($H$2=\"G\",Skillserleuterungen_FTEM!W4,Skillserleuterungen_FTEM!J4)","v":0},null,null,null,{"$f":"IFERROR(AVERAGE(O13:O14),\"-\")","v":"-"},null,{"$f":"IFERROR(AVERAGE(Q13:Q14),\"-\")","v":"-"},null,{"$f":"IFERROR(AVERAGE(S13:S14),\"-\")","v":"-"},null,{"$f":"IFERROR(AVERAGE(U13:U14),\"-\")","v":"-"},null,null,null,{"$f":"IFERROR(AVERAGE(Y13:Y14),\"-\")","v":"-"}]
[null,null,null,{"$f":"IF($H$2=\"G\",Skillserleuterungen_FTEM!Q5,Skillserleuterungen_FTEM!D5)","v":"LEADERSHIP"},null,null,{"$f":"IF($H$2=\"G\",Skillserleuterungen_FTEM!T5,Skillserleuterungen_FTEM!G5)","v":"Übernimmt Verantwortung, macht Mitspieler besser"},null,null,{"$f":"IF($H$2=\"G\",Skillserleuterungen_FTEM!W5,Skillserleuterungen_FTEM!J5)","v":0}]
["ON ICE",null,null,"FÄHIGKEIT",null,null,"BEOBACHTUNG",null,null,null,null,null,null,"Datum1",null,"Datum2",null,"Datum3",null,"Datum4",null,"Datum5",null,"Player",null,"ZIEL","MASSNAHME:\nSPEZIFISCH,  MESSBAR, REALISITISCH",null,null,null,null,null,null,"TERMIN","ZIEL-KONTROLLE","Datum"]
["SKILL",null,null,{"$f":"IF($H$2=\"G\",Skillserleuterungen_FTEM!Q7,Skillserleuterungen_FTEM!D7)","v":"SCHIESSEN"},null,null,{"$f":"IF($H$2=\"G\",Skillserleuterungen_FTEM!T7,Skillserleuterungen_FTEM!G7)","v":"Effizienz / Variantenreichtum, Überraschungsgrad (Quick Release), Präzision, Härte, (taktische Abschlüsse)\nschnell, hart, unter Druck"},null,null,{"$f":"IF($H$2=\"G\",Skillserleuterungen_FTEM!W7,Skillserleuterungen_FTEM!J7)","v":0},null,null,null,{"$f":"IFERROR(AVERAGE(O16:O19),\"-\")","v":"-"},null,{"$f":"IFERROR(AVERAGE(Q16:Q19),\"-\")","v":"-"},null,{"$f":"IFERROR(AVERAGE(S16:S19),\"-\")","v":"-"},null,{"$f":"IFERROR(AVERAGE(U16:U19),\"-\")","v":"-"},null,{"$f":"IFERROR(AVERAGE(W16:W19),\"-\")","v":"-"},null,{"$f":"IFERROR(AVERAGE(Y16:Y19),\"-\")","v":"-"}]
[null,null,null,{"$f":"IF($H$2=\"G\",Skillserleuterungen_FTEM!Q8,Skillserleuterungen_FTEM!D8)","v":"PASSEN"},null,null,{"$f":"IF($H$2=\"G\",Skillserleuterungen_FTEM!T8,Skillserleuterungen_FTEM!G8)","v":"Passabgabe (Distanz, Flippass Backhand), Passannahme (Präzision, Timing, Vorhand, Rückhand, Schlittschuh,Puckspeed"},null,null,{"$f":"IF($H$2=\"G\",Skillserleuterungen_FTEM!W8,Skillserleuterungen_FTEM!J8)","v":0}]
[null,null,null,{"$f":"IF($H$2=\"G\",Skillserleuterungen_FTEM!Q9,Skillserleuterungen_FTEM!D9)","v":"KÖRPERSPIEL"},null,null,{"$f":"IF($H$2=\"G\",Skillserleuterungen_FTEM!T9,Skillserleuterungen_FTEM!G9)","v":"Phyisches Durchsetzungsvermögen, Zweikampf (offenes Eis/Bande), Checks nehmen/Head up, Battle Level, Hart aber fair, mit dem Körper Schüsse blockieren"},null,null,{"$f":"IF($H$2=\"G\",Skillserleuterungen_FTEM!W9,Skillserleuterungen_FTEM!J9)","v":0},null,null,null,{"$f":"IFERROR(AVERAGE(O18:O19),\"-\")","v":"-"},null,{"$f":"IFERROR(AVERAGE(Q18:Q19),\"-\")","v":"-"},null,{"$f":"IFERROR(AVERAGE(S18:S19),\"-\")","v":"-"},null,{"$f":"IFERROR(AVERAGE(U18:U19),\"-\")","v":"-"},null,{"$f":"IFERROR(AVERAGE(W18:W19),\"-\")","v":"-"},null,{"$f":"IFERROR(AVERAGE(Y18:Y19),\"-\")","v":"-"}]
[null,null,null,{"$f":"IF($H$2=\"G\",Skillserleuterungen_FTEM!Q10,Skillserleuterungen_FTEM!D10)","v":"SCHEIBENKONTROLLE"},null,null,{"$f":"IF($H$2=\"G\",Skillserleuterungen_FTEM!T10,Skillserleuterungen_FTEM!G10)","v":"Puckmanagmenet auf engem Raum, Puck Protection,  schwer kontrollierbare Scheiben "},null,null,{"$f":"IF($H$2=\"G\",Skillserleuterungen_FTEM!W10,Skillserleuterungen_FTEM!J10)","v":0}]
["SKATING",null,null,{"$f":"IF($H$2=\"G\",Skillserleuterungen_FTEM!Q11,Skillserleuterungen_FTEM!D11)","v":"FOOTSPEED"},null,null,{"$f":"IF($H$2=\"G\",Skillserleuterungen_FTEM!T11,Skillserleuterungen_FTEM!G11)","v":"Beschleunigung, Antritt, erste 3 Schritte Explosivität, Frequenz"},null,null,{"$f":"IF($H$2=\"G\",Skillserleuterungen_FTEM!W11,Skillserleuterungen_FTEM!J11)","v":0},null,null,null,{"$f":"IFERROR(AVERAGE(O20:O23),\"-\")","v":"-"},null,{"$f":"IFERROR(AVERAGE(Q20:Q23),\"-\")","v":"-"},null,{"$f":"IFERROR(AVERAGE(S20:S23),\"-\")","v":"-"},null,{"$f":"IFERROR(AVERAGE(U20:U23),\"-\")","v":"-"},null,{"$f":"IFERROR(AVERAGE(W20:W23),\"-\")","v":"-"},null,{"$f":"IFERROR(AVERAGE(Y20:Y23),\"-\")","v":"-"}]
[null,null,null,{"$f":"IF($H$2=\"G\",Skillserleuterungen_FTEM!Q12,Skillserleuterungen_FTEM!D12)","v":"AGILITÄT"},null,null,{"$f":"IF($H$2=\"G\",Skillserleuterungen_FTEM!T12,Skillserleuterungen_FTEM!G12)","v":"Richtungsänderung, Drehung, Stop und Start, «Nummelin»"},null,null,{"$f":"IF($H$2=\"G\",Skillserleuterungen_FTEM!W12,Skillserleuterungen_FTEM!J12)","v":0}]
[null,null,null,{"$f":"IF($H$2=\"G\",Skillserleuterungen_FTEM!Q13,Skillserleuterungen_FTEM!D13)","v":"BACKWARDS SKATING"},null,null,{"$f":"IF($H$2=\"G\",Skillserleuterungen_FTEM!T13,Skillserleuterungen_FTEM!G13)","v":"Beschleunigung, Geschwindigkeit, Balance"},null,null,{"$f":"IF($H$2=\"G\",Skillserleuterungen_FTEM!W13,Skillserleuterungen_FTEM!J13)","v":0}]
[null,null,null,{"$f":"IF($H$2=\"G\",Skillserleuterungen_FTEM!Q14,Skillserleuterungen_FTEM!D14)","v":"TOPSPEED"},null,null,{"$f":"IF($H$2=\"G\",Skillserleuterungen_FTEM!T14,Skillserleuterungen_FTEM!G14)","v":"Schnelligkeit, Gleitfähigkeit, vorwärts und rückwärts, Ökonomie"},null,null,{"$f":"IF($H$2=\"G\",Skillserleuterungen_FTEM!W14,Skillserleuterungen_FTEM!J14)","v":0}]
["HOCKEY SENSE",null,null,{"$f":"IF($H$2=\"G\",Skillserleuterungen_FTEM!Q15,Skillserleuterungen_FTEM!D15)","v":"SCORING"},null,null,{"$f":"IF($H$2=\"G\",Skillserleuterungen_FTEM!T15,Skillserleuterungen_FTEM!G15)","v":"Effizienz, variantentreich, überraschend, schnell, hart - Schussvarianten"},null,null,{"$f":"IF($H$2=\"G\",Skillserleuterungen_FTEM!W15,Skillserleuterungen_FTEM!J15)","v":0},null,null,null,{"$f":"IFERROR(AVERAGE(O24:O27),\"-\")","v":"-"},null,{"$f":"IFERROR(AVERAGE(Q24:Q27),\"-\")","v":"-"},null,{"$f":"IFERROR(AVERAGE(S24:S27),\"-\")","v":"-"},null,{"$f":"IFERROR(AVERAGE(U24:U27),\"-\")","v":"-"},null,{"$f":"IFERROR(AVERAGE(W24:W27),\"-\")","v":"-"},null,{"$f":"IFERROR(AVERAGE(Y24:Y27),\"-\")","v":"-"}]
[null,null,null,{"$f":"IF($H$2=\"G\",Skillserleuterungen_FTEM!Q16,Skillserleuterungen_FTEM!D16)","v":"MIT SCHEIBE"},null,null,{"$f":"IF($H$2=\"G\",Skillserleuterungen_FTEM!T16,Skillserleuterungen_FTEM!G16)","v":"Kreativ, performing, batteling, frech, Transition"},null,null,{"$f":"IF($H$2=\"G\",Skillserleuterungen_FTEM!W16,Skillserleuterungen_FTEM!J16)","v":0}]
[null,null,null,{"$f":"IF($H$2=\"G\",Skillserleuterungen_FTEM!Q17,Skillserleuterungen_FTEM!D17)","v":"OHNE SCHEIBE"},null,null,{"$f":"IF($H$2=\"G\",Skillserleuterungen_FTEM!T17,Skillserleuterungen_FTEM!G17)","v":"Anspielbar (Support), 1:1, Gap"},null,null,{"$f":"IF($H$2=\"G\",Skillserleuterungen_FTEM!W17,Skillserleuterungen_FTEM!J17)","v":0}]
[null,null,null,{"$f":"IF($H$2=\"G\",Skillserleuterungen_FTEM!Q18,Skillserleuterungen_FTEM!D18)","v":"DEFENSIV"},null,null,{"$f":"IF($H$2=\"G\",Skillserleuterungen_FTEM!T18,Skillserleuterungen_FTEM!G18)","v":"Verlässlichkeit,  1:1, Gap, Zuordnung"},null,null,{"$f":"IF($H$2=\"G\",Skillserleuterungen_FTEM!W18,Skillserleuterungen_FTEM!J18)","v":0}]
["PERSONALITY",null,null,"FÄHIGKEIT",null,null,"BEOBACHTUNG",null,null,null,null,null,null,"Datum1",null,"Datum2",null,"Datum3",null,"Datum4",null,"Datum5",null,"Player",null,"ZIEL","MASSNAHME:\nSPEZIFISCH,  MESSBAR, REALISITISCH",null,null,null,null,null,null,"TERMIN","ZIEL-KONTROLLE","Datum"]
["PERSON",null,null,{"$f":"IF($H$2=\"G\",Skillserleuterungen_FTEM!Q20,Skillserleuterungen_FTEM!D20)","v":"MOTIVATION"},null,null,{"$f":"IF($H$2=\"G\",Skillserleuterungen_FTEM!T20,Skillserleuterungen_FTEM!G20)","v":"Intrinsischer Antrieb, will sich ständig weiterentwickeln, will der Erste sein und Erfolg haben"},null,null,{"$f":"IF($H$2=\"G\",Skillserleuterungen_FTEM!W20,Skillserleuterungen_FTEM!J20)","v":0},null,null,null,{"$f":"IFERROR(AVERAGE(O29:O32),\"-\")","v":"-"},null,{"$f":"IFERROR(AVERAGE(Q29:Q32),\"-\")","v":"-"},null,{"$f":"IFERROR(AVERAGE(S29:S32),\"-\")","v":"-"},null,{"$f":"IFERROR(AVERAGE(U29:U32),\"-\")","v":"-"},null,{"$f":"IFERROR(AVERAGE(W29:W32),\"-\")","v":"-"},null,{"$f":"IFERROR(AVERAGE(Y29:Y32),\"-\")","v":"-"}]
[null,null,null,{"$f":"IF($H$2=\"G\",Skillserleuterungen_FTEM!Q21,Skillserleuterungen_FTEM!D21)","v":"SELBSBEWUSSTSEIN"},null,null,{"$f":"IF($H$2=\"G\",Skillserleuterungen_FTEM!T21,Skillserleuterungen_FTEM!G21)","v":"Hat das nötige Selbstvertrauen \"I can do it\" haltung, kann eigenen Fähigkeiten einschätzen und agiert mutig"},null,null,{"$f":"IF($H$2=\"G\",Skillserleuterungen_FTEM!W21,Skillserleuterungen_FTEM!J21)","v":0}]
[null,null,null,{"$f":"IF($H$2=\"G\",Skillserleuterungen_FTEM!Q22,Skillserleuterungen_FTEM!D22)","v":"LERNFÄHIGKEIT"},null,null,{"$f":"IF($H$2=\"G\",Skillserleuterungen_FTEM!T22,Skillserleuterungen_FTEM!G22)","v":"Gute Auffassungsgabe (nimmt auf und kann umsetzen), reflektiert eigenes Handeln, versucht aus Fehlern zu lernen und kann Massnahmen ableiten und sich selber coachen"},null,null,{"$f":"IF($H$2=\"G\",Skillserleuterungen_FTEM!W22,Skillserleuterungen_FTEM!J22)","v":0}]
[null,null,null,{"$f":"IF($H$2=\"G\",Skillserleuterungen_FTEM!Q23,Skillserleuterungen_FTEM!D23)","v":"PERFORMANCE LIFESTYLE"},null,null,{"$f":"IF($H$2=\"G\",Skillserleuterungen_FTEM!T23,Skillserleuterungen_FTEM!G23)","v":"Managt Alltag und Umfeld nach dem Leistungsprinzip, kann sich gegen Wiederstände durchsetzten"},null,null,{"$f":"IF($H$2=\"G\",Skillserleuterungen_FTEM!W23,Skillserleuterungen_FTEM!J23)","v":0}]
["POWER",null,null,{"$f":"IF($H$2=\"G\",Skillserleuterungen_FTEM!Q24,Skillserleuterungen_FTEM!D24)","v":"ENERGIEMANAGEMENT"},null,null,{"$f":"IF($H$2=\"G\",Skillserleuterungen_FTEM!T24,Skillserleuterungen_FTEM!G24)","v":"Kann eigene Energie regulieren, bereit zur Regeneration, weiss, wann er \"Vollgas\" geben muss und wann ab-schalten, On/Off-Schalter"},null,null,{"$f":"IF($H$2=\"G\",Skillserleuterungen_FTEM!W24,Skillserleuterungen_FTEM!J24)","v":0},null,null,null,{"$f":"IFERROR(AVERAGE(O33:O36),\"-\")","v":"-"},null,{"$f":"IFERROR(AVERAGE(Q33:Q36),\"-\")","v":"-"},null,{"$f":"IFERROR(AVERAGE(S33:S36),\"-\")","v":"-"},null,{"$f":"IFERROR(AVERAGE(U33:U36),\"-\")","v":"-"},null,{"$f":"IFERROR(AVERAGE(W33:W36),\"-\")","v":"-"},null,{"$f":"IFERROR(AVERAGE(Y33:Y36),\"-\")","v":"-"}]
[null,null,null,{"$f":"IF($H$2=\"G\",Skillserleuterungen_FTEM!Q25,Skillserleuterungen_FTEM!D25)","v":"EINSATZBEREITSCHAFT"},null,null,{"$f":"IF($H$2=\"G\",Skillserleuterungen_FTEM!T25,Skillserleuterungen_FTEM!G25)","v":"Hohe intensität im Spiel und Training, gibt immer sein Maximum, will seine Limiten pushen"},null,null,{"$f":"IF($H$2=\"G\",Skillserleuterungen_FTEM!W25,Skillserleuterungen_FTEM!J25)","v":0}]
[null,null,null,{"$f":"IF($H$2=\"G\",Skillserleuterungen_FTEM!Q26,Skillserleuterungen_FTEM!D26)","v":"EMOTIONSKONTROLLE"},null,null,{"$f":"IF($H$2=\"G\",Skillserleuterungen_FTEM!T26,Skillserleuterungen_FTEM!G26)","v":"Emotionen und Impulse regulieren, unter Druck die Kontrolle behalten, in emotional ansprucksvollen Situationen angemessen agieren können"},null,null,{"$f":"IF($H$2=\"G\",Skillserleuterungen_FTEM!W26,Skillserleuterungen_FTEM!J26)","v":0}]
[null,null,null,{"$f":"IF($H$2=\"G\",Skillserleuterungen_FTEM!Q27,Skillserleuterungen_FTEM!D27)","v":"VORBEREITUNG"},null,null,{"$f":"IF($H$2=\"G\",Skillserleuterungen_FTEM!T27,Skillserleuterungen_FTEM!G27)","v":"Fokus, ILZ, Regeneration, Selbststiumlation, Ernährung"},null,null,{"$f":"IF($H$2=\"G\",Skillserleuterungen_FTEM!W27,Skillserleuterungen_FTEM!J27)","v":0}]
["PYHSE (Athletik)",null,null,{"$f":"IF($H$2=\"G\",Skillserleuterungen_FTEM!Q28,Skillserleuterungen_FTEM!D28)","v":"LEISTUNGSERZEUGUNG (neuromuskuläre Faktoren /Leistungserzeugung)"},null,null,{"$f":"IF($H$2=\"G\",Skillserleuterungen_FTEM!T28,Skillserleuterungen_FTEM!G28)","v":"Verfügt über die nötige Power/ Kraft/ Schnelligkeit in den Beinen un im Oberkörper "},null,null,{"$f":"IF($H$2=\"G\",Skillserleuterungen_FTEM!W28,Skillserleuterungen_FTEM!J28)","v":0},null,null,null,{"$f":"IFERROR(AVERAGE(O37:O40),\"-\")","v":"-"},null,{"$f":"IFERROR(AVERAGE(Q37:Q40),\"-\")","v":"-"},null,{"$f":"IFERROR(AVERAGE(S37:S40),\"-\")","v":"-"},null,{"$f":"IFERROR(AVERAGE(U37:U40),\"-\")","v":"-"},null,{"$f":"IFERROR(AVERAGE(W37:W40),\"-\")","v":"-"},null,{"$f":"IFERROR(AVERAGE(Y37:Y40),\"-\")","v":"-"}]
[null,null,null,{"$f":"IF($H$2=\"G\",Skillserleuterungen_FTEM!Q29,Skillserleuterungen_FTEM!D29)","v":"SPEZ. ERMÜDUNGSRESISTENZ (metabolische, kardiovaskuläre Faktoren)"},null,null,{"$f":"IF($H$2=\"G\",Skillserleuterungen_FTEM!T29,Skillserleuterungen_FTEM!G29)","v":"Ist fähig die Power/ Kraft/ Schnelligkeit innerhalb des Einsatzes lange aufrechtzuerhalten und kann sich zwischen den Einsätzen jeweils vollkommen erholen (auch von Spiel zu Spiel)."},null,null,{"$f":"IF($H$2=\"G\",Skillserleuterungen_FTEM!W29,Skillserleuterungen_FTEM!J29)","v":0}]
[null,null,null,{"$f":"IF($H$2=\"G\",Skillserleuterungen_FTEM!Q30,Skillserleuterungen_FTEM!D30)","v":"BEWEGUNGSKOMPETENZ/ KOORDINATION "},null,null,{"$f":"IF($H$2=\"G\",Skillserleuterungen_FTEM!T30,Skillserleuterungen_FTEM!G30)","v":"Beherrscht die grundlegenden Bewegungsfertigkeiten, die eine unerlässliche Zubringerfunktion für die sportspezifischen \"Skills\" darstellt sowie zur nötigen Bewegungseffizienz führt. "},null,null,{"$f":"IF($H$2=\"G\",Skillserleuterungen_FTEM!W30,Skillserleuterungen_FTEM!J30)","v":0}]
[null,null,null,{"$f":"IF($H$2=\"G\",Skillserleuterungen_FTEM!Q31,Skillserleuterungen_FTEM!D31)","v":"ROBUSTHEIT/ PRÄVENTION"},null,null,{"$f":"IF($H$2=\"G\",Skillserleuterungen_FTEM!T31,Skillserleuterungen_FTEM!G31)","v":"Verletzungsanfälligkeit, Stabilität (Verfügt über die nötige Stabilität, Grundkraft (Körperspannung) \"z.B. Beinachsenstabilität\" und Beweglichkeit in den zentralen Gelenken \"Hüfte, Wirbelsäule\"), Standfestigkeit"},null,null,{"$f":"IF($H$2=\"G\",Skillserleuterungen_FTEM!W31,Skillserleuterungen_FTEM!J31)","v":0}]

{"sheet":"23","index":26,"n_rows":40,"n_cols":36,"rows_kept":40,"cut":false,"hidden":false,"merged":[[38,3,38,5],[38,6,38,11],[39,3,39,5],[39,6,39,11],[32,23,35,23],[32,0,35,2],[32,3,32,5],[32,6,32,11],[32,12,35,12],[32,13,35,13],[36,26,39,32],[36,34,39,34],[21,3,21,5],[21,6,21,11],[34,3,34,5],[34,6,34,11],[36,0,39,2],[36,12,39,12],[36,13,39,13],[36,15,39,15],[36,17,39,17],[36,19,39,19],[36,21,39,21],[36,23,39,23],[36,25,39,25],[36,3,36,5],[36,6,36,11],[37,3,37,5],[37,6,37,11],[32,15,35,15],[27,21,27,22],[28,17,31,17],[28,19,31,19],[28,21,31,21],[29,3,29,5],[29,6,29,11],[30,3,30,5],[30,6,30,11],[32,17,35,17],[32,19,35,19],[32,21,35,21],[33,3,33,5],[33,6,33,11],[35,3,35,5],[35,6,35,11],[23,0,26,2],[23,3,23,5],[23,6,23,11],[23,12,26,12],[23,13,26,13],[23,15,26,15],[27,23,27,24],[27,26,27,32],[28,0,31,2],[28,3,28,5],[28,6,28,11],[28,12,31,12],[28,13,31,13],[28,15,31,15],[31,3,31,5],[31,6,31,11],[28,23,31,23],[27,0,27,2],[27,3,27,5],[27,6,27,11],[27,13,27,14],[27,15,27,16],[27,17,27,18],[27,19,27,20],[19,19,22,19],[19,21,22,21],[19,23,22,23],[20,3,20,5],[20,6,20,11],[22,3,22,5],[22,6,22,11],[26,3,26,5],[26,6,26,11],[23,23,26,23],[23,17,26,17],[23,19,26,19],[23,21,26,21],[24,3,24,5],[24,6,24,11],[25,3,25,5],[25,6,25,11],[12,21,13,21],[15,15,18,15],[15,17,18,17],[15,19,18,19],[15,21,18,21],[15,23,18,23],[18,3,18,5],[18,6,18,11],[19,0,22,2],[19,3,19,5],[19,6,19,11],[19,12,22,12],[19,13,22,13],[19,15,22,15],[19,17,22,17],[15,0,18,2],[15,3,15,5],[15,6,15,11],[15,12,18,12],[15,13,18,13],[16,3,16,5],[16,6,16,11],[17,3,17,5],[17,6,17,11],[11,21,11,22],[11,23,11,24],[11,26,11,32],[11,6,11,11],[12,23,13,23],[13,3,13,5],[13,6,13,11],[14,0,14,2],[14,3,14,5],[14,6,14,11],[14,13,14,14],[14,15,14,16],[14,17,14,18],[14,19,14,20],[14,21,14,22],[14,23,14,24],[12,0,13,2],[12,3,12,5],[12,6,12,11],[12,12,13,12],[12,13,13,13],[12,15,13,15],[12,17,13,17],[12,19,13,19],[4,0,4,1],[4,2,4,5],[4,10,4,24],[10,0,10,24],[10,25,10,35],[32,25,35,25],[32,26,35,32],[32,34,35,34],[12,25,13,25],[12,26,13,32],[12,34,13,34],[15,25,18,25],[15,26,18,32],[15,34,18,34],[19,25,22,25],[19,26,22,32],[19,34,22,34],[14,26,14,32],[11,0,11,2],[11,3,11,5],[11,13,11,14],[11,15,11,16],[11,17,11,18],[11,19,11,20],[0,0,0,24],[0,25,0,26],[0,27,0,32],[0,33,0,35],[23,25,26,25],[23,26,26,32],[23,34,26,34],[28,25,31,25],[28,26,31,32],[28,34,31,34],[1,0,1,1],[1,2,1,5],[1,10,1,24],[2,0,2,1],[2,2,2,5],[2,11,2,24],[6,0,6,1],[6,2,6,35],[7,0,7,1],[7,2,7,35],[8,0,8,1],[8,2,8,35],[3,0,3,1],[3,10,3,24]]}
["Personalien",null,null,null,null,null,null,null,null,null,null,null,null,null,null,null,null,null,null,null,null,null,null,null,null,"Vorausetzungen",null,"Evaluationen",null,null,null,null,null,"Rating"]
["VORNAME",null,{"$f":"IF(ISBLANK(VLOOKUP(23,Tabelle3[],3,0)),\"-\",VLOOKUP(23,Tabelle3[],3,0))","v":"-"},null,null,null,"POSITION",null,null,"ADRESSE",{"$f":"IF(ISBLANK(VLOOKUP(23,Tabelle3[],5,0)),\"-\",VLOOKUP(23,Tabelle3[],5,0))","v":"-"},null,null,null,null,null,null,null,null,null,null,null,null,null,null,"\"Alter\" (Biologisch/Relative Age)",null,"Datum 1",null,null,"cm",null,"Kg",null,"AUSGEZEICHNET",5]
["NAME",null,{"$f":"IF(ISBLANK(VLOOKUP(23,Tabelle3[],2,0)),\"-\",VLOOKUP(23,Tabelle3[],2,0))","v":"-"},null,null,null,"STOCK",null,null,"WOHNORT",{"$f":"IF(ISBLANK(VLOOKUP(23,Tabelle3[],7,0)),\"-\",VLOOKUP(23,Tabelle3[],7,0))","v":"-"},{"$f":"IF(ISBLANK(VLOOKUP(23,Tabelle3[],6,0)),\"-\",VLOOKUP(23,Tabelle3[],6,0))","v":"-"},null,null,null,null,null,null,null,null,null,null,null,null,null,"Veranlagung",null,"Datum 2",null,null,"cm",null,"Kg",null,"GUT",4]
["GEB. DATUM",null,{"$f":"IF(ISBLANK(VLOOKUP(23,Tabelle3[],14,0)),\"-\",VLOOKUP(23,Tabelle3[],14,0))","v":"-"},{"$f":"IF(ISBLANK(VLOOKUP(23,Tabelle3[],15,0)),\"-\",VLOOKUP(23,Tabelle3[],15,0))","v":"-"},{"$f":"IF(ISBLANK(VLOOKUP(23,Tabelle3[],16,0)),\"-\",VLOOKUP(23,Tabelle3[],16,0))","v":"-"},null,"GRÖSSE",null,"cm (Final)","PHONE",{"$f":"IF(ISBLANK(VLOOKUP(23,Tabelle3[],8,0)),\"-\",VLOOKUP(23,Tabelle3[],8,0))","v":"-"},null,null,null,null,null,null,null,null,null,null,null,null,null,null,"Umfeld",null,"Datum 3",null,null,"cm",null,"Kg",null,"DURCHSCHNITT",3]
["SEX",null,{"$f":"IF(ISBLANK(VLOOKUP(23,Tabelle3[],13,0)),\"-\",VLOOKUP(23,Tabelle3[],13,0))","v":"-"},null,null,null,"GEWICHT",null,"Kg (Final)","E-Mail",{"$f":"IF(ISBLANK(VLOOKUP(23,Tabelle3[],9,0)),\"-\",VLOOKUP(23,Tabelle3[],9,0))","v":"-"},null,null,null,null,null,null,null,null,null,null,null,null,null,null,null,null,"Datum 4",null,null,"cm",null,"Kg",null,"MANGELHAFT",2]
[null,null,null,null,null,null,null,null,null,null,null,null,null,null,null,null,null,null,null,null,null,null,null,null,null,null,null,"Datum 5",null,null,"cm",null,"Kg",null,"UNGENÜGEND",1]
["Vision",null,"xxx"]
["Next step",null,"xxx"]
["Stärkenprofil",null,"xxx"]
[]
["EVALUATION (COACH / SPIELER)",null,null,null,null,null,null,null,null,null,null,null,null,null,null,null,null,null,null,null,null,null,null,null,null,"SMART"]
["TEAM",null,null,"FÄHIGKEIT",null,null,"BEOBACHTUNG",null,null,null,null,null,"Final","Datum1",null,"Datum2",null,"Datum3",null,"Datum4",null,"Datum5",null,"Player",null,"ZIEL","MASSNAHME:\nSPEZIFISCH,  MESSBAR, REALISITISCH",null,null,null,null,null,null,"TERMIN","ZIEL-KONTROLLE","Datum"]
["ROLLE, SOZIAL",null,null,{"$f":"IF($H$2=\"G\",Skillserleuterungen_FTEM!Q4,Skillserleuterungen_FTEM!D4)","v":"TEAMDENKEN"},null,null,{"$f":"IF($H$2=\"G\",Skillserleuterungen_FTEM!T4,Skillserleuterungen_FTEM!G4)","v":"Identifikation zur Rolle, Umgang mit Kameraden (sozial integriert)"},null,null,{"$f":"IF($H$2=\"G\",Skillserleuterungen_FTEM!W4,Skillserleuterungen_FTEM!J4)","v":0},null,null,null,{"$f":"IFERROR(AVERAGE(O13:O14),\"-\")","v":"-"},null,{"$f":"IFERROR(AVERAGE(Q13:Q14),\"-\")","v":"-"},null,{"$f":"IFERROR(AVERAGE(S13:S14),\"-\")","v":"-"},null,{"$f":"IFERROR(AVERAGE(U13:U14),\"-\")","v":"-"},null,null,null,{"$f":"IFERROR(AVERAGE(Y13:Y14),\"-\")","v":"-"}]
[null,null,null,{"$f":"IF($H$2=\"G\",Skillserleuterungen_FTEM!Q5,Skillserleuterungen_FTEM!D5)","v":"LEADERSHIP"},null,null,{"$f":"IF($H$2=\"G\",Skillserleuterungen_FTEM!T5,Skillserleuterungen_FTEM!G5)","v":"Übernimmt Verantwortung, macht Mitspieler besser"},null,null,{"$f":"IF($H$2=\"G\",Skillserleuterungen_FTEM!W5,Skillserleuterungen_FTEM!J5)","v":0}]
["ON ICE",null,null,"FÄHIGKEIT",null,null,"BEOBACHTUNG",null,null,null,null,null,null,"Datum1",null,"Datum2",null,"Datum3",null,"Datum4",null,"Datum5",null,"Player",null,"ZIEL","MASSNAHME:\nSPEZIFISCH,  MESSBAR, REALISITISCH",null,null,null,null,null,null,"TERMIN","ZIEL-KONTROLLE","Datum"]
["SKILL",null,null,{"$f":"IF($H$2=\"G\",Skillserleuterungen_FTEM!Q7,Skillserleuterungen_FTEM!D7)","v":"SCHIESSEN"},null,null,{"$f":"IF($H$2=\"G\",Skillserleuterungen_FTEM!T7,Skillserleuterungen_FTEM!G7)","v":"Effizienz / Variantenreichtum, Überraschungsgrad (Quick Release), Präzision, Härte, (taktische Abschlüsse)\nschnell, hart, unter Druck"},null,null,{"$f":"IF($H$2=\"G\",Skillserleuterungen_FTEM!W7,Skillserleuterungen_FTEM!J7)","v":0},null,null,null,{"$f":"IFERROR(AVERAGE(O16:O19),\"-\")","v":"-"},null,{"$f":"IFERROR(AVERAGE(Q16:Q19),\"-\")","v":"-"},null,{"$f":"IFERROR(AVERAGE(S16:S19),\"-\")","v":"-"},null,{"$f":"IFERROR(AVERAGE(U16:U19),\"-\")","v":"-"},null,{"$f":"IFERROR(AVERAGE(W16:W19),\"-\")","v":"-"},null,{"$f":"IFERROR(AVERAGE(Y16:Y19),\"-\")","v":"-"}]
[null,null,null,{"$f":"IF($H$2=\"G\",Skillserleuterungen_FTEM!Q8,Skillserleuterungen_FTEM!D8)","v":"PASSEN"},null,null,{"$f":"IF($H$2=\"G\",Skillserleuterungen_FTEM!T8,Skillserleuterungen_FTEM!G8)","v":"Passabgabe (Distanz, Flippass Backhand), Passannahme (Präzision, Timing, Vorhand, Rückhand, Schlittschuh,Puckspeed"},null,null,{"$f":"IF($H$2=\"G\",Skillserleuterungen_FTEM!W8,Skillserleuterungen_FTEM!J8)","v":0}]
[null,null,null,{"$f":"IF($H$2=\"G\",Skillserleuterungen_FTEM!Q9,Skillserleuterungen_FTEM!D9)","v":"KÖRPERSPIEL"},null,null,{"$f":"IF($H$2=\"G\",Skillserleuterungen_FTEM!T9,Skillserleuterungen_FTEM!G9)","v":"Phyisches Durchsetzungsvermögen, Zweikampf (offenes Eis/Bande), Checks nehmen/Head up, Battle Level, Hart aber fair, mit dem Körper Schüsse blockieren"},null,null,{"$f":"IF($H$2=\"G\",Skillserleuterungen_FTEM!W9,Skillserleuterungen_FTEM!J9)","v":0},null,null,null,{"$f":"IFERROR(AVERAGE(O18:O19),\"-\")","v":"-"},null,{"$f":"IFERROR(AVERAGE(Q18:Q19),\"-\")","v":"-"},null,{"$f":"IFERROR(AVERAGE(S18:S19),\"-\")","v":"-"},null,{"$f":"IFERROR(AVERAGE(U18:U19),\"-\")","v":"-"},null,{"$f":"IFERROR(AVERAGE(W18:W19),\"-\")","v":"-"},null,{"$f":"IFERROR(AVERAGE(Y18:Y19),\"-\")","v":"-"}]
[null,null,null,{"$f":"IF($H$2=\"G\",Skillserleuterungen_FTEM!Q10,Skillserleuterungen_FTEM!D10)","v":"SCHEIBENKONTROLLE"},null,null,{"$f":"IF($H$2=\"G\",Skillserleuterungen_FTEM!T10,Skillserleuterungen_FTEM!G10)","v":"Puckmanagmenet auf engem Raum, Puck Protection,  schwer kontrollierbare Scheiben "},null,null,{"$f":"IF($H$2=\"G\",Skillserleuterungen_FTEM!W10,Skillserleuterungen_FTEM!J10)","v":0}]
["SKATING",null,null,{"$f":"IF($H$2=\"G\",Skillserleuterungen_FTEM!Q11,Skillserleuterungen_FTEM!D11)","v":"FOOTSPEED"},null,null,{"$f":"IF($H$2=\"G\",Skillserleuterungen_FTEM!T11,Skillserleuterungen_FTEM!G11)","v":"Beschleunigung, Antritt, erste 3 Schritte Explosivität, Frequenz"},null,null,{"$f":"IF($H$2=\"G\",Skillserleuterungen_FTEM!W11,Skillserleuterungen_FTEM!J11)","v":0},null,null,null,{"$f":"IFERROR(AVERAGE(O20:O23),\"-\")","v":"-"},null,{"$f":"IFERROR(AVERAGE(Q20:Q23),\"-\")","v":"-"},null,{"$f":"IFERROR(AVERAGE(S20:S23),\"-\")","v":"-"},null,{"$f":"IFERROR(AVERAGE(U20:U23),\"-\")","v":"-"},null,{"$f":"IFERROR(AVERAGE(W20:W23),\"-\")","v":"-"},null,{"$f":"IFERROR(AVERAGE(Y20:Y23),\"-\")","v":"-"}]
[null,null,null,{"$f":"IF($H$2=\"G\",Skillserleuterungen_FTEM!Q12,Skillserleuterungen_FTEM!D12)","v":"AGILITÄT"},null,null,{"$f":"IF($H$2=\"G\",Skillserleuterungen_FTEM!T12,Skillserleuterungen_FTEM!G12)","v":"Richtungsänderung, Drehung, Stop und Start, «Nummelin»"},null,null,{"$f":"IF($H$2=\"G\",Skillserleuterungen_FTEM!W12,Skillserleuterungen_FTEM!J12)","v":0}]
[null,null,null,{"$f":"IF($H$2=\"G\",Skillserleuterungen_FTEM!Q13,Skillserleuterungen_FTEM!D13)","v":"BACKWARDS SKATING"},null,null,{"$f":"IF($H$2=\"G\",Skillserleuterungen_FTEM!T13,Skillserleuterungen_FTEM!G13)","v":"Beschleunigung, Geschwindigkeit, Balance"},null,null,{"$f":"IF($H$2=\"G\",Skillserleuterungen_FTEM!W13,Skillserleuterungen_FTEM!J13)","v":0}]
[null,null,null,{"$f":"IF($H$2=\"G\",Skillserleuterungen_FTEM!Q14,Skillserleuterungen_FTEM!D14)","v":"TOPSPEED"},null,null,{"$f":"IF($H$2=\"G\",Skillserleuterungen_FTEM!T14,Skillserleuterungen_FTEM!G14)","v":"Schnelligkeit, Gleitfähigkeit, vorwärts und rückwärts, Ökonomie"},null,null,{"$f":"IF($H$2=\"G\",Skillserleuterungen_FTEM!W14,Skillserleuterungen_FTEM!J14)","v":0}]
["HOCKEY SENSE",null,null,{"$f":"IF($H$2=\"G\",Skillserleuterungen_FTEM!Q15,Skillserleuterungen_FTEM!D15)","v":"SCORING"},null,null,{"$f":"IF($H$2=\"G\",Skillserleuterungen_FTEM!T15,Skillserleuterungen_FTEM!G15)","v":"Effizienz, variantentreich, überraschend, schnell, hart - Schussvarianten"},null,null,{"$f":"IF($H$2=\"G\",Skillserleuterungen_FTEM!W15,Skillserleuterungen_FTEM!J15)","v":0},null,null,null,{"$f":"IFERROR(AVERAGE(O24:O27),\"-\")","v":"-"},null,{"$f":"IFERROR(AVERAGE(Q24:Q27),\"-\")","v":"-"},null,{"$f":"IFERROR(AVERAGE(S24:S27),\"-\")","v":"-"},null,{"$f":"IFERROR(AVERAGE(U24:U27),\"-\")","v":"-"},null,{"$f":"IFERROR(AVERAGE(W24:W27),\"-\")","v":"-"},null,{"$f":"IFERROR(AVERAGE(Y24:Y27),\"-\")","v":"-"}]
[null,null,null,{"$f":"IF($H$2=\"G\",Skillserleuterungen_FTEM!Q16,Skillserleuterungen_FTEM!D16)","v":"MIT SCHEIBE"},null,null,{"$f":"IF($H$2=\"G\",Skillserleuterungen_FTEM!T16,Skillserleuterungen_FTEM!G16)","v":"Kreativ, performing, batteling, frech, Transition"},null,null,{"$f":"IF($H$2=\"G\",Skillserleuterungen_FTEM!W16,Skillserleuterungen_FTEM!J16)","v":0}]
[null,null,null,{"$f":"IF($H$2=\"G\",Skillserleuterungen_FTEM!Q17,Skillserleuterungen_FTEM!D17)","v":"OHNE SCHEIBE"},null,null,{"$f":"IF($H$2=\"G\",Skillserleuterungen_FTEM!T17,Skillserleuterungen_FTEM!G17)","v":"Anspielbar (Support), 1:1, Gap"},null,null,{"$f":"IF($H$2=\"G\",Skillserleuterungen_FTEM!W17,Skillserleuterungen_FTEM!J17)","v":0}]
[null,null,null,{"$f":"IF($H$2=\"G\",Skillserleuterungen_FTEM!Q18,Skillserleuterungen_FTEM!D18)","v":"DEFENSIV"},null,null,{"$f":"IF($H$2=\"G\",Skillserleuterungen_FTEM!T18,Skillserleuterungen_FTEM!G18)","v":"Verlässlichkeit,  1:1, Gap, Zuordnung"},null,null,{"$f":"IF($H$2=\"G\",Skillserleuterungen_FTEM!W18,Skillserleuterungen_FTEM!J18)","v":0}]
["PERSONALITY",null,null,"FÄHIGKEIT",null,null,"BEOBACHTUNG",null,null,null,null,null,null,"Datum1",null,"Datum2",null,"Datum3",null,"Datum4",null,"Datum5",null,"Player",null,"ZIEL","MASSNAHME:\nSPEZIFISCH,  MESSBAR, REALISITISCH",null,null,null,null,null,null,"TERMIN","ZIEL-KONTROLLE","Datum"]
["PERSON",null,null,{"$f":"IF($H$2=\"G\",Skillserleuterungen_FTEM!Q20,Skillserleuterungen_FTEM!D20)","v":"MOTIVATION"},null,null,{"$f":"IF($H$2=\"G\",Skillserleuterungen_FTEM!T20,Skillserleuterungen_FTEM!G20)","v":"Intrinsischer Antrieb, will sich ständig weiterentwickeln, will der Erste sein und Erfolg haben"},null,null,{"$f":"IF($H$2=\"G\",Skillserleuterungen_FTEM!W20,Skillserleuterungen_FTEM!J20)","v":0},null,null,null,{"$f":"IFERROR(AVERAGE(O29:O32),\"-\")","v":"-"},null,{"$f":"IFERROR(AVERAGE(Q29:Q32),\"-\")","v":"-"},null,{"$f":"IFERROR(AVERAGE(S29:S32),\"-\")","v":"-"},null,{"$f":"IFERROR(AVERAGE(U29:U32),\"-\")","v":"-"},null,{"$f":"IFERROR(AVERAGE(W29:W32),\"-\")","v":"-"},null,{"$f":"IFERROR(AVERAGE(Y29:Y32),\"-\")","v":"-"}]
[null,null,null,{"$f":"IF($H$2=\"G\",Skillserleuterungen_FTEM!Q21,Skillserleuterungen_FTEM!D21)","v":"SELBSBEWUSSTSEIN"},null,null,{"$f":"IF($H$2=\"G\",Skillserleuterungen_FTEM!T21,Skillserleuterungen_FTEM!G21)","v":"Hat das nötige Selbstvertrauen \"I can do it\" haltung, kann eigenen Fähigkeiten einschätzen und agiert mutig"},null,null,{"$f":"IF($H$2=\"G\",Skillserleuterungen_FTEM!W21,Skillserleuterungen_FTEM!J21)","v":0}]
[null,null,null,{"$f":"IF($H$2=\"G\",Skillserleuterungen_FTEM!Q22,Skillserleuterungen_FTEM!D22)","v":"LERNFÄHIGKEIT"},null,null,{"$f":"IF($H$2=\"G\",Skillserleuterungen_FTEM!T22,Skillserleuterungen_FTEM!G22)","v":"Gute Auffassungsgabe (nimmt auf und kann umsetzen), reflektiert eigenes Handeln, versucht aus Fehlern zu lernen und kann Massnahmen ableiten und sich selber coachen"},null,null,{"$f":"IF($H$2=\"G\",Skillserleuterungen_FTEM!W22,Skillserleuterungen_FTEM!J22)","v":0}]
[null,null,null,{"$f":"IF($H$2=\"G\",Skillserleuterungen_FTEM!Q23,Skillserleuterungen_FTEM!D23)","v":"PERFORMANCE LIFESTYLE"},null,null,{"$f":"IF($H$2=\"G\",Skillserleuterungen_FTEM!T23,Skillserleuterungen_FTEM!G23)","v":"Managt Alltag und Umfeld nach dem Leistungsprinzip, kann sich gegen Wiederstände durchsetzten"},null,null,{"$f":"IF($H$2=\"G\",Skillserleuterungen_FTEM!W23,Skillserleuterungen_FTEM!J23)","v":0}]
["POWER",null,null,{"$f":"IF($H$2=\"G\",Skillserleuterungen_FTEM!Q24,Skillserleuterungen_FTEM!D24)","v":"ENERGIEMANAGEMENT"},null,null,{"$f":"IF($H$2=\"G\",Skillserleuterungen_FTEM!T24,Skillserleuterungen_FTEM!G24)","v":"Kann eigene Energie regulieren, bereit zur Regeneration, weiss, wann er \"Vollgas\" geben muss und wann ab-schalten, On/Off-Schalter"},null,null,{"$f":"IF($H$2=\"G\",Skillserleuterungen_FTEM!W24,Skillserleuterungen_FTEM!J24)","v":0},null,null,null,{"$f":"IFERROR(AVERAGE(O33:O36),\"-\")","v":"-"},null,{"$f":"IFERROR(AVERAGE(Q33:Q36),\"-\")","v":"-"},null,{"$f":"IFERROR(AVERAGE(S33:S36),\"-\")","v":"-"},null,{"$f":"IFERROR(AVERAGE(U33:U36),\"-\")","v":"-"},null,{"$f":"IFERROR(AVERAGE(W33:W36),\"-\")","v":"-"},null,{"$f":"IFERROR(AVERAGE(Y33:Y36),\"-\")","v":"-"}]
[null,null,null,{"$f":"IF($H$2=\"G\",Skillserleuterungen_FTEM!Q25,Skillserleuterungen_FTEM!D25)","v":"EINSATZBEREITSCHAFT"},null,null,{"$f":"IF($H$2=\"G\",Skillserleuterungen_FTEM!T25,Skillserleuterungen_FTEM!G25)","v":"Hohe intensität im Spiel und Training, gibt immer sein Maximum, will seine Limiten pushen"},null,null,{"$f":"IF($H$2=\"G\",Skillserleuterungen_FTEM!W25,Skillserleuterungen_FTEM!J25)","v":0}]
[null,null,null,{"$f":"IF($H$2=\"G\",Skillserleuterungen_FTEM!Q26,Skillserleuterungen_FTEM!D26)","v":"EMOTIONSKONTROLLE"},null,null,{"$f":"IF($H$2=\"G\",Skillserleuterungen_FTEM!T26,Skillserleuterungen_FTEM!G26)","v":"Emotionen und Impulse regulieren, unter Druck die Kontrolle behalten, in emotional ansprucksvollen Situationen angemessen agieren können"},null,null,{"$f":"IF($H$2=\"G\",Skillserleuterungen_FTEM!W26,Skillserleuterungen_FTEM!J26)","v":0}]
[null,null,null,{"$f":"IF($H$2=\"G\",Skillserleuterungen_FTEM!Q27,Skillserleuterungen_FTEM!D27)","v":"VORBEREITUNG"},null,null,{"$f":"IF($H$2=\"G\",Skillserleuterungen_FTEM!T27,Skillserleuterungen_FTEM!G27)","v":"Fokus, ILZ, Regeneration, Selbststiumlation, Ernährung"},null,null,{"$f":"IF($H$2=\"G\",Skillserleuterungen_FTEM!W27,Skillserleuterungen_FTEM!J27)","v":0}]
["PYHSE (Athletik)",null,null,{"$f":"IF($H$2=\"G\",Skillserleuterungen_FTEM!Q28,Skillserleuterungen_FTEM!D28)","v":"LEISTUNGSERZEUGUNG (neuromuskuläre Faktoren /Leistungserzeugung)"},null,null,{"$f":"IF($H$2=\"G\",Skillserleuterungen_FTEM!T28,Skillserleuterungen_FTEM!G28)","v":"Verfügt über die nötige Power/ Kraft/ Schnelligkeit in den Beinen un im Oberkörper "},null,null,{"$f":"IF($H$2=\"G\",Skillserleuterungen_FTEM!W28,Skillserleuterungen_FTEM!J28)","v":0},null,null,null,{"$f":"IFERROR(AVERAGE(O37:O40),\"-\")","v":"-"},null,{"$f":"IFERROR(AVERAGE(Q37:Q40),\"-\")","v":"-"},null,{"$f":"IFERROR(AVERAGE(S37:S40),\"-\")","v":"-"},null,{"$f":"IFERROR(AVERAGE(U37:U40),\"-\")","v":"-"},null,{"$f":"IFERROR(AVERAGE(W37:W40),\"-\")","v":"-"},null,{"$f":"IFERROR(AVERAGE(Y37:Y40),\"-\")","v":"-"}]
[null,null,null,{"$f":"IF($H$2=\"G\",Skillserleuterungen_FTEM!Q29,Skillserleuterungen_FTEM!D29)","v":"SPEZ. ERMÜDUNGSRESISTENZ (metabolische, kardiovaskuläre Faktoren)"},null,null,{"$f":"IF($H$2=\"G\",Skillserleuterungen_FTEM!T29,Skillserleuterungen_FTEM!G29)","v":"Ist fähig die Power/ Kraft/ Schnelligkeit innerhalb des Einsatzes lange aufrechtzuerhalten und kann sich zwischen den Einsätzen jeweils vollkommen erholen (auch von Spiel zu Spiel)."},null,null,{"$f":"IF($H$2=\"G\",Skillserleuterungen_FTEM!W29,Skillserleuterungen_FTEM!J29)","v":0}]
[null,null,null,{"$f":"IF($H$2=\"G\",Skillserleuterungen_FTEM!Q30,Skillserleuterungen_FTEM!D30)","v":"BEWEGUNGSKOMPETENZ/ KOORDINATION "},null,null,{"$f":"IF($H$2=\"G\",Skillserleuterungen_FTEM!T30,Skillserleuterungen_FTEM!G30)","v":"Beherrscht die grundlegenden Bewegungsfertigkeiten, die eine unerlässliche Zubringerfunktion für die sportspezifischen \"Skills\" darstellt sowie zur nötigen Bewegungseffizienz führt. "},null,null,{"$f":"IF($H$2=\"G\",Skillserleuterungen_FTEM!W30,Skillserleuterungen_FTEM!J30)","v":0}]
[null,null,null,{"$f":"IF($H$2=\"G\",Skillserleuterungen_FTEM!Q31,Skillserleuterungen_FTEM!D31)","v":"ROBUSTHEIT/ PRÄVENTION"},null,null,{"$f":"IF($H$2=\"G\",Skillserleuterungen_FTEM!T31,Skillserleuterungen_FTEM!G31)","v":"Verletzungsanfälligkeit, Stabilität (Verfügt über die nötige Stabilität, Grundkraft (Körperspannung) \"z.B. Beinachsenstabilität\" und Beweglichkeit in den zentralen Gelenken \"Hüfte, Wirbelsäule\"), Standfestigkeit"},null,null,{"$f":"IF($H$2=\"G\",Skillserleuterungen_FTEM!W31,Skillserleuterungen_FTEM!J31)","v":0}]

{"sheet":"24","index":27,"n_rows":40,"n_cols":36,"rows_kept":40,"cut":false,"hidden":false,"merged":[[38,3,38,5],[38,6,38,11],[39,3,39,5],[39,6,39,11],[32,23,35,23],[32,0,35,2],[32,3,32,5],[32,6,32,11],[32,12,35,12],[32,13,35,13],[36,26,39,32],[36,34,39,34],[21,3,21,5],[21,6,21,11],[34,3,34,5],[34,6,34,11],[36,0,39,2],[36,12,39,12],[36,13,39,13],[36,15,39,15],[36,17,39,17],[36,19,39,19],[36,21,39,21],[36,23,39,23],[36,25,39,25],[36,3,36,5],[36,6,36,11],[37,3,37,5],[37,6,37,11],[32,15,35,15],[27,21,27,22],[28,17,31,17],[28,19,31,19],[28,21,31,21],[29,3,29,5],[29,6,29,11],[30,3,30,5],[30,6,30,11],[32,17,35,17],[32,19,35,19],[32,21,35,21],[33,3,33,5],[33,6,33,11],[35,3,35,5],[35,6,35,11],[23,0,26,2],[23,3,23,5],[23,6,23,11],[23,12,26,12],[23,13,26,13],[23,15,26,15],[27,23,27,24],[27,26,27,32],[28,0,31,2],[28,3,28,5],[28,6,28,11],[28,12,31,12],[28,13,31,13],[28,15,31,15],[31,3,31,5],[31,6,31,11],[28,23,31,23],[27,0,27,2],[27,3,27,5],[27,6,27,11],[27,13,27,14],[27,15,27,16],[27,17,27,18],[27,19,27,20],[19,19,22,19],[19,21,22,21],[19,23,22,23],[20,3,20,5],[20,6,20,11],[22,3,22,5],[22,6,22,11],[26,3,26,5],[26,6,26,11],[23,23,26,23],[23,17,26,17],[23,19,26,19],[23,21,26,21],[24,3,24,5],[24,6,24,11],[25,3,25,5],[25,6,25,11],[12,21,13,21],[15,15,18,15],[15,17,18,17],[15,19,18,19],[15,21,18,21],[15,23,18,23],[18,3,18,5],[18,6,18,11],[19,0,22,2],[19,3,19,5],[19,6,19,11],[19,12,22,12],[19,13,22,13],[19,15,22,15],[19,17,22,17],[15,0,18,2],[15,3,15,5],[15,6,15,11],[15,12,18,12],[15,13,18,13],[16,3,16,5],[16,6,16,11],[17,3,17,5],[17,6,17,11],[11,21,11,22],[11,23,11,24],[11,26,11,32],[11,6,11,11],[12,23,13,23],[13,3,13,5],[13,6,13,11],[14,0,14,2],[14,3,14,5],[14,6,14,11],[14,13,14,14],[14,15,14,16],[14,17,14,18],[14,19,14,20],[14,21,14,22],[14,23,14,24],[12,0,13,2],[12,3,12,5],[12,6,12,11],[12,12,13,12],[12,13,13,13],[12,15,13,15],[12,17,13,17],[12,19,13,19],[4,0,4,1],[4,2,4,5],[4,10,4,24],[10,0,10,24],[10,25,10,35],[32,25,35,25],[32,26,35,32],[32,34,35,34],[12,25,13,25],[12,26,13,32],[12,34,13,34],[15,25,18,25],[15,26,18,32],[15,34,18,34],[19,25,22,25],[19,26,22,32],[19,34,22,34],[14,26,14,32],[11,0,11,2],[11,3,11,5],[11,13,11,14],[11,15,11,16],[11,17,11,18],[11,19,11,20],[0,0,0,24],[0,25,0,26],[0,27,0,32],[0,33,0,35],[23,25,26,25],[23,26,26,32],[23,34,26,34],[28,25,31,25],[28,26,31,32],[28,34,31,34],[1,0,1,1],[1,2,1,5],[1,10,1,24],[2,0,2,1],[2,2,2,5],[2,11,2,24],[6,0,6,1],[6,2,6,35],[7,0,7,1],[7,2,7,35],[8,0,8,1],[8,2,8,35],[3,0,3,1],[3,10,3,24]]}
["Personalien",null,null,null,null,null,null,null,null,null,null,null,null,null,null,null,null,null,null,null,null,null,null,null,null,"Vorausetzungen",null,"Evaluationen",null,null,null,null,null,"Rating"]
["VORNAME",null,{"$f":"IF(ISBLANK(VLOOKUP(24,Tabelle3[],3,0)),\"-\",VLOOKUP(24,Tabelle3[],3,0))","v":"-"},null,null,null,"POSITION",null,null,"ADRESSE",{"$f":"IF(ISBLANK(VLOOKUP(24,Tabelle3[],5,0)),\"-\",VLOOKUP(24,Tabelle3[],5,0))","v":"-"},null,null,null,null,null,null,null,null,null,null,null,null,null,null,"\"Alter\" (Biologisch/Relative Age)",null,"Datum 1",null,null,"cm",null,"Kg",null,"AUSGEZEICHNET",5]
["NAME",null,{"$f":"IF(ISBLANK(VLOOKUP(24,Tabelle3[],2,0)),\"-\",VLOOKUP(24,Tabelle3[],2,0))","v":"-"},null,null,null,"STOCK",null,null,"WOHNORT",{"$f":"IF(ISBLANK(VLOOKUP(24,Tabelle3[],7,0)),\"-\",VLOOKUP(24,Tabelle3[],7,0))","v":"-"},{"$f":"IF(ISBLANK(VLOOKUP(24,Tabelle3[],6,0)),\"-\",VLOOKUP(24,Tabelle3[],6,0))","v":"-"},null,null,null,null,null,null,null,null,null,null,null,null,null,"Veranlagung",null,"Datum 2",null,null,"cm",null,"Kg",null,"GUT",4]
["GEB. DATUM",null,{"$f":"IF(ISBLANK(VLOOKUP(24,Tabelle3[],14,0)),\"-\",VLOOKUP(24,Tabelle3[],14,0))","v":"-"},{"$f":"IF(ISBLANK(VLOOKUP(24,Tabelle3[],15,0)),\"-\",VLOOKUP(24,Tabelle3[],15,0))","v":"-"},{"$f":"IF(ISBLANK(VLOOKUP(24,Tabelle3[],16,0)),\"-\",VLOOKUP(24,Tabelle3[],16,0))","v":"-"},null,"GRÖSSE",null,"cm (Final)","PHONE",{"$f":"IF(ISBLANK(VLOOKUP(24,Tabelle3[],8,0)),\"-\",VLOOKUP(24,Tabelle3[],8,0))","v":"-"},null,null,null,null,null,null,null,null,null,null,null,null,null,null,"Umfeld",null,"Datum 3",null,null,"cm",null,"Kg",null,"DURCHSCHNITT",3]
["SEX",null,{"$f":"IF(ISBLANK(VLOOKUP(24,Tabelle3[],13,0)),\"-\",VLOOKUP(24,Tabelle3[],13,0))","v":"-"},null,null,null,"GEWICHT",null,"Kg (Final)","E-Mail",{"$f":"IF(ISBLANK(VLOOKUP(24,Tabelle3[],9,0)),\"-\",VLOOKUP(24,Tabelle3[],9,0))","v":"-"},null,null,null,null,null,null,null,null,null,null,null,null,null,null,null,null,"Datum 4",null,null,"cm",null,"Kg",null,"MANGELHAFT",2]
[null,null,null,null,null,null,null,null,null,null,null,null,null,null,null,null,null,null,null,null,null,null,null,null,null,null,null,"Datum 5",null,null,"cm",null,"Kg",null,"UNGENÜGEND",1]
["Vision",null,"xxx"]
["Next step",null,"xxx"]
["Stärkenprofil",null,"xxx"]
[]
["EVALUATION (COACH / SPIELER)",null,null,null,null,null,null,null,null,null,null,null,null,null,null,null,null,null,null,null,null,null,null,null,null,"SMART"]
["TEAM",null,null,"FÄHIGKEIT",null,null,"BEOBACHTUNG",null,null,null,null,null,"Final","Datum1",null,"Datum2",null,"Datum3",null,"Datum4",null,"Datum5",null,"Player",null,"ZIEL","MASSNAHME:\nSPEZIFISCH,  MESSBAR, REALISITISCH",null,null,null,null,null,null,"TERMIN","ZIEL-KONTROLLE","Datum"]
["ROLLE, SOZIAL",null,null,{"$f":"IF($H$2=\"G\",Skillserleuterungen_FTEM!Q4,Skillserleuterungen_FTEM!D4)","v":"TEAMDENKEN"},null,null,{"$f":"IF($H$2=\"G\",Skillserleuterungen_FTEM!T4,Skillserleuterungen_FTEM!G4)","v":"Identifikation zur Rolle, Umgang mit Kameraden (sozial integriert)"},null,null,{"$f":"IF($H$2=\"G\",Skillserleuterungen_FTEM!W4,Skillserleuterungen_FTEM!J4)","v":0},null,null,null,{"$f":"IFERROR(AVERAGE(O13:O14),\"-\")","v":"-"},null,{"$f":"IFERROR(AVERAGE(Q13:Q14),\"-\")","v":"-"},null,{"$f":"IFERROR(AVERAGE(S13:S14),\"-\")","v":"-"},null,{"$f":"IFERROR(AVERAGE(U13:U14),\"-\")","v":"-"},null,null,null,{"$f":"IFERROR(AVERAGE(Y13:Y14),\"-\")","v":"-"}]
[null,null,null,{"$f":"IF($H$2=\"G\",Skillserleuterungen_FTEM!Q5,Skillserleuterungen_FTEM!D5)","v":"LEADERSHIP"},null,null,{"$f":"IF($H$2=\"G\",Skillserleuterungen_FTEM!T5,Skillserleuterungen_FTEM!G5)","v":"Übernimmt Verantwortung, macht Mitspieler besser"},null,null,{"$f":"IF($H$2=\"G\",Skillserleuterungen_FTEM!W5,Skillserleuterungen_FTEM!J5)","v":0}]
["ON ICE",null,null,"FÄHIGKEIT",null,null,"BEOBACHTUNG",null,null,null,null,null,null,"Datum1",null,"Datum2",null,"Datum3",null,"Datum4",null,"Datum5",null,"Player",null,"ZIEL","MASSNAHME:\nSPEZIFISCH,  MESSBAR, REALISITISCH",null,null,null,null,null,null,"TERMIN","ZIEL-KONTROLLE","Datum"]
["SKILL",null,null,{"$f":"IF($H$2=\"G\",Skillserleuterungen_FTEM!Q7,Skillserleuterungen_FTEM!D7)","v":"SCHIESSEN"},null,null,{"$f":"IF($H$2=\"G\",Skillserleuterungen_FTEM!T7,Skillserleuterungen_FTEM!G7)","v":"Effizienz / Variantenreichtum, Überraschungsgrad (Quick Release), Präzision, Härte, (taktische Abschlüsse)\nschnell, hart, unter Druck"},null,null,{"$f":"IF($H$2=\"G\",Skillserleuterungen_FTEM!W7,Skillserleuterungen_FTEM!J7)","v":0},null,null,null,{"$f":"IFERROR(AVERAGE(O16:O19),\"-\")","v":"-"},null,{"$f":"IFERROR(AVERAGE(Q16:Q19),\"-\")","v":"-"},null,{"$f":"IFERROR(AVERAGE(S16:S19),\"-\")","v":"-"},null,{"$f":"IFERROR(AVERAGE(U16:U19),\"-\")","v":"-"},null,{"$f":"IFERROR(AVERAGE(W16:W19),\"-\")","v":"-"},null,{"$f":"IFERROR(AVERAGE(Y16:Y19),\"-\")","v":"-"}]
[null,null,null,{"$f":"IF($H$2=\"G\",Skillserleuterungen_FTEM!Q8,Skillserleuterungen_FTEM!D8)","v":"PASSEN"},null,null,{"$f":"IF($H$2=\"G\",Skillserleuterungen_FTEM!T8,Skillserleuterungen_FTEM!G8)","v":"Passabgabe (Distanz, Flippass Backhand), Passannahme (Präzision, Timing, Vorhand, Rückhand, Schlittschuh,Puckspeed"},null,null,{"$f":"IF($H$2=\"G\",Skillserleuterungen_FTEM!W8,Skillserleuterungen_FTEM!J8)","v":0}]
[null,null,null,{"$f":"IF($H$2=\"G\",Skillserleuterungen_FTEM!Q9,Skillserleuterungen_FTEM!D9)","v":"KÖRPERSPIEL"},null,null,{"$f":"IF($H$2=\"G\",Skillserleuterungen_FTEM!T9,Skillserleuterungen_FTEM!G9)","v":"Phyisches Durchsetzungsvermögen, Zweikampf (offenes Eis/Bande), Checks nehmen/Head up, Battle Level, Hart aber fair, mit dem Körper Schüsse blockieren"},null,null,{"$f":"IF($H$2=\"G\",Skillserleuterungen_FTEM!W9,Skillserleuterungen_FTEM!J9)","v":0},null,null,null,{"$f":"IFERROR(AVERAGE(O18:O19),\"-\")","v":"-"},null,{"$f":"IFERROR(AVERAGE(Q18:Q19),\"-\")","v":"-"},null,{"$f":"IFERROR(AVERAGE(S18:S19),\"-\")","v":"-"},null,{"$f":"IFERROR(AVERAGE(U18:U19),\"-\")","v":"-"},null,{"$f":"IFERROR(AVERAGE(W18:W19),\"-\")","v":"-"},null,{"$f":"IFERROR(AVERAGE(Y18:Y19),\"-\")","v":"-"}]
[null,null,null,{"$f":"IF($H$2=\"G\",Skillserleuterungen_FTEM!Q10,Skillserleuterungen_FTEM!D10)","v":"SCHEIBENKONTROLLE"},null,null,{"$f":"IF($H$2=\"G\",Skillserleuterungen_FTEM!T10,Skillserleuterungen_FTEM!G10)","v":"Puckmanagmenet auf engem Raum, Puck Protection,  schwer kontrollierbare Scheiben "},null,null,{"$f":"IF($H$2=\"G\",Skillserleuterungen_FTEM!W10,Skillserleuterungen_FTEM!J10)","v":0}]
["SKATING",null,null,{"$f":"IF($H$2=\"G\",Skillserleuterungen_FTEM!Q11,Skillserleuterungen_FTEM!D11)","v":"FOOTSPEED"},null,null,{"$f":"IF($H$2=\"G\",Skillserleuterungen_FTEM!T11,Skillserleuterungen_FTEM!G11)","v":"Beschleunigung, Antritt, erste 3 Schritte Explosivität, Frequenz"},null,null,{"$f":"IF($H$2=\"G\",Skillserleuterungen_FTEM!W11,Skillserleuterungen_FTEM!J11)","v":0},null,null,null,{"$f":"IFERROR(AVERAGE(O20:O23),\"-\")","v":"-"},null,{"$f":"IFERROR(AVERAGE(Q20:Q23),\"-\")","v":"-"},null,{"$f":"IFERROR(AVERAGE(S20:S23),\"-\")","v":"-"},null,{"$f":"IFERROR(AVERAGE(U20:U23),\"-\")","v":"-"},null,{"$f":"IFERROR(AVERAGE(W20:W23),\"-\")","v":"-"},null,{"$f":"IFERROR(AVERAGE(Y20:Y23),\"-\")","v":"-"}]
[null,null,null,{"$f":"IF($H$2=\"G\",Skillserleuterungen_FTEM!Q12,Skillserleuterungen_FTEM!D12)","v":"AGILITÄT"},null,null,{"$f":"IF($H$2=\"G\",Skillserleuterungen_FTEM!T12,Skillserleuterungen_FTEM!G12)","v":"Richtungsänderung, Drehung, Stop und Start, «Nummelin»"},null,null,{"$f":"IF($H$2=\"G\",Skillserleuterungen_FTEM!W12,Skillserleuterungen_FTEM!J12)","v":0}]
[null,null,null,{"$f":"IF($H$2=\"G\",Skillserleuterungen_FTEM!Q13,Skillserleuterungen_FTEM!D13)","v":"BACKWARDS SKATING"},null,null,{"$f":"IF($H$2=\"G\",Skillserleuterungen_FTEM!T13,Skillserleuterungen_FTEM!G13)","v":"Beschleunigung, Geschwindigkeit, Balance"},null,null,{"$f":"IF($H$2=\"G\",Skillserleuterungen_FTEM!W13,Skillserleuterungen_FTEM!J13)","v":0}]
[null,null,null,{"$f":"IF($H$2=\"G\",Skillserleuterungen_FTEM!Q14,Skillserleuterungen_FTEM!D14)","v":"TOPSPEED"},null,null,{"$f":"IF($H$2=\"G\",Skillserleuterungen_FTEM!T14,Skillserleuterungen_FTEM!G14)","v":"Schnelligkeit, Gleitfähigkeit, vorwärts und rückwärts, Ökonomie"},null,null,{"$f":"IF($H$2=\"G\",Skillserleuterungen_FTEM!W14,Skillserleuterungen_FTEM!J14)","v":0}]
["HOCKEY SENSE",null,null,{"$f":"IF($H$2=\"G\",Skillserleuterungen_FTEM!Q15,Skillserleuterungen_FTEM!D15)","v":"SCORING"},null,null,{"$f":"IF($H$2=\"G\",Skillserleuterungen_FTEM!T15,Skillserleuterungen_FTEM!G15)","v":"Effizienz, variantentreich, überraschend, schnell, hart - Schussvarianten"},null,null,{"$f":"IF($H$2=\"G\",Skillserleuterungen_FTEM!W15,Skillserleuterungen_FTEM!J15)","v":0},null,null,null,{"$f":"IFERROR(AVERAGE(O24:O27),\"-\")","v":"-"},null,{"$f":"IFERROR(AVERAGE(Q24:Q27),\"-\")","v":"-"},null,{"$f":"IFERROR(AVERAGE(S24:S27),\"-\")","v":"-"},null,{"$f":"IFERROR(AVERAGE(U24:U27),\"-\")","v":"-"},null,{"$f":"IFERROR(AVERAGE(W24:W27),\"-\")","v":"-"},null,{"$f":"IFERROR(AVERAGE(Y24:Y27),\"-\")","v":"-"}]
[null,null,null,{"$f":"IF($H$2=\"G\",Skillserleuterungen_FTEM!Q16,Skillserleuterungen_FTEM!D16)","v":"MIT SCHEIBE"},null,null,{"$f":"IF($H$2=\"G\",Skillserleuterungen_FTEM!T16,Skillserleuterungen_FTEM!G16)","v":"Kreativ, performing, batteling, frech, Transition"},null,null,{"$f":"IF($H$2=\"G\",Skillserleuterungen_FTEM!W16,Skillserleuterungen_FTEM!J16)","v":0}]
[null,null,null,{"$f":"IF($H$2=\"G\",Skillserleuterungen_FTEM!Q17,Skillserleuterungen_FTEM!D17)","v":"OHNE SCHEIBE"},null,null,{"$f":"IF($H$2=\"G\",Skillserleuterungen_FTEM!T17,Skillserleuterungen_FTEM!G17)","v":"Anspielbar (Support), 1:1, Gap"},null,null,{"$f":"IF($H$2=\"G\",Skillserleuterungen_FTEM!W17,Skillserleuterungen_FTEM!J17)","v":0}]
[null,null,null,{"$f":"IF($H$2=\"G\",Skillserleuterungen_FTEM!Q18,Skillserleuterungen_FTEM!D18)","v":"DEFENSIV"},null,null,{"$f":"IF($H$2=\"G\",Skillserleuterungen_FTEM!T18,Skillserleuterungen_FTEM!G18)","v":"Verlässlichkeit,  1:1, Gap, Zuordnung"},null,null,{"$f":"IF($H$2=\"G\",Skillserleuterungen_FTEM!W18,Skillserleuterungen_FTEM!J18)","v":0}]
["PERSONALITY",null,null,"FÄHIGKEIT",null,null,"BEOBACHTUNG",null,null,null,null,null,null,"Datum1",null,"Datum2",null,"Datum3",null,"Datum4",null,"Datum5",null,"Player",null,"ZIEL","MASSNAHME:\nSPEZIFISCH,  MESSBAR, REALISITISCH",null,null,null,null,null,null,"TERMIN","ZIEL-KONTROLLE","Datum"]
["PERSON",null,null,{"$f":"IF($H$2=\"G\",Skillserleuterungen_FTEM!Q20,Skillserleuterungen_FTEM!D20)","v":"MOTIVATION"},null,null,{"$f":"IF($H$2=\"G\",Skillserleuterungen_FTEM!T20,Skillserleuterungen_FTEM!G20)","v":"Intrinsischer Antrieb, will sich ständig weiterentwickeln, will der Erste sein und Erfolg haben"},null,null,{"$f":"IF($H$2=\"G\",Skillserleuterungen_FTEM!W20,Skillserleuterungen_FTEM!J20)","v":0},null,null,null,{"$f":"IFERROR(AVERAGE(O29:O32),\"-\")","v":"-"},null,{"$f":"IFERROR(AVERAGE(Q29:Q32),\"-\")","v":"-"},null,{"$f":"IFERROR(AVERAGE(S29:S32),\"-\")","v":"-"},null,{"$f":"IFERROR(AVERAGE(U29:U32),\"-\")","v":"-"},null,{"$f":"IFERROR(AVERAGE(W29:W32),\"-\")","v":"-"},null,{"$f":"IFERROR(AVERAGE(Y29:Y32),\"-\")","v":"-"}]
[null,null,null,{"$f":"IF($H$2=\"G\",Skillserleuterungen_FTEM!Q21,Skillserleuterungen_FTEM!D21)","v":"SELBSBEWUSSTSEIN"},null,null,{"$f":"IF($H$2=\"G\",Skillserleuterungen_FTEM!T21,Skillserleuterungen_FTEM!G21)","v":"Hat das nötige Selbstvertrauen \"I can do it\" haltung, kann eigenen Fähigkeiten einschätzen und agiert mutig"},null,null,{"$f":"IF($H$2=\"G\",Skillserleuterungen_FTEM!W21,Skillserleuterungen_FTEM!J21)","v":0}]
[null,null,null,{"$f":"IF($H$2=\"G\",Skillserleuterungen_FTEM!Q22,Skillserleuterungen_FTEM!D22)","v":"LERNFÄHIGKEIT"},null,null,{"$f":"IF($H$2=\"G\",Skillserleuterungen_FTEM!T22,Skillserleuterungen_FTEM!G22)","v":"Gute Auffassungsgabe (nimmt auf und kann umsetzen), reflektiert eigenes Handeln, versucht aus Fehlern zu lernen und kann Massnahmen ableiten und sich selber coachen"},null,null,{"$f":"IF($H$2=\"G\",Skillserleuterungen_FTEM!W22,Skillserleuterungen_FTEM!J22)","v":0}]
[null,null,null,{"$f":"IF($H$2=\"G\",Skillserleuterungen_FTEM!Q23,Skillserleuterungen_FTEM!D23)","v":"PERFORMANCE LIFESTYLE"},null,null,{"$f":"IF($H$2=\"G\",Skillserleuterungen_FTEM!T23,Skillserleuterungen_FTEM!G23)","v":"Managt Alltag und Umfeld nach dem Leistungsprinzip, kann sich gegen Wiederstände durchsetzten"},null,null,{"$f":"IF($H$2=\"G\",Skillserleuterungen_FTEM!W23,Skillserleuterungen_FTEM!J23)","v":0}]
["POWER",null,null,{"$f":"IF($H$2=\"G\",Skillserleuterungen_FTEM!Q24,Skillserleuterungen_FTEM!D24)","v":"ENERGIEMANAGEMENT"},null,null,{"$f":"IF($H$2=\"G\",Skillserleuterungen_FTEM!T24,Skillserleuterungen_FTEM!G24)","v":"Kann eigene Energie regulieren, bereit zur Regeneration, weiss, wann er \"Vollgas\" geben muss und wann ab-schalten, On/Off-Schalter"},null,null,{"$f":"IF($H$2=\"G\",Skillserleuterungen_FTEM!W24,Skillserleuterungen_FTEM!J24)","v":0},null,null,null,{"$f":"IFERROR(AVERAGE(O33:O36),\"-\")","v":"-"},null,{"$f":"IFERROR(AVERAGE(Q33:Q36),\"-\")","v":"-"},null,{"$f":"IFERROR(AVERAGE(S33:S36),\"-\")","v":"-"},null,{"$f":"IFERROR(AVERAGE(U33:U36),\"-\")","v":"-"},null,{"$f":"IFERROR(AVERAGE(W33:W36),\"-\")","v":"-"},null,{"$f":"IFERROR(AVERAGE(Y33:Y36),\"-\")","v":"-"}]
[null,null,null,{"$f":"IF($H$2=\"G\",Skillserleuterungen_FTEM!Q25,Skillserleuterungen_FTEM!D25)","v":"EINSATZBEREITSCHAFT"},null,null,{"$f":"IF($H$2=\"G\",Skillserleuterungen_FTEM!T25,Skillserleuterungen_FTEM!G25)","v":"Hohe intensität im Spiel und Training, gibt immer sein Maximum, will seine Limiten pushen"},null,null,{"$f":"IF($H$2=\"G\",Skillserleuterungen_FTEM!W25,Skillserleuterungen_FTEM!J25)","v":0}]
[null,null,null,{"$f":"IF($H$2=\"G\",Skillserleuterungen_FTEM!Q26,Skillserleuterungen_FTEM!D26)","v":"EMOTIONSKONTROLLE"},null,null,{"$f":"IF($H$2=\"G\",Skillserleuterungen_FTEM!T26,Skillserleuterungen_FTEM!G26)","v":"Emotionen und Impulse regulieren, unter Druck die Kontrolle behalten, in emotional ansprucksvollen Situationen angemessen agieren können"},null,null,{"$f":"IF($H$2=\"G\",Skillserleuterungen_FTEM!W26,Skillserleuterungen_FTEM!J26)","v":0}]
[null,null,null,{"$f":"IF($H$2=\"G\",Skillserleuterungen_FTEM!Q27,Skillserleuterungen_FTEM!D27)","v":"VORBEREITUNG"},null,null,{"$f":"IF($H$2=\"G\",Skillserleuterungen_FTEM!T27,Skillserleuterungen_FTEM!G27)","v":"Fokus, ILZ, Regeneration, Selbststiumlation, Ernährung"},null,null,{"$f":"IF($H$2=\"G\",Skillserleuterungen_FTEM!W27,Skillserleuterungen_FTEM!J27)","v":0}]
["PYHSE (Athletik)",null,null,{"$f":"IF($H$2=\"G\",Skillserleuterungen_FTEM!Q28,Skillserleuterungen_FTEM!D28)","v":"LEISTUNGSERZEUGUNG (neuromuskuläre Faktoren /Leistungserzeugung)"},null,null,{"$f":"IF($H$2=\"G\",Skillserleuterungen_FTEM!T28,Skillserleuterungen_FTEM!G28)","v":"Verfügt über die nötige Power/ Kraft/ Schnelligkeit in den Beinen un im Oberkörper "},null,null,{"$f":"IF($H$2=\"G\",Skillserleuterungen_FTEM!W28,Skillserleuterungen_FTEM!J28)","v":0},null,null,null,{"$f":"IFERROR(AVERAGE(O37:O40),\"-\")","v":"-"},null,{"$f":"IFERROR(AVERAGE(Q37:Q40),\"-\")","v":"-"},null,{"$f":"IFERROR(AVERAGE(S37:S40),\"-\")","v":"-"},null,{"$f":"IFERROR(AVERAGE(U37:U40),\"-\")","v":"-"},null,{"$f":"IFERROR(AVERAGE(W37:W40),\"-\")","v":"-"},null,{"$f":"IFERROR(AVERAGE(Y37:Y40),\"-\")","v":"-"}]
[null,null,null,{"$f":"IF($H$2=\"G\",Skillserleuterungen_FTEM!Q29,Skillserleuterungen_FTEM!D29)","v":"SPEZ. ERMÜDUNGSRESISTENZ (metabolische, kardiovaskuläre Faktoren)"},null,null,{"$f":"IF($H$2=\"G\",Skillserleuterungen_FTEM!T29,Skillserleuterungen_FTEM!G29)","v":"Ist fähig die Power/ Kraft/ Schnelligkeit innerhalb des Einsatzes lange aufrechtzuerhalten und kann sich zwischen den Einsätzen jeweils vollkommen erholen (auch von Spiel zu Spiel)."},null,null,{"$f":"IF($H$2=\"G\",Skillserleuterungen_FTEM!W29,Skillserleuterungen_FTEM!J29)","v":0}]
[null,null,null,{"$f":"IF($H$2=\"G\",Skillserleuterungen_FTEM!Q30,Skillserleuterungen_FTEM!D30)","v":"BEWEGUNGSKOMPETENZ/ KOORDINATION "},null,null,{"$f":"IF($H$2=\"G\",Skillserleuterungen_FTEM!T30,Skillserleuterungen_FTEM!G30)","v":"Beherrscht die grundlegenden Bewegungsfertigkeiten, die eine unerlässliche Zubringerfunktion für die sportspezifischen \"Skills\" darstellt sowie zur nötigen Bewegungseffizienz führt. "},null,null,{"$f":"IF($H$2=\"G\",Skillserleuterungen_FTEM!W30,Skillserleuterungen_FTEM!J30)","v":0}]
[null,null,null,{"$f":"IF($H$2=\"G\",Skillserleuterungen_FTEM!Q31,Skillserleuterungen_FTEM!D31)","v":"ROBUSTHEIT/ PRÄVENTION"},null,null,{"$f":"IF($H$2=\"G\",Skillserleuterungen_FTEM!T31,Skillserleuterungen_FTEM!G31)","v":"Verletzungsanfälligkeit, Stabilität (Verfügt über die nötige Stabilität, Grundkraft (Körperspannung) \"z.B. Beinachsenstabilität\" und Beweglichkeit in den zentralen Gelenken \"Hüfte, Wirbelsäule\"), Standfestigkeit"},null,null,{"$f":"IF($H$2=\"G\",Skillserleuterungen_FTEM!W31,Skillserleuterungen_FTEM!J31)","v":0}]

{"sheet":"25","index":28,"n_rows":40,"n_cols":36,"rows_kept":40,"cut":false,"hidden":false,"merged":[[38,3,38,5],[38,6,38,11],[39,3,39,5],[39,6,39,11],[32,23,35,23],[32,0,35,2],[32,3,32,5],[32,6,32,11],[32,12,35,12],[32,13,35,13],[36,26,39,32],[36,34,39,34],[21,3,21,5],[21,6,21,11],[34,3,34,5],[34,6,34,11],[36,0,39,2],[36,12,39,12],[36,13,39,13],[36,15,39,15],[36,17,39,17],[36,19,39,19],[36,21,39,21],[36,23,39,23],[36,25,39,25],[36,3,36,5],[36,6,36,11],[37,3,37,5],[37,6,37,11],[32,15,35,15],[27,21,27,22],[28,17,31,17],[28,19,31,19],[28,21,31,21],[29,3,29,5],[29,6,29,11],[30,3,30,5],[30,6,30,11],[32,17,35,17],[32,19,35,19],[32,21,35,21],[33,3,33,5],[33,6,33,11],[35,3,35,5],[35,6,35,11],[23,0,26,2],[23,3,23,5],[23,6,23,11],[23,12,26,12],[23,13,26,13],[23,15,26,15],[27,23,27,24],[27,26,27,32],[28,0,31,2],[28,3,28,5],[28,6,28,11],[28,12,31,12],[28,13,31,13],[28,15,31,15],[31,3,31,5],[31,6,31,11],[28,23,31,23],[27,0,27,2],[27,3,27,5],[27,6,27,11],[27,13,27,14],[27,15,27,16],[27,17,27,18],[27,19,27,20],[19,19,22,19],[19,21,22,21],[19,23,22,23],[20,3,20,5],[20,6,20,11],[22,3,22,5],[22,6,22,11],[26,3,26,5],[26,6,26,11],[23,23,26,23],[23,17,26,17],[23,19,26,19],[23,21,26,21],[24,3,24,5],[24,6,24,11],[25,3,25,5],[25,6,25,11],[12,21,13,21],[15,15,18,15],[15,17,18,17],[15,19,18,19],[15,21,18,21],[15,23,18,23],[18,3,18,5],[18,6,18,11],[19,0,22,2],[19,3,19,5],[19,6,19,11],[19,12,22,12],[19,13,22,13],[19,15,22,15],[19,17,22,17],[15,0,18,2],[15,3,15,5],[15,6,15,11],[15,12,18,12],[15,13,18,13],[16,3,16,5],[16,6,16,11],[17,3,17,5],[17,6,17,11],[11,21,11,22],[11,23,11,24],[11,26,11,32],[11,6,11,11],[12,23,13,23],[13,3,13,5],[13,6,13,11],[14,0,14,2],[14,3,14,5],[14,6,14,11],[14,13,14,14],[14,15,14,16],[14,17,14,18],[14,19,14,20],[14,21,14,22],[14,23,14,24],[12,0,13,2],[12,3,12,5],[12,6,12,11],[12,12,13,12],[12,13,13,13],[12,15,13,15],[12,17,13,17],[12,19,13,19],[4,0,4,1],[4,2,4,5],[4,10,4,24],[10,0,10,24],[10,25,10,35],[32,25,35,25],[32,26,35,32],[32,34,35,34],[12,25,13,25],[12,26,13,32],[12,34,13,34],[15,25,18,25],[15,26,18,32],[15,34,18,34],[19,25,22,25],[19,26,22,32],[19,34,22,34],[14,26,14,32],[11,0,11,2],[11,3,11,5],[11,13,11,14],[11,15,11,16],[11,17,11,18],[11,19,11,20],[0,0,0,24],[0,25,0,26],[0,27,0,32],[0,33,0,35],[23,25,26,25],[23,26,26,32],[23,34,26,34],[28,25,31,25],[28,26,31,32],[28,34,31,34],[1,0,1,1],[1,2,1,5],[1,10,1,24],[2,0,2,1],[2,2,2,5],[2,11,2,24],[6,0,6,1],[6,2,6,35],[7,0,7,1],[7,2,7,35],[8,0,8,1],[8,2,8,35],[3,0,3,1],[3,10,3,24]]}
["Personalien",null,null,null,null,null,null,null,null,null,null,null,null,null,null,null,null,null,null,null,null,null,null,null,null,"Vorausetzungen",null,"Evaluationen",null,null,null,null,null,"Rating"]
["VORNAME",null,{"$f":"IF(ISBLANK(VLOOKUP(25,Tabelle3[],3,0)),\"-\",VLOOKUP(25,Tabelle3[],3,0))","v":"-"},null,null,null,"POSITION",null,null,"ADRESSE",{"$f":"IF(ISBLANK(VLOOKUP(25,Tabelle3[],5,0)),\"-\",VLOOKUP(25,Tabelle3[],5,0))","v":"-"},null,null,null,null,null,null,null,null,null,null,null,null,null,null,"\"Alter\" (Biologisch/Relative Age)",null,"Datum 1",null,null,"cm",null,"Kg",null,"AUSGEZEICHNET",5]
["NAME",null,{"$f":"IF(ISBLANK(VLOOKUP(25,Tabelle3[],2,0)),\"-\",VLOOKUP(25,Tabelle3[],2,0))","v":"-"},null,null,null,"STOCK",null,null,"WOHNORT",{"$f":"IF(ISBLANK(VLOOKUP(25,Tabelle3[],7,0)),\"-\",VLOOKUP(25,Tabelle3[],7,0))","v":"-"},{"$f":"IF(ISBLANK(VLOOKUP(25,Tabelle3[],6,0)),\"-\",VLOOKUP(25,Tabelle3[],6,0))","v":"-"},null,null,null,null,null,null,null,null,null,null,null,null,null,"Veranlagung",null,"Datum 2",null,null,"cm",null,"Kg",null,"GUT",4]
["GEB. DATUM",null,{"$f":"IF(ISBLANK(VLOOKUP(25,Tabelle3[],14,0)),\"-\",VLOOKUP(25,Tabelle3[],14,0))","v":"-"},{"$f":"IF(ISBLANK(VLOOKUP(25,Tabelle3[],15,0)),\"-\",VLOOKUP(25,Tabelle3[],15,0))","v":"-"},{"$f":"IF(ISBLANK(VLOOKUP(25,Tabelle3[],16,0)),\"-\",VLOOKUP(25,Tabelle3[],16,0))","v":"-"},null,"GRÖSSE",null,"cm (Final)","PHONE",{"$f":"IF(ISBLANK(VLOOKUP(25,Tabelle3[],8,0)),\"-\",VLOOKUP(25,Tabelle3[],8,0))","v":"-"},null,null,null,null,null,null,null,null,null,null,null,null,null,null,"Umfeld",null,"Datum 3",null,null,"cm",null,"Kg",null,"DURCHSCHNITT",3]
["SEX",null,{"$f":"IF(ISBLANK(VLOOKUP(25,Tabelle3[],13,0)),\"-\",VLOOKUP(25,Tabelle3[],13,0))","v":"-"},null,null,null,"GEWICHT",null,"Kg (Final)","E-Mail",{"$f":"IF(ISBLANK(VLOOKUP(25,Tabelle3[],9,0)),\"-\",VLOOKUP(25,Tabelle3[],9,0))","v":"-"},null,null,null,null,null,null,null,null,null,null,null,null,null,null,null,null,"Datum 4",null,null,"cm",null,"Kg",null,"MANGELHAFT",2]
[null,null,null,null,null,null,null,null,null,null,null,null,null,null,null,null,null,null,null,null,null,null,null,null,null,null,null,"Datum 5",null,null,"cm",null,"Kg",null,"UNGENÜGEND",1]
["Vision",null,"xxx"]
["Next step",null,"xxx"]
["Stärkenprofil",null,"xxx"]
[]
["EVALUATION (COACH / SPIELER)",null,null,null,null,null,null,null,null,null,null,null,null,null,null,null,null,null,null,null,null,null,null,null,null,"SMART"]
["TEAM",null,null,"FÄHIGKEIT",null,null,"BEOBACHTUNG",null,null,null,null,null,"Final","Datum1",null,"Datum2",null,"Datum3",null,"Datum4",null,"Datum5",null,"Player",null,"ZIEL","MASSNAHME:\nSPEZIFISCH,  MESSBAR, REALISITISCH",null,null,null,null,null,null,"TERMIN","ZIEL-KONTROLLE","Datum"]
["ROLLE, SOZIAL",null,null,{"$f":"IF($H$2=\"G\",Skillserleuterungen_FTEM!Q4,Skillserleuterungen_FTEM!D4)","v":"TEAMDENKEN"},null,null,{"$f":"IF($H$2=\"G\",Skillserleuterungen_FTEM!T4,Skillserleuterungen_FTEM!G4)","v":"Identifikation zur Rolle, Umgang mit Kameraden (sozial integriert)"},null,null,{"$f":"IF($H$2=\"G\",Skillserleuterungen_FTEM!W4,Skillserleuterungen_FTEM!J4)","v":0},null,null,null,{"$f":"IFERROR(AVERAGE(O13:O14),\"-\")","v":"-"},null,{"$f":"IFERROR(AVERAGE(Q13:Q14),\"-\")","v":"-"},null,{"$f":"IFERROR(AVERAGE(S13:S14),\"-\")","v":"-"},null,{"$f":"IFERROR(AVERAGE(U13:U14),\"-\")","v":"-"},null,null,null,{"$f":"IFERROR(AVERAGE(Y13:Y14),\"-\")","v":"-"}]
[null,null,null,{"$f":"IF($H$2=\"G\",Skillserleuterungen_FTEM!Q5,Skillserleuterungen_FTEM!D5)","v":"LEADERSHIP"},null,null,{"$f":"IF($H$2=\"G\",Skillserleuterungen_FTEM!T5,Skillserleuterungen_FTEM!G5)","v":"Übernimmt Verantwortung, macht Mitspieler besser"},null,null,{"$f":"IF($H$2=\"G\",Skillserleuterungen_FTEM!W5,Skillserleuterungen_FTEM!J5)","v":0}]
["ON ICE",null,null,"FÄHIGKEIT",null,null,"BEOBACHTUNG",null,null,null,null,null,null,"Datum1",null,"Datum2",null,"Datum3",null,"Datum4",null,"Datum5",null,"Player",null,"ZIEL","MASSNAHME:\nSPEZIFISCH,  MESSBAR, REALISITISCH",null,null,null,null,null,null,"TERMIN","ZIEL-KONTROLLE","Datum"]
["SKILL",null,null,{"$f":"IF($H$2=\"G\",Skillserleuterungen_FTEM!Q7,Skillserleuterungen_FTEM!D7)","v":"SCHIESSEN"},null,null,{"$f":"IF($H$2=\"G\",Skillserleuterungen_FTEM!T7,Skillserleuterungen_FTEM!G7)","v":"Effizienz / Variantenreichtum, Überraschungsgrad (Quick Release), Präzision, Härte, (taktische Abschlüsse)\nschnell, hart, unter Druck"},null,null,{"$f":"IF($H$2=\"G\",Skillserleuterungen_FTEM!W7,Skillserleuterungen_FTEM!J7)","v":0},null,null,null,{"$f":"IFERROR(AVERAGE(O16:O19),\"-\")","v":"-"},null,{"$f":"IFERROR(AVERAGE(Q16:Q19),\"-\")","v":"-"},null,{"$f":"IFERROR(AVERAGE(S16:S19),\"-\")","v":"-"},null,{"$f":"IFERROR(AVERAGE(U16:U19),\"-\")","v":"-"},null,{"$f":"IFERROR(AVERAGE(W16:W19),\"-\")","v":"-"},null,{"$f":"IFERROR(AVERAGE(Y16:Y19),\"-\")","v":"-"}]
[null,null,null,{"$f":"IF($H$2=\"G\",Skillserleuterungen_FTEM!Q8,Skillserleuterungen_FTEM!D8)","v":"PASSEN"},null,null,{"$f":"IF($H$2=\"G\",Skillserleuterungen_FTEM!T8,Skillserleuterungen_FTEM!G8)","v":"Passabgabe (Distanz, Flippass Backhand), Passannahme (Präzision, Timing, Vorhand, Rückhand, Schlittschuh,Puckspeed"},null,null,{"$f":"IF($H$2=\"G\",Skillserleuterungen_FTEM!W8,Skillserleuterungen_FTEM!J8)","v":0}]
[null,null,null,{"$f":"IF($H$2=\"G\",Skillserleuterungen_FTEM!Q9,Skillserleuterungen_FTEM!D9)","v":"KÖRPERSPIEL"},null,null,{"$f":"IF($H$2=\"G\",Skillserleuterungen_FTEM!T9,Skillserleuterungen_FTEM!G9)","v":"Phyisches Durchsetzungsvermögen, Zweikampf (offenes Eis/Bande), Checks nehmen/Head up, Battle Level, Hart aber fair, mit dem Körper Schüsse blockieren"},null,null,{"$f":"IF($H$2=\"G\",Skillserleuterungen_FTEM!W9,Skillserleuterungen_FTEM!J9)","v":0},null,null,null,{"$f":"IFERROR(AVERAGE(O18:O19),\"-\")","v":"-"},null,{"$f":"IFERROR(AVERAGE(Q18:Q19),\"-\")","v":"-"},null,{"$f":"IFERROR(AVERAGE(S18:S19),\"-\")","v":"-"},null,{"$f":"IFERROR(AVERAGE(U18:U19),\"-\")","v":"-"},null,{"$f":"IFERROR(AVERAGE(W18:W19),\"-\")","v":"-"},null,{"$f":"IFERROR(AVERAGE(Y18:Y19),\"-\")","v":"-"}]
[null,null,null,{"$f":"IF($H$2=\"G\",Skillserleuterungen_FTEM!Q10,Skillserleuterungen_FTEM!D10)","v":"SCHEIBENKONTROLLE"},null,null,{"$f":"IF($H$2=\"G\",Skillserleuterungen_FTEM!T10,Skillserleuterungen_FTEM!G10)","v":"Puckmanagmenet auf engem Raum, Puck Protection,  schwer kontrollierbare Scheiben "},null,null,{"$f":"IF($H$2=\"G\",Skillserleuterungen_FTEM!W10,Skillserleuterungen_FTEM!J10)","v":0}]
["SKATING",null,null,{"$f":"IF($H$2=\"G\",Skillserleuterungen_FTEM!Q11,Skillserleuterungen_FTEM!D11)","v":"FOOTSPEED"},null,null,{"$f":"IF($H$2=\"G\",Skillserleuterungen_FTEM!T11,Skillserleuterungen_FTEM!G11)","v":"Beschleunigung, Antritt, erste 3 Schritte Explosivität, Frequenz"},null,null,{"$f":"IF($H$2=\"G\",Skillserleuterungen_FTEM!W11,Skillserleuterungen_FTEM!J11)","v":0},null,null,null,{"$f":"IFERROR(AVERAGE(O20:O23),\"-\")","v":"-"},null,{"$f":"IFERROR(AVERAGE(Q20:Q23),\"-\")","v":"-"},null,{"$f":"IFERROR(AVERAGE(S20:S23),\"-\")","v":"-"},null,{"$f":"IFERROR(AVERAGE(U20:U23),\"-\")","v":"-"},null,{"$f":"IFERROR(AVERAGE(W20:W23),\"-\")","v":"-"},null,{"$f":"IFERROR(AVERAGE(Y20:Y23),\"-\")","v":"-"}]
[null,null,null,{"$f":"IF($H$2=\"G\",Skillserleuterungen_FTEM!Q12,Skillserleuterungen_FTEM!D12)","v":"AGILITÄT"},null,null,{"$f":"IF($H$2=\"G\",Skillserleuterungen_FTEM!T12,Skillserleuterungen_FTEM!G12)","v":"Richtungsänderung, Drehung, Stop und Start, «Nummelin»"},null,null,{"$f":"IF($H$2=\"G\",Skillserleuterungen_FTEM!W12,Skillserleuterungen_FTEM!J12)","v":0}]
[null,null,null,{"$f":"IF($H$2=\"G\",Skillserleuterungen_FTEM!Q13,Skillserleuterungen_FTEM!D13)","v":"BACKWARDS SKATING"},null,null,{"$f":"IF($H$2=\"G\",Skillserleuterungen_FTEM!T13,Skillserleuterungen_FTEM!G13)","v":"Beschleunigung, Geschwindigkeit, Balance"},null,null,{"$f":"IF($H$2=\"G\",Skillserleuterungen_FTEM!W13,Skillserleuterungen_FTEM!J13)","v":0}]
[null,null,null,{"$f":"IF($H$2=\"G\",Skillserleuterungen_FTEM!Q14,Skillserleuterungen_FTEM!D14)","v":"TOPSPEED"},null,null,{"$f":"IF($H$2=\"G\",Skillserleuterungen_FTEM!T14,Skillserleuterungen_FTEM!G14)","v":"Schnelligkeit, Gleitfähigkeit, vorwärts und rückwärts, Ökonomie"},null,null,{"$f":"IF($H$2=\"G\",Skillserleuterungen_FTEM!W14,Skillserleuterungen_FTEM!J14)","v":0}]
["HOCKEY SENSE",null,null,{"$f":"IF($H$2=\"G\",Skillserleuterungen_FTEM!Q15,Skillserleuterungen_FTEM!D15)","v":"SCORING"},null,null,{"$f":"IF($H$2=\"G\",Skillserleuterungen_FTEM!T15,Skillserleuterungen_FTEM!G15)","v":"Effizienz, variantentreich, überraschend, schnell, hart - Schussvarianten"},null,null,{"$f":"IF($H$2=\"G\",Skillserleuterungen_FTEM!W15,Skillserleuterungen_FTEM!J15)","v":0},null,null,null,{"$f":"IFERROR(AVERAGE(O24:O27),\"-\")","v":"-"},null,{"$f":"IFERROR(AVERAGE(Q24:Q27),\"-\")","v":"-"},null,{"$f":"IFERROR(AVERAGE(S24:S27),\"-\")","v":"-"},null,{"$f":"IFERROR(AVERAGE(U24:U27),\"-\")","v":"-"},null,{"$f":"IFERROR(AVERAGE(W24:W27),\"-\")","v":"-"},null,{"$f":"IFERROR(AVERAGE(Y24:Y27),\"-\")","v":"-"}]
[null,null,null,{"$f":"IF($H$2=\"G\",Skillserleuterungen_FTEM!Q16,Skillserleuterungen_FTEM!D16)","v":"MIT SCHEIBE"},null,null,{"$f":"IF($H$2=\"G\",Skillserleuterungen_FTEM!T16,Skillserleuterungen_FTEM!G16)","v":"Kreativ, performing, batteling, frech, Transition"},null,null,{"$f":"IF($H$2=\"G\",Skillserleuterungen_FTEM!W16,Skillserleuterungen_FTEM!J16)","v":0}]
[null,null,null,{"$f":"IF($H$2=\"G\",Skillserleuterungen_FTEM!Q17,Skillserleuterungen_FTEM!D17)","v":"OHNE SCHEIBE"},null,null,{"$f":"IF($H$2=\"G\",Skillserleuterungen_FTEM!T17,Skillserleuterungen_FTEM!G17)","v":"Anspielbar (Support), 1:1, Gap"},null,null,{"$f":"IF($H$2=\"G\",Skillserleuterungen_FTEM!W17,Skillserleuterungen_FTEM!J17)","v":0}]
[null,null,null,{"$f":"IF($H$2=\"G\",Skillserleuterungen_FTEM!Q18,Skillserleuterungen_FTEM!D18)","v":"DEFENSIV"},null,null,{"$f":"IF($H$2=\"G\",Skillserleuterungen_FTEM!T18,Skillserleuterungen_FTEM!G18)","v":"Verlässlichkeit,  1:1, Gap, Zuordnung"},null,null,{"$f":"IF($H$2=\"G\",Skillserleuterungen_FTEM!W18,Skillserleuterungen_FTEM!J18)","v":0}]
["PERSONALITY",null,null,"FÄHIGKEIT",null,null,"BEOBACHTUNG",null,null,null,null,null,null,"Datum1",null,"Datum2",null,"Datum3",null,"Datum4",null,"Datum5",null,"Player",null,"ZIEL","MASSNAHME:\nSPEZIFISCH,  MESSBAR, REALISITISCH",null,null,null,null,null,null,"TERMIN","ZIEL-KONTROLLE","Datum"]
["PERSON",null,null,{"$f":"IF($H$2=\"G\",Skillserleuterungen_FTEM!Q20,Skillserleuterungen_FTEM!D20)","v":"MOTIVATION"},null,null,{"$f":"IF($H$2=\"G\",Skillserleuterungen_FTEM!T20,Skillserleuterungen_FTEM!G20)","v":"Intrinsischer Antrieb, will sich ständig weiterentwickeln, will der Erste sein und Erfolg haben"},null,null,{"$f":"IF($H$2=\"G\",Skillserleuterungen_FTEM!W20,Skillserleuterungen_FTEM!J20)","v":0},null,null,null,{"$f":"IFERROR(AVERAGE(O29:O32),\"-\")","v":"-"},null,{"$f":"IFERROR(AVERAGE(Q29:Q32),\"-\")","v":"-"},null,{"$f":"IFERROR(AVERAGE(S29:S32),\"-\")","v":"-"},null,{"$f":"IFERROR(AVERAGE(U29:U32),\"-\")","v":"-"},null,{"$f":"IFERROR(AVERAGE(W29:W32),\"-\")","v":"-"},null,{"$f":"IFERROR(AVERAGE(Y29:Y32),\"-\")","v":"-"}]
[null,null,null,{"$f":"IF($H$2=\"G\",Skillserleuterungen_FTEM!Q21,Skillserleuterungen_FTEM!D21)","v":"SELBSBEWUSSTSEIN"},null,null,{"$f":"IF($H$2=\"G\",Skillserleuterungen_FTEM!T21,Skillserleuterungen_FTEM!G21)","v":"Hat das nötige Selbstvertrauen \"I can do it\" haltung, kann eigenen Fähigkeiten einschätzen und agiert mutig"},null,null,{"$f":"IF($H$2=\"G\",Skillserleuterungen_FTEM!W21,Skillserleuterungen_FTEM!J21)","v":0}]
[null,null,null,{"$f":"IF($H$2=\"G\",Skillserleuterungen_FTEM!Q22,Skillserleuterungen_FTEM!D22)","v":"LERNFÄHIGKEIT"},null,null,{"$f":"IF($H$2=\"G\",Skillserleuterungen_FTEM!T22,Skillserleuterungen_FTEM!G22)","v":"Gute Auffassungsgabe (nimmt auf und kann umsetzen), reflektiert eigenes Handeln, versucht aus Fehlern zu lernen und kann Massnahmen ableiten und sich selber coachen"},null,null,{"$f":"IF($H$2=\"G\",Skillserleuterungen_FTEM!W22,Skillserleuterungen_FTEM!J22)","v":0}]
[null,null,null,{"$f":"IF($H$2=\"G\",Skillserleuterungen_FTEM!Q23,Skillserleuterungen_FTEM!D23)","v":"PERFORMANCE LIFESTYLE"},null,null,{"$f":"IF($H$2=\"G\",Skillserleuterungen_FTEM!T23,Skillserleuterungen_FTEM!G23)","v":"Managt Alltag und Umfeld nach dem Leistungsprinzip, kann sich gegen Wiederstände durchsetzten"},null,null,{"$f":"IF($H$2=\"G\",Skillserleuterungen_FTEM!W23,Skillserleuterungen_FTEM!J23)","v":0}]
["POWER",null,null,{"$f":"IF($H$2=\"G\",Skillserleuterungen_FTEM!Q24,Skillserleuterungen_FTEM!D24)","v":"ENERGIEMANAGEMENT"},null,null,{"$f":"IF($H$2=\"G\",Skillserleuterungen_FTEM!T24,Skillserleuterungen_FTEM!G24)","v":"Kann eigene Energie regulieren, bereit zur Regeneration, weiss, wann er \"Vollgas\" geben muss und wann ab-schalten, On/Off-Schalter"},null,null,{"$f":"IF($H$2=\"G\",Skillserleuterungen_FTEM!W24,Skillserleuterungen_FTEM!J24)","v":0},null,null,null,{"$f":"IFERROR(AVERAGE(O33:O36),\"-\")","v":"-"},null,{"$f":"IFERROR(AVERAGE(Q33:Q36),\"-\")","v":"-"},null,{"$f":"IFERROR(AVERAGE(S33:S36),\"-\")","v":"-"},null,{"$f":"IFERROR(AVERAGE(U33:U36),\"-\")","v":"-"},null,{"$f":"IFERROR(AVERAGE(W33:W36),\"-\")","v":"-"},null,{"$f":"IFERROR(AVERAGE(Y33:Y36),\"-\")","v":"-"}]
[null,null,null,{"$f":"IF($H$2=\"G\",Skillserleuterungen_FTEM!Q25,Skillserleuterungen_FTEM!D25)","v":"EINSATZBEREITSCHAFT"},null,null,{"$f":"IF($H$2=\"G\",Skillserleuterungen_FTEM!T25,Skillserleuterungen_FTEM!G25)","v":"Hohe intensität im Spiel und Training, gibt immer sein Maximum, will seine Limiten pushen"},null,null,{"$f":"IF($H$2=\"G\",Skillserleuterungen_FTEM!W25,Skillserleuterungen_FTEM!J25)","v":0}]
[null,null,null,{"$f":"IF($H$2=\"G\",Skillserleuterungen_FTEM!Q26,Skillserleuterungen_FTEM!D26)","v":"EMOTIONSKONTROLLE"},null,null,{"$f":"IF($H$2=\"G\",Skillserleuterungen_FTEM!T26,Skillserleuterungen_FTEM!G26)","v":"Emotionen und Impulse regulieren, unter Druck die Kontrolle behalten, in emotional ansprucksvollen Situationen angemessen agieren können"},null,null,{"$f":"IF($H$2=\"G\",Skillserleuterungen_FTEM!W26,Skillserleuterungen_FTEM!J26)","v":0}]
[null,null,null,{"$f":"IF($H$2=\"G\",Skillserleuterungen_FTEM!Q27,Skillserleuterungen_FTEM!D27)","v":"VORBEREITUNG"},null,null,{"$f":"IF($H$2=\"G\",Skillserleuterungen_FTEM!T27,Skillserleuterungen_FTEM!G27)","v":"Fokus, ILZ, Regeneration, Selbststiumlation, Ernährung"},null,null,{"$f":"IF($H$2=\"G\",Skillserleuterungen_FTEM!W27,Skillserleuterungen_FTEM!J27)","v":0}]
["PYHSE (Athletik)",null,null,{"$f":"IF($H$2=\"G\",Skillserleuterungen_FTEM!Q28,Skillserleuterungen_FTEM!D28)","v":"LEISTUNGSERZEUGUNG (neuromuskuläre Faktoren /Leistungserzeugung)"},null,null,{"$f":"IF($H$2=\"G\",Skillserleuterungen_FTEM!T28,Skillserleuterungen_FTEM!G28)","v":"Verfügt über die nötige Power/ Kraft/ Schnelligkeit in den Beinen un im Oberkörper "},null,null,{"$f":"IF($H$2=\"G\",Skillserleuterungen_FTEM!W28,Skillserleuterungen_FTEM!J28)","v":0},null,null,null,{"$f":"IFERROR(AVERAGE(O37:O40),\"-\")","v":"-"},null,{"$f":"IFERROR(AVERAGE(Q37:Q40),\"-\")","v":"-"},null,{"$f":"IFERROR(AVERAGE(S37:S40),\"-\")","v":"-"},null,{"$f":"IFERROR(AVERAGE(U37:U40),\"-\")","v":"-"},null,{"$f":"IFERROR(AVERAGE(W37:W40),\"-\")","v":"-"},null,{"$f":"IFERROR(AVERAGE(Y37:Y40),\"-\")","v":"-"}]
[null,null,null,{"$f":"IF($H$2=\"G\",Skillserleuterungen_FTEM!Q29,Skillserleuterungen_FTEM!D29)","v":"SPEZ. ERMÜDUNGSRESISTENZ (metabolische, kardiovaskuläre Faktoren)"},null,null,{"$f":"IF($H$2=\"G\",Skillserleuterungen_FTEM!T29,Skillserleuterungen_FTEM!G29)","v":"Ist fähig die Power/ Kraft/ Schnelligkeit innerhalb des Einsatzes lange aufrechtzuerhalten und kann sich zwischen den Einsätzen jeweils vollkommen erholen (auch von Spiel zu Spiel)."},null,null,{"$f":"IF($H$2=\"G\",Skillserleuterungen_FTEM!W29,Skillserleuterungen_FTEM!J29)","v":0}]
[null,null,null,{"$f":"IF($H$2=\"G\",Skillserleuterungen_FTEM!Q30,Skillserleuterungen_FTEM!D30)","v":"BEWEGUNGSKOMPETENZ/ KOORDINATION "},null,null,{"$f":"IF($H$2=\"G\",Skillserleuterungen_FTEM!T30,Skillserleuterungen_FTEM!G30)","v":"Beherrscht die grundlegenden Bewegungsfertigkeiten, die eine unerlässliche Zubringerfunktion für die sportspezifischen \"Skills\" darstellt sowie zur nötigen Bewegungseffizienz führt. "},null,null,{"$f":"IF($H$2=\"G\",Skillserleuterungen_FTEM!W30,Skillserleuterungen_FTEM!J30)","v":0}]
[null,null,null,{"$f":"IF($H$2=\"G\",Skillserleuterungen_FTEM!Q31,Skillserleuterungen_FTEM!D31)","v":"ROBUSTHEIT/ PRÄVENTION"},null,null,{"$f":"IF($H$2=\"G\",Skillserleuterungen_FTEM!T31,Skillserleuterungen_FTEM!G31)","v":"Verletzungsanfälligkeit, Stabilität (Verfügt über die nötige Stabilität, Grundkraft (Körperspannung) \"z.B. Beinachsenstabilität\" und Beweglichkeit in den zentralen Gelenken \"Hüfte, Wirbelsäule\"), Standfestigkeit"},null,null,{"$f":"IF($H$2=\"G\",Skillserleuterungen_FTEM!W31,Skillserleuterungen_FTEM!J31)","v":0}]

{"sheet":"26","index":29,"n_rows":40,"n_cols":36,"rows_kept":40,"cut":false,"hidden":false,"merged":[[38,3,38,5],[38,6,38,11],[39,3,39,5],[39,6,39,11],[32,23,35,23],[32,0,35,2],[32,3,32,5],[32,6,32,11],[32,12,35,12],[32,13,35,13],[36,26,39,32],[36,34,39,34],[21,3,21,5],[21,6,21,11],[34,3,34,5],[34,6,34,11],[36,0,39,2],[36,12,39,12],[36,13,39,13],[36,15,39,15],[36,17,39,17],[36,19,39,19],[36,21,39,21],[36,23,39,23],[36,25,39,25],[36,3,36,5],[36,6,36,11],[37,3,37,5],[37,6,37,11],[32,15,35,15],[27,21,27,22],[28,17,31,17],[28,19,31,19],[28,21,31,21],[29,3,29,5],[29,6,29,11],[30,3,30,5],[30,6,30,11],[32,17,35,17],[32,19,35,19],[32,21,35,21],[33,3,33,5],[33,6,33,11],[35,3,35,5],[35,6,35,11],[23,0,26,2],[23,3,23,5],[23,6,23,11],[23,12,26,12],[23,13,26,13],[23,15,26,15],[27,23,27,24],[27,26,27,32],[28,0,31,2],[28,3,28,5],[28,6,28,11],[28,12,31,12],[28,13,31,13],[28,15,31,15],[31,3,31,5],[31,6,31,11],[28,23,31,23],[27,0,27,2],[27,3,27,5],[27,6,27,11],[27,13,27,14],[27,15,27,16],[27,17,27,18],[27,19,27,20],[19,19,22,19],[19,21,22,21],[19,23,22,23],[20,3,20,5],[20,6,20,11],[22,3,22,5],[22,6,22,11],[26,3,26,5],[26,6,26,11],[23,23,26,23],[23,17,26,17],[23,19,26,19],[23,21,26,21],[24,3,24,5],[24,6,24,11],[25,3,25,5],[25,6,25,11],[12,21,13,21],[15,15,18,15],[15,17,18,17],[15,19,18,19],[15,21,18,21],[15,23,18,23],[18,3,18,5],[18,6,18,11],[19,0,22,2],[19,3,19,5],[19,6,19,11],[19,12,22,12],[19,13,22,13],[19,15,22,15],[19,17,22,17],[15,0,18,2],[15,3,15,5],[15,6,15,11],[15,12,18,12],[15,13,18,13],[16,3,16,5],[16,6,16,11],[17,3,17,5],[17,6,17,11],[11,21,11,22],[11,23,11,24],[11,26,11,32],[11,6,11,11],[12,23,13,23],[13,3,13,5],[13,6,13,11],[14,0,14,2],[14,3,14,5],[14,6,14,11],[14,13,14,14],[14,15,14,16],[14,17,14,18],[14,19,14,20],[14,21,14,22],[14,23,14,24],[12,0,13,2],[12,3,12,5],[12,6,12,11],[12,12,13,12],[12,13,13,13],[12,15,13,15],[12,17,13,17],[12,19,13,19],[4,0,4,1],[4,2,4,5],[4,10,4,24],[10,0,10,24],[10,25,10,35],[32,25,35,25],[32,26,35,32],[32,34,35,34],[12,25,13,25],[12,26,13,32],[12,34,13,34],[15,25,18,25],[15,26,18,32],[15,34,18,34],[19,25,22,25],[19,26,22,32],[19,34,22,34],[14,26,14,32],[11,0,11,2],[11,3,11,5],[11,13,11,14],[11,15,11,16],[11,17,11,18],[11,19,11,20],[0,0,0,24],[0,25,0,26],[0,27,0,32],[0,33,0,35],[23,25,26,25],[23,26,26,32],[23,34,26,34],[28,25,31,25],[28,26,31,32],[28,34,31,34],[1,0,1,1],[1,2,1,5],[1,10,1,24],[2,0,2,1],[2,2,2,5],[2,11,2,24],[6,0,6,1],[6,2,6,35],[7,0,7,1],[7,2,7,35],[8,0,8,1],[8,2,8,35],[3,0,3,1],[3,10,3,24]]}
["Personalien",null,null,null,null,null,null,null,null,null,null,null,null,null,null,null,null,null,null,null,null,null,null,null,null,"Vorausetzungen",null,"Evaluationen",null,null,null,null,null,"Rating"]
["VORNAME",null,{"$f":"IF(ISBLANK(VLOOKUP(26,Tabelle3[],3,0)),\"-\",VLOOKUP(26,Tabelle3[],3,0))","v":"-"},null,null,null,"POSITION",null,null,"ADRESSE",{"$f":"IF(ISBLANK(VLOOKUP(26,Tabelle3[],5,0)),\"-\",VLOOKUP(26,Tabelle3[],5,0))","v":"-"},null,null,null,null,null,null,null,null,null,null,null,null,null,null,"\"Alter\" (Biologisch/Relative Age)",null,"Datum 1",null,null,"cm",null,"Kg",null,"AUSGEZEICHNET",5]
["NAME",null,{"$f":"IF(ISBLANK(VLOOKUP(26,Tabelle3[],2,0)),\"-\",VLOOKUP(26,Tabelle3[],2,0))","v":"-"},null,null,null,"STOCK",null,null,"WOHNORT",{"$f":"IF(ISBLANK(VLOOKUP(26,Tabelle3[],7,0)),\"-\",VLOOKUP(26,Tabelle3[],7,0))","v":"-"},{"$f":"IF(ISBLANK(VLOOKUP(26,Tabelle3[],6,0)),\"-\",VLOOKUP(26,Tabelle3[],6,0))","v":"-"},null,null,null,null,null,null,null,null,null,null,null,null,null,"Veranlagung",null,"Datum 2",null,null,"cm",null,"Kg",null,"GUT",4]
["GEB. DATUM",null,{"$f":"IF(ISBLANK(VLOOKUP(26,Tabelle3[],14,0)),\"-\",VLOOKUP(26,Tabelle3[],14,0))","v":"-"},{"$f":"IF(ISBLANK(VLOOKUP(26,Tabelle3[],15,0)),\"-\",VLOOKUP(26,Tabelle3[],15,0))","v":"-"},{"$f":"IF(ISBLANK(VLOOKUP(26,Tabelle3[],16,0)),\"-\",VLOOKUP(26,Tabelle3[],16,0))","v":"-"},null,"GRÖSSE",null,"cm (Final)","PHONE",{"$f":"IF(ISBLANK(VLOOKUP(26,Tabelle3[],8,0)),\"-\",VLOOKUP(26,Tabelle3[],8,0))","v":"-"},null,null,null,null,null,null,null,null,null,null,null,null,null,null,"Umfeld",null,"Datum 3",null,null,"cm",null,"Kg",null,"DURCHSCHNITT",3]
["SEX",null,{"$f":"IF(ISBLANK(VLOOKUP(26,Tabelle3[],13,0)),\"-\",VLOOKUP(26,Tabelle3[],13,0))","v":"-"},null,null,null,"GEWICHT",null,"Kg (Final)","E-Mail",{"$f":"IF(ISBLANK(VLOOKUP(26,Tabelle3[],9,0)),\"-\",VLOOKUP(26,Tabelle3[],9,0))","v":"-"},null,null,null,null,null,null,null,null,null,null,null,null,null,null,null,null,"Datum 4",null,null,"cm",null,"Kg",null,"MANGELHAFT",2]
[null,null,null,null,null,null,null,null,null,null,null,null,null,null,null,null,null,null,null,null,null,null,null,null,null,null,null,"Datum 5",null,null,"cm",null,"Kg",null,"UNGENÜGEND",1]
["Vision",null,"xxx"]
["Next step",null,"xxx"]
["Stärkenprofil",null,"xxx"]
[]
["EVALUATION (COACH / SPIELER)",null,null,null,null,null,null,null,null,null,null,null,null,null,null,null,null,null,null,null,null,null,null,null,null,"SMART"]
["TEAM",null,null,"FÄHIGKEIT",null,null,"BEOBACHTUNG",null,null,null,null,null,"Final","Datum1",null,"Datum2",null,"Datum3",null,"Datum4",null,"Datum5",null,"Player",null,"ZIEL","MASSNAHME:\nSPEZIFISCH,  MESSBAR, REALISITISCH",null,null,null,null,null,null,"TERMIN","ZIEL-KONTROLLE","Datum"]
["ROLLE, SOZIAL",null,null,{"$f":"IF($H$2=\"G\",Skillserleuterungen_FTEM!Q4,Skillserleuterungen_FTEM!D4)","v":"TEAMDENKEN"},null,null,{"$f":"IF($H$2=\"G\",Skillserleuterungen_FTEM!T4,Skillserleuterungen_FTEM!G4)","v":"Identifikation zur Rolle, Umgang mit Kameraden (sozial integriert)"},null,null,{"$f":"IF($H$2=\"G\",Skillserleuterungen_FTEM!W4,Skillserleuterungen_FTEM!J4)","v":0},null,null,null,{"$f":"IFERROR(AVERAGE(O13:O14),\"-\")","v":"-"},null,{"$f":"IFERROR(AVERAGE(Q13:Q14),\"-\")","v":"-"},null,{"$f":"IFERROR(AVERAGE(S13:S14),\"-\")","v":"-"},null,{"$f":"IFERROR(AVERAGE(U13:U14),\"-\")","v":"-"},null,null,null,{"$f":"IFERROR(AVERAGE(Y13:Y14),\"-\")","v":"-"}]
[null,null,null,{"$f":"IF($H$2=\"G\",Skillserleuterungen_FTEM!Q5,Skillserleuterungen_FTEM!D5)","v":"LEADERSHIP"},null,null,{"$f":"IF($H$2=\"G\",Skillserleuterungen_FTEM!T5,Skillserleuterungen_FTEM!G5)","v":"Übernimmt Verantwortung, macht Mitspieler besser"},null,null,{"$f":"IF($H$2=\"G\",Skillserleuterungen_FTEM!W5,Skillserleuterungen_FTEM!J5)","v":0}]
["ON ICE",null,null,"FÄHIGKEIT",null,null,"BEOBACHTUNG",null,null,null,null,null,null,"Datum1",null,"Datum2",null,"Datum3",null,"Datum4",null,"Datum5",null,"Player",null,"ZIEL","MASSNAHME:\nSPEZIFISCH,  MESSBAR, REALISITISCH",null,null,null,null,null,null,"TERMIN","ZIEL-KONTROLLE","Datum"]
["SKILL",null,null,{"$f":"IF($H$2=\"G\",Skillserleuterungen_FTEM!Q7,Skillserleuterungen_FTEM!D7)","v":"SCHIESSEN"},null,null,{"$f":"IF($H$2=\"G\",Skillserleuterungen_FTEM!T7,Skillserleuterungen_FTEM!G7)","v":"Effizienz / Variantenreichtum, Überraschungsgrad (Quick Release), Präzision, Härte, (taktische Abschlüsse)\nschnell, hart, unter Druck"},null,null,{"$f":"IF($H$2=\"G\",Skillserleuterungen_FTEM!W7,Skillserleuterungen_FTEM!J7)","v":0},null,null,null,{"$f":"IFERROR(AVERAGE(O16:O19),\"-\")","v":"-"},null,{"$f":"IFERROR(AVERAGE(Q16:Q19),\"-\")","v":"-"},null,{"$f":"IFERROR(AVERAGE(S16:S19),\"-\")","v":"-"},null,{"$f":"IFERROR(AVERAGE(U16:U19),\"-\")","v":"-"},null,{"$f":"IFERROR(AVERAGE(W16:W19),\"-\")","v":"-"},null,{"$f":"IFERROR(AVERAGE(Y16:Y19),\"-\")","v":"-"}]
[null,null,null,{"$f":"IF($H$2=\"G\",Skillserleuterungen_FTEM!Q8,Skillserleuterungen_FTEM!D8)","v":"PASSEN"},null,null,{"$f":"IF($H$2=\"G\",Skillserleuterungen_FTEM!T8,Skillserleuterungen_FTEM!G8)","v":"Passabgabe (Distanz, Flippass Backhand), Passannahme (Präzision, Timing, Vorhand, Rückhand, Schlittschuh,Puckspeed"},null,null,{"$f":"IF($H$2=\"G\",Skillserleuterungen_FTEM!W8,Skillserleuterungen_FTEM!J8)","v":0}]
[null,null,null,{"$f":"IF($H$2=\"G\",Skillserleuterungen_FTEM!Q9,Skillserleuterungen_FTEM!D9)","v":"KÖRPERSPIEL"},null,null,{"$f":"IF($H$2=\"G\",Skillserleuterungen_FTEM!T9,Skillserleuterungen_FTEM!G9)","v":"Phyisches Durchsetzungsvermögen, Zweikampf (offenes Eis/Bande), Checks nehmen/Head up, Battle Level, Hart aber fair, mit dem Körper Schüsse blockieren"},null,null,{"$f":"IF($H$2=\"G\",Skillserleuterungen_FTEM!W9,Skillserleuterungen_FTEM!J9)","v":0},null,null,null,{"$f":"IFERROR(AVERAGE(O18:O19),\"-\")","v":"-"},null,{"$f":"IFERROR(AVERAGE(Q18:Q19),\"-\")","v":"-"},null,{"$f":"IFERROR(AVERAGE(S18:S19),\"-\")","v":"-"},null,{"$f":"IFERROR(AVERAGE(U18:U19),\"-\")","v":"-"},null,{"$f":"IFERROR(AVERAGE(W18:W19),\"-\")","v":"-"},null,{"$f":"IFERROR(AVERAGE(Y18:Y19),\"-\")","v":"-"}]
[null,null,null,{"$f":"IF($H$2=\"G\",Skillserleuterungen_FTEM!Q10,Skillserleuterungen_FTEM!D10)","v":"SCHEIBENKONTROLLE"},null,null,{"$f":"IF($H$2=\"G\",Skillserleuterungen_FTEM!T10,Skillserleuterungen_FTEM!G10)","v":"Puckmanagmenet auf engem Raum, Puck Protection,  schwer kontrollierbare Scheiben "},null,null,{"$f":"IF($H$2=\"G\",Skillserleuterungen_FTEM!W10,Skillserleuterungen_FTEM!J10)","v":0}]
["SKATING",null,null,{"$f":"IF($H$2=\"G\",Skillserleuterungen_FTEM!Q11,Skillserleuterungen_FTEM!D11)","v":"FOOTSPEED"},null,null,{"$f":"IF($H$2=\"G\",Skillserleuterungen_FTEM!T11,Skillserleuterungen_FTEM!G11)","v":"Beschleunigung, Antritt, erste 3 Schritte Explosivität, Frequenz"},null,null,{"$f":"IF($H$2=\"G\",Skillserleuterungen_FTEM!W11,Skillserleuterungen_FTEM!J11)","v":0},null,null,null,{"$f":"IFERROR(AVERAGE(O20:O23),\"-\")","v":"-"},null,{"$f":"IFERROR(AVERAGE(Q20:Q23),\"-\")","v":"-"},null,{"$f":"IFERROR(AVERAGE(S20:S23),\"-\")","v":"-"},null,{"$f":"IFERROR(AVERAGE(U20:U23),\"-\")","v":"-"},null,{"$f":"IFERROR(AVERAGE(W20:W23),\"-\")","v":"-"},null,{"$f":"IFERROR(AVERAGE(Y20:Y23),\"-\")","v":"-"}]
[null,null,null,{"$f":"IF($H$2=\"G\",Skillserleuterungen_FTEM!Q12,Skillserleuterungen_FTEM!D12)","v":"AGILITÄT"},null,null,{"$f":"IF($H$2=\"G\",Skillserleuterungen_FTEM!T12,Skillserleuterungen_FTEM!G12)","v":"Richtungsänderung, Drehung, Stop und Start, «Nummelin»"},null,null,{"$f":"IF($H$2=\"G\",Skillserleuterungen_FTEM!W12,Skillserleuterungen_FTEM!J12)","v":0}]
[null,null,null,{"$f":"IF($H$2=\"G\",Skillserleuterungen_FTEM!Q13,Skillserleuterungen_FTEM!D13)","v":"BACKWARDS SKATING"},null,null,{"$f":"IF($H$2=\"G\",Skillserleuterungen_FTEM!T13,Skillserleuterungen_FTEM!G13)","v":"Beschleunigung, Geschwindigkeit, Balance"},null,null,{"$f":"IF($H$2=\"G\",Skillserleuterungen_FTEM!W13,Skillserleuterungen_FTEM!J13)","v":0}]
[null,null,null,{"$f":"IF($H$2=\"G\",Skillserleuterungen_FTEM!Q14,Skillserleuterungen_FTEM!D14)","v":"TOPSPEED"},null,null,{"$f":"IF($H$2=\"G\",Skillserleuterungen_FTEM!T14,Skillserleuterungen_FTEM!G14)","v":"Schnelligkeit, Gleitfähigkeit, vorwärts und rückwärts, Ökonomie"},null,null,{"$f":"IF($H$2=\"G\",Skillserleuterungen_FTEM!W14,Skillserleuterungen_FTEM!J14)","v":0}]
["HOCKEY SENSE",null,null,{"$f":"IF($H$2=\"G\",Skillserleuterungen_FTEM!Q15,Skillserleuterungen_FTEM!D15)","v":"SCORING"},null,null,{"$f":"IF($H$2=\"G\",Skillserleuterungen_FTEM!T15,Skillserleuterungen_FTEM!G15)","v":"Effizienz, variantentreich, überraschend, schnell, hart - Schussvarianten"},null,null,{"$f":"IF($H$2=\"G\",Skillserleuterungen_FTEM!W15,Skillserleuterungen_FTEM!J15)","v":0},null,null,null,{"$f":"IFERROR(AVERAGE(O24:O27),\"-\")","v":"-"},null,{"$f":"IFERROR(AVERAGE(Q24:Q27),\"-\")","v":"-"},null,{"$f":"IFERROR(AVERAGE(S24:S27),\"-\")","v":"-"},null,{"$f":"IFERROR(AVERAGE(U24:U27),\"-\")","v":"-"},null,{"$f":"IFERROR(AVERAGE(W24:W27),\"-\")","v":"-"},null,{"$f":"IFERROR(AVERAGE(Y24:Y27),\"-\")","v":"-"}]
[null,null,null,{"$f":"IF($H$2=\"G\",Skillserleuterungen_FTEM!Q16,Skillserleuterungen_FTEM!D16)","v":"MIT SCHEIBE"},null,null,{"$f":"IF($H$2=\"G\",Skillserleuterungen_FTEM!T16,Skillserleuterungen_FTEM!G16)","v":"Kreativ, performing, batteling, frech, Transition"},null,null,{"$f":"IF($H$2=\"G\",Skillserleuterungen_FTEM!W16,Skillserleuterungen_FTEM!J16)","v":0}]
[null,null,null,{"$f":"IF($H$2=\"G\",Skillserleuterungen_FTEM!Q17,Skillserleuterungen_FTEM!D17)","v":"OHNE SCHEIBE"},null,null,{"$f":"IF($H$2=\"G\",Skillserleuterungen_FTEM!T17,Skillserleuterungen_FTEM!G17)","v":"Anspielbar (Support), 1:1, Gap"},null,null,{"$f":"IF($H$2=\"G\",Skillserleuterungen_FTEM!W17,Skillserleuterungen_FTEM!J17)","v":0}]
[null,null,null,{"$f":"IF($H$2=\"G\",Skillserleuterungen_FTEM!Q18,Skillserleuterungen_FTEM!D18)","v":"DEFENSIV"},null,null,{"$f":"IF($H$2=\"G\",Skillserleuterungen_FTEM!T18,Skillserleuterungen_FTEM!G18)","v":"Verlässlichkeit,  1:1, Gap, Zuordnung"},null,null,{"$f":"IF($H$2=\"G\",Skillserleuterungen_FTEM!W18,Skillserleuterungen_FTEM!J18)","v":0}]
["PERSONALITY",null,null,"FÄHIGKEIT",null,null,"BEOBACHTUNG",null,null,null,null,null,null,"Datum1",null,"Datum2",null,"Datum3",null,"Datum4",null,"Datum5",null,"Player",null,"ZIEL","MASSNAHME:\nSPEZIFISCH,  MESSBAR, REALISITISCH",null,null,null,null,null,null,"TERMIN","ZIEL-KONTROLLE","Datum"]
["PERSON",null,null,{"$f":"IF($H$2=\"G\",Skillserleuterungen_FTEM!Q20,Skillserleuterungen_FTEM!D20)","v":"MOTIVATION"},null,null,{"$f":"IF($H$2=\"G\",Skillserleuterungen_FTEM!T20,Skillserleuterungen_FTEM!G20)","v":"Intrinsischer Antrieb, will sich ständig weiterentwickeln, will der Erste sein und Erfolg haben"},null,null,{"$f":"IF($H$2=\"G\",Skillserleuterungen_FTEM!W20,Skillserleuterungen_FTEM!J20)","v":0},null,null,null,{"$f":"IFERROR(AVERAGE(O29:O32),\"-\")","v":"-"},null,{"$f":"IFERROR(AVERAGE(Q29:Q32),\"-\")","v":"-"},null,{"$f":"IFERROR(AVERAGE(S29:S32),\"-\")","v":"-"},null,{"$f":"IFERROR(AVERAGE(U29:U32),\"-\")","v":"-"},null,{"$f":"IFERROR(AVERAGE(W29:W32),\"-\")","v":"-"},null,{"$f":"IFERROR(AVERAGE(Y29:Y32),\"-\")","v":"-"}]
[null,null,null,{"$f":"IF($H$2=\"G\",Skillserleuterungen_FTEM!Q21,Skillserleuterungen_FTEM!D21)","v":"SELBSBEWUSSTSEIN"},null,null,{"$f":"IF($H$2=\"G\",Skillserleuterungen_FTEM!T21,Skillserleuterungen_FTEM!G21)","v":"Hat das nötige Selbstvertrauen \"I can do it\" haltung, kann eigenen Fähigkeiten einschätzen und agiert mutig"},null,null,{"$f":"IF($H$2=\"G\",Skillserleuterungen_FTEM!W21,Skillserleuterungen_FTEM!J21)","v":0}]
[null,null,null,{"$f":"IF($H$2=\"G\",Skillserleuterungen_FTEM!Q22,Skillserleuterungen_FTEM!D22)","v":"LERNFÄHIGKEIT"},null,null,{"$f":"IF($H$2=\"G\",Skillserleuterungen_FTEM!T22,Skillserleuterungen_FTEM!G22)","v":"Gute Auffassungsgabe (nimmt auf und kann umsetzen), reflektiert eigenes Handeln, versucht aus Fehlern zu lernen und kann Massnahmen ableiten und sich selber coachen"},null,null,{"$f":"IF($H$2=\"G\",Skillserleuterungen_FTEM!W22,Skillserleuterungen_FTEM!J22)","v":0}]
[null,null,null,{"$f":"IF($H$2=\"G\",Skillserleuterungen_FTEM!Q23,Skillserleuterungen_FTEM!D23)","v":"PERFORMANCE LIFESTYLE"},null,null,{"$f":"IF($H$2=\"G\",Skillserleuterungen_FTEM!T23,Skillserleuterungen_FTEM!G23)","v":"Managt Alltag und Umfeld nach dem Leistungsprinzip, kann sich gegen Wiederstände durchsetzten"},null,null,{"$f":"IF($H$2=\"G\",Skillserleuterungen_FTEM!W23,Skillserleuterungen_FTEM!J23)","v":0}]
["POWER",null,null,{"$f":"IF($H$2=\"G\",Skillserleuterungen_FTEM!Q24,Skillserleuterungen_FTEM!D24)","v":"ENERGIEMANAGEMENT"},null,null,{"$f":"IF($H$2=\"G\",Skillserleuterungen_FTEM!T24,Skillserleuterungen_FTEM!G24)","v":"Kann eigene Energie regulieren, bereit zur Regeneration, weiss, wann er \"Vollgas\" geben muss und wann ab-schalten, On/Off-Schalter"},null,null,{"$f":"IF($H$2=\"G\",Skillserleuterungen_FTEM!W24,Skillserleuterungen_FTEM!J24)","v":0},null,null,null,{"$f":"IFERROR(AVERAGE(O33:O36),\"-\")","v":"-"},null,{"$f":"IFERROR(AVERAGE(Q33:Q36),\"-\")","v":"-"},null,{"$f":"IFERROR(AVERAGE(S33:S36),\"-\")","v":"-"},null,{"$f":"IFERROR(AVERAGE(U33:U36),\"-\")","v":"-"},null,{"$f":"IFERROR(AVERAGE(W33:W36),\"-\")","v":"-"},null,{"$f":"IFERROR(AVERAGE(Y33:Y36),\"-\")","v":"-"}]
[null,null,null,{"$f":"IF($H$2=\"G\",Skillserleuterungen_FTEM!Q25,Skillserleuterungen_FTEM!D25)","v":"EINSATZBEREITSCHAFT"},null,null,{"$f":"IF($H$2=\"G\",Skillserleuterungen_FTEM!T25,Skillserleuterungen_FTEM!G25)","v":"Hohe intensität im Spiel und Training, gibt immer sein Maximum, will seine Limiten pushen"},null,null,{"$f":"IF($H$2=\"G\",Skillserleuterungen_FTEM!W25,Skillserleuterungen_FTEM!J25)","v":0}]
[null,null,null,{"$f":"IF($H$2=\"G\",Skillserleuterungen_FTEM!Q26,Skillserleuterungen_FTEM!D26)","v":"EMOTIONSKONTROLLE"},null,null,{"$f":"IF($H$2=\"G\",Skillserleuterungen_FTEM!T26,Skillserleuterungen_FTEM!G26)","v":"Emotionen und Impulse regulieren, unter Druck die Kontrolle behalten, in emotional ansprucksvollen Situationen angemessen agieren können"},null,null,{"$f":"IF($H$2=\"G\",Skillserleuterungen_FTEM!W26,Skillserleuterungen_FTEM!J26)","v":0}]
[null,null,null,{"$f":"IF($H$2=\"G\",Skillserleuterungen_FTEM!Q27,Skillserleuterungen_FTEM!D27)","v":"VORBEREITUNG"},null,null,{"$f":"IF($H$2=\"G\",Skillserleuterungen_FTEM!T27,Skillserleuterungen_FTEM!G27)","v":"Fokus, ILZ, Regeneration, Selbststiumlation, Ernährung"},null,null,{"$f":"IF($H$2=\"G\",Skillserleuterungen_FTEM!W27,Skillserleuterungen_FTEM!J27)","v":0}]
["PYHSE (Athletik)",null,null,{"$f":"IF($H$2=\"G\",Skillserleuterungen_FTEM!Q28,Skillserleuterungen_FTEM!D28)","v":"LEISTUNGSERZEUGUNG (neuromuskuläre Faktoren /Leistungserzeugung)"},null,null,{"$f":"IF($H$2=\"G\",Skillserleuterungen_FTEM!T28,Skillserleuterungen_FTEM!G28)","v":"Verfügt über die nötige Power/ Kraft/ Schnelligkeit in den Beinen un im Oberkörper "},null,null,{"$f":"IF($H$2=\"G\",Skillserleuterungen_FTEM!W28,Skillserleuterungen_FTEM!J28)","v":0},null,null,null,{"$f":"IFERROR(AVERAGE(O37:O40),\"-\")","v":"-"},null,{"$f":"IFERROR(AVERAGE(Q37:Q40),\"-\")","v":"-"},null,{"$f":"IFERROR(AVERAGE(S37:S40),\"-\")","v":"-"},null,{"$f":"IFERROR(AVERAGE(U37:U40),\"-\")","v":"-"},null,{"$f":"IFERROR(AVERAGE(W37:W40),\"-\")","v":"-"},null,{"$f":"IFERROR(AVERAGE(Y37:Y40),\"-\")","v":"-"}]
[null,null,null,{"$f":"IF($H$2=\"G\",Skillserleuterungen_FTEM!Q29,Skillserleuterungen_FTEM!D29)","v":"SPEZ. ERMÜDUNGSRESISTENZ (metabolische, kardiovaskuläre Faktoren)"},null,null,{"$f":"IF($H$2=\"G\",Skillserleuterungen_FTEM!T29,Skillserleuterungen_FTEM!G29)","v":"Ist fähig die Power/ Kraft/ Schnelligkeit innerhalb des Einsatzes lange aufrechtzuerhalten und kann sich zwischen den Einsätzen jeweils vollkommen erholen (auch von Spiel zu Spiel)."},null,null,{"$f":"IF($H$2=\"G\",Skillserleuterungen_FTEM!W29,Skillserleuterungen_FTEM!J29)","v":0}]
[null,null,null,{"$f":"IF($H$2=\"G\",Skillserleuterungen_FTEM!Q30,Skillserleuterungen_FTEM!D30)","v":"BEWEGUNGSKOMPETENZ/ KOORDINATION "},null,null,{"$f":"IF($H$2=\"G\",Skillserleuterungen_FTEM!T30,Skillserleuterungen_FTEM!G30)","v":"Beherrscht die grundlegenden Bewegungsfertigkeiten, die eine unerlässliche Zubringerfunktion für die sportspezifischen \"Skills\" darstellt sowie zur nötigen Bewegungseffizienz führt. "},null,null,{"$f":"IF($H$2=\"G\",Skillserleuterungen_FTEM!W30,Skillserleuterungen_FTEM!J30)","v":0}]
[null,null,null,{"$f":"IF($H$2=\"G\",Skillserleuterungen_FTEM!Q31,Skillserleuterungen_FTEM!D31)","v":"ROBUSTHEIT/ PRÄVENTION"},null,null,{"$f":"IF($H$2=\"G\",Skillserleuterungen_FTEM!T31,Skillserleuterungen_FTEM!G31)","v":"Verletzungsanfälligkeit, Stabilität (Verfügt über die nötige Stabilität, Grundkraft (Körperspannung) \"z.B. Beinachsenstabilität\" und Beweglichkeit in den zentralen Gelenken \"Hüfte, Wirbelsäule\"), Standfestigkeit"},null,null,{"$f":"IF($H$2=\"G\",Skillserleuterungen_FTEM!W31,Skillserleuterungen_FTEM!J31)","v":0}]

{"sheet":"27","index":30,"n_rows":40,"n_cols":36,"rows_kept":40,"cut":false,"hidden":false,"merged":[[38,3,38,5],[38,6,38,11],[39,3,39,5],[39,6,39,11],[32,23,35,23],[32,0,35,2],[32,3,32,5],[32,6,32,11],[32,12,35,12],[32,13,35,13],[36,26,39,32],[36,34,39,34],[21,3,21,5],[21,6,21,11],[34,3,34,5],[34,6,34,11],[36,0,39,2],[36,12,39,12],[36,13,39,13],[36,15,39,15],[36,17,39,17],[36,19,39,19],[36,21,39,21],[36,23,39,23],[36,25,39,25],[36,3,36,5],[36,6,36,11],[37,3,37,5],[37,6,37,11],[32,15,35,15],[27,21,27,22],[28,17,31,17],[28,19,31,19],[28,21,31,21],[29,3,29,5],[29,6,29,11],[30,3,30,5],[30,6,30,11],[32,17,35,17],[32,19,35,19],[32,21,35,21],[33,3,33,5],[33,6,33,11],[35,3,35,5],[35,6,35,11],[23,0,26,2],[23,3,23,5],[23,6,23,11],[23,12,26,12],[23,13,26,13],[23,15,26,15],[27,23,27,24],[27,26,27,32],[28,0,31,2],[28,3,28,5],[28,6,28,11],[28,12,31,12],[28,13,31,13],[28,15,31,15],[31,3,31,5],[31,6,31,11],[28,23,31,23],[27,0,27,2],[27,3,27,5],[27,6,27,11],[27,13,27,14],[27,15,27,16],[27,17,27,18],[27,19,27,20],[19,19,22,19],[19,21,22,21],[19,23,22,23],[20,3,20,5],[20,6,20,11],[22,3,22,5],[22,6,22,11],[26,3,26,5],[26,6,26,11],[23,23,26,23],[23,17,26,17],[23,19,26,19],[23,21,26,21],[24,3,24,5],[24,6,24,11],[25,3,25,5],[25,6,25,11],[12,21,13,21],[15,15,18,15],[15,17,18,17],[15,19,18,19],[15,21,18,21],[15,23,18,23],[18,3,18,5],[18,6,18,11],[19,0,22,2],[19,3,19,5],[19,6,19,11],[19,12,22,12],[19,13,22,13],[19,15,22,15],[19,17,22,17],[15,0,18,2],[15,3,15,5],[15,6,15,11],[15,12,18,12],[15,13,18,13],[16,3,16,5],[16,6,16,11],[17,3,17,5],[17,6,17,11],[11,21,11,22],[11,23,11,24],[11,26,11,32],[11,6,11,11],[12,23,13,23],[13,3,13,5],[13,6,13,11],[14,0,14,2],[14,3,14,5],[14,6,14,11],[14,13,14,14],[14,15,14,16],[14,17,14,18],[14,19,14,20],[14,21,14,22],[14,23,14,24],[12,0,13,2],[12,3,12,5],[12,6,12,11],[12,12,13,12],[12,13,13,13],[12,15,13,15],[12,17,13,17],[12,19,13,19],[4,0,4,1],[4,2,4,5],[4,10,4,24],[10,0,10,24],[10,25,10,35],[32,25,35,25],[32,26,35,32],[32,34,35,34],[12,25,13,25],[12,26,13,32],[12,34,13,34],[15,25,18,25],[15,26,18,32],[15,34,18,34],[19,25,22,25],[19,26,22,32],[19,34,22,34],[14,26,14,32],[11,0,11,2],[11,3,11,5],[11,13,11,14],[11,15,11,16],[11,17,11,18],[11,19,11,20],[0,0,0,24],[0,25,0,26],[0,27,0,32],[0,33,0,35],[23,25,26,25],[23,26,26,32],[23,34,26,34],[28,25,31,25],[28,26,31,32],[28,34,31,34],[1,0,1,1],[1,2,1,5],[1,10,1,24],[2,0,2,1],[2,2,2,5],[2,11,2,24],[6,0,6,1],[6,2,6,35],[7,0,7,1],[7,2,7,35],[8,0,8,1],[8,2,8,35],[3,0,3,1],[3,10,3,24]]}
["Personalien",null,null,null,null,null,null,null,null,null,null,null,null,null,null,null,null,null,null,null,null,null,null,null,null,"Vorausetzungen",null,"Evaluationen",null,null,null,null,null,"Rating"]
["VORNAME",null,{"$f":"IF(ISBLANK(VLOOKUP(27,Tabelle3[],3,0)),\"-\",VLOOKUP(27,Tabelle3[],3,0))","v":"-"},null,null,null,"POSITION",null,null,"ADRESSE",{"$f":"IF(ISBLANK(VLOOKUP(27,Tabelle3[],5,0)),\"-\",VLOOKUP(27,Tabelle3[],5,0))","v":"-"},null,null,null,null,null,null,null,null,null,null,null,null,null,null,"\"Alter\" (Biologisch/Relative Age)",null,"Datum 1",null,null,"cm",null,"Kg",null,"AUSGEZEICHNET",5]
["NAME",null,{"$f":"IF(ISBLANK(VLOOKUP(27,Tabelle3[],2,0)),\"-\",VLOOKUP(27,Tabelle3[],2,0))","v":"-"},null,null,null,"STOCK",null,null,"WOHNORT",{"$f":"IF(ISBLANK(VLOOKUP(27,Tabelle3[],7,0)),\"-\",VLOOKUP(27,Tabelle3[],7,0))","v":"-"},{"$f":"IF(ISBLANK(VLOOKUP(27,Tabelle3[],6,0)),\"-\",VLOOKUP(27,Tabelle3[],6,0))","v":"-"},null,null,null,null,null,null,null,null,null,null,null,null,null,"Veranlagung",null,"Datum 2",null,null,"cm",null,"Kg",null,"GUT",4]
["GEB. DATUM",null,{"$f":"IF(ISBLANK(VLOOKUP(27,Tabelle3[],14,0)),\"-\",VLOOKUP(27,Tabelle3[],14,0))","v":"-"},{"$f":"IF(ISBLANK(VLOOKUP(27,Tabelle3[],15,0)),\"-\",VLOOKUP(27,Tabelle3[],15,0))","v":"-"},{"$f":"IF(ISBLANK(VLOOKUP(27,Tabelle3[],16,0)),\"-\",VLOOKUP(27,Tabelle3[],16,0))","v":"-"},null,"GRÖSSE",null,"cm (Final)","PHONE",{"$f":"IF(ISBLANK(VLOOKUP(27,Tabelle3[],8,0)),\"-\",VLOOKUP(27,Tabelle3[],8,0))","v":"-"},null,null,null,null,null,null,null,null,null,null,null,null,null,null,"Umfeld",null,"Datum 3",null,null,"cm",null,"Kg",null,"DURCHSCHNITT",3]
["SEX",null,{"$f":"IF(ISBLANK(VLOOKUP(27,Tabelle3[],13,0)),\"-\",VLOOKUP(27,Tabelle3[],13,0))","v":"-"},null,null,null,"GEWICHT",null,"Kg (Final)","E-Mail",{"$f":"IF(ISBLANK(VLOOKUP(27,Tabelle3[],9,0)),\"-\",VLOOKUP(27,Tabelle3[],9,0))","v":"-"},null,null,null,null,null,null,null,null,null,null,null,null,null,null,null,null,"Datum 4",null,null,"cm",null,"Kg",null,"MANGELHAFT",2]
[null,null,null,null,null,null,null,null,null,null,null,null,null,null,null,null,null,null,null,null,null,null,null,null,null,null,null,"Datum 5",null,null,"cm",null,"Kg",null,"UNGENÜGEND",1]
["Vision",null,"xxx"]
["Next step",null,"xxx"]
["Stärkenprofil",null,"xxx"]
[]
["EVALUATION (COACH / SPIELER)",null,null,null,null,null,null,null,null,null,null,null,null,null,null,null,null,null,null,null,null,null,null,null,null,"SMART"]
["TEAM",null,null,"FÄHIGKEIT",null,null,"BEOBACHTUNG",null,null,null,null,null,"Final","Datum1",null,"Datum2",null,"Datum3",null,"Datum4",null,"Datum5",null,"Player",null,"ZIEL","MASSNAHME:\nSPEZIFISCH,  MESSBAR, REALISITISCH",null,null,null,null,null,null,"TERMIN","ZIEL-KONTROLLE","Datum"]
["ROLLE, SOZIAL",null,null,{"$f":"IF($H$2=\"G\",Skillserleuterungen_FTEM!Q4,Skillserleuterungen_FTEM!D4)","v":"TEAMDENKEN"},null,null,{"$f":"IF($H$2=\"G\",Skillserleuterungen_FTEM!T4,Skillserleuterungen_FTEM!G4)","v":"Identifikation zur Rolle, Umgang mit Kameraden (sozial integriert)"},null,null,{"$f":"IF($H$2=\"G\",Skillserleuterungen_FTEM!W4,Skillserleuterungen_FTEM!J4)","v":0},null,null,null,{"$f":"IFERROR(AVERAGE(O13:O14),\"-\")","v":"-"},null,{"$f":"IFERROR(AVERAGE(Q13:Q14),\"-\")","v":"-"},null,{"$f":"IFERROR(AVERAGE(S13:S14),\"-\")","v":"-"},null,{"$f":"IFERROR(AVERAGE(U13:U14),\"-\")","v":"-"},null,null,null,{"$f":"IFERROR(AVERAGE(Y13:Y14),\"-\")","v":"-"}]
[null,null,null,{"$f":"IF($H$2=\"G\",Skillserleuterungen_FTEM!Q5,Skillserleuterungen_FTEM!D5)","v":"LEADERSHIP"},null,null,{"$f":"IF($H$2=\"G\",Skillserleuterungen_FTEM!T5,Skillserleuterungen_FTEM!G5)","v":"Übernimmt Verantwortung, macht Mitspieler besser"},null,null,{"$f":"IF($H$2=\"G\",Skillserleuterungen_FTEM!W5,Skillserleuterungen_FTEM!J5)","v":0}]
["ON ICE",null,null,"FÄHIGKEIT",null,null,"BEOBACHTUNG",null,null,null,null,null,null,"Datum1",null,"Datum2",null,"Datum3",null,"Datum4",null,"Datum5",null,"Player",null,"ZIEL","MASSNAHME:\nSPEZIFISCH,  MESSBAR, REALISITISCH",null,null,null,null,null,null,"TERMIN","ZIEL-KONTROLLE","Datum"]
["SKILL",null,null,{"$f":"IF($H$2=\"G\",Skillserleuterungen_FTEM!Q7,Skillserleuterungen_FTEM!D7)","v":"SCHIESSEN"},null,null,{"$f":"IF($H$2=\"G\",Skillserleuterungen_FTEM!T7,Skillserleuterungen_FTEM!G7)","v":"Effizienz / Variantenreichtum, Überraschungsgrad (Quick Release), Präzision, Härte, (taktische Abschlüsse)\nschnell, hart, unter Druck"},null,null,{"$f":"IF($H$2=\"G\",Skillserleuterungen_FTEM!W7,Skillserleuterungen_FTEM!J7)","v":0},null,null,null,{"$f":"IFERROR(AVERAGE(O16:O19),\"-\")","v":"-"},null,{"$f":"IFERROR(AVERAGE(Q16:Q19),\"-\")","v":"-"},null,{"$f":"IFERROR(AVERAGE(S16:S19),\"-\")","v":"-"},null,{"$f":"IFERROR(AVERAGE(U16:U19),\"-\")","v":"-"},null,{"$f":"IFERROR(AVERAGE(W16:W19),\"-\")","v":"-"},null,{"$f":"IFERROR(AVERAGE(Y16:Y19),\"-\")","v":"-"}]
[null,null,null,{"$f":"IF($H$2=\"G\",Skillserleuterungen_FTEM!Q8,Skillserleuterungen_FTEM!D8)","v":"PASSEN"},null,null,{"$f":"IF($H$2=\"G\",Skillserleuterungen_FTEM!T8,Skillserleuterungen_FTEM!G8)","v":"Passabgabe (Distanz, Flippass Backhand), Passannahme (Präzision, Timing, Vorhand, Rückhand, Schlittschuh,Puckspeed"},null,null,{"$f":"IF($H$2=\"G\",Skillserleuterungen_FTEM!W8,Skillserleuterungen_FTEM!J8)","v":0}]
[null,null,null,{"$f":"IF($H$2=\"G\",Skillserleuterungen_FTEM!Q9,Skillserleuterungen_FTEM!D9)","v":"KÖRPERSPIEL"},null,null,{"$f":"IF($H$2=\"G\",Skillserleuterungen_FTEM!T9,Skillserleuterungen_FTEM!G9)","v":"Phyisches Durchsetzungsvermögen, Zweikampf (offenes Eis/Bande), Checks nehmen/Head up, Battle Level, Hart aber fair, mit dem Körper Schüsse blockieren"},null,null,{"$f":"IF($H$2=\"G\",Skillserleuterungen_FTEM!W9,Skillserleuterungen_FTEM!J9)","v":0},null,null,null,{"$f":"IFERROR(AVERAGE(O18:O19),\"-\")","v":"-"},null,{"$f":"IFERROR(AVERAGE(Q18:Q19),\"-\")","v":"-"},null,{"$f":"IFERROR(AVERAGE(S18:S19),\"-\")","v":"-"},null,{"$f":"IFERROR(AVERAGE(U18:U19),\"-\")","v":"-"},null,{"$f":"IFERROR(AVERAGE(W18:W19),\"-\")","v":"-"},null,{"$f":"IFERROR(AVERAGE(Y18:Y19),\"-\")","v":"-"}]
[null,null,null,{"$f":"IF($H$2=\"G\",Skillserleuterungen_FTEM!Q10,Skillserleuterungen_FTEM!D10)","v":"SCHEIBENKONTROLLE"},null,null,{"$f":"IF($H$2=\"G\",Skillserleuterungen_FTEM!T10,Skillserleuterungen_FTEM!G10)","v":"Puckmanagmenet auf engem Raum, Puck Protection,  schwer kontrollierbare Scheiben "},null,null,{"$f":"IF($H$2=\"G\",Skillserleuterungen_FTEM!W10,Skillserleuterungen_FTEM!J10)","v":0}]
["SKATING",null,null,{"$f":"IF($H$2=\"G\",Skillserleuterungen_FTEM!Q11,Skillserleuterungen_FTEM!D11)","v":"FOOTSPEED"},null,null,{"$f":"IF($H$2=\"G\",Skillserleuterungen_FTEM!T11,Skillserleuterungen_FTEM!G11)","v":"Beschleunigung, Antritt, erste 3 Schritte Explosivität, Frequenz"},null,null,{"$f":"IF($H$2=\"G\",Skillserleuterungen_FTEM!W11,Skillserleuterungen_FTEM!J11)","v":0},null,null,null,{"$f":"IFERROR(AVERAGE(O20:O23),\"-\")","v":"-"},null,{"$f":"IFERROR(AVERAGE(Q20:Q23),\"-\")","v":"-"},null,{"$f":"IFERROR(AVERAGE(S20:S23),\"-\")","v":"-"},null,{"$f":"IFERROR(AVERAGE(U20:U23),\"-\")","v":"-"},null,{"$f":"IFERROR(AVERAGE(W20:W23),\"-\")","v":"-"},null,{"$f":"IFERROR(AVERAGE(Y20:Y23),\"-\")","v":"-"}]
[null,null,null,{"$f":"IF($H$2=\"G\",Skillserleuterungen_FTEM!Q12,Skillserleuterungen_FTEM!D12)","v":"AGILITÄT"},null,null,{"$f":"IF($H$2=\"G\",Skillserleuterungen_FTEM!T12,Skillserleuterungen_FTEM!G12)","v":"Richtungsänderung, Drehung, Stop und Start, «Nummelin»"},null,null,{"$f":"IF($H$2=\"G\",Skillserleuterungen_FTEM!W12,Skillserleuterungen_FTEM!J12)","v":0}]
[null,null,null,{"$f":"IF($H$2=\"G\",Skillserleuterungen_FTEM!Q13,Skillserleuterungen_FTEM!D13)","v":"BACKWARDS SKATING"},null,null,{"$f":"IF($H$2=\"G\",Skillserleuterungen_FTEM!T13,Skillserleuterungen_FTEM!G13)","v":"Beschleunigung, Geschwindigkeit, Balance"},null,null,{"$f":"IF($H$2=\"G\",Skillserleuterungen_FTEM!W13,Skillserleuterungen_FTEM!J13)","v":0}]
[null,null,null,{"$f":"IF($H$2=\"G\",Skillserleuterungen_FTEM!Q14,Skillserleuterungen_FTEM!D14)","v":"TOPSPEED"},null,null,{"$f":"IF($H$2=\"G\",Skillserleuterungen_FTEM!T14,Skillserleuterungen_FTEM!G14)","v":"Schnelligkeit, Gleitfähigkeit, vorwärts und rückwärts, Ökonomie"},null,null,{"$f":"IF($H$2=\"G\",Skillserleuterungen_FTEM!W14,Skillserleuterungen_FTEM!J14)","v":0}]
["HOCKEY SENSE",null,null,{"$f":"IF($H$2=\"G\",Skillserleuterungen_FTEM!Q15,Skillserleuterungen_FTEM!D15)","v":"SCORING"},null,null,{"$f":"IF($H$2=\"G\",Skillserleuterungen_FTEM!T15,Skillserleuterungen_FTEM!G15)","v":"Effizienz, variantentreich, überraschend, schnell, hart - Schussvarianten"},null,null,{"$f":"IF($H$2=\"G\",Skillserleuterungen_FTEM!W15,Skillserleuterungen_FTEM!J15)","v":0},null,null,null,{"$f":"IFERROR(AVERAGE(O24:O27),\"-\")","v":"-"},null,{"$f":"IFERROR(AVERAGE(Q24:Q27),\"-\")","v":"-"},null,{"$f":"IFERROR(AVERAGE(S24:S27),\"-\")","v":"-"},null,{"$f":"IFERROR(AVERAGE(U24:U27),\"-\")","v":"-"},null,{"$f":"IFERROR(AVERAGE(W24:W27),\"-\")","v":"-"},null,{"$f":"IFERROR(AVERAGE(Y24:Y27),\"-\")","v":"-"}]
[null,null,null,{"$f":"IF($H$2=\"G\",Skillserleuterungen_FTEM!Q16,Skillserleuterungen_FTEM!D16)","v":"MIT SCHEIBE"},null,null,{"$f":"IF($H$2=\"G\",Skillserleuterungen_FTEM!T16,Skillserleuterungen_FTEM!G16)","v":"Kreativ, performing, batteling, frech, Transition"},null,null,{"$f":"IF($H$2=\"G\",Skillserleuterungen_FTEM!W16,Skillserleuterungen_FTEM!J16)","v":0}]
[null,null,null,{"$f":"IF($H$2=\"G\",Skillserleuterungen_FTEM!Q17,Skillserleuterungen_FTEM!D17)","v":"OHNE SCHEIBE"},null,null,{"$f":"IF($H$2=\"G\",Skillserleuterungen_FTEM!T17,Skillserleuterungen_FTEM!G17)","v":"Anspielbar (Support), 1:1, Gap"},null,null,{"$f":"IF($H$2=\"G\",Skillserleuterungen_FTEM!W17,Skillserleuterungen_FTEM!J17)","v":0}]
[null,null,null,{"$f":"IF($H$2=\"G\",Skillserleuterungen_FTEM!Q18,Skillserleuterungen_FTEM!D18)","v":"DEFENSIV"},null,null,{"$f":"IF($H$2=\"G\",Skillserleuterungen_FTEM!T18,Skillserleuterungen_FTEM!G18)","v":"Verlässlichkeit,  1:1, Gap, Zuordnung"},null,null,{"$f":"IF($H$2=\"G\",Skillserleuterungen_FTEM!W18,Skillserleuterungen_FTEM!J18)","v":0}]
["PERSONALITY",null,null,"FÄHIGKEIT",null,null,"BEOBACHTUNG",null,null,null,null,null,null,"Datum1",null,"Datum2",null,"Datum3",null,"Datum4",null,"Datum5",null,"Player",null,"ZIEL","MASSNAHME:\nSPEZIFISCH,  MESSBAR, REALISITISCH",null,null,null,null,null,null,"TERMIN","ZIEL-KONTROLLE","Datum"]
["PERSON",null,null,{"$f":"IF($H$2=\"G\",Skillserleuterungen_FTEM!Q20,Skillserleuterungen_FTEM!D20)","v":"MOTIVATION"},null,null,{"$f":"IF($H$2=\"G\",Skillserleuterungen_FTEM!T20,Skillserleuterungen_FTEM!G20)","v":"Intrinsischer Antrieb, will sich ständig weiterentwickeln, will der Erste sein und Erfolg haben"},null,null,{"$f":"IF($H$2=\"G\",Skillserleuterungen_FTEM!W20,Skillserleuterungen_FTEM!J20)","v":0},null,null,null,{"$f":"IFERROR(AVERAGE(O29:O32),\"-\")","v":"-"},null,{"$f":"IFERROR(AVERAGE(Q29:Q32),\"-\")","v":"-"},null,{"$f":"IFERROR(AVERAGE(S29:S32),\"-\")","v":"-"},null,{"$f":"IFERROR(AVERAGE(U29:U32),\"-\")","v":"-"},null,{"$f":"IFERROR(AVERAGE(W29:W32),\"-\")","v":"-"},null,{"$f":"IFERROR(AVERAGE(Y29:Y32),\"-\")","v":"-"}]
[null,null,null,{"$f":"IF($H$2=\"G\",Skillserleuterungen_FTEM!Q21,Skillserleuterungen_FTEM!D21)","v":"SELBSBEWUSSTSEIN"},null,null,{"$f":"IF($H$2=\"G\",Skillserleuterungen_FTEM!T21,Skillserleuterungen_FTEM!G21)","v":"Hat das nötige Selbstvertrauen \"I can do it\" haltung, kann eigenen Fähigkeiten einschätzen und agiert mutig"},null,null,{"$f":"IF($H$2=\"G\",Skillserleuterungen_FTEM!W21,Skillserleuterungen_FTEM!J21)","v":0}]
[null,null,null,{"$f":"IF($H$2=\"G\",Skillserleuterungen_FTEM!Q22,Skillserleuterungen_FTEM!D22)","v":"LERNFÄHIGKEIT"},null,null,{"$f":"IF($H$2=\"G\",Skillserleuterungen_FTEM!T22,Skillserleuterungen_FTEM!G22)","v":"Gute Auffassungsgabe (nimmt auf und kann umsetzen), reflektiert eigenes Handeln, versucht aus Fehlern zu lernen und kann Massnahmen ableiten und sich selber coachen"},null,null,{"$f":"IF($H$2=\"G\",Skillserleuterungen_FTEM!W22,Skillserleuterungen_FTEM!J22)","v":0}]
[null,null,null,{"$f":"IF($H$2=\"G\",Skillserleuterungen_FTEM!Q23,Skillserleuterungen_FTEM!D23)","v":"PERFORMANCE LIFESTYLE"},null,null,{"$f":"IF($H$2=\"G\",Skillserleuterungen_FTEM!T23,Skillserleuterungen_FTEM!G23)","v":"Managt Alltag und Umfeld nach dem Leistungsprinzip, kann sich gegen Wiederstände durchsetzten"},null,null,{"$f":"IF($H$2=\"G\",Skillserleuterungen_FTEM!W23,Skillserleuterungen_FTEM!J23)","v":0}]
["POWER",null,null,{"$f":"IF($H$2=\"G\",Skillserleuterungen_FTEM!Q24,Skillserleuterungen_FTEM!D24)","v":"ENERGIEMANAGEMENT"},null,null,{"$f":"IF($H$2=\"G\",Skillserleuterungen_FTEM!T24,Skillserleuterungen_FTEM!G24)","v":"Kann eigene Energie regulieren, bereit zur Regeneration, weiss, wann er \"Vollgas\" geben muss und wann ab-schalten, On/Off-Schalter"},null,null,{"$f":"IF($H$2=\"G\",Skillserleuterungen_FTEM!W24,Skillserleuterungen_FTEM!J24)","v":0},null,null,null,{"$f":"IFERROR(AVERAGE(O33:O36),\"-\")","v":"-"},null,{"$f":"IFERROR(AVERAGE(Q33:Q36),\"-\")","v":"-"},null,{"$f":"IFERROR(AVERAGE(S33:S36),\"-\")","v":"-"},null,{"$f":"IFERROR(AVERAGE(U33:U36),\"-\")","v":"-"},null,{"$f":"IFERROR(AVERAGE(W33:W36),\"-\")","v":"-"},null,{"$f":"IFERROR(AVERAGE(Y33:Y36),\"-\")","v":"-"}]
[null,null,null,{"$f":"IF($H$2=\"G\",Skillserleuterungen_FTEM!Q25,Skillserleuterungen_FTEM!D25)","v":"EINSATZBEREITSCHAFT"},null,null,{"$f":"IF($H$2=\"G\",Skillserleuterungen_FTEM!T25,Skillserleuterungen_FTEM!G25)","v":"Hohe intensität im Spiel und Training, gibt immer sein Maximum, will seine Limiten pushen"},null,null,{"$f":"IF($H$2=\"G\",Skillserleuterungen_FTEM!W25,Skillserleuterungen_FTEM!J25)","v":0}]
[null,null,null,{"$f":"IF($H$2=\"G\",Skillserleuterungen_FTEM!Q26,Skillserleuterungen_FTEM!D26)","v":"EMOTIONSKONTROLLE"},null,null,{"$f":"IF($H$2=\"G\",Skillserleuterungen_FTEM!T26,Skillserleuterungen_FTEM!G26)","v":"Emotionen und Impulse regulieren, unter Druck die Kontrolle behalten, in emotional ansprucksvollen Situationen angemessen agieren können"},null,null,{"$f":"IF($H$2=\"G\",Skillserleuterungen_FTEM!W26,Skillserleuterungen_FTEM!J26)","v":0}]
[null,null,null,{"$f":"IF($H$2=\"G\",Skillserleuterungen_FTEM!Q27,Skillserleuterungen_FTEM!D27)","v":"VORBEREITUNG"},null,null,{"$f":"IF($H$2=\"G\",Skillserleuterungen_FTEM!T27,Skillserleuterungen_FTEM!G27)","v":"Fokus, ILZ, Regeneration, Selbststiumlation, Ernährung"},null,null,{"$f":"IF($H$2=\"G\",Skillserleuterungen_FTEM!W27,Skillserleuterungen_FTEM!J27)","v":0}]
["PYHSE (Athletik)",null,null,{"$f":"IF($H$2=\"G\",Skillserleuterungen_FTEM!Q28,Skillserleuterungen_FTEM!D28)","v":"LEISTUNGSERZEUGUNG (neuromuskuläre Faktoren /Leistungserzeugung)"},null,null,{"$f":"IF($H$2=\"G\",Skillserleuterungen_FTEM!T28,Skillserleuterungen_FTEM!G28)","v":"Verfügt über die nötige Power/ Kraft/ Schnelligkeit in den Beinen un im Oberkörper "},null,null,{"$f":"IF($H$2=\"G\",Skillserleuterungen_FTEM!W28,Skillserleuterungen_FTEM!J28)","v":0},null,null,null,{"$f":"IFERROR(AVERAGE(O37:O40),\"-\")","v":"-"},null,{"$f":"IFERROR(AVERAGE(Q37:Q40),\"-\")","v":"-"},null,{"$f":"IFERROR(AVERAGE(S37:S40),\"-\")","v":"-"},null,{"$f":"IFERROR(AVERAGE(U37:U40),\"-\")","v":"-"},null,{"$f":"IFERROR(AVERAGE(W37:W40),\"-\")","v":"-"},null,{"$f":"IFERROR(AVERAGE(Y37:Y40),\"-\")","v":"-"}]
[null,null,null,{"$f":"IF($H$2=\"G\",Skillserleuterungen_FTEM!Q29,Skillserleuterungen_FTEM!D29)","v":"SPEZ. ERMÜDUNGSRESISTENZ (metabolische, kardiovaskuläre Faktoren)"},null,null,{"$f":"IF($H$2=\"G\",Skillserleuterungen_FTEM!T29,Skillserleuterungen_FTEM!G29)","v":"Ist fähig die Power/ Kraft/ Schnelligkeit innerhalb des Einsatzes lange aufrechtzuerhalten und kann sich zwischen den Einsätzen jeweils vollkommen erholen (auch von Spiel zu Spiel)."},null,null,{"$f":"IF($H$2=\"G\",Skillserleuterungen_FTEM!W29,Skillserleuterungen_FTEM!J29)","v":0}]
[null,null,null,{"$f":"IF($H$2=\"G\",Skillserleuterungen_FTEM!Q30,Skillserleuterungen_FTEM!D30)","v":"BEWEGUNGSKOMPETENZ/ KOORDINATION "},null,null,{"$f":"IF($H$2=\"G\",Skillserleuterungen_FTEM!T30,Skillserleuterungen_FTEM!G30)","v":"Beherrscht die grundlegenden Bewegungsfertigkeiten, die eine unerlässliche Zubringerfunktion für die sportspezifischen \"Skills\" darstellt sowie zur nötigen Bewegungseffizienz führt. "},null,null,{"$f":"IF($H$2=\"G\",Skillserleuterungen_FTEM!W30,Skillserleuterungen_FTEM!J30)","v":0}]
[null,null,null,{"$f":"IF($H$2=\"G\",Skillserleuterungen_FTEM!Q31,Skillserleuterungen_FTEM!D31)","v":"ROBUSTHEIT/ PRÄVENTION"},null,null,{"$f":"IF($H$2=\"G\",Skillserleuterungen_FTEM!T31,Skillserleuterungen_FTEM!G31)","v":"Verletzungsanfälligkeit, Stabilität (Verfügt über die nötige Stabilität, Grundkraft (Körperspannung) \"z.B. Beinachsenstabilität\" und Beweglichkeit in den zentralen Gelenken \"Hüfte, Wirbelsäule\"), Standfestigkeit"},null,null,{"$f":"IF($H$2=\"G\",Skillserleuterungen_FTEM!W31,Skillserleuterungen_FTEM!J31)","v":0}]

{"sheet":"28","index":31,"n_rows":40,"n_cols":36,"rows_kept":40,"cut":false,"hidden":false,"merged":[[38,3,38,5],[38,6,38,11],[39,3,39,5],[39,6,39,11],[32,23,35,23],[32,0,35,2],[32,3,32,5],[32,6,32,11],[32,12,35,12],[32,13,35,13],[36,26,39,32],[36,34,39,34],[21,3,21,5],[21,6,21,11],[34,3,34,5],[34,6,34,11],[36,0,39,2],[36,12,39,12],[36,13,39,13],[36,15,39,15],[36,17,39,17],[36,19,39,19],[36,21,39,21],[36,23,39,23],[36,25,39,25],[36,3,36,5],[36,6,36,11],[37,3,37,5],[37,6,37,11],[32,15,35,15],[27,21,27,22],[28,17,31,17],[28,19,31,19],[28,21,31,21],[29,3,29,5],[29,6,29,11],[30,3,30,5],[30,6,30,11],[32,17,35,17],[32,19,35,19],[32,21,35,21],[33,3,33,5],[33,6,33,11],[35,3,35,5],[35,6,35,11],[23,0,26,2],[23,3,23,5],[23,6,23,11],[23,12,26,12],[23,13,26,13],[23,15,26,15],[27,23,27,24],[27,26,27,32],[28,0,31,2],[28,3,28,5],[28,6,28,11],[28,12,31,12],[28,13,31,13],[28,15,31,15],[31,3,31,5],[31,6,31,11],[28,23,31,23],[27,0,27,2],[27,3,27,5],[27,6,27,11],[27,13,27,14],[27,15,27,16],[27,17,27,18],[27,19,27,20],[19,19,22,19],[19,21,22,21],[19,23,22,23],[20,3,20,5],[20,6,20,11],[22,3,22,5],[22,6,22,11],[26,3,26,5],[26,6,26,11],[23,23,26,23],[23,17,26,17],[23,19,26,19],[23,21,26,21],[24,3,24,5],[24,6,24,11],[25,3,25,5],[25,6,25,11],[12,21,13,21],[15,15,18,15],[15,17,18,17],[15,19,18,19],[15,21,18,21],[15,23,18,23],[18,3,18,5],[18,6,18,11],[19,0,22,2],[19,3,19,5],[19,6,19,11],[19,12,22,12],[19,13,22,13],[19,15,22,15],[19,17,22,17],[15,0,18,2],[15,3,15,5],[15,6,15,11],[15,12,18,12],[15,13,18,13],[16,3,16,5],[16,6,16,11],[17,3,17,5],[17,6,17,11],[11,21,11,22],[11,23,11,24],[11,26,11,32],[11,6,11,11],[12,23,13,23],[13,3,13,5],[13,6,13,11],[14,0,14,2],[14,3,14,5],[14,6,14,11],[14,13,14,14],[14,15,14,16],[14,17,14,18],[14,19,14,20],[14,21,14,22],[14,23,14,24],[12,0,13,2],[12,3,12,5],[12,6,12,11],[12,12,13,12],[12,13,13,13],[12,15,13,15],[12,17,13,17],[12,19,13,19],[4,0,4,1],[4,2,4,5],[4,10,4,24],[10,0,10,24],[10,25,10,35],[32,25,35,25],[32,26,35,32],[32,34,35,34],[12,25,13,25],[12,26,13,32],[12,34,13,34],[15,25,18,25],[15,26,18,32],[15,34,18,34],[19,25,22,25],[19,26,22,32],[19,34,22,34],[14,26,14,32],[11,0,11,2],[11,3,11,5],[11,13,11,14],[11,15,11,16],[11,17,11,18],[11,19,11,20],[0,0,0,24],[0,25,0,26],[0,27,0,32],[0,33,0,35],[23,25,26,25],[23,26,26,32],[23,34,26,34],[28,25,31,25],[28,26,31,32],[28,34,31,34],[1,0,1,1],[1,2,1,5],[1,10,1,24],[2,0,2,1],[2,2,2,5],[2,11,2,24],[6,0,6,1],[6,2,6,35],[7,0,7,1],[7,2,7,35],[8,0,8,1],[8,2,8,35],[3,0,3,1],[3,10,3,24]]}
["Personalien",null,null,null,null,null,null,null,null,null,null,null,null,null,null,null,null,null,null,null,null,null,null,null,null,"Vorausetzungen",null,"Evaluationen",null,null,null,null,null,"Rating"]
["VORNAME",null,{"$f":"IF(ISBLANK(VLOOKUP(28,Tabelle3[],3,0)),\"-\",VLOOKUP(28,Tabelle3[],3,0))","v":"-"},null,null,null,"POSITION",null,null,"ADRESSE",{"$f":"IF(ISBLANK(VLOOKUP(28,Tabelle3[],5,0)),\"-\",VLOOKUP(28,Tabelle3[],5,0))","v":"-"},null,null,null,null,null,null,null,null,null,null,null,null,null,null,"\"Alter\" (Biologisch/Relative Age)",null,"Datum 1",null,null,"cm",null,"Kg",null,"AUSGEZEICHNET",5]
["NAME",null,{"$f":"IF(ISBLANK(VLOOKUP(28,Tabelle3[],2,0)),\"-\",VLOOKUP(28,Tabelle3[],2,0))","v":"-"},null,null,null,"STOCK",null,null,"WOHNORT",{"$f":"IF(ISBLANK(VLOOKUP(28,Tabelle3[],7,0)),\"-\",VLOOKUP(28,Tabelle3[],7,0))","v":"-"},{"$f":"IF(ISBLANK(VLOOKUP(28,Tabelle3[],6,0)),\"-\",VLOOKUP(28,Tabelle3[],6,0))","v":"-"},null,null,null,null,null,null,null,null,null,null,null,null,null,"Veranlagung",null,"Datum 2",null,null,"cm",null,"Kg",null,"GUT",4]
["GEB. DATUM",null,{"$f":"IF(ISBLANK(VLOOKUP(28,Tabelle3[],14,0)),\"-\",VLOOKUP(28,Tabelle3[],14,0))","v":"-"},{"$f":"IF(ISBLANK(VLOOKUP(28,Tabelle3[],15,0)),\"-\",VLOOKUP(28,Tabelle3[],15,0))","v":"-"},{"$f":"IF(ISBLANK(VLOOKUP(28,Tabelle3[],16,0)),\"-\",VLOOKUP(28,Tabelle3[],16,0))","v":"-"},null,"GRÖSSE",null,"cm (Final)","PHONE",{"$f":"IF(ISBLANK(VLOOKUP(28,Tabelle3[],8,0)),\"-\",VLOOKUP(28,Tabelle3[],8,0))","v":"-"},null,null,null,null,null,null,null,null,null,null,null,null,null,null,"Umfeld",null,"Datum 3",null,null,"cm",null,"Kg",null,"DURCHSCHNITT",3]
["SEX",null,{"$f":"IF(ISBLANK(VLOOKUP(28,Tabelle3[],13,0)),\"-\",VLOOKUP(28,Tabelle3[],13,0))","v":"-"},null,null,null,"GEWICHT",null,"Kg (Final)","E-Mail",{"$f":"IF(ISBLANK(VLOOKUP(28,Tabelle3[],9,0)),\"-\",VLOOKUP(28,Tabelle3[],9,0))","v":"-"},null,null,null,null,null,null,null,null,null,null,null,null,null,null,null,null,"Datum 4",null,null,"cm",null,"Kg",null,"MANGELHAFT",2]
[null,null,null,null,null,null,null,null,null,null,null,null,null,null,null,null,null,null,null,null,null,null,null,null,null,null,null,"Datum 5",null,null,"cm",null,"Kg",null,"UNGENÜGEND",1]
["Vision",null,"xxx"]
["Next step",null,"xxx"]
["Stärkenprofil",null,"xxx"]
[]
["EVALUATION (COACH / SPIELER)",null,null,null,null,null,null,null,null,null,null,null,null,null,null,null,null,null,null,null,null,null,null,null,null,"SMART"]
["TEAM",null,null,"FÄHIGKEIT",null,null,"BEOBACHTUNG",null,null,null,null,null,"Final","Datum1",null,"Datum2",null,"Datum3",null,"Datum4",null,"Datum5",null,"Player",null,"ZIEL","MASSNAHME:\nSPEZIFISCH,  MESSBAR, REALISITISCH",null,null,null,null,null,null,"TERMIN","ZIEL-KONTROLLE","Datum"]
["ROLLE, SOZIAL",null,null,{"$f":"IF($H$2=\"G\",Skillserleuterungen_FTEM!Q4,Skillserleuterungen_FTEM!D4)","v":"TEAMDENKEN"},null,null,{"$f":"IF($H$2=\"G\",Skillserleuterungen_FTEM!T4,Skillserleuterungen_FTEM!G4)","v":"Identifikation zur Rolle, Umgang mit Kameraden (sozial integriert)"},null,null,{"$f":"IF($H$2=\"G\",Skillserleuterungen_FTEM!W4,Skillserleuterungen_FTEM!J4)","v":0},null,null,null,{"$f":"IFERROR(AVERAGE(O13:O14),\"-\")","v":"-"},null,{"$f":"IFERROR(AVERAGE(Q13:Q14),\"-\")","v":"-"},null,{"$f":"IFERROR(AVERAGE(S13:S14),\"-\")","v":"-"},null,{"$f":"IFERROR(AVERAGE(U13:U14),\"-\")","v":"-"},null,null,null,{"$f":"IFERROR(AVERAGE(Y13:Y14),\"-\")","v":"-"}]
[null,null,null,{"$f":"IF($H$2=\"G\",Skillserleuterungen_FTEM!Q5,Skillserleuterungen_FTEM!D5)","v":"LEADERSHIP"},null,null,{"$f":"IF($H$2=\"G\",Skillserleuterungen_FTEM!T5,Skillserleuterungen_FTEM!G5)","v":"Übernimmt Verantwortung, macht Mitspieler besser"},null,null,{"$f":"IF($H$2=\"G\",Skillserleuterungen_FTEM!W5,Skillserleuterungen_FTEM!J5)","v":0}]
["ON ICE",null,null,"FÄHIGKEIT",null,null,"BEOBACHTUNG",null,null,null,null,null,null,"Datum1",null,"Datum2",null,"Datum3",null,"Datum4",null,"Datum5",null,"Player",null,"ZIEL","MASSNAHME:\nSPEZIFISCH,  MESSBAR, REALISITISCH",null,null,null,null,null,null,"TERMIN","ZIEL-KONTROLLE","Datum"]
["SKILL",null,null,{"$f":"IF($H$2=\"G\",Skillserleuterungen_FTEM!Q7,Skillserleuterungen_FTEM!D7)","v":"SCHIESSEN"},null,null,{"$f":"IF($H$2=\"G\",Skillserleuterungen_FTEM!T7,Skillserleuterungen_FTEM!G7)","v":"Effizienz / Variantenreichtum, Überraschungsgrad (Quick Release), Präzision, Härte, (taktische Abschlüsse)\nschnell, hart, unter Druck"},null,null,{"$f":"IF($H$2=\"G\",Skillserleuterungen_FTEM!W7,Skillserleuterungen_FTEM!J7)","v":0},null,null,null,{"$f":"IFERROR(AVERAGE(O16:O19),\"-\")","v":"-"},null,{"$f":"IFERROR(AVERAGE(Q16:Q19),\"-\")","v":"-"},null,{"$f":"IFERROR(AVERAGE(S16:S19),\"-\")","v":"-"},null,{"$f":"IFERROR(AVERAGE(U16:U19),\"-\")","v":"-"},null,{"$f":"IFERROR(AVERAGE(W16:W19),\"-\")","v":"-"},null,{"$f":"IFERROR(AVERAGE(Y16:Y19),\"-\")","v":"-"}]
[null,null,null,{"$f":"IF($H$2=\"G\",Skillserleuterungen_FTEM!Q8,Skillserleuterungen_FTEM!D8)","v":"PASSEN"},null,null,{"$f":"IF($H$2=\"G\",Skillserleuterungen_FTEM!T8,Skillserleuterungen_FTEM!G8)","v":"Passabgabe (Distanz, Flippass Backhand), Passannahme (Präzision, Timing, Vorhand, Rückhand, Schlittschuh,Puckspeed"},null,null,{"$f":"IF($H$2=\"G\",Skillserleuterungen_FTEM!W8,Skillserleuterungen_FTEM!J8)","v":0}]
[null,null,null,{"$f":"IF($H$2=\"G\",Skillserleuterungen_FTEM!Q9,Skillserleuterungen_FTEM!D9)","v":"KÖRPERSPIEL"},null,null,{"$f":"IF($H$2=\"G\",Skillserleuterungen_FTEM!T9,Skillserleuterungen_FTEM!G9)","v":"Phyisches Durchsetzungsvermögen, Zweikampf (offenes Eis/Bande), Checks nehmen/Head up, Battle Level, Hart aber fair, mit dem Körper Schüsse blockieren"},null,null,{"$f":"IF($H$2=\"G\",Skillserleuterungen_FTEM!W9,Skillserleuterungen_FTEM!J9)","v":0},null,null,null,{"$f":"IFERROR(AVERAGE(O18:O19),\"-\")","v":"-"},null,{"$f":"IFERROR(AVERAGE(Q18:Q19),\"-\")","v":"-"},null,{"$f":"IFERROR(AVERAGE(S18:S19),\"-\")","v":"-"},null,{"$f":"IFERROR(AVERAGE(U18:U19),\"-\")","v":"-"},null,{"$f":"IFERROR(AVERAGE(W18:W19),\"-\")","v":"-"},null,{"$f":"IFERROR(AVERAGE(Y18:Y19),\"-\")","v":"-"}]
[null,null,null,{"$f":"IF($H$2=\"G\",Skillserleuterungen_FTEM!Q10,Skillserleuterungen_FTEM!D10)","v":"SCHEIBENKONTROLLE"},null,null,{"$f":"IF($H$2=\"G\",Skillserleuterungen_FTEM!T10,Skillserleuterungen_FTEM!G10)","v":"Puckmanagmenet auf engem Raum, Puck Protection,  schwer kontrollierbare Scheiben "},null,null,{"$f":"IF($H$2=\"G\",Skillserleuterungen_FTEM!W10,Skillserleuterungen_FTEM!J10)","v":0}]
["SKATING",null,null,{"$f":"IF($H$2=\"G\",Skillserleuterungen_FTEM!Q11,Skillserleuterungen_FTEM!D11)","v":"FOOTSPEED"},null,null,{"$f":"IF($H$2=\"G\",Skillserleuterungen_FTEM!T11,Skillserleuterungen_FTEM!G11)","v":"Beschleunigung, Antritt, erste 3 Schritte Explosivität, Frequenz"},null,null,{"$f":"IF($H$2=\"G\",Skillserleuterungen_FTEM!W11,Skillserleuterungen_FTEM!J11)","v":0},null,null,null,{"$f":"IFERROR(AVERAGE(O20:O23),\"-\")","v":"-"},null,{"$f":"IFERROR(AVERAGE(Q20:Q23),\"-\")","v":"-"},null,{"$f":"IFERROR(AVERAGE(S20:S23),\"-\")","v":"-"},null,{"$f":"IFERROR(AVERAGE(U20:U23),\"-\")","v":"-"},null,{"$f":"IFERROR(AVERAGE(W20:W23),\"-\")","v":"-"},null,{"$f":"IFERROR(AVERAGE(Y20:Y23),\"-\")","v":"-"}]
[null,null,null,{"$f":"IF($H$2=\"G\",Skillserleuterungen_FTEM!Q12,Skillserleuterungen_FTEM!D12)","v":"AGILITÄT"},null,null,{"$f":"IF($H$2=\"G\",Skillserleuterungen_FTEM!T12,Skillserleuterungen_FTEM!G12)","v":"Richtungsänderung, Drehung, Stop und Start, «Nummelin»"},null,null,{"$f":"IF($H$2=\"G\",Skillserleuterungen_FTEM!W12,Skillserleuterungen_FTEM!J12)","v":0}]
[null,null,null,{"$f":"IF($H$2=\"G\",Skillserleuterungen_FTEM!Q13,Skillserleuterungen_FTEM!D13)","v":"BACKWARDS SKATING"},null,null,{"$f":"IF($H$2=\"G\",Skillserleuterungen_FTEM!T13,Skillserleuterungen_FTEM!G13)","v":"Beschleunigung, Geschwindigkeit, Balance"},null,null,{"$f":"IF($H$2=\"G\",Skillserleuterungen_FTEM!W13,Skillserleuterungen_FTEM!J13)","v":0}]
[null,null,null,{"$f":"IF($H$2=\"G\",Skillserleuterungen_FTEM!Q14,Skillserleuterungen_FTEM!D14)","v":"TOPSPEED"},null,null,{"$f":"IF($H$2=\"G\",Skillserleuterungen_FTEM!T14,Skillserleuterungen_FTEM!G14)","v":"Schnelligkeit, Gleitfähigkeit, vorwärts und rückwärts, Ökonomie"},null,null,{"$f":"IF($H$2=\"G\",Skillserleuterungen_FTEM!W14,Skillserleuterungen_FTEM!J14)","v":0}]
["HOCKEY SENSE",null,null,{"$f":"IF($H$2=\"G\",Skillserleuterungen_FTEM!Q15,Skillserleuterungen_FTEM!D15)","v":"SCORING"},null,null,{"$f":"IF($H$2=\"G\",Skillserleuterungen_FTEM!T15,Skillserleuterungen_FTEM!G15)","v":"Effizienz, variantentreich, überraschend, schnell, hart - Schussvarianten"},null,null,{"$f":"IF($H$2=\"G\",Skillserleuterungen_FTEM!W15,Skillserleuterungen_FTEM!J15)","v":0},null,null,null,{"$f":"IFERROR(AVERAGE(O24:O27),\"-\")","v":"-"},null,{"$f":"IFERROR(AVERAGE(Q24:Q27),\"-\")","v":"-"},null,{"$f":"IFERROR(AVERAGE(S24:S27),\"-\")","v":"-"},null,{"$f":"IFERROR(AVERAGE(U24:U27),\"-\")","v":"-"},null,{"$f":"IFERROR(AVERAGE(W24:W27),\"-\")","v":"-"},null,{"$f":"IFERROR(AVERAGE(Y24:Y27),\"-\")","v":"-"}]
[null,null,null,{"$f":"IF($H$2=\"G\",Skillserleuterungen_FTEM!Q16,Skillserleuterungen_FTEM!D16)","v":"MIT SCHEIBE"},null,null,{"$f":"IF($H$2=\"G\",Skillserleuterungen_FTEM!T16,Skillserleuterungen_FTEM!G16)","v":"Kreativ, performing, batteling, frech, Transition"},null,null,{"$f":"IF($H$2=\"G\",Skillserleuterungen_FTEM!W16,Skillserleuterungen_FTEM!J16)","v":0}]
[null,null,null,{"$f":"IF($H$2=\"G\",Skillserleuterungen_FTEM!Q17,Skillserleuterungen_FTEM!D17)","v":"OHNE SCHEIBE"},null,null,{"$f":"IF($H$2=\"G\",Skillserleuterungen_FTEM!T17,Skillserleuterungen_FTEM!G17)","v":"Anspielbar (Support), 1:1, Gap"},null,null,{"$f":"IF($H$2=\"G\",Skillserleuterungen_FTEM!W17,Skillserleuterungen_FTEM!J17)","v":0}]
[null,null,null,{"$f":"IF($H$2=\"G\",Skillserleuterungen_FTEM!Q18,Skillserleuterungen_FTEM!D18)","v":"DEFENSIV"},null,null,{"$f":"IF($H$2=\"G\",Skillserleuterungen_FTEM!T18,Skillserleuterungen_FTEM!G18)","v":"Verlässlichkeit,  1:1, Gap, Zuordnung"},null,null,{"$f":"IF($H$2=\"G\",Skillserleuterungen_FTEM!W18,Skillserleuterungen_FTEM!J18)","v":0}]
["PERSONALITY",null,null,"FÄHIGKEIT",null,null,"BEOBACHTUNG",null,null,null,null,null,null,"Datum1",null,"Datum2",null,"Datum3",null,"Datum4",null,"Datum5",null,"Player",null,"ZIEL","MASSNAHME:\nSPEZIFISCH,  MESSBAR, REALISITISCH",null,null,null,null,null,null,"TERMIN","ZIEL-KONTROLLE","Datum"]
["PERSON",null,null,{"$f":"IF($H$2=\"G\",Skillserleuterungen_FTEM!Q20,Skillserleuterungen_FTEM!D20)","v":"MOTIVATION"},null,null,{"$f":"IF($H$2=\"G\",Skillserleuterungen_FTEM!T20,Skillserleuterungen_FTEM!G20)","v":"Intrinsischer Antrieb, will sich ständig weiterentwickeln, will der Erste sein und Erfolg haben"},null,null,{"$f":"IF($H$2=\"G\",Skillserleuterungen_FTEM!W20,Skillserleuterungen_FTEM!J20)","v":0},null,null,null,{"$f":"IFERROR(AVERAGE(O29:O32),\"-\")","v":"-"},null,{"$f":"IFERROR(AVERAGE(Q29:Q32),\"-\")","v":"-"},null,{"$f":"IFERROR(AVERAGE(S29:S32),\"-\")","v":"-"},null,{"$f":"IFERROR(AVERAGE(U29:U32),\"-\")","v":"-"},null,{"$f":"IFERROR(AVERAGE(W29:W32),\"-\")","v":"-"},null,{"$f":"IFERROR(AVERAGE(Y29:Y32),\"-\")","v":"-"}]
[null,null,null,{"$f":"IF($H$2=\"G\",Skillserleuterungen_FTEM!Q21,Skillserleuterungen_FTEM!D21)","v":"SELBSBEWUSSTSEIN"},null,null,{"$f":"IF($H$2=\"G\",Skillserleuterungen_FTEM!T21,Skillserleuterungen_FTEM!G21)","v":"Hat das nötige Selbstvertrauen \"I can do it\" haltung, kann eigenen Fähigkeiten einschätzen und agiert mutig"},null,null,{"$f":"IF($H$2=\"G\",Skillserleuterungen_FTEM!W21,Skillserleuterungen_FTEM!J21)","v":0}]
[null,null,null,{"$f":"IF($H$2=\"G\",Skillserleuterungen_FTEM!Q22,Skillserleuterungen_FTEM!D22)","v":"LERNFÄHIGKEIT"},null,null,{"$f":"IF($H$2=\"G\",Skillserleuterungen_FTEM!T22,Skillserleuterungen_FTEM!G22)","v":"Gute Auffassungsgabe (nimmt auf und kann umsetzen), reflektiert eigenes Handeln, versucht aus Fehlern zu lernen und kann Massnahmen ableiten und sich selber coachen"},null,null,{"$f":"IF($H$2=\"G\",Skillserleuterungen_FTEM!W22,Skillserleuterungen_FTEM!J22)","v":0}]
[null,null,null,{"$f":"IF($H$2=\"G\",Skillserleuterungen_FTEM!Q23,Skillserleuterungen_FTEM!D23)","v":"PERFORMANCE LIFESTYLE"},null,null,{"$f":"IF($H$2=\"G\",Skillserleuterungen_FTEM!T23,Skillserleuterungen_FTEM!G23)","v":"Managt Alltag und Umfeld nach dem Leistungsprinzip, kann sich gegen Wiederstände durchsetzten"},null,null,{"$f":"IF($H$2=\"G\",Skillserleuterungen_FTEM!W23,Skillserleuterungen_FTEM!J23)","v":0}]
["POWER",null,null,{"$f":"IF($H$2=\"G\",Skillserleuterungen_FTEM!Q24,Skillserleuterungen_FTEM!D24)","v":"ENERGIEMANAGEMENT"},null,null,{"$f":"IF($H$2=\"G\",Skillserleuterungen_FTEM!T24,Skillserleuterungen_FTEM!G24)","v":"Kann eigene Energie regulieren, bereit zur Regeneration, weiss, wann er \"Vollgas\" geben muss und wann ab-schalten, On/Off-Schalter"},null,null,{"$f":"IF($H$2=\"G\",Skillserleuterungen_FTEM!W24,Skillserleuterungen_FTEM!J24)","v":0},null,null,null,{"$f":"IFERROR(AVERAGE(O33:O36),\"-\")","v":"-"},null,{"$f":"IFERROR(AVERAGE(Q33:Q36),\"-\")","v":"-"},null,{"$f":"IFERROR(AVERAGE(S33:S36),\"-\")","v":"-"},null,{"$f":"IFERROR(AVERAGE(U33:U36),\"-\")","v":"-"},null,{"$f":"IFERROR(AVERAGE(W33:W36),\"-\")","v":"-"},null,{"$f":"IFERROR(AVERAGE(Y33:Y36),\"-\")","v":"-"}]
[null,null,null,{"$f":"IF($H$2=\"G\",Skillserleuterungen_FTEM!Q25,Skillserleuterungen_FTEM!D25)","v":"EINSATZBEREITSCHAFT"},null,null,{"$f":"IF($H$2=\"G\",Skillserleuterungen_FTEM!T25,Skillserleuterungen_FTEM!G25)","v":"Hohe intensität im Spiel und Training, gibt immer sein Maximum, will seine Limiten pushen"},null,null,{"$f":"IF($H$2=\"G\",Skillserleuterungen_FTEM!W25,Skillserleuterungen_FTEM!J25)","v":0}]
[null,null,null,{"$f":"IF($H$2=\"G\",Skillserleuterungen_FTEM!Q26,Skillserleuterungen_FTEM!D26)","v":"EMOTIONSKONTROLLE"},null,null,{"$f":"IF($H$2=\"G\",Skillserleuterungen_FTEM!T26,Skillserleuterungen_FTEM!G26)","v":"Emotionen und Impulse regulieren, unter Druck die Kontrolle behalten, in emotional ansprucksvollen Situationen angemessen agieren können"},null,null,{"$f":"IF($H$2=\"G\",Skillserleuterungen_FTEM!W26,Skillserleuterungen_FTEM!J26)","v":0}]
[null,null,null,{"$f":"IF($H$2=\"G\",Skillserleuterungen_FTEM!Q27,Skillserleuterungen_FTEM!D27)","v":"VORBEREITUNG"},null,null,{"$f":"IF($H$2=\"G\",Skillserleuterungen_FTEM!T27,Skillserleuterungen_FTEM!G27)","v":"Fokus, ILZ, Regeneration, Selbststiumlation, Ernährung"},null,null,{"$f":"IF($H$2=\"G\",Skillserleuterungen_FTEM!W27,Skillserleuterungen_FTEM!J27)","v":0}]
["PYHSE (Athletik)",null,null,{"$f":"IF($H$2=\"G\",Skillserleuterungen_FTEM!Q28,Skillserleuterungen_FTEM!D28)","v":"LEISTUNGSERZEUGUNG (neuromuskuläre Faktoren /Leistungserzeugung)"},null,null,{"$f":"IF($H$2=\"G\",Skillserleuterungen_FTEM!T28,Skillserleuterungen_FTEM!G28)","v":"Verfügt über die nötige Power/ Kraft/ Schnelligkeit in den Beinen un im Oberkörper "},null,null,{"$f":"IF($H$2=\"G\",Skillserleuterungen_FTEM!W28,Skillserleuterungen_FTEM!J28)","v":0},null,null,null,{"$f":"IFERROR(AVERAGE(O37:O40),\"-\")","v":"-"},null,{"$f":"IFERROR(AVERAGE(Q37:Q40),\"-\")","v":"-"},null,{"$f":"IFERROR(AVERAGE(S37:S40),\"-\")","v":"-"},null,{"$f":"IFERROR(AVERAGE(U37:U40),\"-\")","v":"-"},null,{"$f":"IFERROR(AVERAGE(W37:W40),\"-\")","v":"-"},null,{"$f":"IFERROR(AVERAGE(Y37:Y40),\"-\")","v":"-"}]
[null,null,null,{"$f":"IF($H$2=\"G\",Skillserleuterungen_FTEM!Q29,Skillserleuterungen_FTEM!D29)","v":"SPEZ. ERMÜDUNGSRESISTENZ (metabolische, kardiovaskuläre Faktoren)"},null,null,{"$f":"IF($H$2=\"G\",Skillserleuterungen_FTEM!T29,Skillserleuterungen_FTEM!G29)","v":"Ist fähig die Power/ Kraft/ Schnelligkeit innerhalb des Einsatzes lange aufrechtzuerhalten und kann sich zwischen den Einsätzen jeweils vollkommen erholen (auch von Spiel zu Spiel)."},null,null,{"$f":"IF($H$2=\"G\",Skillserleuterungen_FTEM!W29,Skillserleuterungen_FTEM!J29)","v":0}]
[null,null,null,{"$f":"IF($H$2=\"G\",Skillserleuterungen_FTEM!Q30,Skillserleuterungen_FTEM!D30)","v":"BEWEGUNGSKOMPETENZ/ KOORDINATION "},null,null,{"$f":"IF($H$2=\"G\",Skillserleuterungen_FTEM!T30,Skillserleuterungen_FTEM!G30)","v":"Beherrscht die grundlegenden Bewegungsfertigkeiten, die eine unerlässliche Zubringerfunktion für die sportspezifischen \"Skills\" darstellt sowie zur nötigen Bewegungseffizienz führt. "},null,null,{"$f":"IF($H$2=\"G\",Skillserleuterungen_FTEM!W30,Skillserleuterungen_FTEM!J30)","v":0}]
[null,null,null,{"$f":"IF($H$2=\"G\",Skillserleuterungen_FTEM!Q31,Skillserleuterungen_FTEM!D31)","v":"ROBUSTHEIT/ PRÄVENTION"},null,null,{"$f":"IF($H$2=\"G\",Skillserleuterungen_FTEM!T31,Skillserleuterungen_FTEM!G31)","v":"Verletzungsanfälligkeit, Stabilität (Verfügt über die nötige Stabilität, Grundkraft (Körperspannung) \"z.B. Beinachsenstabilität\" und Beweglichkeit in den zentralen Gelenken \"Hüfte, Wirbelsäule\"), Standfestigkeit"},null,null,{"$f":"IF($H$2=\"G\",Skillserleuterungen_FTEM!W31,Skillserleuterungen_FTEM!J31)","v":0}]

{"sheet":"29","index":32,"n_rows":40,"n_cols":36,"rows_kept":40,"cut":false,"hidden":false,"merged":[[38,3,38,5],[38,6,38,11],[39,3,39,5],[39,6,39,11],[32,23,35,23],[32,0,35,2],[32,3,32,5],[32,6,32,11],[32,12,35,12],[32,13,35,13],[36,26,39,32],[36,34,39,34],[21,3,21,5],[21,6,21,11],[34,3,34,5],[34,6,34,11],[36,0,39,2],[36,12,39,12],[36,13,39,13],[36,15,39,15],[36,17,39,17],[36,19,39,19],[36,21,39,21],[36,23,39,23],[36,25,39,25],[36,3,36,5],[36,6,36,11],[37,3,37,5],[37,6,37,11],[32,15,35,15],[27,21,27,22],[28,17,31,17],[28,19,31,19],[28,21,31,21],[29,3,29,5],[29,6,29,11],[30,3,30,5],[30,6,30,11],[32,17,35,17],[32,19,35,19],[32,21,35,21],[33,3,33,5],[33,6,33,11],[35,3,35,5],[35,6,35,11],[23,0,26,2],[23,3,23,5],[23,6,23,11],[23,12,26,12],[23,13,26,13],[23,15,26,15],[27,23,27,24],[27,26,27,32],[28,0,31,2],[28,3,28,5],[28,6,28,11],[28,12,31,12],[28,13,31,13],[28,15,31,15],[31,3,31,5],[31,6,31,11],[28,23,31,23],[27,0,27,2],[27,3,27,5],[27,6,27,11],[27,13,27,14],[27,15,27,16],[27,17,27,18],[27,19,27,20],[19,19,22,19],[19,21,22,21],[19,23,22,23],[20,3,20,5],[20,6,20,11],[22,3,22,5],[22,6,22,11],[26,3,26,5],[26,6,26,11],[23,23,26,23],[23,17,26,17],[23,19,26,19],[23,21,26,21],[24,3,24,5],[24,6,24,11],[25,3,25,5],[25,6,25,11],[12,21,13,21],[15,15,18,15],[15,17,18,17],[15,19,18,19],[15,21,18,21],[15,23,18,23],[18,3,18,5],[18,6,18,11],[19,0,22,2],[19,3,19,5],[19,6,19,11],[19,12,22,12],[19,13,22,13],[19,15,22,15],[19,17,22,17],[15,0,18,2],[15,3,15,5],[15,6,15,11],[15,12,18,12],[15,13,18,13],[16,3,16,5],[16,6,16,11],[17,3,17,5],[17,6,17,11],[11,21,11,22],[11,23,11,24],[11,26,11,32],[11,6,11,11],[12,23,13,23],[13,3,13,5],[13,6,13,11],[14,0,14,2],[14,3,14,5],[14,6,14,11],[14,13,14,14],[14,15,14,16],[14,17,14,18],[14,19,14,20],[14,21,14,22],[14,23,14,24],[12,0,13,2],[12,3,12,5],[12,6,12,11],[12,12,13,12],[12,13,13,13],[12,15,13,15],[12,17,13,17],[12,19,13,19],[4,0,4,1],[4,2,4,5],[4,10,4,24],[10,0,10,24],[10,25,10,35],[32,25,35,25],[32,26,35,32],[32,34,35,34],[12,25,13,25],[12,26,13,32],[12,34,13,34],[15,25,18,25],[15,26,18,32],[15,34,18,34],[19,25,22,25],[19,26,22,32],[19,34,22,34],[14,26,14,32],[11,0,11,2],[11,3,11,5],[11,13,11,14],[11,15,11,16],[11,17,11,18],[11,19,11,20],[0,0,0,24],[0,25,0,26],[0,27,0,32],[0,33,0,35],[23,25,26,25],[23,26,26,32],[23,34,26,34],[28,25,31,25],[28,26,31,32],[28,34,31,34],[1,0,1,1],[1,2,1,5],[1,10,1,24],[2,0,2,1],[2,2,2,5],[2,11,2,24],[6,0,6,1],[6,2,6,35],[7,0,7,1],[7,2,7,35],[8,0,8,1],[8,2,8,35],[3,0,3,1],[3,10,3,24]]}
["Personalien",null,null,null,null,null,null,null,null,null,null,null,null,null,null,null,null,null,null,null,null,null,null,null,null,"Vorausetzungen",null,"Evaluationen",null,null,null,null,null,"Rating"]
["VORNAME",null,{"$f":"IF(ISBLANK(VLOOKUP(29,Tabelle3[],3,0)),\"-\",VLOOKUP(29,Tabelle3[],3,0))","v":"-"},null,null,null,"POSITION",null,null,"ADRESSE",{"$f":"IF(ISBLANK(VLOOKUP(29,Tabelle3[],5,0)),\"-\",VLOOKUP(29,Tabelle3[],5,0))","v":"-"},null,null,null,null,null,null,null,null,null,null,null,null,null,null,"\"Alter\" (Biologisch/Relative Age)",null,"Datum 1",null,null,"cm",null,"Kg",null,"AUSGEZEICHNET",5]
["NAME",null,{"$f":"IF(ISBLANK(VLOOKUP(29,Tabelle3[],2,0)),\"-\",VLOOKUP(29,Tabelle3[],2,0))","v":"-"},null,null,null,"STOCK",null,null,"WOHNORT",{"$f":"IF(ISBLANK(VLOOKUP(29,Tabelle3[],7,0)),\"-\",VLOOKUP(29,Tabelle3[],7,0))","v":"-"},{"$f":"IF(ISBLANK(VLOOKUP(29,Tabelle3[],6,0)),\"-\",VLOOKUP(29,Tabelle3[],6,0))","v":"-"},null,null,null,null,null,null,null,null,null,null,null,null,null,"Veranlagung",null,"Datum 2",null,null,"cm",null,"Kg",null,"GUT",4]
["GEB. DATUM",null,{"$f":"IF(ISBLANK(VLOOKUP(29,Tabelle3[],14,0)),\"-\",VLOOKUP(29,Tabelle3[],14,0))","v":"-"},{"$f":"IF(ISBLANK(VLOOKUP(29,Tabelle3[],15,0)),\"-\",VLOOKUP(29,Tabelle3[],15,0))","v":"-"},{"$f":"IF(ISBLANK(VLOOKUP(29,Tabelle3[],16,0)),\"-\",VLOOKUP(29,Tabelle3[],16,0))","v":"-"},null,"GRÖSSE",null,"cm (Final)","PHONE",{"$f":"IF(ISBLANK(VLOOKUP(29,Tabelle3[],8,0)),\"-\",VLOOKUP(29,Tabelle3[],8,0))","v":"-"},null,null,null,null,null,null,null,null,null,null,null,null,null,null,"Umfeld",null,"Datum 3",null,null,"cm",null,"Kg",null,"DURCHSCHNITT",3]
["SEX",null,{"$f":"IF(ISBLANK(VLOOKUP(29,Tabelle3[],13,0)),\"-\",VLOOKUP(29,Tabelle3[],13,0))","v":"-"},null,null,null,"GEWICHT",null,"Kg (Final)","E-Mail",{"$f":"IF(ISBLANK(VLOOKUP(29,Tabelle3[],9,0)),\"-\",VLOOKUP(29,Tabelle3[],9,0))","v":"-"},null,null,null,null,null,null,null,null,null,null,null,null,null,null,null,null,"Datum 4",null,null,"cm",null,"Kg",null,"MANGELHAFT",2]
[null,null,null,null,null,null,null,null,null,null,null,null,null,null,null,null,null,null,null,null,null,null,null,null,null,null,null,"Datum 5",null,null,"cm",null,"Kg",null,"UNGENÜGEND",1]
["Vision",null,"xxx"]
["Next step",null,"xxx"]
["Stärkenprofil",null,"xxx"]
[]
["EVALUATION (COACH / SPIELER)",null,null,null,null,null,null,null,null,null,null,null,null,null,null,null,null,null,null,null,null,null,null,null,null,"SMART"]
["TEAM",null,null,"FÄHIGKEIT",null,null,"BEOBACHTUNG",null,null,null,null,null,"Final","Datum1",null,"Datum2",null,"Datum3",null,"Datum4",null,"Datum5",null,"Player",null,"ZIEL","MASSNAHME:\nSPEZIFISCH,  MESSBAR, REALISITISCH",null,null,null,null,null,null,"TERMIN","ZIEL-KONTROLLE","Datum"]
["ROLLE, SOZIAL",null,null,{"$f":"IF($H$2=\"G\",Skillserleuterungen_FTEM!Q4,Skillserleuterungen_FTEM!D4)","v":"TEAMDENKEN"},null,null,{"$f":"IF($H$2=\"G\",Skillserleuterungen_FTEM!T4,Skillserleuterungen_FTEM!G4)","v":"Identifikation zur Rolle, Umgang mit Kameraden (sozial integriert)"},null,null,{"$f":"IF($H$2=\"G\",Skillserleuterungen_FTEM!W4,Skillserleuterungen_FTEM!J4)","v":0},null,null,null,{"$f":"IFERROR(AVERAGE(O13:O14),\"-\")","v":"-"},null,{"$f":"IFERROR(AVERAGE(Q13:Q14),\"-\")","v":"-"},null,{"$f":"IFERROR(AVERAGE(S13:S14),\"-\")","v":"-"},null,{"$f":"IFERROR(AVERAGE(U13:U14),\"-\")","v":"-"},null,null,null,{"$f":"IFERROR(AVERAGE(Y13:Y14),\"-\")","v":"-"}]
[null,null,null,{"$f":"IF($H$2=\"G\",Skillserleuterungen_FTEM!Q5,Skillserleuterungen_FTEM!D5)","v":"LEADERSHIP"},null,null,{"$f":"IF($H$2=\"G\",Skillserleuterungen_FTEM!T5,Skillserleuterungen_FTEM!G5)","v":"Übernimmt Verantwortung, macht Mitspieler besser"},null,null,{"$f":"IF($H$2=\"G\",Skillserleuterungen_FTEM!W5,Skillserleuterungen_FTEM!J5)","v":0}]
["ON ICE",null,null,"FÄHIGKEIT",null,null,"BEOBACHTUNG",null,null,null,null,null,null,"Datum1",null,"Datum2",null,"Datum3",null,"Datum4",null,"Datum5",null,"Player",null,"ZIEL","MASSNAHME:\nSPEZIFISCH,  MESSBAR, REALISITISCH",null,null,null,null,null,null,"TERMIN","ZIEL-KONTROLLE","Datum"]
["SKILL",null,null,{"$f":"IF($H$2=\"G\",Skillserleuterungen_FTEM!Q7,Skillserleuterungen_FTEM!D7)","v":"SCHIESSEN"},null,null,{"$f":"IF($H$2=\"G\",Skillserleuterungen_FTEM!T7,Skillserleuterungen_FTEM!G7)","v":"Effizienz / Variantenreichtum, Überraschungsgrad (Quick Release), Präzision, Härte, (taktische Abschlüsse)\nschnell, hart, unter Druck"},null,null,{"$f":"IF($H$2=\"G\",Skillserleuterungen_FTEM!W7,Skillserleuterungen_FTEM!J7)","v":0},null,null,null,{"$f":"IFERROR(AVERAGE(O16:O19),\"-\")","v":"-"},null,{"$f":"IFERROR(AVERAGE(Q16:Q19),\"-\")","v":"-"},null,{"$f":"IFERROR(AVERAGE(S16:S19),\"-\")","v":"-"},null,{"$f":"IFERROR(AVERAGE(U16:U19),\"-\")","v":"-"},null,{"$f":"IFERROR(AVERAGE(W16:W19),\"-\")","v":"-"},null,{"$f":"IFERROR(AVERAGE(Y16:Y19),\"-\")","v":"-"}]
[null,null,null,{"$f":"IF($H$2=\"G\",Skillserleuterungen_FTEM!Q8,Skillserleuterungen_FTEM!D8)","v":"PASSEN"},null,null,{"$f":"IF($H$2=\"G\",Skillserleuterungen_FTEM!T8,Skillserleuterungen_FTEM!G8)","v":"Passabgabe (Distanz, Flippass Backhand), Passannahme (Präzision, Timing, Vorhand, Rückhand, Schlittschuh,Puckspeed"},null,null,{"$f":"IF($H$2=\"G\",Skillserleuterungen_FTEM!W8,Skillserleuterungen_FTEM!J8)","v":0}]
[null,null,null,{"$f":"IF($H$2=\"G\",Skillserleuterungen_FTEM!Q9,Skillserleuterungen_FTEM!D9)","v":"KÖRPERSPIEL"},null,null,{"$f":"IF($H$2=\"G\",Skillserleuterungen_FTEM!T9,Skillserleuterungen_FTEM!G9)","v":"Phyisches Durchsetzungsvermögen, Zweikampf (offenes Eis/Bande), Checks nehmen/Head up, Battle Level, Hart aber fair, mit dem Körper Schüsse blockieren"},null,null,{"$f":"IF($H$2=\"G\",Skillserleuterungen_FTEM!W9,Skillserleuterungen_FTEM!J9)","v":0},null,null,null,{"$f":"IFERROR(AVERAGE(O18:O19),\"-\")","v":"-"},null,{"$f":"IFERROR(AVERAGE(Q18:Q19),\"-\")","v":"-"},null,{"$f":"IFERROR(AVERAGE(S18:S19),\"-\")","v":"-"},null,{"$f":"IFERROR(AVERAGE(U18:U19),\"-\")","v":"-"},null,{"$f":"IFERROR(AVERAGE(W18:W19),\"-\")","v":"-"},null,{"$f":"IFERROR(AVERAGE(Y18:Y19),\"-\")","v":"-"}]
[null,null,null,{"$f":"IF($H$2=\"G\",Skillserleuterungen_FTEM!Q10,Skillserleuterungen_FTEM!D10)","v":"SCHEIBENKONTROLLE"},null,null,{"$f":"IF($H$2=\"G\",Skillserleuterungen_FTEM!T10,Skillserleuterungen_FTEM!G10)","v":"Puckmanagmenet auf engem Raum, Puck Protection,  schwer kontrollierbare Scheiben "},null,null,{"$f":"IF($H$2=\"G\",Skillserleuterungen_FTEM!W10,Skillserleuterungen_FTEM!J10)","v":0}]
["SKATING",null,null,{"$f":"IF($H$2=\"G\",Skillserleuterungen_FTEM!Q11,Skillserleuterungen_FTEM!D11)","v":"FOOTSPEED"},null,null,{"$f":"IF($H$2=\"G\",Skillserleuterungen_FTEM!T11,Skillserleuterungen_FTEM!G11)","v":"Beschleunigung, Antritt, erste 3 Schritte Explosivität, Frequenz"},null,null,{"$f":"IF($H$2=\"G\",Skillserleuterungen_FTEM!W11,Skillserleuterungen_FTEM!J11)","v":0},null,null,null,{"$f":"IFERROR(AVERAGE(O20:O23),\"-\")","v":"-"},null,{"$f":"IFERROR(AVERAGE(Q20:Q23),\"-\")","v":"-"},null,{"$f":"IFERROR(AVERAGE(S20:S23),\"-\")","v":"-"},null,{"$f":"IFERROR(AVERAGE(U20:U23),\"-\")","v":"-"},null,{"$f":"IFERROR(AVERAGE(W20:W23),\"-\")","v":"-"},null,{"$f":"IFERROR(AVERAGE(Y20:Y23),\"-\")","v":"-"}]
[null,null,null,{"$f":"IF($H$2=\"G\",Skillserleuterungen_FTEM!Q12,Skillserleuterungen_FTEM!D12)","v":"AGILITÄT"},null,null,{"$f":"IF($H$2=\"G\",Skillserleuterungen_FTEM!T12,Skillserleuterungen_FTEM!G12)","v":"Richtungsänderung, Drehung, Stop und Start, «Nummelin»"},null,null,{"$f":"IF($H$2=\"G\",Skillserleuterungen_FTEM!W12,Skillserleuterungen_FTEM!J12)","v":0}]
[null,null,null,{"$f":"IF($H$2=\"G\",Skillserleuterungen_FTEM!Q13,Skillserleuterungen_FTEM!D13)","v":"BACKWARDS SKATING"},null,null,{"$f":"IF($H$2=\"G\",Skillserleuterungen_FTEM!T13,Skillserleuterungen_FTEM!G13)","v":"Beschleunigung, Geschwindigkeit, Balance"},null,null,{"$f":"IF($H$2=\"G\",Skillserleuterungen_FTEM!W13,Skillserleuterungen_FTEM!J13)","v":0}]
[null,null,null,{"$f":"IF($H$2=\"G\",Skillserleuterungen_FTEM!Q14,Skillserleuterungen_FTEM!D14)","v":"TOPSPEED"},null,null,{"$f":"IF($H$2=\"G\",Skillserleuterungen_FTEM!T14,Skillserleuterungen_FTEM!G14)","v":"Schnelligkeit, Gleitfähigkeit, vorwärts und rückwärts, Ökonomie"},null,null,{"$f":"IF($H$2=\"G\",Skillserleuterungen_FTEM!W14,Skillserleuterungen_FTEM!J14)","v":0}]
["HOCKEY SENSE",null,null,{"$f":"IF($H$2=\"G\",Skillserleuterungen_FTEM!Q15,Skillserleuterungen_FTEM!D15)","v":"SCORING"},null,null,{"$f":"IF($H$2=\"G\",Skillserleuterungen_FTEM!T15,Skillserleuterungen_FTEM!G15)","v":"Effizienz, variantentreich, überraschend, schnell, hart - Schussvarianten"},null,null,{"$f":"IF($H$2=\"G\",Skillserleuterungen_FTEM!W15,Skillserleuterungen_FTEM!J15)","v":0},null,null,null,{"$f":"IFERROR(AVERAGE(O24:O27),\"-\")","v":"-"},null,{"$f":"IFERROR(AVERAGE(Q24:Q27),\"-\")","v":"-"},null,{"$f":"IFERROR(AVERAGE(S24:S27),\"-\")","v":"-"},null,{"$f":"IFERROR(AVERAGE(U24:U27),\"-\")","v":"-"},null,{"$f":"IFERROR(AVERAGE(W24:W27),\"-\")","v":"-"},null,{"$f":"IFERROR(AVERAGE(Y24:Y27),\"-\")","v":"-"}]
[null,null,null,{"$f":"IF($H$2=\"G\",Skillserleuterungen_FTEM!Q16,Skillserleuterungen_FTEM!D16)","v":"MIT SCHEIBE"},null,null,{"$f":"IF($H$2=\"G\",Skillserleuterungen_FTEM!T16,Skillserleuterungen_FTEM!G16)","v":"Kreativ, performing, batteling, frech, Transition"},null,null,{"$f":"IF($H$2=\"G\",Skillserleuterungen_FTEM!W16,Skillserleuterungen_FTEM!J16)","v":0}]
[null,null,null,{"$f":"IF($H$2=\"G\",Skillserleuterungen_FTEM!Q17,Skillserleuterungen_FTEM!D17)","v":"OHNE SCHEIBE"},null,null,{"$f":"IF($H$2=\"G\",Skillserleuterungen_FTEM!T17,Skillserleuterungen_FTEM!G17)","v":"Anspielbar (Support), 1:1, Gap"},null,null,{"$f":"IF($H$2=\"G\",Skillserleuterungen_FTEM!W17,Skillserleuterungen_FTEM!J17)","v":0}]
[null,null,null,{"$f":"IF($H$2=\"G\",Skillserleuterungen_FTEM!Q18,Skillserleuterungen_FTEM!D18)","v":"DEFENSIV"},null,null,{"$f":"IF($H$2=\"G\",Skillserleuterungen_FTEM!T18,Skillserleuterungen_FTEM!G18)","v":"Verlässlichkeit,  1:1, Gap, Zuordnung"},null,null,{"$f":"IF($H$2=\"G\",Skillserleuterungen_FTEM!W18,Skillserleuterungen_FTEM!J18)","v":0}]
["PERSONALITY",null,null,"FÄHIGKEIT",null,null,"BEOBACHTUNG",null,null,null,null,null,null,"Datum1",null,"Datum2",null,"Datum3",null,"Datum4",null,"Datum5",null,"Player",null,"ZIEL","MASSNAHME:\nSPEZIFISCH,  MESSBAR, REALISITISCH",null,null,null,null,null,null,"TERMIN","ZIEL-KONTROLLE","Datum"]
["PERSON",null,null,{"$f":"IF($H$2=\"G\",Skillserleuterungen_FTEM!Q20,Skillserleuterungen_FTEM!D20)","v":"MOTIVATION"},null,null,{"$f":"IF($H$2=\"G\",Skillserleuterungen_FTEM!T20,Skillserleuterungen_FTEM!G20)","v":"Intrinsischer Antrieb, will sich ständig weiterentwickeln, will der Erste sein und Erfolg haben"},null,null,{"$f":"IF($H$2=\"G\",Skillserleuterungen_FTEM!W20,Skillserleuterungen_FTEM!J20)","v":0},null,null,null,{"$f":"IFERROR(AVERAGE(O29:O32),\"-\")","v":"-"},null,{"$f":"IFERROR(AVERAGE(Q29:Q32),\"-\")","v":"-"},null,{"$f":"IFERROR(AVERAGE(S29:S32),\"-\")","v":"-"},null,{"$f":"IFERROR(AVERAGE(U29:U32),\"-\")","v":"-"},null,{"$f":"IFERROR(AVERAGE(W29:W32),\"-\")","v":"-"},null,{"$f":"IFERROR(AVERAGE(Y29:Y32),\"-\")","v":"-"}]
[null,null,null,{"$f":"IF($H$2=\"G\",Skillserleuterungen_FTEM!Q21,Skillserleuterungen_FTEM!D21)","v":"SELBSBEWUSSTSEIN"},null,null,{"$f":"IF($H$2=\"G\",Skillserleuterungen_FTEM!T21,Skillserleuterungen_FTEM!G21)","v":"Hat das nötige Selbstvertrauen \"I can do it\" haltung, kann eigenen Fähigkeiten einschätzen und agiert mutig"},null,null,{"$f":"IF($H$2=\"G\",Skillserleuterungen_FTEM!W21,Skillserleuterungen_FTEM!J21)","v":0}]
[null,null,null,{"$f":"IF($H$2=\"G\",Skillserleuterungen_FTEM!Q22,Skillserleuterungen_FTEM!D22)","v":"LERNFÄHIGKEIT"},null,null,{"$f":"IF($H$2=\"G\",Skillserleuterungen_FTEM!T22,Skillserleuterungen_FTEM!G22)","v":"Gute Auffassungsgabe (nimmt auf und kann umsetzen), reflektiert eigenes Handeln, versucht aus Fehlern zu lernen und kann Massnahmen ableiten und sich selber coachen"},null,null,{"$f":"IF($H$2=\"G\",Skillserleuterungen_FTEM!W22,Skillserleuterungen_FTEM!J22)","v":0}]
[null,null,null,{"$f":"IF($H$2=\"G\",Skillserleuterungen_FTEM!Q23,Skillserleuterungen_FTEM!D23)","v":"PERFORMANCE LIFESTYLE"},null,null,{"$f":"IF($H$2=\"G\",Skillserleuterungen_FTEM!T23,Skillserleuterungen_FTEM!G23)","v":"Managt Alltag und Umfeld nach dem Leistungsprinzip, kann sich gegen Wiederstände durchsetzten"},null,null,{"$f":"IF($H$2=\"G\",Skillserleuterungen_FTEM!W23,Skillserleuterungen_FTEM!J23)","v":0}]
["POWER",null,null,{"$f":"IF($H$2=\"G\",Skillserleuterungen_FTEM!Q24,Skillserleuterungen_FTEM!D24)","v":"ENERGIEMANAGEMENT"},null,null,{"$f":"IF($H$2=\"G\",Skillserleuterungen_FTEM!T24,Skillserleuterungen_FTEM!G24)","v":"Kann eigene Energie regulieren, bereit zur Regeneration, weiss, wann er \"Vollgas\" geben muss und wann ab-schalten, On/Off-Schalter"},null,null,{"$f":"IF($H$2=\"G\",Skillserleuterungen_FTEM!W24,Skillserleuterungen_FTEM!J24)","v":0},null,null,null,{"$f":"IFERROR(AVERAGE(O33:O36),\"-\")","v":"-"},null,{"$f":"IFERROR(AVERAGE(Q33:Q36),\"-\")","v":"-"},null,{"$f":"IFERROR(AVERAGE(S33:S36),\"-\")","v":"-"},null,{"$f":"IFERROR(AVERAGE(U33:U36),\"-\")","v":"-"},null,{"$f":"IFERROR(AVERAGE(W33:W36),\"-\")","v":"-"},null,{"$f":"IFERROR(AVERAGE(Y33:Y36),\"-\")","v":"-"}]
[null,null,null,{"$f":"IF($H$2=\"G\",Skillserleuterungen_FTEM!Q25,Skillserleuterungen_FTEM!D25)","v":"EINSATZBEREITSCHAFT"},null,null,{"$f":"IF($H$2=\"G\",Skillserleuterungen_FTEM!T25,Skillserleuterungen_FTEM!G25)","v":"Hohe intensität im Spiel und Training, gibt immer sein Maximum, will seine Limiten pushen"},null,null,{"$f":"IF($H$2=\"G\",Skillserleuterungen_FTEM!W25,Skillserleuterungen_FTEM!J25)","v":0}]
[null,null,null,{"$f":"IF($H$2=\"G\",Skillserleuterungen_FTEM!Q26,Skillserleuterungen_FTEM!D26)","v":"EMOTIONSKONTROLLE"},null,null,{"$f":"IF($H$2=\"G\",Skillserleuterungen_FTEM!T26,Skillserleuterungen_FTEM!G26)","v":"Emotionen und Impulse regulieren, unter Druck die Kontrolle behalten, in emotional ansprucksvollen Situationen angemessen agieren können"},null,null,{"$f":"IF($H$2=\"G\",Skillserleuterungen_FTEM!W26,Skillserleuterungen_FTEM!J26)","v":0}]
[null,null,null,{"$f":"IF($H$2=\"G\",Skillserleuterungen_FTEM!Q27,Skillserleuterungen_FTEM!D27)","v":"VORBEREITUNG"},null,null,{"$f":"IF($H$2=\"G\",Skillserleuterungen_FTEM!T27,Skillserleuterungen_FTEM!G27)","v":"Fokus, ILZ, Regeneration, Selbststiumlation, Ernährung"},null,null,{"$f":"IF($H$2=\"G\",Skillserleuterungen_FTEM!W27,Skillserleuterungen_FTEM!J27)","v":0}]
["PYHSE (Athletik)",null,null,{"$f":"IF($H$2=\"G\",Skillserleuterungen_FTEM!Q28,Skillserleuterungen_FTEM!D28)","v":"LEISTUNGSERZEUGUNG (neuromuskuläre Faktoren /Leistungserzeugung)"},null,null,{"$f":"IF($H$2=\"G\",Skillserleuterungen_FTEM!T28,Skillserleuterungen_FTEM!G28)","v":"Verfügt über die nötige Power/ Kraft/ Schnelligkeit in den Beinen un im Oberkörper "},null,null,{"$f":"IF($H$2=\"G\",Skillserleuterungen_FTEM!W28,Skillserleuterungen_FTEM!J28)","v":0},null,null,null,{"$f":"IFERROR(AVERAGE(O37:O40),\"-\")","v":"-"},null,{"$f":"IFERROR(AVERAGE(Q37:Q40),\"-\")","v":"-"},null,{"$f":"IFERROR(AVERAGE(S37:S40),\"-\")","v":"-"},null,{"$f":"IFERROR(AVERAGE(U37:U40),\"-\")","v":"-"},null,{"$f":"IFERROR(AVERAGE(W37:W40),\"-\")","v":"-"},null,{"$f":"IFERROR(AVERAGE(Y37:Y40),\"-\")","v":"-"}]
[null,null,null,{"$f":"IF($H$2=\"G\",Skillserleuterungen_FTEM!Q29,Skillserleuterungen_FTEM!D29)","v":"SPEZ. ERMÜDUNGSRESISTENZ (metabolische, kardiovaskuläre Faktoren)"},null,null,{"$f":"IF($H$2=\"G\",Skillserleuterungen_FTEM!T29,Skillserleuterungen_FTEM!G29)","v":"Ist fähig die Power/ Kraft/ Schnelligkeit innerhalb des Einsatzes lange aufrechtzuerhalten und kann sich zwischen den Einsätzen jeweils vollkommen erholen (auch von Spiel zu Spiel)."},null,null,{"$f":"IF($H$2=\"G\",Skillserleuterungen_FTEM!W29,Skillserleuterungen_FTEM!J29)","v":0}]
[null,null,null,{"$f":"IF($H$2=\"G\",Skillserleuterungen_FTEM!Q30,Skillserleuterungen_FTEM!D30)","v":"BEWEGUNGSKOMPETENZ/ KOORDINATION "},null,null,{"$f":"IF($H$2=\"G\",Skillserleuterungen_FTEM!T30,Skillserleuterungen_FTEM!G30)","v":"Beherrscht die grundlegenden Bewegungsfertigkeiten, die eine unerlässliche Zubringerfunktion für die sportspezifischen \"Skills\" darstellt sowie zur nötigen Bewegungseffizienz führt. "},null,null,{"$f":"IF($H$2=\"G\",Skillserleuterungen_FTEM!W30,Skillserleuterungen_FTEM!J30)","v":0}]
[null,null,null,{"$f":"IF($H$2=\"G\",Skillserleuterungen_FTEM!Q31,Skillserleuterungen_FTEM!D31)","v":"ROBUSTHEIT/ PRÄVENTION"},null,null,{"$f":"IF($H$2=\"G\",Skillserleuterungen_FTEM!T31,Skillserleuterungen_FTEM!G31)","v":"Verletzungsanfälligkeit, Stabilität (Verfügt über die nötige Stabilität, Grundkraft (Körperspannung) \"z.B. Beinachsenstabilität\" und Beweglichkeit in den zentralen Gelenken \"Hüfte, Wirbelsäule\"), Standfestigkeit"},null,null,{"$f":"IF($H$2=\"G\",Skillserleuterungen_FTEM!W31,Skillserleuterungen_FTEM!J31)","v":0}]

{"sheet":"30","index":33,"n_rows":40,"n_cols":36,"rows_kept":40,"cut":false,"hidden":false,"merged":[[38,3,38,5],[38,6,38,11],[39,3,39,5],[39,6,39,11],[32,23,35,23],[32,0,35,2],[32,3,32,5],[32,6,32,11],[32,12,35,12],[32,13,35,13],[36,26,39,32],[36,34,39,34],[21,3,21,5],[21,6,21,11],[34,3,34,5],[34,6,34,11],[36,0,39,2],[36,12,39,12],[36,13,39,13],[36,15,39,15],[36,17,39,17],[36,19,39,19],[36,21,39,21],[36,23,39,23],[36,25,39,25],[36,3,36,5],[36,6,36,11],[37,3,37,5],[37,6,37,11],[32,15,35,15],[27,21,27,22],[28,17,31,17],[28,19,31,19],[28,21,31,21],[29,3,29,5],[29,6,29,11],[30,3,30,5],[30,6,30,11],[32,17,35,17],[32,19,35,19],[32,21,35,21],[33,3,33,5],[33,6,33,11],[35,3,35,5],[35,6,35,11],[23,0,26,2],[23,3,23,5],[23,6,23,11],[23,12,26,12],[23,13,26,13],[23,15,26,15],[27,23,27,24],[27,26,27,32],[28,0,31,2],[28,3,28,5],[28,6,28,11],[28,12,31,12],[28,13,31,13],[28,15,31,15],[31,3,31,5],[31,6,31,11],[28,23,31,23],[27,0,27,2],[27,3,27,5],[27,6,27,11],[27,13,27,14],[27,15,27,16],[27,17,27,18],[27,19,27,20],[19,19,22,19],[19,21,22,21],[19,23,22,23],[20,3,20,5],[20,6,20,11],[22,3,22,5],[22,6,22,11],[26,3,26,5],[26,6,26,11],[23,23,26,23],[23,17,26,17],[23,19,26,19],[23,21,26,21],[24,3,24,5],[24,6,24,11],[25,3,25,5],[25,6,25,11],[12,21,13,21],[15,15,18,15],[15,17,18,17],[15,19,18,19],[15,21,18,21],[15,23,18,23],[18,3,18,5],[18,6,18,11],[19,0,22,2],[19,3,19,5],[19,6,19,11],[19,12,22,12],[19,13,22,13],[19,15,22,15],[19,17,22,17],[15,0,18,2],[15,3,15,5],[15,6,15,11],[15,12,18,12],[15,13,18,13],[16,3,16,5],[16,6,16,11],[17,3,17,5],[17,6,17,11],[11,21,11,22],[11,23,11,24],[11,26,11,32],[11,6,11,11],[12,23,13,23],[13,3,13,5],[13,6,13,11],[14,0,14,2],[14,3,14,5],[14,6,14,11],[14,13,14,14],[14,15,14,16],[14,17,14,18],[14,19,14,20],[14,21,14,22],[14,23,14,24],[12,0,13,2],[12,3,12,5],[12,6,12,11],[12,12,13,12],[12,13,13,13],[12,15,13,15],[12,17,13,17],[12,19,13,19],[4,0,4,1],[4,2,4,5],[4,10,4,24],[10,0,10,24],[10,25,10,35],[32,25,35,25],[32,26,35,32],[32,34,35,34],[12,25,13,25],[12,26,13,32],[12,34,13,34],[15,25,18,25],[15,26,18,32],[15,34,18,34],[19,25,22,25],[19,26,22,32],[19,34,22,34],[14,26,14,32],[11,0,11,2],[11,3,11,5],[11,13,11,14],[11,15,11,16],[11,17,11,18],[11,19,11,20],[0,0,0,24],[0,25,0,26],[0,27,0,32],[0,33,0,35],[23,25,26,25],[23,26,26,32],[23,34,26,34],[28,25,31,25],[28,26,31,32],[28,34,31,34],[1,0,1,1],[1,2,1,5],[1,10,1,24],[2,0,2,1],[2,2,2,5],[2,11,2,24],[6,0,6,1],[6,2,6,35],[7,0,7,1],[7,2,7,35],[8,0,8,1],[8,2,8,35],[3,0,3,1],[3,10,3,24]]}
["Personalien",null,null,null,null,null,null,null,null,null,null,null,null,null,null,null,null,null,null,null,null,null,null,null,null,"Vorausetzungen",null,"Evaluationen",null,null,null,null,null,"Rating"]
["VORNAME",null,{"$f":"IF(ISBLANK(VLOOKUP(30,Tabelle3[],3,0)),\"-\",VLOOKUP(30,Tabelle3[],3,0))","v":"-"},null,null,null,"POSITION",null,null,"ADRESSE",{"$f":"IF(ISBLANK(VLOOKUP(30,Tabelle3[],5,0)),\"-\",VLOOKUP(30,Tabelle3[],5,0))","v":"-"},null,null,null,null,null,null,null,null,null,null,null,null,null,null,"\"Alter\" (Biologisch/Relative Age)",null,"Datum 1",null,null,"cm",null,"Kg",null,"AUSGEZEICHNET",5]
["NAME",null,{"$f":"IF(ISBLANK(VLOOKUP(30,Tabelle3[],2,0)),\"-\",VLOOKUP(30,Tabelle3[],2,0))","v":"-"},null,null,null,"STOCK",null,null,"WOHNORT",{"$f":"IF(ISBLANK(VLOOKUP(30,Tabelle3[],7,0)),\"-\",VLOOKUP(30,Tabelle3[],7,0))","v":"-"},{"$f":"IF(ISBLANK(VLOOKUP(30,Tabelle3[],6,0)),\"-\",VLOOKUP(30,Tabelle3[],6,0))","v":"-"},null,null,null,null,null,null,null,null,null,null,null,null,null,"Veranlagung",null,"Datum 2",null,null,"cm",null,"Kg",null,"GUT",4]
["GEB. DATUM",null,{"$f":"IF(ISBLANK(VLOOKUP(30,Tabelle3[],14,0)),\"-\",VLOOKUP(30,Tabelle3[],14,0))","v":"-"},{"$f":"IF(ISBLANK(VLOOKUP(30,Tabelle3[],15,0)),\"-\",VLOOKUP(30,Tabelle3[],15,0))","v":"-"},{"$f":"IF(ISBLANK(VLOOKUP(30,Tabelle3[],16,0)),\"-\",VLOOKUP(30,Tabelle3[],16,0))","v":"-"},null,"GRÖSSE",null,"cm (Final)","PHONE",{"$f":"IF(ISBLANK(VLOOKUP(30,Tabelle3[],8,0)),\"-\",VLOOKUP(30,Tabelle3[],8,0))","v":"-"},null,null,null,null,null,null,null,null,null,null,null,null,null,null,"Umfeld",null,"Datum 3",null,null,"cm",null,"Kg",null,"DURCHSCHNITT",3]
["SEX",null,{"$f":"IF(ISBLANK(VLOOKUP(30,Tabelle3[],13,0)),\"-\",VLOOKUP(30,Tabelle3[],13,0))","v":"-"},null,null,null,"GEWICHT",null,"Kg (Final)","E-Mail",{"$f":"IF(ISBLANK(VLOOKUP(30,Tabelle3[],9,0)),\"-\",VLOOKUP(30,Tabelle3[],9,0))","v":"-"},null,null,null,null,null,null,null,null,null,null,null,null,null,null,null,null,"Datum 4",null,null,"cm",null,"Kg",null,"MANGELHAFT",2]
[null,null,null,null,null,null,null,null,null,null,null,null,null,null,null,null,null,null,null,null,null,null,null,null,null,null,null,"Datum 5",null,null,"cm",null,"Kg",null,"UNGENÜGEND",1]
["Vision",null,"xxx"]
["Next step",null,"xxx"]
["Stärkenprofil",null,"xxx"]
[]
["EVALUATION (COACH / SPIELER)",null,null,null,null,null,null,null,null,null,null,null,null,null,null,null,null,null,null,null,null,null,null,null,null,"SMART"]
["TEAM",null,null,"FÄHIGKEIT",null,null,"BEOBACHTUNG",null,null,null,null,null,"Final","Datum1",null,"Datum2",null,"Datum3",null,"Datum4",null,"Datum5",null,"Player",null,"ZIEL","MASSNAHME:\nSPEZIFISCH,  MESSBAR, REALISITISCH",null,null,null,null,null,null,"TERMIN","ZIEL-KONTROLLE","Datum"]
["ROLLE, SOZIAL",null,null,{"$f":"IF($H$2=\"G\",Skillserleuterungen_FTEM!Q4,Skillserleuterungen_FTEM!D4)","v":"TEAMDENKEN"},null,null,{"$f":"IF($H$2=\"G\",Skillserleuterungen_FTEM!T4,Skillserleuterungen_FTEM!G4)","v":"Identifikation zur Rolle, Umgang mit Kameraden (sozial integriert)"},null,null,{"$f":"IF($H$2=\"G\",Skillserleuterungen_FTEM!W4,Skillserleuterungen_FTEM!J4)","v":0},null,null,null,{"$f":"IFERROR(AVERAGE(O13:O14),\"-\")","v":"-"},null,{"$f":"IFERROR(AVERAGE(Q13:Q14),\"-\")","v":"-"},null,{"$f":"IFERROR(AVERAGE(S13:S14),\"-\")","v":"-"},null,{"$f":"IFERROR(AVERAGE(U13:U14),\"-\")","v":"-"},null,null,null,{"$f":"IFERROR(AVERAGE(Y13:Y14),\"-\")","v":"-"}]
[null,null,null,{"$f":"IF($H$2=\"G\",Skillserleuterungen_FTEM!Q5,Skillserleuterungen_FTEM!D5)","v":"LEADERSHIP"},null,null,{"$f":"IF($H$2=\"G\",Skillserleuterungen_FTEM!T5,Skillserleuterungen_FTEM!G5)","v":"Übernimmt Verantwortung, macht Mitspieler besser"},null,null,{"$f":"IF($H$2=\"G\",Skillserleuterungen_FTEM!W5,Skillserleuterungen_FTEM!J5)","v":0}]
["ON ICE",null,null,"FÄHIGKEIT",null,null,"BEOBACHTUNG",null,null,null,null,null,null,"Datum1",null,"Datum2",null,"Datum3",null,"Datum4",null,"Datum5",null,"Player",null,"ZIEL","MASSNAHME:\nSPEZIFISCH,  MESSBAR, REALISITISCH",null,null,null,null,null,null,"TERMIN","ZIEL-KONTROLLE","Datum"]
["SKILL",null,null,{"$f":"IF($H$2=\"G\",Skillserleuterungen_FTEM!Q7,Skillserleuterungen_FTEM!D7)","v":"SCHIESSEN"},null,null,{"$f":"IF($H$2=\"G\",Skillserleuterungen_FTEM!T7,Skillserleuterungen_FTEM!G7)","v":"Effizienz / Variantenreichtum, Überraschungsgrad (Quick Release), Präzision, Härte, (taktische Abschlüsse)\nschnell, hart, unter Druck"},null,null,{"$f":"IF($H$2=\"G\",Skillserleuterungen_FTEM!W7,Skillserleuterungen_FTEM!J7)","v":0},null,null,null,{"$f":"IFERROR(AVERAGE(O16:O19),\"-\")","v":"-"},null,{"$f":"IFERROR(AVERAGE(Q16:Q19),\"-\")","v":"-"},null,{"$f":"IFERROR(AVERAGE(S16:S19),\"-\")","v":"-"},null,{"$f":"IFERROR(AVERAGE(U16:U19),\"-\")","v":"-"},null,{"$f":"IFERROR(AVERAGE(W16:W19),\"-\")","v":"-"},null,{"$f":"IFERROR(AVERAGE(Y16:Y19),\"-\")","v":"-"}]
[null,null,null,{"$f":"IF($H$2=\"G\",Skillserleuterungen_FTEM!Q8,Skillserleuterungen_FTEM!D8)","v":"PASSEN"},null,null,{"$f":"IF($H$2=\"G\",Skillserleuterungen_FTEM!T8,Skillserleuterungen_FTEM!G8)","v":"Passabgabe (Distanz, Flippass Backhand), Passannahme (Präzision, Timing, Vorhand, Rückhand, Schlittschuh,Puckspeed"},null,null,{"$f":"IF($H$2=\"G\",Skillserleuterungen_FTEM!W8,Skillserleuterungen_FTEM!J8)","v":0}]
[null,null,null,{"$f":"IF($H$2=\"G\",Skillserleuterungen_FTEM!Q9,Skillserleuterungen_FTEM!D9)","v":"KÖRPERSPIEL"},null,null,{"$f":"IF($H$2=\"G\",Skillserleuterungen_FTEM!T9,Skillserleuterungen_FTEM!G9)","v":"Phyisches Durchsetzungsvermögen, Zweikampf (offenes Eis/Bande), Checks nehmen/Head up, Battle Level, Hart aber fair, mit dem Körper Schüsse blockieren"},null,null,{"$f":"IF($H$2=\"G\",Skillserleuterungen_FTEM!W9,Skillserleuterungen_FTEM!J9)","v":0},null,null,null,{"$f":"IFERROR(AVERAGE(O18:O19),\"-\")","v":"-"},null,{"$f":"IFERROR(AVERAGE(Q18:Q19),\"-\")","v":"-"},null,{"$f":"IFERROR(AVERAGE(S18:S19),\"-\")","v":"-"},null,{"$f":"IFERROR(AVERAGE(U18:U19),\"-\")","v":"-"},null,{"$f":"IFERROR(AVERAGE(W18:W19),\"-\")","v":"-"},null,{"$f":"IFERROR(AVERAGE(Y18:Y19),\"-\")","v":"-"}]
[null,null,null,{"$f":"IF($H$2=\"G\",Skillserleuterungen_FTEM!Q10,Skillserleuterungen_FTEM!D10)","v":"SCHEIBENKONTROLLE"},null,null,{"$f":"IF($H$2=\"G\",Skillserleuterungen_FTEM!T10,Skillserleuterungen_FTEM!G10)","v":"Puckmanagmenet auf engem Raum, Puck Protection,  schwer kontrollierbare Scheiben "},null,null,{"$f":"IF($H$2=\"G\",Skillserleuterungen_FTEM!W10,Skillserleuterungen_FTEM!J10)","v":0}]
["SKATING",null,null,{"$f":"IF($H$2=\"G\",Skillserleuterungen_FTEM!Q11,Skillserleuterungen_FTEM!D11)","v":"FOOTSPEED"},null,null,{"$f":"IF($H$2=\"G\",Skillserleuterungen_FTEM!T11,Skillserleuterungen_FTEM!G11)","v":"Beschleunigung, Antritt, erste 3 Schritte Explosivität, Frequenz"},null,null,{"$f":"IF($H$2=\"G\",Skillserleuterungen_FTEM!W11,Skillserleuterungen_FTEM!J11)","v":0},null,null,null,{"$f":"IFERROR(AVERAGE(O20:O23),\"-\")","v":"-"},null,{"$f":"IFERROR(AVERAGE(Q20:Q23),\"-\")","v":"-"},null,{"$f":"IFERROR(AVERAGE(S20:S23),\"-\")","v":"-"},null,{"$f":"IFERROR(AVERAGE(U20:U23),\"-\")","v":"-"},null,{"$f":"IFERROR(AVERAGE(W20:W23),\"-\")","v":"-"},null,{"$f":"IFERROR(AVERAGE(Y20:Y23),\"-\")","v":"-"}]
[null,null,null,{"$f":"IF($H$2=\"G\",Skillserleuterungen_FTEM!Q12,Skillserleuterungen_FTEM!D12)","v":"AGILITÄT"},null,null,{"$f":"IF($H$2=\"G\",Skillserleuterungen_FTEM!T12,Skillserleuterungen_FTEM!G12)","v":"Richtungsänderung, Drehung, Stop und Start, «Nummelin»"},null,null,{"$f":"IF($H$2=\"G\",Skillserleuterungen_FTEM!W12,Skillserleuterungen_FTEM!J12)","v":0}]
[null,null,null,{"$f":"IF($H$2=\"G\",Skillserleuterungen_FTEM!Q13,Skillserleuterungen_FTEM!D13)","v":"BACKWARDS SKATING"},null,null,{"$f":"IF($H$2=\"G\",Skillserleuterungen_FTEM!T13,Skillserleuterungen_FTEM!G13)","v":"Beschleunigung, Geschwindigkeit, Balance"},null,null,{"$f":"IF($H$2=\"G\",Skillserleuterungen_FTEM!W13,Skillserleuterungen_FTEM!J13)","v":0}]
[null,null,null,{"$f":"IF($H$2=\"G\",Skillserleuterungen_FTEM!Q14,Skillserleuterungen_FTEM!D14)","v":"TOPSPEED"},null,null,{"$f":"IF($H$2=\"G\",Skillserleuterungen_FTEM!T14,Skillserleuterungen_FTEM!G14)","v":"Schnelligkeit, Gleitfähigkeit, vorwärts und rückwärts, Ökonomie"},null,null,{"$f":"IF($H$2=\"G\",Skillserleuterungen_FTEM!W14,Skillserleuterungen_FTEM!J14)","v":0}]
["HOCKEY SENSE",null,null,{"$f":"IF($H$2=\"G\",Skillserleuterungen_FTEM!Q15,Skillserleuterungen_FTEM!D15)","v":"SCORING"},null,null,{"$f":"IF($H$2=\"G\",Skillserleuterungen_FTEM!T15,Skillserleuterungen_FTEM!G15)","v":"Effizienz, variantentreich, überraschend, schnell, hart - Schussvarianten"},null,null,{"$f":"IF($H$2=\"G\",Skillserleuterungen_FTEM!W15,Skillserleuterungen_FTEM!J15)","v":0},null,null,null,{"$f":"IFERROR(AVERAGE(O24:O27),\"-\")","v":"-"},null,{"$f":"IFERROR(AVERAGE(Q24:Q27),\"-\")","v":"-"},null,{"$f":"IFERROR(AVERAGE(S24:S27),\"-\")","v":"-"},null,{"$f":"IFERROR(AVERAGE(U24:U27),\"-\")","v":"-"},null,{"$f":"IFERROR(AVERAGE(W24:W27),\"-\")","v":"-"},null,{"$f":"IFERROR(AVERAGE(Y24:Y27),\"-\")","v":"-"}]
[null,null,null,{"$f":"IF($H$2=\"G\",Skillserleuterungen_FTEM!Q16,Skillserleuterungen_FTEM!D16)","v":"MIT SCHEIBE"},null,null,{"$f":"IF($H$2=\"G\",Skillserleuterungen_FTEM!T16,Skillserleuterungen_FTEM!G16)","v":"Kreativ, performing, batteling, frech, Transition"},null,null,{"$f":"IF($H$2=\"G\",Skillserleuterungen_FTEM!W16,Skillserleuterungen_FTEM!J16)","v":0}]
[null,null,null,{"$f":"IF($H$2=\"G\",Skillserleuterungen_FTEM!Q17,Skillserleuterungen_FTEM!D17)","v":"OHNE SCHEIBE"},null,null,{"$f":"IF($H$2=\"G\",Skillserleuterungen_FTEM!T17,Skillserleuterungen_FTEM!G17)","v":"Anspielbar (Support), 1:1, Gap"},null,null,{"$f":"IF($H$2=\"G\",Skillserleuterungen_FTEM!W17,Skillserleuterungen_FTEM!J17)","v":0}]
[null,null,null,{"$f":"IF($H$2=\"G\",Skillserleuterungen_FTEM!Q18,Skillserleuterungen_FTEM!D18)","v":"DEFENSIV"},null,null,{"$f":"IF($H$2=\"G\",Skillserleuterungen_FTEM!T18,Skillserleuterungen_FTEM!G18)","v":"Verlässlichkeit,  1:1, Gap, Zuordnung"},null,null,{"$f":"IF($H$2=\"G\",Skillserleuterungen_FTEM!W18,Skillserleuterungen_FTEM!J18)","v":0}]
["PERSONALITY",null,null,"FÄHIGKEIT",null,null,"BEOBACHTUNG",null,null,null,null,null,null,"Datum1",null,"Datum2",null,"Datum3",null,"Datum4",null,"Datum5",null,"Player",null,"ZIEL","MASSNAHME:\nSPEZIFISCH,  MESSBAR, REALISITISCH",null,null,null,null,null,null,"TERMIN","ZIEL-KONTROLLE","Datum"]
["PERSON",null,null,{"$f":"IF($H$2=\"G\",Skillserleuterungen_FTEM!Q20,Skillserleuterungen_FTEM!D20)","v":"MOTIVATION"},null,null,{"$f":"IF($H$2=\"G\",Skillserleuterungen_FTEM!T20,Skillserleuterungen_FTEM!G20)","v":"Intrinsischer Antrieb, will sich ständig weiterentwickeln, will der Erste sein und Erfolg haben"},null,null,{"$f":"IF($H$2=\"G\",Skillserleuterungen_FTEM!W20,Skillserleuterungen_FTEM!J20)","v":0},null,null,null,{"$f":"IFERROR(AVERAGE(O29:O32),\"-\")","v":"-"},null,{"$f":"IFERROR(AVERAGE(Q29:Q32),\"-\")","v":"-"},null,{"$f":"IFERROR(AVERAGE(S29:S32),\"-\")","v":"-"},null,{"$f":"IFERROR(AVERAGE(U29:U32),\"-\")","v":"-"},null,{"$f":"IFERROR(AVERAGE(W29:W32),\"-\")","v":"-"},null,{"$f":"IFERROR(AVERAGE(Y29:Y32),\"-\")","v":"-"}]
[null,null,null,{"$f":"IF($H$2=\"G\",Skillserleuterungen_FTEM!Q21,Skillserleuterungen_FTEM!D21)","v":"SELBSBEWUSSTSEIN"},null,null,{"$f":"IF($H$2=\"G\",Skillserleuterungen_FTEM!T21,Skillserleuterungen_FTEM!G21)","v":"Hat das nötige Selbstvertrauen \"I can do it\" haltung, kann eigenen Fähigkeiten einschätzen und agiert mutig"},null,null,{"$f":"IF($H$2=\"G\",Skillserleuterungen_FTEM!W21,Skillserleuterungen_FTEM!J21)","v":0}]
[null,null,null,{"$f":"IF($H$2=\"G\",Skillserleuterungen_FTEM!Q22,Skillserleuterungen_FTEM!D22)","v":"LERNFÄHIGKEIT"},null,null,{"$f":"IF($H$2=\"G\",Skillserleuterungen_FTEM!T22,Skillserleuterungen_FTEM!G22)","v":"Gute Auffassungsgabe (nimmt auf und kann umsetzen), reflektiert eigenes Handeln, versucht aus Fehlern zu lernen und kann Massnahmen ableiten und sich selber coachen"},null,null,{"$f":"IF($H$2=\"G\",Skillserleuterungen_FTEM!W22,Skillserleuterungen_FTEM!J22)","v":0}]
[null,null,null,{"$f":"IF($H$2=\"G\",Skillserleuterungen_FTEM!Q23,Skillserleuterungen_FTEM!D23)","v":"PERFORMANCE LIFESTYLE"},null,null,{"$f":"IF($H$2=\"G\",Skillserleuterungen_FTEM!T23,Skillserleuterungen_FTEM!G23)","v":"Managt Alltag und Umfeld nach dem Leistungsprinzip, kann sich gegen Wiederstände durchsetzten"},null,null,{"$f":"IF($H$2=\"G\",Skillserleuterungen_FTEM!W23,Skillserleuterungen_FTEM!J23)","v":0}]
["POWER",null,null,{"$f":"IF($H$2=\"G\",Skillserleuterungen_FTEM!Q24,Skillserleuterungen_FTEM!D24)","v":"ENERGIEMANAGEMENT"},null,null,{"$f":"IF($H$2=\"G\",Skillserleuterungen_FTEM!T24,Skillserleuterungen_FTEM!G24)","v":"Kann eigene Energie regulieren, bereit zur Regeneration, weiss, wann er \"Vollgas\" geben muss und wann ab-schalten, On/Off-Schalter"},null,null,{"$f":"IF($H$2=\"G\",Skillserleuterungen_FTEM!W24,Skillserleuterungen_FTEM!J24)","v":0},null,null,null,{"$f":"IFERROR(AVERAGE(O33:O36),\"-\")","v":"-"},null,{"$f":"IFERROR(AVERAGE(Q33:Q36),\"-\")","v":"-"},null,{"$f":"IFERROR(AVERAGE(S33:S36),\"-\")","v":"-"},null,{"$f":"IFERROR(AVERAGE(U33:U36),\"-\")","v":"-"},null,{"$f":"IFERROR(AVERAGE(W33:W36),\"-\")","v":"-"},null,{"$f":"IFERROR(AVERAGE(Y33:Y36),\"-\")","v":"-"}]
[null,null,null,{"$f":"IF($H$2=\"G\",Skillserleuterungen_FTEM!Q25,Skillserleuterungen_FTEM!D25)","v":"EINSATZBEREITSCHAFT"},null,null,{"$f":"IF($H$2=\"G\",Skillserleuterungen_FTEM!T25,Skillserleuterungen_FTEM!G25)","v":"Hohe intensität im Spiel und Training, gibt immer sein Maximum, will seine Limiten pushen"},null,null,{"$f":"IF($H$2=\"G\",Skillserleuterungen_FTEM!W25,Skillserleuterungen_FTEM!J25)","v":0}]
[null,null,null,{"$f":"IF($H$2=\"G\",Skillserleuterungen_FTEM!Q26,Skillserleuterungen_FTEM!D26)","v":"EMOTIONSKONTROLLE"},null,null,{"$f":"IF($H$2=\"G\",Skillserleuterungen_FTEM!T26,Skillserleuterungen_FTEM!G26)","v":"Emotionen und Impulse regulieren, unter Druck die Kontrolle behalten, in emotional ansprucksvollen Situationen angemessen agieren können"},null,null,{"$f":"IF($H$2=\"G\",Skillserleuterungen_FTEM!W26,Skillserleuterungen_FTEM!J26)","v":0}]
[null,null,null,{"$f":"IF($H$2=\"G\",Skillserleuterungen_FTEM!Q27,Skillserleuterungen_FTEM!D27)","v":"VORBEREITUNG"},null,null,{"$f":"IF($H$2=\"G\",Skillserleuterungen_FTEM!T27,Skillserleuterungen_FTEM!G27)","v":"Fokus, ILZ, Regeneration, Selbststiumlation, Ernährung"},null,null,{"$f":"IF($H$2=\"G\",Skillserleuterungen_FTEM!W27,Skillserleuterungen_FTEM!J27)","v":0}]
["PYHSE (Athletik)",null,null,{"$f":"IF($H$2=\"G\",Skillserleuterungen_FTEM!Q28,Skillserleuterungen_FTEM!D28)","v":"LEISTUNGSERZEUGUNG (neuromuskuläre Faktoren /Leistungserzeugung)"},null,null,{"$f":"IF($H$2=\"G\",Skillserleuterungen_FTEM!T28,Skillserleuterungen_FTEM!G28)","v":"Verfügt über die nötige Power/ Kraft/ Schnelligkeit in den Beinen un im Oberkörper "},null,null,{"$f":"IF($H$2=\"G\",Skillserleuterungen_FTEM!W28,Skillserleuterungen_FTEM!J28)","v":0},null,null,null,{"$f":"IFERROR(AVERAGE(O37:O40),\"-\")","v":"-"},null,{"$f":"IFERROR(AVERAGE(Q37:Q40),\"-\")","v":"-"},null,{"$f":"IFERROR(AVERAGE(S37:S40),\"-\")","v":"-"},null,{"$f":"IFERROR(AVERAGE(U37:U40),\"-\")","v":"-"},null,{"$f":"IFERROR(AVERAGE(W37:W40),\"-\")","v":"-"},null,{"$f":"IFERROR(AVERAGE(Y37:Y40),\"-\")","v":"-"}]
[null,null,null,{"$f":"IF($H$2=\"G\",Skillserleuterungen_FTEM!Q29,Skillserleuterungen_FTEM!D29)","v":"SPEZ. ERMÜDUNGSRESISTENZ (metabolische, kardiovaskuläre Faktoren)"},null,null,{"$f":"IF($H$2=\"G\",Skillserleuterungen_FTEM!T29,Skillserleuterungen_FTEM!G29)","v":"Ist fähig die Power/ Kraft/ Schnelligkeit innerhalb des Einsatzes lange aufrechtzuerhalten und kann sich zwischen den Einsätzen jeweils vollkommen erholen (auch von Spiel zu Spiel)."},null,null,{"$f":"IF($H$2=\"G\",Skillserleuterungen_FTEM!W29,Skillserleuterungen_FTEM!J29)","v":0}]
[null,null,null,{"$f":"IF($H$2=\"G\",Skillserleuterungen_FTEM!Q30,Skillserleuterungen_FTEM!D30)","v":"BEWEGUNGSKOMPETENZ/ KOORDINATION "},null,null,{"$f":"IF($H$2=\"G\",Skillserleuterungen_FTEM!T30,Skillserleuterungen_FTEM!G30)","v":"Beherrscht die grundlegenden Bewegungsfertigkeiten, die eine unerlässliche Zubringerfunktion für die sportspezifischen \"Skills\" darstellt sowie zur nötigen Bewegungseffizienz führt. "},null,null,{"$f":"IF($H$2=\"G\",Skillserleuterungen_FTEM!W30,Skillserleuterungen_FTEM!J30)","v":0}]
[null,null,null,{"$f":"IF($H$2=\"G\",Skillserleuterungen_FTEM!Q31,Skillserleuterungen_FTEM!D31)","v":"ROBUSTHEIT/ PRÄVENTION"},null,null,{"$f":"IF($H$2=\"G\",Skillserleuterungen_FTEM!T31,Skillserleuterungen_FTEM!G31)","v":"Verletzungsanfälligkeit, Stabilität (Verfügt über die nötige Stabilität, Grundkraft (Körperspannung) \"z.B. Beinachsenstabilität\" und Beweglichkeit in den zentralen Gelenken \"Hüfte, Wirbelsäule\"), Standfestigkeit"},null,null,{"$f":"IF($H$2=\"G\",Skillserleuterungen_FTEM!W31,Skillserleuterungen_FTEM!J31)","v":0}]